{"text_format":"1","workbook":"xlsx","n_sheets":2,"sheets":["_Esperanzas","MODELO"],"not_rendered":{"charts":0,"images":0,"macros":1,"external_links":0,"defined_names":2,"comments":0,"pivot_tables":0},"unopened":[],"bounds":{"document_bytes":16777216,"sheet_cells":100000,"rows_first":2000,"rows_last":500,"rows_between":2000,"halvings":0,"cell_chars":16384,"cell_head_chars":4096},"cells_cut":0,"cells_raw":0,"read":"whole","date_system":"1900"}

{"sheet":"_Esperanzas","index":0,"n_rows":505,"n_cols":35,"rows_kept":505,"cut":false,"hidden":false,"merged":[[0,1,1,2],[0,22,1,23],[2,22,3,22],[2,23,2,24],[2,25,2,26],[3,15,3,19],[2,1,3,1],[2,2,2,3],[2,4,2,5],[2,7,3,7],[2,8,2,10],[2,11,2,13],[2,28,3,28],[2,29,2,31],[2,32,2,34],[21,15,21,18],[22,15,24,15]]}
[null,"TABLA AL 50%",null,null,null,null,null,null,null,null,null,null,null,null,null,null,null,null,null,null,null,null,"TABLA AL 60%"]
[]
[null,"Edad","Hombres",null,"Mujeres",null,null,"Edad","Hombres",null,null,"Mujeres",null,null,null,null,null,null,null,null,null,null,"Edad","Hombres",null,"Mujeres",null,null,"Edad","Hombres",null,null,"Mujeres"]
[null,null,"∑ Vida","Edad","∑ Vida","Edad",null,null,"∑ Vida","Meses","Edad","∑ Vida","Meses","Edad",null,"Redondeo Decimales",null,null,null,null,null,null,null,"∑ Vida","Edad","∑ Vida","Edad",null,null,"∑ Vida","Meses","Edad","∑ Vida","Meses","Edad"]
[null,{"$f":"B6-1","v":60},{"$f":"C6+1","v":29.166666030883789},{"$f":"C5+B5","v":89.166666030883789},32.5,{"$f":"E5+B5","v":92.5},null,60,{"$f":"VLOOKUP($H5,$B$5:$F$55,2,0)","v":29.166666030883789},{"$f":"IFERROR(ROUND((ROUNDDOWN(I5,0)*12)+IFERROR(VLOOKUP(ROUND(I5-(ROUNDDOWN(I5,0)),1),_Esperanzas!$R$5:$S$18,2,TRUE),0),0),12)","v":350},{"$f":"I5+H5","v":89.166666030883789},{"$f":"VLOOKUP($H5,$B$5:$F$55,4,0)","v":32.5},{"$f":"IFERROR(ROUND((ROUNDDOWN(L5,0)*12)+IFERROR(VLOOKUP(ROUND(L5-(ROUNDDOWN(L5,0)),1),_Esperanzas!$R$5:$S$18,2,TRUE),0),0),12)","v":390},{"$f":"L5+H5","v":92.5},null,1,{"$f":"1/12","v":8.3333333333333329E-2},{"$f":"Q5","v":8.3333333333333329E-2},{"$f":"P5","v":1},{"$f":"-S5","v":-1},null,null,{"$f":"W6-1","v":60},{"$f":"X6+1","v":27.083333969116211},{"$f":"X5+W5","v":87.083333969116211},30.416666030883789,{"$f":"Z5+W5","v":90.416666030883789},null,60,{"$f":"VLOOKUP($AC5,$W$5:$AA$55,2,0)","v":27.083333969116211},{"$f":"IFERROR(ROUND((ROUNDDOWN(AD5,0)*12)+IFERROR(VLOOKUP(ROUND(AD5-(ROUNDDOWN(AD5,0)),1),_Esperanzas!$R$5:$S$18,2,TRUE),0),0),12)","v":325},{"$f":"AD5+AC5","v":87.083333969116211},{"$f":"VLOOKUP($AC5,$W$5:$AA$55,4,0)","v":30.416666030883789},{"$f":"IFERROR(ROUND((ROUNDDOWN(AG5,0)*12)+IFERROR(VLOOKUP(ROUND(AG5-(ROUNDDOWN(AG5,0)),1),_Esperanzas!$R$5:$S$18,2,TRUE),0),0),12)","v":364},{"$f":"AG5+AC5","v":90.416666030883789}]
[null,61,28.166666030883789,89.166666030883789,31.5,92.5,null,{"$f":"ROUND(H5+0.1,1)","v":60.1},{"$f":"I5+(I15-I5)/10","v":29.066666030883788},{"$f":"IFERROR(ROUND((ROUNDDOWN(I6,0)*12)+IFERROR(VLOOKUP(ROUND(I6-(ROUNDDOWN(I6,0)),1),_Esperanzas!$R$5:$S$18,2,TRUE),0),0),12)","v":349},{"$f":"I6+H6","v":89.166666030883789},{"$f":"L5+(L15-L5)/10","v":32.4},{"$f":"IFERROR(ROUND((ROUNDDOWN(L6,0)*12)+IFERROR(VLOOKUP(ROUND(L6-(ROUNDDOWN(L6,0)),1),_Esperanzas!$R$5:$S$18,2,TRUE),0),0),12)","v":388},{"$f":"L6+H6","v":92.5},null,{"$f":"P5+1","v":2},8.3333333333333329E-2,{"$f":"Q6+R5","v":0.16666666666666666},2,-2,null,null,61,26.083333969116211,87.083333969116211,29.416666030883789,90.416666030883789,null,{"$f":"ROUND(AC5+0.1,1)","v":60.1},{"$f":"AD5+(AD15-AD5)/10","v":26.98333396911621},{"$f":"IFERROR(ROUND((ROUNDDOWN(AD6,0)*12)+IFERROR(VLOOKUP(ROUND(AD6-(ROUNDDOWN(AD6,0)),1),_Esperanzas!$R$5:$S$18,2,TRUE),0),0),12)","v":324},{"$f":"AD6+AC6","v":87.083333969116211},{"$f":"AG5+(AG15-AG5)/10","v":30.316666030883788},{"$f":"IFERROR(ROUND((ROUNDDOWN(AG6,0)*12)+IFERROR(VLOOKUP(ROUND(AG6-(ROUNDDOWN(AG6,0)),1),_Esperanzas!$R$5:$S$18,2,TRUE),0),0),12)","v":363},{"$f":"AG6+AC6","v":90.416666030883789}]
[null,62,27.166666030883789,89.166666030883789,30.5,92.5,null,{"$f":"ROUND(H6+0.1,1)","v":60.2},{"$f":"I6+(I15-I5)/10","v":28.966666030883786},{"$f":"IFERROR(ROUND((ROUNDDOWN(I7,0)*12)+IFERROR(VLOOKUP(ROUND(I7-(ROUNDDOWN(I7,0)),1),_Esperanzas!$R$5:$S$18,2,TRUE),0),0),12)","v":348},{"$f":"I7+H7","v":89.166666030883789},{"$f":"L6+(L15-L5)/10","v":32.299999999999997},{"$f":"IFERROR(ROUND((ROUNDDOWN(L7,0)*12)+IFERROR(VLOOKUP(ROUND(L7-(ROUNDDOWN(L7,0)),1),_Esperanzas!$R$5:$S$18,2,TRUE),0),0),12)","v":387},{"$f":"L7+H7","v":92.5},null,3,8.3333333333333329E-2,0.25,3,-3,null,null,62,25.083333969116211,87.083333969116211,28.416666030883789,90.416666030883789,null,{"$f":"ROUND(AC6+0.1,1)","v":60.2},{"$f":"AD6+(AD15-AD5)/10","v":26.883333969116208},{"$f":"IFERROR(ROUND((ROUNDDOWN(AD7,0)*12)+IFERROR(VLOOKUP(ROUND(AD7-(ROUNDDOWN(AD7,0)),1),_Esperanzas!$R$5:$S$18,2,TRUE),0),0),12)","v":322},{"$f":"AD7+AC7","v":87.083333969116211},{"$f":"AG6+(AG15-AG5)/10","v":30.216666030883786},{"$f":"IFERROR(ROUND((ROUNDDOWN(AG7,0)*12)+IFERROR(VLOOKUP(ROUND(AG7-(ROUNDDOWN(AG7,0)),1),_Esperanzas!$R$5:$S$18,2,TRUE),0),0),12)","v":362},{"$f":"AG7+AC7","v":90.416666030883789}]
[null,63,26.166666030883789,89.166666030883789,29.5,92.5,null,60.3,{"$f":"I7+(I15-I5)/10","v":28.866666030883785},{"$f":"IFERROR(ROUND((ROUNDDOWN(I8,0)*12)+IFERROR(VLOOKUP(ROUND(I8-(ROUNDDOWN(I8,0)),1),_Esperanzas!$R$5:$S$18,2,TRUE),0),0),12)","v":346},{"$f":"I8+H8","v":89.166666030883789},{"$f":"L7+(L15-L5)/10","v":32.199999999999996},{"$f":"IFERROR(ROUND((ROUNDDOWN(L8,0)*12)+IFERROR(VLOOKUP(ROUND(L8-(ROUNDDOWN(L8,0)),1),_Esperanzas!$R$5:$S$18,2,TRUE),0),0),12)","v":386},{"$f":"L8+H8","v":92.5},null,4,8.3333333333333329E-2,0.33333333333333331,4,-4,null,null,63,24.083333969116211,87.083333969116211,27.416666030883789,90.416666030883789,null,60.3,{"$f":"AD7+(AD15-AD5)/10","v":26.783333969116207},{"$f":"IFERROR(ROUND((ROUNDDOWN(AD8,0)*12)+IFERROR(VLOOKUP(ROUND(AD8-(ROUNDDOWN(AD8,0)),1),_Esperanzas!$R$5:$S$18,2,TRUE),0),0),12)","v":321},{"$f":"AD8+AC8","v":87.083333969116211},{"$f":"AG7+(AG15-AG5)/10","v":30.116666030883785},{"$f":"IFERROR(ROUND((ROUNDDOWN(AG8,0)*12)+IFERROR(VLOOKUP(ROUND(AG8-(ROUNDDOWN(AG8,0)),1),_Esperanzas!$R$5:$S$18,2,TRUE),0),0),12)","v":361},{"$f":"AG8+AC8","v":90.416666030883789}]
[null,64,25.166666030883789,89.166666030883789,28.5,92.5,null,60.4,{"$f":"I8+(I15-I5)/10","v":28.766666030883783},{"$f":"IFERROR(ROUND((ROUNDDOWN(I9,0)*12)+IFERROR(VLOOKUP(ROUND(I9-(ROUNDDOWN(I9,0)),1),_Esperanzas!$R$5:$S$18,2,TRUE),0),0),12)","v":345},{"$f":"I9+H9","v":89.166666030883789},{"$f":"L8+(L15-L5)/10","v":32.099999999999994},{"$f":"IFERROR(ROUND((ROUNDDOWN(L9,0)*12)+IFERROR(VLOOKUP(ROUND(L9-(ROUNDDOWN(L9,0)),1),_Esperanzas!$R$5:$S$18,2,TRUE),0),0),12)","v":385},{"$f":"L9+H9","v":92.5},null,5,8.3333333333333329E-2,0.41666666666666663,5,-5,null,null,64,23.083333969116211,87.083333969116211,26.416666030883789,90.416666030883789,null,60.4,{"$f":"AD8+(AD15-AD5)/10","v":26.683333969116205},{"$f":"IFERROR(ROUND((ROUNDDOWN(AD9,0)*12)+IFERROR(VLOOKUP(ROUND(AD9-(ROUNDDOWN(AD9,0)),1),_Esperanzas!$R$5:$S$18,2,TRUE),0),0),12)","v":320},{"$f":"AD9+AC9","v":87.083333969116211},{"$f":"AG8+(AG15-AG5)/10","v":30.016666030883783},{"$f":"IFERROR(ROUND((ROUNDDOWN(AG9,0)*12)+IFERROR(VLOOKUP(ROUND(AG9-(ROUNDDOWN(AG9,0)),1),_Esperanzas!$R$5:$S$18,2,TRUE),0),0),12)","v":360},{"$f":"AG9+AC9","v":90.416666030883789}]
[null,65,24.166666030883789,89.166666030883789,27.5,92.5,null,60.5,{"$f":"I9+(I15-I5)/10","v":28.666666030883782},{"$f":"IFERROR(ROUND((ROUNDDOWN(I10,0)*12)+IFERROR(VLOOKUP(ROUND(I10-(ROUNDDOWN(I10,0)),1),_Esperanzas!$R$5:$S$18,2,TRUE),0),0),12)","v":344},89.166666030883789,{"$f":"L9+(L15-L5)/10","v":31.999999999999993},{"$f":"IFERROR(ROUND((ROUNDDOWN(L10,0)*12)+IFERROR(VLOOKUP(ROUND(L10-(ROUNDDOWN(L10,0)),1),_Esperanzas!$R$5:$S$18,2,TRUE),0),0),12)","v":384},92.5,null,6,8.3333333333333329E-2,0.49999999999999994,6,-6,null,null,65,22.083333969116211,87.083333969116211,25.416666030883789,90.416666030883789,null,60.5,{"$f":"AD9+(AD15-AD5)/10","v":26.583333969116204},{"$f":"IFERROR(ROUND((ROUNDDOWN(AD10,0)*12)+IFERROR(VLOOKUP(ROUND(AD10-(ROUNDDOWN(AD10,0)),1),_Esperanzas!$R$5:$S$18,2,TRUE),0),0),12)","v":319},87.083333969116211,{"$f":"AG9+(AG15-AG5)/10","v":29.916666030883782},{"$f":"IFERROR(ROUND((ROUNDDOWN(AG10,0)*12)+IFERROR(VLOOKUP(ROUND(AG10-(ROUNDDOWN(AG10,0)),1),_Esperanzas!$R$5:$S$18,2,TRUE),0),0),12)","v":358},90.416666030883789]
[null,66,23.166666030883789,89.166666030883789,26.5,92.5,null,60.6,{"$f":"I10+(I15-I5)/10","v":28.566666030883781},{"$f":"IFERROR(ROUND((ROUNDDOWN(I11,0)*12)+IFERROR(VLOOKUP(ROUND(I11-(ROUNDDOWN(I11,0)),1),_Esperanzas!$R$5:$S$18,2,TRUE),0),0),12)","v":343},89.166666030883789,{"$f":"L10+(L15-L5)/10","v":31.899999999999991},{"$f":"IFERROR(ROUND((ROUNDDOWN(L11,0)*12)+IFERROR(VLOOKUP(ROUND(L11-(ROUNDDOWN(L11,0)),1),_Esperanzas!$R$5:$S$18,2,TRUE),0),0),12)","v":382},92.5,null,7,8.3333333333333329E-2,0.58333333333333326,7,-7,null,null,66,21.083333969116211,87.083333969116211,24.416666030883789,90.416666030883789,null,60.6,{"$f":"AD10+(AD15-AD5)/10","v":26.483333969116202},{"$f":"IFERROR(ROUND((ROUNDDOWN(AD11,0)*12)+IFERROR(VLOOKUP(ROUND(AD11-(ROUNDDOWN(AD11,0)),1),_Esperanzas!$R$5:$S$18,2,TRUE),0),0),12)","v":318},87.083333969116211,{"$f":"AG10+(AG15-AG5)/10","v":29.816666030883781},{"$f":"IFERROR(ROUND((ROUNDDOWN(AG11,0)*12)+IFERROR(VLOOKUP(ROUND(AG11-(ROUNDDOWN(AG11,0)),1),_Esperanzas!$R$5:$S$18,2,TRUE),0),0),12)","v":357},90.416666030883789]
[null,67,22.166666030883789,89.166666030883789,25.5,92.5,null,60.7,{"$f":"I11+(I15-I5)/10","v":28.466666030883779},{"$f":"IFERROR(ROUND((ROUNDDOWN(I12,0)*12)+IFERROR(VLOOKUP(ROUND(I12-(ROUNDDOWN(I12,0)),1),_Esperanzas!$R$5:$S$18,2,TRUE),0),0),12)","v":342},89.166666030883789,{"$f":"L11+(L15-L5)/10","v":31.79999999999999},{"$f":"IFERROR(ROUND((ROUNDDOWN(L12,0)*12)+IFERROR(VLOOKUP(ROUND(L12-(ROUNDDOWN(L12,0)),1),_Esperanzas!$R$5:$S$18,2,TRUE),0),0),12)","v":381},92.5,null,8,8.3333333333333329E-2,0.66666666666666663,8,-8,null,null,67,20.083333969116211,87.083333969116211,23.416666030883789,90.416666030883789,null,60.7,{"$f":"AD11+(AD15-AD5)/10","v":26.383333969116201},{"$f":"IFERROR(ROUND((ROUNDDOWN(AD12,0)*12)+IFERROR(VLOOKUP(ROUND(AD12-(ROUNDDOWN(AD12,0)),1),_Esperanzas!$R$5:$S$18,2,TRUE),0),0),12)","v":316},87.083333969116211,{"$f":"AG11+(AG15-AG5)/10","v":29.716666030883779},{"$f":"IFERROR(ROUND((ROUNDDOWN(AG12,0)*12)+IFERROR(VLOOKUP(ROUND(AG12-(ROUNDDOWN(AG12,0)),1),_Esperanzas!$R$5:$S$18,2,TRUE),0),0),12)","v":356},90.416666030883789]
[null,68,21.166666030883789,89.166666030883789,24.5,92.5,null,60.8,{"$f":"I12+(I15-I5)/10","v":28.366666030883778},{"$f":"IFERROR(ROUND((ROUNDDOWN(I13,0)*12)+IFERROR(VLOOKUP(ROUND(I13-(ROUNDDOWN(I13,0)),1),_Esperanzas!$R$5:$S$18,2,TRUE),0),0),12)","v":340},89.166666030883775,{"$f":"L12+(L15-L5)/10","v":31.699999999999989},{"$f":"IFERROR(ROUND((ROUNDDOWN(L13,0)*12)+IFERROR(VLOOKUP(ROUND(L13-(ROUNDDOWN(L13,0)),1),_Esperanzas!$R$5:$S$18,2,TRUE),0),0),12)","v":380},92.499999999999986,null,9,8.3333333333333329E-2,0.75,9,-9,null,null,68,19.083333969116211,87.083333969116211,22.416666030883789,90.416666030883789,null,60.8,{"$f":"AD12+(AD15-AD5)/10","v":26.2833339691162},{"$f":"IFERROR(ROUND((ROUNDDOWN(AD13,0)*12)+IFERROR(VLOOKUP(ROUND(AD13-(ROUNDDOWN(AD13,0)),1),_Esperanzas!$R$5:$S$18,2,TRUE),0),0),12)","v":315},87.083333969116197,{"$f":"AG12+(AG15-AG5)/10","v":29.616666030883778},{"$f":"IFERROR(ROUND((ROUNDDOWN(AG13,0)*12)+IFERROR(VLOOKUP(ROUND(AG13-(ROUNDDOWN(AG13,0)),1),_Esperanzas!$R$5:$S$18,2,TRUE),0),0),12)","v":355},90.416666030883775]
[null,{"$f":"B15-1","v":69},{"$f":"C15+1","v":20.166666030883789},89.166666030883789,{"$f":"E15+1","v":23.5},92.5,null,60.9,{"$f":"I13+(I15-I5)/10","v":28.266666030883776},{"$f":"IFERROR(ROUND((ROUNDDOWN(I14,0)*12)+IFERROR(VLOOKUP(ROUND(I14-(ROUNDDOWN(I14,0)),1),_Esperanzas!$R$5:$S$18,2,TRUE),0),0),12)","v":339},89.166666030883775,{"$f":"L13+(L15-L5)/10","v":31.599999999999987},{"$f":"IFERROR(ROUND((ROUNDDOWN(L14,0)*12)+IFERROR(VLOOKUP(ROUND(L14-(ROUNDDOWN(L14,0)),1),_Esperanzas!$R$5:$S$18,2,TRUE),0),0),12)","v":379},92.499999999999986,null,{"$f":"P13+1","v":10},{"$f":"1/12","v":8.3333333333333329E-2},{"$f":"Q14+R13","v":0.83333333333333337},{"$f":"P14","v":10},{"$f":"-S14","v":-10},null,null,{"$f":"W15-1","v":69},{"$f":"X15+1","v":18.083333969116211},87.083333969116211,{"$f":"Z15+1","v":21.416666030883789},90.416666030883789,null,60.9,{"$f":"AD13+(AD15-AD5)/10","v":26.183333969116198},{"$f":"IFERROR(ROUND((ROUNDDOWN(AD14,0)*12)+IFERROR(VLOOKUP(ROUND(AD14-(ROUNDDOWN(AD14,0)),1),_Esperanzas!$R$5:$S$18,2,TRUE),0),0),12)","v":314},87.083333969116197,{"$f":"AG13+(AG15-AG5)/10","v":29.516666030883776},{"$f":"IFERROR(ROUND((ROUNDDOWN(AG14,0)*12)+IFERROR(VLOOKUP(ROUND(AG14-(ROUNDDOWN(AG14,0)),1),_Esperanzas!$R$5:$S$18,2,TRUE),0),0),12)","v":354},90.416666030883775]
[null,70,19.166666030883789,89.166666030883789,22.5,92.5,null,61,{"$f":"VLOOKUP($H15,$B$5:$F$55,2,0)","v":28.166666030883789},{"$f":"IFERROR(ROUND((ROUNDDOWN(I15,0)*12)+IFERROR(VLOOKUP(ROUND(I15-(ROUNDDOWN(I15,0)),1),_Esperanzas!$R$5:$S$18,2,TRUE),0),0),12)","v":338},89.166666030883789,{"$f":"VLOOKUP($H15,$B$5:$F$55,4,0)","v":31.5},{"$f":"IFERROR(ROUND((ROUNDDOWN(L15,0)*12)+IFERROR(VLOOKUP(ROUND(L15-(ROUNDDOWN(L15,0)),1),_Esperanzas!$R$5:$S$18,2,TRUE),0),0),12)","v":378},92.5,null,{"$f":"P14+1","v":11},{"$f":"1/12","v":8.3333333333333329E-2},{"$f":"Q15+R14","v":0.91666666666666674},{"$f":"P15","v":11},{"$f":"-S15","v":-11},null,null,70,17.083333969116211,87.083333969116211,20.416666030883789,90.416666030883789,null,61,{"$f":"VLOOKUP($AC15,$W$5:$AA$55,2,0)","v":26.083333969116211},{"$f":"IFERROR(ROUND((ROUNDDOWN(AD15,0)*12)+IFERROR(VLOOKUP(ROUND(AD15-(ROUNDDOWN(AD15,0)),1),_Esperanzas!$R$5:$S$18,2,TRUE),0),0),12)","v":313},87.083333969116211,{"$f":"VLOOKUP($AC15,$W$5:$AA$55,4,0)","v":29.416666030883789},{"$f":"IFERROR(ROUND((ROUNDDOWN(AG15,0)*12)+IFERROR(VLOOKUP(ROUND(AG15-(ROUNDDOWN(AG15,0)),1),_Esperanzas!$R$5:$S$18,2,TRUE),0),0),12)","v":352},90.416666030883789]
[null,71,18.25,89.25,21.583333969116211,92.583333969116211,null,61.1,{"$f":"I15+(I25-I15)/10","v":28.066666030883788},{"$f":"IFERROR(ROUND((ROUNDDOWN(I16,0)*12)+IFERROR(VLOOKUP(ROUND(I16-(ROUNDDOWN(I16,0)),1),_Esperanzas!$R$5:$S$18,2,TRUE),0),0),12)","v":337},89.166666030883789,{"$f":"L15+(L25-L15)/10","v":31.4},{"$f":"IFERROR(ROUND((ROUNDDOWN(L16,0)*12)+IFERROR(VLOOKUP(ROUND(L16-(ROUNDDOWN(L16,0)),1),_Esperanzas!$R$5:$S$18,2,TRUE),0),0),12)","v":376},92.5,null,{"$f":"P15+1","v":12},{"$f":"1/12","v":8.3333333333333329E-2},{"$f":"Q16+R15","v":1},{"$f":"P16","v":12},{"$f":"-S16","v":-12},null,null,71,16.166666030883789,87.166666030883789,19.5,90.5,null,61.1,{"$f":"AD15+(AD25-AD15)/10","v":25.98333396911621},{"$f":"IFERROR(ROUND((ROUNDDOWN(AD16,0)*12)+IFERROR(VLOOKUP(ROUND(AD16-(ROUNDDOWN(AD16,0)),1),_Esperanzas!$R$5:$S$18,2,TRUE),0),0),12)","v":312},87.083333969116211,{"$f":"AG15+(AG25-AG15)/10","v":29.316666030883788},{"$f":"IFERROR(ROUND((ROUNDDOWN(AG16,0)*12)+IFERROR(VLOOKUP(ROUND(AG16-(ROUNDDOWN(AG16,0)),1),_Esperanzas!$R$5:$S$18,2,TRUE),0),0),12)","v":351},90.416666030883789]
[null,72,17.333333969116211,89.333333969116211,20.583333969116211,92.583333969116211,null,61.2,{"$f":"I16+(I25-I15)/10","v":27.966666030883786},{"$f":"IFERROR(ROUND((ROUNDDOWN(I17,0)*12)+IFERROR(VLOOKUP(ROUND(I17-(ROUNDDOWN(I17,0)),1),_Esperanzas!$R$5:$S$18,2,TRUE),0),0),12)","v":336},89.166666030883789,{"$f":"L16+(L25-L15)/10","v":31.299999999999997},{"$f":"IFERROR(ROUND((ROUNDDOWN(L17,0)*12)+IFERROR(VLOOKUP(ROUND(L17-(ROUNDDOWN(L17,0)),1),_Esperanzas!$R$5:$S$18,2,TRUE),0),0),12)","v":375},92.5,null,0,0,0,0,0,null,null,72,15.25,87.25,18.583333969116211,90.583333969116211,null,61.2,{"$f":"AD16+(AD25-AD15)/10","v":25.883333969116208},{"$f":"IFERROR(ROUND((ROUNDDOWN(AD17,0)*12)+IFERROR(VLOOKUP(ROUND(AD17-(ROUNDDOWN(AD17,0)),1),_Esperanzas!$R$5:$S$18,2,TRUE),0),0),12)","v":310},87.083333969116211,{"$f":"AG16+(AG25-AG15)/10","v":29.216666030883786},{"$f":"IFERROR(ROUND((ROUNDDOWN(AG17,0)*12)+IFERROR(VLOOKUP(ROUND(AG17-(ROUNDDOWN(AG17,0)),1),_Esperanzas!$R$5:$S$18,2,TRUE),0),0),12)","v":350},90.416666030883789]
[null,73,16.5,89.5,19.666666030883789,92.666666030883789,null,61.3,{"$f":"I17+(I25-I15)/10","v":27.866666030883785},{"$f":"IFERROR(ROUND((ROUNDDOWN(I18,0)*12)+IFERROR(VLOOKUP(ROUND(I18-(ROUNDDOWN(I18,0)),1),_Esperanzas!$R$5:$S$18,2,TRUE),0),0),12)","v":334},89.166666030883789,{"$f":"L17+(L25-L15)/10","v":31.199999999999996},{"$f":"IFERROR(ROUND((ROUNDDOWN(L18,0)*12)+IFERROR(VLOOKUP(ROUND(L18-(ROUNDDOWN(L18,0)),1),_Esperanzas!$R$5:$S$18,2,TRUE),0),0),12)","v":374},92.5,null,1,0,1,12,0,null,null,73,14.416666984558105,87.416666984558105,17.583333969116211,90.583333969116211,null,61.3,{"$f":"AD17+(AD25-AD15)/10","v":25.783333969116207},{"$f":"IFERROR(ROUND((ROUNDDOWN(AD18,0)*12)+IFERROR(VLOOKUP(ROUND(AD18-(ROUNDDOWN(AD18,0)),1),_Esperanzas!$R$5:$S$18,2,TRUE),0),0),12)","v":309},87.083333969116211,{"$f":"AG17+(AG25-AG15)/10","v":29.116666030883785},{"$f":"IFERROR(ROUND((ROUNDDOWN(AG18,0)*12)+IFERROR(VLOOKUP(ROUND(AG18-(ROUNDDOWN(AG18,0)),1),_Esperanzas!$R$5:$S$18,2,TRUE),0),0),12)","v":349},90.416666030883789]
[null,74,15.583333015441895,89.583333015441895,18.75,92.75,null,61.4,{"$f":"I18+(I25-I15)/10","v":27.766666030883783},{"$f":"IFERROR(ROUND((ROUNDDOWN(I19,0)*12)+IFERROR(VLOOKUP(ROUND(I19-(ROUNDDOWN(I19,0)),1),_Esperanzas!$R$5:$S$18,2,TRUE),0),0),12)","v":333},{"$f":"I19+H19","v":89.166666030883789},{"$f":"L18+(L25-L15)/10","v":31.099999999999994},{"$f":"IFERROR(ROUND((ROUNDDOWN(L19,0)*12)+IFERROR(VLOOKUP(ROUND(L19-(ROUNDDOWN(L19,0)),1),_Esperanzas!$R$5:$S$18,2,TRUE),0),0),12)","v":373},92.5,null,null,null,null,null,null,null,null,74,13.583333015441895,87.583333015441895,16.666666030883789,90.666666030883789,null,61.4,{"$f":"AD18+(AD25-AD15)/10","v":25.683333969116205},{"$f":"IFERROR(ROUND((ROUNDDOWN(AD19,0)*12)+IFERROR(VLOOKUP(ROUND(AD19-(ROUNDDOWN(AD19,0)),1),_Esperanzas!$R$5:$S$18,2,TRUE),0),0),12)","v":308},{"$f":"AD19+AC19","v":87.083333969116211},{"$f":"AG18+(AG25-AG15)/10","v":29.016666030883783},{"$f":"IFERROR(ROUND((ROUNDDOWN(AG19,0)*12)+IFERROR(VLOOKUP(ROUND(AG19-(ROUNDDOWN(AG19,0)),1),_Esperanzas!$R$5:$S$18,2,TRUE),0),0),12)","v":348},{"$f":"AG19+AC19","v":90.416666030883789}]
[null,75,14.75,89.75,17.833333969116211,92.833333969116211,null,61.5,{"$f":"I19+(I25-I15)/10","v":27.666666030883782},{"$f":"IFERROR(ROUND((ROUNDDOWN(I20,0)*12)+IFERROR(VLOOKUP(ROUND(I20-(ROUNDDOWN(I20,0)),1),_Esperanzas!$R$5:$S$18,2,TRUE),0),0),12)","v":332},89.166666030883789,{"$f":"L19+(L25-L15)/10","v":30.999999999999993},{"$f":"IFERROR(ROUND((ROUNDDOWN(L20,0)*12)+IFERROR(VLOOKUP(ROUND(L20-(ROUNDDOWN(L20,0)),1),_Esperanzas!$R$5:$S$18,2,TRUE),0),0),12)","v":372},92.5,null,null,null,null,null,null,null,null,75,12.75,87.75,15.833333015441895,90.833333015441895,null,61.5,{"$f":"AD19+(AD25-AD15)/10","v":25.583333969116204},{"$f":"IFERROR(ROUND((ROUNDDOWN(AD20,0)*12)+IFERROR(VLOOKUP(ROUND(AD20-(ROUNDDOWN(AD20,0)),1),_Esperanzas!$R$5:$S$18,2,TRUE),0),0),12)","v":307},87.083333969116211,{"$f":"AG19+(AG25-AG15)/10","v":28.916666030883782},{"$f":"IFERROR(ROUND((ROUNDDOWN(AG20,0)*12)+IFERROR(VLOOKUP(ROUND(AG20-(ROUNDDOWN(AG20,0)),1),_Esperanzas!$R$5:$S$18,2,TRUE),0),0),12)","v":346},90.416666030883789]
[null,76,13.916666984558105,89.916666984558105,16.916666030883789,92.916666030883789,null,61.6,{"$f":"I20+(I25-I15)/10","v":27.566666030883781},{"$f":"IFERROR(ROUND((ROUNDDOWN(I21,0)*12)+IFERROR(VLOOKUP(ROUND(I21-(ROUNDDOWN(I21,0)),1),_Esperanzas!$R$5:$S$18,2,TRUE),0),0),12)","v":331},89.166666030883789,{"$f":"L20+(L25-L15)/10","v":30.899999999999991},{"$f":"IFERROR(ROUND((ROUNDDOWN(L21,0)*12)+IFERROR(VLOOKUP(ROUND(L21-(ROUNDDOWN(L21,0)),1),_Esperanzas!$R$5:$S$18,2,TRUE),0),0),12)","v":370},92.5,null,null,null,null,null,null,null,null,76,11.916666984558105,87.916666984558105,14.916666984558105,90.916666984558105,null,61.6,{"$f":"AD20+(AD25-AD15)/10","v":25.483333969116202},{"$f":"IFERROR(ROUND((ROUNDDOWN(AD21,0)*12)+IFERROR(VLOOKUP(ROUND(AD21-(ROUNDDOWN(AD21,0)),1),_Esperanzas!$R$5:$S$18,2,TRUE),0),0),12)","v":306},87.083333969116211,{"$f":"AG20+(AG25-AG15)/10","v":28.816666030883781},{"$f":"IFERROR(ROUND((ROUNDDOWN(AG21,0)*12)+IFERROR(VLOOKUP(ROUND(AG21-(ROUNDDOWN(AG21,0)),1),_Esperanzas!$R$5:$S$18,2,TRUE),0),0),12)","v":345},90.416666030883789]
[null,77,13.083333015441895,90.083333015441895,16,93,null,61.7,{"$f":"I21+(I25-I15)/10","v":27.466666030883779},{"$f":"IFERROR(ROUND((ROUNDDOWN(I22,0)*12)+IFERROR(VLOOKUP(ROUND(I22-(ROUNDDOWN(I22,0)),1),_Esperanzas!$R$5:$S$18,2,TRUE),0),0),12)","v":330},89.166666030883789,{"$f":"L21+(L25-L15)/10","v":30.79999999999999},{"$f":"IFERROR(ROUND((ROUNDDOWN(L22,0)*12)+IFERROR(VLOOKUP(ROUND(L22-(ROUNDDOWN(L22,0)),1),_Esperanzas!$R$5:$S$18,2,TRUE),0),0),12)","v":369},92.5,null,"EDAD",null,null,null,null,null,null,77,11.166666984558105,88.166666984558105,14,91,null,61.7,{"$f":"AD21+(AD25-AD15)/10","v":25.383333969116201},{"$f":"IFERROR(ROUND((ROUNDDOWN(AD22,0)*12)+IFERROR(VLOOKUP(ROUND(AD22-(ROUNDDOWN(AD22,0)),1),_Esperanzas!$R$5:$S$18,2,TRUE),0),0),12)","v":304},87.083333969116211,{"$f":"AG21+(AG25-AG15)/10","v":28.716666030883779},{"$f":"IFERROR(ROUND((ROUNDDOWN(AG22,0)*12)+IFERROR(VLOOKUP(ROUND(AG22-(ROUNDDOWN(AG22,0)),1),_Esperanzas!$R$5:$S$18,2,TRUE),0),0),12)","v":344},90.416666030883789]
[null,78,12.25,90.25,15.083333015441895,93.083333015441895,null,61.8,{"$f":"I22+(I25-I15)/10","v":27.366666030883778},{"$f":"IFERROR(ROUND((ROUNDDOWN(I23,0)*12)+IFERROR(VLOOKUP(ROUND(I23-(ROUNDDOWN(I23,0)),1),_Esperanzas!$R$5:$S$18,2,TRUE),0),0),12)","v":328},89.166666030883775,{"$f":"L22+(L25-L15)/10","v":30.699999999999989},{"$f":"IFERROR(ROUND((ROUNDDOWN(L23,0)*12)+IFERROR(VLOOKUP(ROUND(L23-(ROUNDDOWN(L23,0)),1),_Esperanzas!$R$5:$S$18,2,TRUE),0),0),12)","v":368},92.499999999999986,null,"PRECIO DE COMRPA",null,0,80,null,null,null,78,10.333333015441895,88.333333015441895,13.166666984558105,91.166666984558105,null,61.8,{"$f":"AD22+(AD25-AD15)/10","v":25.2833339691162},{"$f":"IFERROR(ROUND((ROUNDDOWN(AD23,0)*12)+IFERROR(VLOOKUP(ROUND(AD23-(ROUNDDOWN(AD23,0)),1),_Esperanzas!$R$5:$S$18,2,TRUE),0),0),12)","v":303},87.083333969116197,{"$f":"AG22+(AG25-AG15)/10","v":28.616666030883778},{"$f":"IFERROR(ROUND((ROUNDDOWN(AG23,0)*12)+IFERROR(VLOOKUP(ROUND(AG23-(ROUNDDOWN(AG23,0)),1),_Esperanzas!$R$5:$S$18,2,TRUE),0),0),12)","v":343},90.416666030883775]
[null,79,11.5,90.5,14.166666984558105,93.166666984558105,null,61.9,{"$f":"I23+(I25-I15)/10","v":27.266666030883776},{"$f":"IFERROR(ROUND((ROUNDDOWN(I24,0)*12)+IFERROR(VLOOKUP(ROUND(I24-(ROUNDDOWN(I24,0)),1),_Esperanzas!$R$5:$S$18,2,TRUE),0),0),12)","v":327},89.166666030883775,{"$f":"L23+(L25-L15)/10","v":30.599999999999987},{"$f":"IFERROR(ROUND((ROUNDDOWN(L24,0)*12)+IFERROR(VLOOKUP(ROUND(L24-(ROUNDDOWN(L24,0)),1),_Esperanzas!$R$5:$S$18,2,TRUE),0),0),12)","v":367},92.499999999999986,null,null,0,"_Esperanzas!$AC$5:$AI$505","_Esperanzas!$AC$5:$AI$505",null,null,null,79,9.5833330154418945,88.583333015441895,12.333333015441895,91.333333015441895,null,61.9,{"$f":"AD23+(AD25-AD15)/10","v":25.183333969116198},{"$f":"IFERROR(ROUND((ROUNDDOWN(AD24,0)*12)+IFERROR(VLOOKUP(ROUND(AD24-(ROUNDDOWN(AD24,0)),1),_Esperanzas!$R$5:$S$18,2,TRUE),0),0),12)","v":302},87.083333969116197,{"$f":"AG23+(AG25-AG15)/10","v":28.516666030883776},{"$f":"IFERROR(ROUND((ROUNDDOWN(AG24,0)*12)+IFERROR(VLOOKUP(ROUND(AG24-(ROUNDDOWN(AG24,0)),1),_Esperanzas!$R$5:$S$18,2,TRUE),0),0),12)","v":342},90.416666030883775]
[null,80,10.75,90.75,13.333333015441895,93.333333015441895,null,62,{"$f":"VLOOKUP($H25,$B$5:$F$55,2,0)","v":27.166666030883789},{"$f":"IFERROR(ROUND((ROUNDDOWN(I25,0)*12)+IFERROR(VLOOKUP(ROUND(I25-(ROUNDDOWN(I25,0)),1),_Esperanzas!$R$5:$S$18,2,TRUE),0),0),12)","v":326},89.166666030883789,{"$f":"VLOOKUP($H25,$B$5:$F$55,4,0)","v":30.5},{"$f":"IFERROR(ROUND((ROUNDDOWN(L25,0)*12)+IFERROR(VLOOKUP(ROUND(L25-(ROUNDDOWN(L25,0)),1),_Esperanzas!$R$5:$S$18,2,TRUE),0),0),12)","v":366},92.5,null,null,500000,"_Esperanzas!$AC$5:$AI$505","_Esperanzas!$H$5:$N$505",null,null,null,80,8.9166669845581055,88.916666984558105,11.5,91.5,null,62,{"$f":"VLOOKUP($AC25,$W$5:$AA$55,2,0)","v":25.083333969116211},{"$f":"IFERROR(ROUND((ROUNDDOWN(AD25,0)*12)+IFERROR(VLOOKUP(ROUND(AD25-(ROUNDDOWN(AD25,0)),1),_Esperanzas!$R$5:$S$18,2,TRUE),0),0),12)","v":301},87.083333969116211,{"$f":"VLOOKUP($AC25,$W$5:$AA$55,4,0)","v":28.416666030883789},{"$f":"IFERROR(ROUND((ROUNDDOWN(AG25,0)*12)+IFERROR(VLOOKUP(ROUND(AG25-(ROUNDDOWN(AG25,0)),1),_Esperanzas!$R$5:$S$18,2,TRUE),0),0),12)","v":340},90.416666030883789]
[null,81,10,91,12.5,93.5,null,62.1,{"$f":"I25+(I35-I25)/10","v":27.066666030883788},{"$f":"IFERROR(ROUND((ROUNDDOWN(I26,0)*12)+IFERROR(VLOOKUP(ROUND(I26-(ROUNDDOWN(I26,0)),1),_Esperanzas!$R$5:$S$18,2,TRUE),0),0),12)","v":325},89.166666030883789,{"$f":"L25+(L35-L25)/10","v":30.4},{"$f":"IFERROR(ROUND((ROUNDDOWN(L26,0)*12)+IFERROR(VLOOKUP(ROUND(L26-(ROUNDDOWN(L26,0)),1),_Esperanzas!$R$5:$S$18,2,TRUE),0),0),12)","v":364},92.5,null,null,null,null,null,null,null,null,81,8.25,89.25,10.666666984558105,91.666666984558105,null,62.1,{"$f":"AD25+(AD35-AD25)/10","v":24.98333396911621},{"$f":"IFERROR(ROUND((ROUNDDOWN(AD26,0)*12)+IFERROR(VLOOKUP(ROUND(AD26-(ROUNDDOWN(AD26,0)),1),_Esperanzas!$R$5:$S$18,2,TRUE),0),0),12)","v":300},87.083333969116211,{"$f":"AG25+(AG35-AG25)/10","v":28.316666030883788},{"$f":"IFERROR(ROUND((ROUNDDOWN(AG26,0)*12)+IFERROR(VLOOKUP(ROUND(AG26-(ROUNDDOWN(AG26,0)),1),_Esperanzas!$R$5:$S$18,2,TRUE),0),0),12)","v":339},90.416666030883789]
[null,82,9.3333330154418945,91.333333015441895,11.666666984558105,93.666666984558105,null,62.2,{"$f":"I26+(I35-I25)/10","v":26.966666030883786},{"$f":"IFERROR(ROUND((ROUNDDOWN(I27,0)*12)+IFERROR(VLOOKUP(ROUND(I27-(ROUNDDOWN(I27,0)),1),_Esperanzas!$R$5:$S$18,2,TRUE),0),0),12)","v":324},89.166666030883789,{"$f":"L26+(L35-L25)/10","v":30.299999999999997},{"$f":"IFERROR(ROUND((ROUNDDOWN(L27,0)*12)+IFERROR(VLOOKUP(ROUND(L27-(ROUNDDOWN(L27,0)),1),_Esperanzas!$R$5:$S$18,2,TRUE),0),0),12)","v":363},92.5,null,null,null,"_Esperanzas!$H$5:$N$505","tabla al 50%",null,null,null,82,7.6666665077209473,89.666666507720947,9.9166669845581055,91.916666984558105,null,62.2,{"$f":"AD26+(AD35-AD25)/10","v":24.883333969116208},{"$f":"IFERROR(ROUND((ROUNDDOWN(AD27,0)*12)+IFERROR(VLOOKUP(ROUND(AD27-(ROUNDDOWN(AD27,0)),1),_Esperanzas!$R$5:$S$18,2,TRUE),0),0),12)","v":298},87.083333969116211,{"$f":"AG26+(AG35-AG25)/10","v":28.216666030883786},{"$f":"IFERROR(ROUND((ROUNDDOWN(AG27,0)*12)+IFERROR(VLOOKUP(ROUND(AG27-(ROUNDDOWN(AG27,0)),1),_Esperanzas!$R$5:$S$18,2,TRUE),0),0),12)","v":338},90.416666030883789]
[null,83,8.6666669845581055,91.666666984558105,10.916666984558105,93.916666984558105,null,62.3,{"$f":"I27+(I35-I25)/10","v":26.866666030883785},{"$f":"IFERROR(ROUND((ROUNDDOWN(I28,0)*12)+IFERROR(VLOOKUP(ROUND(I28-(ROUNDDOWN(I28,0)),1),_Esperanzas!$R$5:$S$18,2,TRUE),0),0),12)","v":322},89.166666030883789,{"$f":"L27+(L35-L25)/10","v":30.199999999999996},{"$f":"IFERROR(ROUND((ROUNDDOWN(L28,0)*12)+IFERROR(VLOOKUP(ROUND(L28-(ROUNDDOWN(L28,0)),1),_Esperanzas!$R$5:$S$18,2,TRUE),0),0),12)","v":362},92.5,null,null,null,"_Esperanzas!$AC$5:$AI$505","tabla al 60%",null,null,null,83,7.0833334922790527,90.083333492279053,9.1666669845581055,92.166666984558105,null,62.3,{"$f":"AD27+(AD35-AD25)/10","v":24.783333969116207},{"$f":"IFERROR(ROUND((ROUNDDOWN(AD28,0)*12)+IFERROR(VLOOKUP(ROUND(AD28-(ROUNDDOWN(AD28,0)),1),_Esperanzas!$R$5:$S$18,2,TRUE),0),0),12)","v":297},87.083333969116211,{"$f":"AG27+(AG35-AG25)/10","v":28.116666030883785},{"$f":"IFERROR(ROUND((ROUNDDOWN(AG28,0)*12)+IFERROR(VLOOKUP(ROUND(AG28-(ROUNDDOWN(AG28,0)),1),_Esperanzas!$R$5:$S$18,2,TRUE),0),0),12)","v":337},90.416666030883789]
[null,84,8.0833330154418945,92.083333015441895,10.166666984558105,94.166666984558105,null,62.4,{"$f":"I28+(I35-I25)/10","v":26.766666030883783},{"$f":"IFERROR(ROUND((ROUNDDOWN(I29,0)*12)+IFERROR(VLOOKUP(ROUND(I29-(ROUNDDOWN(I29,0)),1),_Esperanzas!$R$5:$S$18,2,TRUE),0),0),12)","v":321},89.166666030883789,{"$f":"L28+(L35-L25)/10","v":30.099999999999994},{"$f":"IFERROR(ROUND((ROUNDDOWN(L29,0)*12)+IFERROR(VLOOKUP(ROUND(L29-(ROUNDDOWN(L29,0)),1),_Esperanzas!$R$5:$S$18,2,TRUE),0),0),12)","v":361},92.5,null,null,null,null,null,null,null,null,84,6.5,90.5,8.4166669845581055,92.416666984558105,null,62.4,{"$f":"AD28+(AD35-AD25)/10","v":24.683333969116205},{"$f":"IFERROR(ROUND((ROUNDDOWN(AD29,0)*12)+IFERROR(VLOOKUP(ROUND(AD29-(ROUNDDOWN(AD29,0)),1),_Esperanzas!$R$5:$S$18,2,TRUE),0),0),12)","v":296},87.083333969116211,{"$f":"AG28+(AG35-AG25)/10","v":28.016666030883783},{"$f":"IFERROR(ROUND((ROUNDDOWN(AG29,0)*12)+IFERROR(VLOOKUP(ROUND(AG29-(ROUNDDOWN(AG29,0)),1),_Esperanzas!$R$5:$S$18,2,TRUE),0),0),12)","v":336},90.416666030883789]
[null,85,7.5833334922790527,92.583333492279053,9.4166669845581055,94.416666984558105,null,62.5,{"$f":"I29+(I35-I25)/10","v":26.666666030883782},{"$f":"IFERROR(ROUND((ROUNDDOWN(I30,0)*12)+IFERROR(VLOOKUP(ROUND(I30-(ROUNDDOWN(I30,0)),1),_Esperanzas!$R$5:$S$18,2,TRUE),0),0),12)","v":320},89.166666030883789,{"$f":"L29+(L35-L25)/10","v":29.999999999999993},{"$f":"IFERROR(ROUND((ROUNDDOWN(L30,0)*12)+IFERROR(VLOOKUP(ROUND(L30-(ROUNDDOWN(L30,0)),1),_Esperanzas!$R$5:$S$18,2,TRUE),0),0),12)","v":360},92.5,null,null,null,null,null,null,null,null,85,6,91,7.8333334922790527,92.833333492279053,null,62.5,{"$f":"AD29+(AD35-AD25)/10","v":24.583333969116204},{"$f":"IFERROR(ROUND((ROUNDDOWN(AD30,0)*12)+IFERROR(VLOOKUP(ROUND(AD30-(ROUNDDOWN(AD30,0)),1),_Esperanzas!$R$5:$S$18,2,TRUE),0),0),12)","v":295},87.083333969116211,{"$f":"AG29+(AG35-AG25)/10","v":27.916666030883782},{"$f":"IFERROR(ROUND((ROUNDDOWN(AG30,0)*12)+IFERROR(VLOOKUP(ROUND(AG30-(ROUNDDOWN(AG30,0)),1),_Esperanzas!$R$5:$S$18,2,TRUE),0),0),12)","v":334},90.416666030883789]
[null,86,7.0833334922790527,93.083333492279053,8.75,94.75,null,62.6,{"$f":"I30+(I35-I25)/10","v":26.566666030883781},{"$f":"IFERROR(ROUND((ROUNDDOWN(I31,0)*12)+IFERROR(VLOOKUP(ROUND(I31-(ROUNDDOWN(I31,0)),1),_Esperanzas!$R$5:$S$18,2,TRUE),0),0),12)","v":319},89.166666030883789,{"$f":"L30+(L35-L25)/10","v":29.899999999999991},{"$f":"IFERROR(ROUND((ROUNDDOWN(L31,0)*12)+IFERROR(VLOOKUP(ROUND(L31-(ROUNDDOWN(L31,0)),1),_Esperanzas!$R$5:$S$18,2,TRUE),0),0),12)","v":358},92.5,null,null,null,null,null,null,null,null,86,5.5833334922790527,91.583333492279053,7.1666665077209473,93.166666507720947,null,62.6,{"$f":"AD30+(AD35-AD25)/10","v":24.483333969116202},{"$f":"IFERROR(ROUND((ROUNDDOWN(AD31,0)*12)+IFERROR(VLOOKUP(ROUND(AD31-(ROUNDDOWN(AD31,0)),1),_Esperanzas!$R$5:$S$18,2,TRUE),0),0),12)","v":294},87.083333969116211,{"$f":"AG30+(AG35-AG25)/10","v":27.816666030883781},{"$f":"IFERROR(ROUND((ROUNDDOWN(AG31,0)*12)+IFERROR(VLOOKUP(ROUND(AG31-(ROUNDDOWN(AG31,0)),1),_Esperanzas!$R$5:$S$18,2,TRUE),0),0),12)","v":333},90.416666030883789]
[null,87,6.5833334922790527,93.583333492279053,8.1666669845581055,95.166666984558105,null,62.7,{"$f":"I31+(I35-I25)/10","v":26.466666030883779},{"$f":"IFERROR(ROUND((ROUNDDOWN(I32,0)*12)+IFERROR(VLOOKUP(ROUND(I32-(ROUNDDOWN(I32,0)),1),_Esperanzas!$R$5:$S$18,2,TRUE),0),0),12)","v":318},89.166666030883789,{"$f":"L31+(L35-L25)/10","v":29.79999999999999},{"$f":"IFERROR(ROUND((ROUNDDOWN(L32,0)*12)+IFERROR(VLOOKUP(ROUND(L32-(ROUNDDOWN(L32,0)),1),_Esperanzas!$R$5:$S$18,2,TRUE),0),0),12)","v":357},92.5,null,null,null,null,null,null,null,null,87,5.1666665077209473,92.166666507720947,6.5833334922790527,93.583333492279053,null,62.7,{"$f":"AD31+(AD35-AD25)/10","v":24.383333969116201},{"$f":"IFERROR(ROUND((ROUNDDOWN(AD32,0)*12)+IFERROR(VLOOKUP(ROUND(AD32-(ROUNDDOWN(AD32,0)),1),_Esperanzas!$R$5:$S$18,2,TRUE),0),0),12)","v":292},87.083333969116211,{"$f":"AG31+(AG35-AG25)/10","v":27.716666030883779},{"$f":"IFERROR(ROUND((ROUNDDOWN(AG32,0)*12)+IFERROR(VLOOKUP(ROUND(AG32-(ROUNDDOWN(AG32,0)),1),_Esperanzas!$R$5:$S$18,2,TRUE),0),0),12)","v":332},90.416666030883789]
[null,88,6.1666665077209473,94.166666507720947,7.5,95.5,null,62.8,{"$f":"I32+(I35-I25)/10","v":26.366666030883778},{"$f":"IFERROR(ROUND((ROUNDDOWN(I33,0)*12)+IFERROR(VLOOKUP(ROUND(I33-(ROUNDDOWN(I33,0)),1),_Esperanzas!$R$5:$S$18,2,TRUE),0),0),12)","v":316},89.166666030883775,{"$f":"L32+(L35-L25)/10","v":29.699999999999989},{"$f":"IFERROR(ROUND((ROUNDDOWN(L33,0)*12)+IFERROR(VLOOKUP(ROUND(L33-(ROUNDDOWN(L33,0)),1),_Esperanzas!$R$5:$S$18,2,TRUE),0),0),12)","v":356},92.499999999999986,null,null,null,null,null,null,null,null,88,4.8333334922790527,92.833333492279053,6.0833334922790527,94.083333492279053,null,62.8,{"$f":"AD32+(AD35-AD25)/10","v":24.2833339691162},{"$f":"IFERROR(ROUND((ROUNDDOWN(AD33,0)*12)+IFERROR(VLOOKUP(ROUND(AD33-(ROUNDDOWN(AD33,0)),1),_Esperanzas!$R$5:$S$18,2,TRUE),0),0),12)","v":291},87.083333969116197,{"$f":"AG32+(AG35-AG25)/10","v":27.616666030883778},{"$f":"IFERROR(ROUND((ROUNDDOWN(AG33,0)*12)+IFERROR(VLOOKUP(ROUND(AG33-(ROUNDDOWN(AG33,0)),1),_Esperanzas!$R$5:$S$18,2,TRUE),0),0),12)","v":331},90.416666030883775]
[null,89,5.75,94.75,7,96,null,62.9,{"$f":"I33+(I35-I25)/10","v":26.266666030883776},{"$f":"IFERROR(ROUND((ROUNDDOWN(I34,0)*12)+IFERROR(VLOOKUP(ROUND(I34-(ROUNDDOWN(I34,0)),1),_Esperanzas!$R$5:$S$18,2,TRUE),0),0),12)","v":315},89.166666030883775,{"$f":"L33+(L35-L25)/10","v":29.599999999999987},{"$f":"IFERROR(ROUND((ROUNDDOWN(L34,0)*12)+IFERROR(VLOOKUP(ROUND(L34-(ROUNDDOWN(L34,0)),1),_Esperanzas!$R$5:$S$18,2,TRUE),0),0),12)","v":355},92.499999999999986,null,null,null,null,null,null,null,null,89,4.5,93.5,5.5833334922790527,94.583333492279053,null,62.9,{"$f":"AD33+(AD35-AD25)/10","v":24.183333969116198},{"$f":"IFERROR(ROUND((ROUNDDOWN(AD34,0)*12)+IFERROR(VLOOKUP(ROUND(AD34-(ROUNDDOWN(AD34,0)),1),_Esperanzas!$R$5:$S$18,2,TRUE),0),0),12)","v":290},87.083333969116197,{"$f":"AG33+(AG35-AG25)/10","v":27.516666030883776},{"$f":"IFERROR(ROUND((ROUNDDOWN(AG34,0)*12)+IFERROR(VLOOKUP(ROUND(AG34-(ROUNDDOWN(AG34,0)),1),_Esperanzas!$R$5:$S$18,2,TRUE),0),0),12)","v":330},90.416666030883775]
[null,90,5.3333334922790527,95.333333492279053,6.4166665077209473,96.416666507720947,null,63,{"$f":"VLOOKUP($H35,$B$5:$F$55,2,0)","v":26.166666030883789},{"$f":"IFERROR(ROUND((ROUNDDOWN(I35,0)*12)+IFERROR(VLOOKUP(ROUND(I35-(ROUNDDOWN(I35,0)),1),_Esperanzas!$R$5:$S$18,2,TRUE),0),0),12)","v":314},89.166666030883789,{"$f":"VLOOKUP($H35,$B$5:$F$55,4,0)","v":29.5},{"$f":"IFERROR(ROUND((ROUNDDOWN(L35,0)*12)+IFERROR(VLOOKUP(ROUND(L35-(ROUNDDOWN(L35,0)),1),_Esperanzas!$R$5:$S$18,2,TRUE),0),0),12)","v":354},92.5,null,null,null,null,null,null,null,null,90,4.1666665077209473,94.166666507720947,5.1666665077209473,95.166666507720947,null,63,{"$f":"VLOOKUP($AC35,$W$5:$AA$55,2,0)","v":24.083333969116211},{"$f":"IFERROR(ROUND((ROUNDDOWN(AD35,0)*12)+IFERROR(VLOOKUP(ROUND(AD35-(ROUNDDOWN(AD35,0)),1),_Esperanzas!$R$5:$S$18,2,TRUE),0),0),12)","v":289},87.083333969116211,{"$f":"VLOOKUP($AC35,$W$5:$AA$55,4,0)","v":27.416666030883789},{"$f":"IFERROR(ROUND((ROUNDDOWN(AG35,0)*12)+IFERROR(VLOOKUP(ROUND(AG35-(ROUNDDOWN(AG35,0)),1),_Esperanzas!$R$5:$S$18,2,TRUE),0),0),12)","v":328},90.416666030883789]
[null,{"$f":"B35+1","v":91},5,96,6,{"$f":"E36+B36","v":97},null,63.1,{"$f":"I35+(I45-I35)/10","v":26.066666030883788},{"$f":"IFERROR(ROUND((ROUNDDOWN(I36,0)*12)+IFERROR(VLOOKUP(ROUND(I36-(ROUNDDOWN(I36,0)),1),_Esperanzas!$R$5:$S$18,2,TRUE),0),0),12)","v":313},89.166666030883789,{"$f":"L35+(L45-L35)/10","v":29.4},{"$f":"IFERROR(ROUND((ROUNDDOWN(L36,0)*12)+IFERROR(VLOOKUP(ROUND(L36-(ROUNDDOWN(L36,0)),1),_Esperanzas!$R$5:$S$18,2,TRUE),0),0),12)","v":352},92.5,null,null,null,null,null,null,null,null,{"$f":"W35+1","v":91},3.9166667461395264,94.916666746139526,4.75,95.75,null,63.1,{"$f":"AD35+(AD45-AD35)/10","v":23.98333396911621},{"$f":"IFERROR(ROUND((ROUNDDOWN(AD36,0)*12)+IFERROR(VLOOKUP(ROUND(AD36-(ROUNDDOWN(AD36,0)),1),_Esperanzas!$R$5:$S$18,2,TRUE),0),0),12)","v":288},87.083333969116211,{"$f":"AG35+(AG45-AG35)/10","v":27.316666030883788},{"$f":"IFERROR(ROUND((ROUNDDOWN(AG36,0)*12)+IFERROR(VLOOKUP(ROUND(AG36-(ROUNDDOWN(AG36,0)),1),_Esperanzas!$R$5:$S$18,2,TRUE),0),0),12)","v":327},90.416666030883789]
[null,{"$f":"B36+1","v":92},4.5833334922790527,96.583333492279053,5.5,{"$f":"E37+B37","v":97.5},null,63.2,{"$f":"I36+(I45-I35)/10","v":25.966666030883786},{"$f":"IFERROR(ROUND((ROUNDDOWN(I37,0)*12)+IFERROR(VLOOKUP(ROUND(I37-(ROUNDDOWN(I37,0)),1),_Esperanzas!$R$5:$S$18,2,TRUE),0),0),12)","v":312},89.166666030883789,{"$f":"L36+(L45-L35)/10","v":29.299999999999997},{"$f":"IFERROR(ROUND((ROUNDDOWN(L37,0)*12)+IFERROR(VLOOKUP(ROUND(L37-(ROUNDDOWN(L37,0)),1),_Esperanzas!$R$5:$S$18,2,TRUE),0),0),12)","v":351},92.5,null,null,null,null,null,null,null,null,{"$f":"W36+1","v":92},3.5833332538604736,95.583333253860474,4.3333334922790527,96.333333492279053,null,63.2,{"$f":"AD36+(AD45-AD35)/10","v":23.883333969116208},{"$f":"IFERROR(ROUND((ROUNDDOWN(AD37,0)*12)+IFERROR(VLOOKUP(ROUND(AD37-(ROUNDDOWN(AD37,0)),1),_Esperanzas!$R$5:$S$18,2,TRUE),0),0),12)","v":286},87.083333969116211,{"$f":"AG36+(AG45-AG35)/10","v":27.216666030883786},{"$f":"IFERROR(ROUND((ROUNDDOWN(AG37,0)*12)+IFERROR(VLOOKUP(ROUND(AG37-(ROUNDDOWN(AG37,0)),1),_Esperanzas!$R$5:$S$18,2,TRUE),0),0),12)","v":326},90.416666030883789]
[null,93,4.25,97.25,5.0833334922790527,98.083333492279053,null,63.3,{"$f":"I37+(I45-I35)/10","v":25.866666030883785},{"$f":"IFERROR(ROUND((ROUNDDOWN(I38,0)*12)+IFERROR(VLOOKUP(ROUND(I38-(ROUNDDOWN(I38,0)),1),_Esperanzas!$R$5:$S$18,2,TRUE),0),0),12)","v":310},89.166666030883789,{"$f":"L37+(L45-L35)/10","v":29.199999999999996},{"$f":"IFERROR(ROUND((ROUNDDOWN(L38,0)*12)+IFERROR(VLOOKUP(ROUND(L38-(ROUNDDOWN(L38,0)),1),_Esperanzas!$R$5:$S$18,2,TRUE),0),0),12)","v":350},92.5,null,null,null,null,null,null,null,null,93,3.3333332538604736,96.333333253860474,4,97,null,63.3,{"$f":"AD37+(AD45-AD35)/10","v":23.783333969116207},{"$f":"IFERROR(ROUND((ROUNDDOWN(AD38,0)*12)+IFERROR(VLOOKUP(ROUND(AD38-(ROUNDDOWN(AD38,0)),1),_Esperanzas!$R$5:$S$18,2,TRUE),0),0),12)","v":285},87.083333969116211,{"$f":"AG37+(AG45-AG35)/10","v":27.116666030883785},{"$f":"IFERROR(ROUND((ROUNDDOWN(AG38,0)*12)+IFERROR(VLOOKUP(ROUND(AG38-(ROUNDDOWN(AG38,0)),1),_Esperanzas!$R$5:$S$18,2,TRUE),0),0),12)","v":325},90.416666030883789]
[null,94,3.9166667461395264,97.916666746139526,4.6666665077209473,98.666666507720947,null,63.4,{"$f":"I38+(I45-I35)/10","v":25.766666030883783},{"$f":"IFERROR(ROUND((ROUNDDOWN(I39,0)*12)+IFERROR(VLOOKUP(ROUND(I39-(ROUNDDOWN(I39,0)),1),_Esperanzas!$R$5:$S$18,2,TRUE),0),0),12)","v":309},89.166666030883789,{"$f":"L38+(L45-L35)/10","v":29.099999999999994},{"$f":"IFERROR(ROUND((ROUNDDOWN(L39,0)*12)+IFERROR(VLOOKUP(ROUND(L39-(ROUNDDOWN(L39,0)),1),_Esperanzas!$R$5:$S$18,2,TRUE),0),0),12)","v":349},92.5,null,null,null,null,null,null,null,null,94,3.0833332538604736,97.083333253860474,3.6666667461395264,97.666666746139526,null,63.4,{"$f":"AD38+(AD45-AD35)/10","v":23.683333969116205},{"$f":"IFERROR(ROUND((ROUNDDOWN(AD39,0)*12)+IFERROR(VLOOKUP(ROUND(AD39-(ROUNDDOWN(AD39,0)),1),_Esperanzas!$R$5:$S$18,2,TRUE),0),0),12)","v":284},87.083333969116211,{"$f":"AG38+(AG45-AG35)/10","v":27.016666030883783},{"$f":"IFERROR(ROUND((ROUNDDOWN(AG39,0)*12)+IFERROR(VLOOKUP(ROUND(AG39-(ROUNDDOWN(AG39,0)),1),_Esperanzas!$R$5:$S$18,2,TRUE),0),0),12)","v":324},90.416666030883789]
[null,95,3.6666667461395264,98.666666746139526,4.3333334922790527,99.333333492279053,null,63.5,{"$f":"I39+(I45-I35)/10","v":25.666666030883782},{"$f":"IFERROR(ROUND((ROUNDDOWN(I40,0)*12)+IFERROR(VLOOKUP(ROUND(I40-(ROUNDDOWN(I40,0)),1),_Esperanzas!$R$5:$S$18,2,TRUE),0),0),12)","v":308},89.166666030883789,{"$f":"L39+(L45-L35)/10","v":28.999999999999993},{"$f":"IFERROR(ROUND((ROUNDDOWN(L40,0)*12)+IFERROR(VLOOKUP(ROUND(L40-(ROUNDDOWN(L40,0)),1),_Esperanzas!$R$5:$S$18,2,TRUE),0),0),12)","v":348},92.5,null,null,null,null,null,null,null,null,95,2.8333332538604736,97.833333253860474,3.3333332538604736,98.333333253860474,null,63.5,{"$f":"AD39+(AD45-AD35)/10","v":23.583333969116204},{"$f":"IFERROR(ROUND((ROUNDDOWN(AD40,0)*12)+IFERROR(VLOOKUP(ROUND(AD40-(ROUNDDOWN(AD40,0)),1),_Esperanzas!$R$5:$S$18,2,TRUE),0),0),12)","v":283},87.083333969116211,{"$f":"AG39+(AG45-AG35)/10","v":26.916666030883782},{"$f":"IFERROR(ROUND((ROUNDDOWN(AG40,0)*12)+IFERROR(VLOOKUP(ROUND(AG40-(ROUNDDOWN(AG40,0)),1),_Esperanzas!$R$5:$S$18,2,TRUE),0),0),12)","v":322},90.416666030883789]
[null,96,3.4166667461395264,99.416666746139526,4,100,null,63.6,{"$f":"I40+(I45-I35)/10","v":25.566666030883781},{"$f":"IFERROR(ROUND((ROUNDDOWN(I41,0)*12)+IFERROR(VLOOKUP(ROUND(I41-(ROUNDDOWN(I41,0)),1),_Esperanzas!$R$5:$S$18,2,TRUE),0),0),12)","v":307},89.166666030883789,{"$f":"L40+(L45-L35)/10","v":28.899999999999991},{"$f":"IFERROR(ROUND((ROUNDDOWN(L41,0)*12)+IFERROR(VLOOKUP(ROUND(L41-(ROUNDDOWN(L41,0)),1),_Esperanzas!$R$5:$S$18,2,TRUE),0),0),12)","v":346},92.5,null,null,null,null,null,null,null,null,96,2.5833332538604736,98.583333253860474,3.0833332538604736,99.083333253860474,null,63.6,{"$f":"AD40+(AD45-AD35)/10","v":23.483333969116202},{"$f":"IFERROR(ROUND((ROUNDDOWN(AD41,0)*12)+IFERROR(VLOOKUP(ROUND(AD41-(ROUNDDOWN(AD41,0)),1),_Esperanzas!$R$5:$S$18,2,TRUE),0),0),12)","v":282},87.083333969116211,{"$f":"AG40+(AG45-AG35)/10","v":26.816666030883781},{"$f":"IFERROR(ROUND((ROUNDDOWN(AG41,0)*12)+IFERROR(VLOOKUP(ROUND(AG41-(ROUNDDOWN(AG41,0)),1),_Esperanzas!$R$5:$S$18,2,TRUE),0),0),12)","v":321},90.416666030883789]
[null,97,3.1666667461395264,100.16666674613953,3.6666667461395264,100.66666674613953,null,63.7,{"$f":"I41+(I45-I35)/10","v":25.466666030883779},{"$f":"IFERROR(ROUND((ROUNDDOWN(I42,0)*12)+IFERROR(VLOOKUP(ROUND(I42-(ROUNDDOWN(I42,0)),1),_Esperanzas!$R$5:$S$18,2,TRUE),0),0),12)","v":306},89.166666030883789,{"$f":"L41+(L45-L35)/10","v":28.79999999999999},{"$f":"IFERROR(ROUND((ROUNDDOWN(L42,0)*12)+IFERROR(VLOOKUP(ROUND(L42-(ROUNDDOWN(L42,0)),1),_Esperanzas!$R$5:$S$18,2,TRUE),0),0),12)","v":345},92.5,null,null,null,null,null,null,null,null,97,2.4166667461395264,99.416666746139526,2.8333332538604736,99.833333253860474,null,63.7,{"$f":"AD41+(AD45-AD35)/10","v":23.383333969116201},{"$f":"IFERROR(ROUND((ROUNDDOWN(AD42,0)*12)+IFERROR(VLOOKUP(ROUND(AD42-(ROUNDDOWN(AD42,0)),1),_Esperanzas!$R$5:$S$18,2,TRUE),0),0),12)","v":280},87.083333969116211,{"$f":"AG41+(AG45-AG35)/10","v":26.716666030883779},{"$f":"IFERROR(ROUND((ROUNDDOWN(AG42,0)*12)+IFERROR(VLOOKUP(ROUND(AG42-(ROUNDDOWN(AG42,0)),1),_Esperanzas!$R$5:$S$18,2,TRUE),0),0),12)","v":320},90.416666030883789]
[null,98,2.9166667461395264,100.91666674613953,3.4166667461395264,101.41666674613953,null,63.8,{"$f":"I42+(I45-I35)/10","v":25.366666030883778},{"$f":"IFERROR(ROUND((ROUNDDOWN(I43,0)*12)+IFERROR(VLOOKUP(ROUND(I43-(ROUNDDOWN(I43,0)),1),_Esperanzas!$R$5:$S$18,2,TRUE),0),0),12)","v":304},89.166666030883775,{"$f":"L42+(L45-L35)/10","v":28.699999999999989},{"$f":"IFERROR(ROUND((ROUNDDOWN(L43,0)*12)+IFERROR(VLOOKUP(ROUND(L43-(ROUNDDOWN(L43,0)),1),_Esperanzas!$R$5:$S$18,2,TRUE),0),0),12)","v":344},92.499999999999986,null,null,null,null,null,null,null,null,98,2.25,100.25,2.5833332538604736,100.58333325386047,null,63.8,{"$f":"AD42+(AD45-AD35)/10","v":23.2833339691162},{"$f":"IFERROR(ROUND((ROUNDDOWN(AD43,0)*12)+IFERROR(VLOOKUP(ROUND(AD43-(ROUNDDOWN(AD43,0)),1),_Esperanzas!$R$5:$S$18,2,TRUE),0),0),12)","v":279},87.083333969116197,{"$f":"AG42+(AG45-AG35)/10","v":26.616666030883778},{"$f":"IFERROR(ROUND((ROUNDDOWN(AG43,0)*12)+IFERROR(VLOOKUP(ROUND(AG43-(ROUNDDOWN(AG43,0)),1),_Esperanzas!$R$5:$S$18,2,TRUE),0),0),12)","v":319},90.416666030883775]
[null,99,2.6666667461395264,101.66666674613953,3.1666667461395264,102.16666674613953,null,63.9,{"$f":"I43+(I45-I35)/10","v":25.266666030883776},{"$f":"IFERROR(ROUND((ROUNDDOWN(I44,0)*12)+IFERROR(VLOOKUP(ROUND(I44-(ROUNDDOWN(I44,0)),1),_Esperanzas!$R$5:$S$18,2,TRUE),0),0),12)","v":303},89.166666030883775,{"$f":"L43+(L45-L35)/10","v":28.599999999999987},{"$f":"IFERROR(ROUND((ROUNDDOWN(L44,0)*12)+IFERROR(VLOOKUP(ROUND(L44-(ROUNDDOWN(L44,0)),1),_Esperanzas!$R$5:$S$18,2,TRUE),0),0),12)","v":343},92.499999999999986,null,null,null,null,null,null,null,null,99,2.0833332538604736,101.08333325386047,2.4166667461395264,101.41666674613953,null,63.9,{"$f":"AD43+(AD45-AD35)/10","v":23.183333969116198},{"$f":"IFERROR(ROUND((ROUNDDOWN(AD44,0)*12)+IFERROR(VLOOKUP(ROUND(AD44-(ROUNDDOWN(AD44,0)),1),_Esperanzas!$R$5:$S$18,2,TRUE),0),0),12)","v":278},87.083333969116197,{"$f":"AG43+(AG45-AG35)/10","v":26.516666030883776},{"$f":"IFERROR(ROUND((ROUNDDOWN(AG44,0)*12)+IFERROR(VLOOKUP(ROUND(AG44-(ROUNDDOWN(AG44,0)),1),_Esperanzas!$R$5:$S$18,2,TRUE),0),0),12)","v":318},90.416666030883775]
[null,100,2.5,102.5,2.9166667461395264,102.91666674613953,null,64,{"$f":"VLOOKUP($H45,$B$5:$F$55,2,0)","v":25.166666030883789},{"$f":"IFERROR(ROUND((ROUNDDOWN(I45,0)*12)+IFERROR(VLOOKUP(ROUND(I45-(ROUNDDOWN(I45,0)),1),_Esperanzas!$R$5:$S$18,2,TRUE),0),0),12)","v":302},89.166666030883789,{"$f":"VLOOKUP($H45,$B$5:$F$55,4,0)","v":28.5},{"$f":"IFERROR(ROUND((ROUNDDOWN(L45,0)*12)+IFERROR(VLOOKUP(ROUND(L45-(ROUNDDOWN(L45,0)),1),_Esperanzas!$R$5:$S$18,2,TRUE),0),0),12)","v":342},92.5,null,null,null,null,null,null,null,null,100,1.9166666269302368,101.91666662693024,2.1666667461395264,102.16666674613953,null,64,{"$f":"VLOOKUP($AC45,$W$5:$AA$55,2,0)","v":23.083333969116211},{"$f":"IFERROR(ROUND((ROUNDDOWN(AD45,0)*12)+IFERROR(VLOOKUP(ROUND(AD45-(ROUNDDOWN(AD45,0)),1),_Esperanzas!$R$5:$S$18,2,TRUE),0),0),12)","v":277},87.083333969116211,{"$f":"VLOOKUP($AC45,$W$5:$AA$55,4,0)","v":26.416666030883789},{"$f":"IFERROR(ROUND((ROUNDDOWN(AG45,0)*12)+IFERROR(VLOOKUP(ROUND(AG45-(ROUNDDOWN(AG45,0)),1),_Esperanzas!$R$5:$S$18,2,TRUE),0),0),12)","v":316},90.416666030883789]
[null,101,2.25,103.25,2.6666667461395264,103.66666674613953,null,64.099999999999994,{"$f":"I45+(I55-I45)/10","v":25.066666030883788},{"$f":"IFERROR(ROUND((ROUNDDOWN(I46,0)*12)+IFERROR(VLOOKUP(ROUND(I46-(ROUNDDOWN(I46,0)),1),_Esperanzas!$R$5:$S$18,2,TRUE),0),0),12)","v":301},89.166666030883789,{"$f":"L45+(L55-L45)/10","v":28.4},{"$f":"IFERROR(ROUND((ROUNDDOWN(L46,0)*12)+IFERROR(VLOOKUP(ROUND(L46-(ROUNDDOWN(L46,0)),1),_Esperanzas!$R$5:$S$18,2,TRUE),0),0),12)","v":340},92.5,null,null,null,null,null,null,null,null,101,1.75,102.75,2,103,null,64.099999999999994,{"$f":"AD45+(AD55-AD45)/10","v":22.98333396911621},{"$f":"IFERROR(ROUND((ROUNDDOWN(AD46,0)*12)+IFERROR(VLOOKUP(ROUND(AD46-(ROUNDDOWN(AD46,0)),1),_Esperanzas!$R$5:$S$18,2,TRUE),0),0),12)","v":276},87.083333969116211,{"$f":"AG45+(AG55-AG45)/10","v":26.316666030883788},{"$f":"IFERROR(ROUND((ROUNDDOWN(AG46,0)*12)+IFERROR(VLOOKUP(ROUND(AG46-(ROUNDDOWN(AG46,0)),1),_Esperanzas!$R$5:$S$18,2,TRUE),0),0),12)","v":315},90.416666030883789]
[null,102,2.0833332538604736,104.08333325386047,2.4166667461395264,104.41666674613953,null,64.2,{"$f":"I46+(I55-I45)/10","v":24.966666030883786},{"$f":"IFERROR(ROUND((ROUNDDOWN(I47,0)*12)+IFERROR(VLOOKUP(ROUND(I47-(ROUNDDOWN(I47,0)),1),_Esperanzas!$R$5:$S$18,2,TRUE),0),0),12)","v":300},89.166666030883789,{"$f":"L46+(L55-L45)/10","v":28.299999999999997},{"$f":"IFERROR(ROUND((ROUNDDOWN(L47,0)*12)+IFERROR(VLOOKUP(ROUND(L47-(ROUNDDOWN(L47,0)),1),_Esperanzas!$R$5:$S$18,2,TRUE),0),0),12)","v":339},92.5,null,null,null,null,null,null,null,null,102,1.5833333730697632,103.58333337306976,1.8333333730697632,103.83333337306976,null,64.2,{"$f":"AD46+(AD55-AD45)/10","v":22.883333969116208},{"$f":"IFERROR(ROUND((ROUNDDOWN(AD47,0)*12)+IFERROR(VLOOKUP(ROUND(AD47-(ROUNDDOWN(AD47,0)),1),_Esperanzas!$R$5:$S$18,2,TRUE),0),0),12)","v":274},87.083333969116211,{"$f":"AG46+(AG55-AG45)/10","v":26.216666030883786},{"$f":"IFERROR(ROUND((ROUNDDOWN(AG47,0)*12)+IFERROR(VLOOKUP(ROUND(AG47-(ROUNDDOWN(AG47,0)),1),_Esperanzas!$R$5:$S$18,2,TRUE),0),0),12)","v":314},90.416666030883789]
[null,103,1.9166666269302368,104.91666662693024,2.25,105.25,null,64.3,{"$f":"I47+(I55-I45)/10","v":24.866666030883785},{"$f":"IFERROR(ROUND((ROUNDDOWN(I48,0)*12)+IFERROR(VLOOKUP(ROUND(I48-(ROUNDDOWN(I48,0)),1),_Esperanzas!$R$5:$S$18,2,TRUE),0),0),12)","v":298},89.166666030883789,{"$f":"L47+(L55-L45)/10","v":28.199999999999996},{"$f":"IFERROR(ROUND((ROUNDDOWN(L48,0)*12)+IFERROR(VLOOKUP(ROUND(L48-(ROUNDDOWN(L48,0)),1),_Esperanzas!$R$5:$S$18,2,TRUE),0),0),12)","v":338},92.5,null,null,null,null,null,null,null,null,103,1.5,104.5,1.6666666269302368,104.66666662693024,null,64.3,{"$f":"AD47+(AD55-AD45)/10","v":22.783333969116207},{"$f":"IFERROR(ROUND((ROUNDDOWN(AD48,0)*12)+IFERROR(VLOOKUP(ROUND(AD48-(ROUNDDOWN(AD48,0)),1),_Esperanzas!$R$5:$S$18,2,TRUE),0),0),12)","v":273},87.083333969116211,{"$f":"AG47+(AG55-AG45)/10","v":26.116666030883785},{"$f":"IFERROR(ROUND((ROUNDDOWN(AG48,0)*12)+IFERROR(VLOOKUP(ROUND(AG48-(ROUNDDOWN(AG48,0)),1),_Esperanzas!$R$5:$S$18,2,TRUE),0),0),12)","v":313},90.416666030883789]
[null,104,1.75,105.75,2.0833332538604736,106.08333325386047,null,64.400000000000006,{"$f":"I48+(I55-I45)/10","v":24.766666030883783},{"$f":"IFERROR(ROUND((ROUNDDOWN(I49,0)*12)+IFERROR(VLOOKUP(ROUND(I49-(ROUNDDOWN(I49,0)),1),_Esperanzas!$R$5:$S$18,2,TRUE),0),0),12)","v":297},89.166666030883789,{"$f":"L48+(L55-L45)/10","v":28.099999999999994},{"$f":"IFERROR(ROUND((ROUNDDOWN(L49,0)*12)+IFERROR(VLOOKUP(ROUND(L49-(ROUNDDOWN(L49,0)),1),_Esperanzas!$R$5:$S$18,2,TRUE),0),0),12)","v":337},92.5,null,null,null,null,null,null,null,null,104,1.3333333730697632,105.33333337306976,1.5833333730697632,105.58333337306976,null,64.400000000000006,{"$f":"AD48+(AD55-AD45)/10","v":22.683333969116205},{"$f":"IFERROR(ROUND((ROUNDDOWN(AD49,0)*12)+IFERROR(VLOOKUP(ROUND(AD49-(ROUNDDOWN(AD49,0)),1),_Esperanzas!$R$5:$S$18,2,TRUE),0),0),12)","v":272},87.083333969116211,{"$f":"AG48+(AG55-AG45)/10","v":26.016666030883783},{"$f":"IFERROR(ROUND((ROUNDDOWN(AG49,0)*12)+IFERROR(VLOOKUP(ROUND(AG49-(ROUNDDOWN(AG49,0)),1),_Esperanzas!$R$5:$S$18,2,TRUE),0),0),12)","v":312},90.416666030883789]
[null,105,1.5833333730697632,106.58333337306976,1.9166666269302368,106.91666662693024,null,64.5,{"$f":"I49+(I55-I45)/10","v":24.666666030883782},{"$f":"IFERROR(ROUND((ROUNDDOWN(I50,0)*12)+IFERROR(VLOOKUP(ROUND(I50-(ROUNDDOWN(I50,0)),1),_Esperanzas!$R$5:$S$18,2,TRUE),0),0),12)","v":296},89.166666030883789,{"$f":"L49+(L55-L45)/10","v":27.999999999999993},{"$f":"IFERROR(ROUND((ROUNDDOWN(L50,0)*12)+IFERROR(VLOOKUP(ROUND(L50-(ROUNDDOWN(L50,0)),1),_Esperanzas!$R$5:$S$18,2,TRUE),0),0),12)","v":336},92.5,null,null,null,null,null,null,null,null,105,1.25,106.25,1.4166666269302368,106.41666662693024,null,64.5,{"$f":"AD49+(AD55-AD45)/10","v":22.583333969116204},{"$f":"IFERROR(ROUND((ROUNDDOWN(AD50,0)*12)+IFERROR(VLOOKUP(ROUND(AD50-(ROUNDDOWN(AD50,0)),1),_Esperanzas!$R$5:$S$18,2,TRUE),0),0),12)","v":271},87.083333969116211,{"$f":"AG49+(AG55-AG45)/10","v":25.916666030883782},{"$f":"IFERROR(ROUND((ROUNDDOWN(AG50,0)*12)+IFERROR(VLOOKUP(ROUND(AG50-(ROUNDDOWN(AG50,0)),1),_Esperanzas!$R$5:$S$18,2,TRUE),0),0),12)","v":310},90.416666030883789]
[null,106,1.4166666269302368,107.41666662693024,1.6666666269302368,107.66666662693024,null,64.599999999999994,{"$f":"I50+(I55-I45)/10","v":24.566666030883781},{"$f":"IFERROR(ROUND((ROUNDDOWN(I51,0)*12)+IFERROR(VLOOKUP(ROUND(I51-(ROUNDDOWN(I51,0)),1),_Esperanzas!$R$5:$S$18,2,TRUE),0),0),12)","v":295},89.166666030883775,{"$f":"L50+(L55-L45)/10","v":27.899999999999991},{"$f":"IFERROR(ROUND((ROUNDDOWN(L51,0)*12)+IFERROR(VLOOKUP(ROUND(L51-(ROUNDDOWN(L51,0)),1),_Esperanzas!$R$5:$S$18,2,TRUE),0),0),12)","v":334},92.499999999999986,null,null,null,null,null,null,null,null,106,1.0833333730697632,107.08333337306976,1.3333333730697632,107.33333337306976,null,64.599999999999994,{"$f":"AD50+(AD55-AD45)/10","v":22.483333969116202},{"$f":"IFERROR(ROUND((ROUNDDOWN(AD51,0)*12)+IFERROR(VLOOKUP(ROUND(AD51-(ROUNDDOWN(AD51,0)),1),_Esperanzas!$R$5:$S$18,2,TRUE),0),0),12)","v":270},87.083333969116197,{"$f":"AG50+(AG55-AG45)/10","v":25.816666030883781},{"$f":"IFERROR(ROUND((ROUNDDOWN(AG51,0)*12)+IFERROR(VLOOKUP(ROUND(AG51-(ROUNDDOWN(AG51,0)),1),_Esperanzas!$R$5:$S$18,2,TRUE),0),0),12)","v":309},90.416666030883775]
[null,107,1.3333333730697632,108.33333337306976,1.5,108.5,null,64.7,{"$f":"I51+(I55-I45)/10","v":24.466666030883779},{"$f":"IFERROR(ROUND((ROUNDDOWN(I52,0)*12)+IFERROR(VLOOKUP(ROUND(I52-(ROUNDDOWN(I52,0)),1),_Esperanzas!$R$5:$S$18,2,TRUE),0),0),12)","v":294},89.166666030883789,{"$f":"L51+(L55-L45)/10","v":27.79999999999999},{"$f":"IFERROR(ROUND((ROUNDDOWN(L52,0)*12)+IFERROR(VLOOKUP(ROUND(L52-(ROUNDDOWN(L52,0)),1),_Esperanzas!$R$5:$S$18,2,TRUE),0),0),12)","v":333},92.5,null,null,null,null,null,null,null,null,107,1,108,1.1666666269302368,108.16666662693024,null,64.7,{"$f":"AD51+(AD55-AD45)/10","v":22.383333969116201},{"$f":"IFERROR(ROUND((ROUNDDOWN(AD52,0)*12)+IFERROR(VLOOKUP(ROUND(AD52-(ROUNDDOWN(AD52,0)),1),_Esperanzas!$R$5:$S$18,2,TRUE),0),0),12)","v":268},87.083333969116211,{"$f":"AG51+(AG55-AG45)/10","v":25.716666030883779},{"$f":"IFERROR(ROUND((ROUNDDOWN(AG52,0)*12)+IFERROR(VLOOKUP(ROUND(AG52-(ROUNDDOWN(AG52,0)),1),_Esperanzas!$R$5:$S$18,2,TRUE),0),0),12)","v":308},90.416666030883789]
[null,108,1.1666666269302368,109.16666662693024,1.4166666269302368,109.41666662693024,null,64.8,{"$f":"I52+(I55-I45)/10","v":24.366666030883778},{"$f":"IFERROR(ROUND((ROUNDDOWN(I53,0)*12)+IFERROR(VLOOKUP(ROUND(I53-(ROUNDDOWN(I53,0)),1),_Esperanzas!$R$5:$S$18,2,TRUE),0),0),12)","v":292},89.166666030883775,{"$f":"L52+(L55-L45)/10","v":27.699999999999989},{"$f":"IFERROR(ROUND((ROUNDDOWN(L53,0)*12)+IFERROR(VLOOKUP(ROUND(L53-(ROUNDDOWN(L53,0)),1),_Esperanzas!$R$5:$S$18,2,TRUE),0),0),12)","v":332},92.499999999999986,null,null,null,null,null,null,null,null,108,0.91666668653488159,108.91666668653488,1.0833333730697632,109.08333337306976,null,64.8,{"$f":"AD52+(AD55-AD45)/10","v":22.2833339691162},{"$f":"IFERROR(ROUND((ROUNDDOWN(AD53,0)*12)+IFERROR(VLOOKUP(ROUND(AD53-(ROUNDDOWN(AD53,0)),1),_Esperanzas!$R$5:$S$18,2,TRUE),0),0),12)","v":267},87.083333969116197,{"$f":"AG52+(AG55-AG45)/10","v":25.616666030883778},{"$f":"IFERROR(ROUND((ROUNDDOWN(AG53,0)*12)+IFERROR(VLOOKUP(ROUND(AG53-(ROUNDDOWN(AG53,0)),1),_Esperanzas!$R$5:$S$18,2,TRUE),0),0),12)","v":307},90.416666030883775]
[null,109,1.0833333730697632,110.08333337306976,1.25,110.25,null,64.900000000000006,{"$f":"I53+(I55-I45)/10","v":24.266666030883776},{"$f":"IFERROR(ROUND((ROUNDDOWN(I54,0)*12)+IFERROR(VLOOKUP(ROUND(I54-(ROUNDDOWN(I54,0)),1),_Esperanzas!$R$5:$S$18,2,TRUE),0),0),12)","v":291},89.166666030883789,{"$f":"L53+(L55-L45)/10","v":27.599999999999987},{"$f":"IFERROR(ROUND((ROUNDDOWN(L54,0)*12)+IFERROR(VLOOKUP(ROUND(L54-(ROUNDDOWN(L54,0)),1),_Esperanzas!$R$5:$S$18,2,TRUE),0),0),12)","v":331},92.5,null,null,null,null,null,null,null,null,109,0.83333331346511841,109.83333331346512,0.91666668653488159,109.91666668653488,null,64.900000000000006,{"$f":"AD53+(AD55-AD45)/10","v":22.183333969116198},{"$f":"IFERROR(ROUND((ROUNDDOWN(AD54,0)*12)+IFERROR(VLOOKUP(ROUND(AD54-(ROUNDDOWN(AD54,0)),1),_Esperanzas!$R$5:$S$18,2,TRUE),0),0),12)","v":266},87.083333969116211,{"$f":"AG53+(AG55-AG45)/10","v":25.516666030883776},{"$f":"IFERROR(ROUND((ROUNDDOWN(AG54,0)*12)+IFERROR(VLOOKUP(ROUND(AG54-(ROUNDDOWN(AG54,0)),1),_Esperanzas!$R$5:$S$18,2,TRUE),0),0),12)","v":306},90.416666030883789]
[null,110,1,111,1.1666666269302368,111.16666662693024,null,65,{"$f":"VLOOKUP($H55,$B$5:$F$55,2,0)","v":24.166666030883789},{"$f":"IFERROR(ROUND((ROUNDDOWN(I55,0)*12)+IFERROR(VLOOKUP(ROUND(I55-(ROUNDDOWN(I55,0)),1),_Esperanzas!$R$5:$S$18,2,TRUE),0),0),12)","v":290},89.166666030883789,{"$f":"VLOOKUP($H55,$B$5:$F$55,4,0)","v":27.5},{"$f":"IFERROR(ROUND((ROUNDDOWN(L55,0)*12)+IFERROR(VLOOKUP(ROUND(L55-(ROUNDDOWN(L55,0)),1),_Esperanzas!$R$5:$S$18,2,TRUE),0),0),12)","v":330},92.5,null,null,null,null,null,null,null,null,110,0.75,110.75,0.83333331346511841,110.83333331346512,null,65,{"$f":"VLOOKUP($AC55,$W$5:$AA$55,2,0)","v":22.083333969116211},{"$f":"IFERROR(ROUND((ROUNDDOWN(AD55,0)*12)+IFERROR(VLOOKUP(ROUND(AD55-(ROUNDDOWN(AD55,0)),1),_Esperanzas!$R$5:$S$18,2,TRUE),0),0),12)","v":265},87.083333969116211,{"$f":"VLOOKUP($AC55,$W$5:$AA$55,4,0)","v":25.416666030883789},{"$f":"IFERROR(ROUND((ROUNDDOWN(AG55,0)*12)+IFERROR(VLOOKUP(ROUND(AG55-(ROUNDDOWN(AG55,0)),1),_Esperanzas!$R$5:$S$18,2,TRUE),0),0),12)","v":304},90.416666030883789]
[null,null,null,null,null,null,null,65.099999999999994,{"$f":"I55+(I65-I55)/10","v":24.066666030883788},{"$f":"IFERROR(ROUND((ROUNDDOWN(I56,0)*12)+IFERROR(VLOOKUP(ROUND(I56-(ROUNDDOWN(I56,0)),1),_Esperanzas!$R$5:$S$18,2,TRUE),0),0),12)","v":289},89.166666030883789,{"$f":"L55+(L65-L55)/10","v":27.4},{"$f":"IFERROR(ROUND((ROUNDDOWN(L56,0)*12)+IFERROR(VLOOKUP(ROUND(L56-(ROUNDDOWN(L56,0)),1),_Esperanzas!$R$5:$S$18,2,TRUE),0),0),12)","v":328},92.5,null,null,null,null,null,null,null,null,null,null,null,null,null,null,65.099999999999994,{"$f":"AD55+(AD65-AD55)/10","v":21.98333396911621},{"$f":"IFERROR(ROUND((ROUNDDOWN(AD56,0)*12)+IFERROR(VLOOKUP(ROUND(AD56-(ROUNDDOWN(AD56,0)),1),_Esperanzas!$R$5:$S$18,2,TRUE),0),0),12)","v":264},87.083333969116211,{"$f":"AG55+(AG65-AG55)/10","v":25.316666030883788},{"$f":"IFERROR(ROUND((ROUNDDOWN(AG56,0)*12)+IFERROR(VLOOKUP(ROUND(AG56-(ROUNDDOWN(AG56,0)),1),_Esperanzas!$R$5:$S$18,2,TRUE),0),0),12)","v":303},90.416666030883789]
[null,null,null,null,null,null,null,65.2,{"$f":"I56+(I65-I55)/10","v":23.966666030883786},{"$f":"IFERROR(ROUND((ROUNDDOWN(I57,0)*12)+IFERROR(VLOOKUP(ROUND(I57-(ROUNDDOWN(I57,0)),1),_Esperanzas!$R$5:$S$18,2,TRUE),0),0),12)","v":288},89.166666030883789,{"$f":"L56+(L65-L55)/10","v":27.299999999999997},{"$f":"IFERROR(ROUND((ROUNDDOWN(L57,0)*12)+IFERROR(VLOOKUP(ROUND(L57-(ROUNDDOWN(L57,0)),1),_Esperanzas!$R$5:$S$18,2,TRUE),0),0),12)","v":327},92.5,null,null,null,null,null,null,null,null,null,null,null,null,null,null,65.2,{"$f":"AD56+(AD65-AD55)/10","v":21.883333969116208},{"$f":"IFERROR(ROUND((ROUNDDOWN(AD57,0)*12)+IFERROR(VLOOKUP(ROUND(AD57-(ROUNDDOWN(AD57,0)),1),_Esperanzas!$R$5:$S$18,2,TRUE),0),0),12)","v":262},87.083333969116211,{"$f":"AG56+(AG65-AG55)/10","v":25.216666030883786},{"$f":"IFERROR(ROUND((ROUNDDOWN(AG57,0)*12)+IFERROR(VLOOKUP(ROUND(AG57-(ROUNDDOWN(AG57,0)),1),_Esperanzas!$R$5:$S$18,2,TRUE),0),0),12)","v":302},90.416666030883789]
[null,null,null,null,null,null,null,65.3,{"$f":"I57+(I65-I55)/10","v":23.866666030883785},{"$f":"IFERROR(ROUND((ROUNDDOWN(I58,0)*12)+IFERROR(VLOOKUP(ROUND(I58-(ROUNDDOWN(I58,0)),1),_Esperanzas!$R$5:$S$18,2,TRUE),0),0),12)","v":286},89.166666030883789,{"$f":"L57+(L65-L55)/10","v":27.199999999999996},{"$f":"IFERROR(ROUND((ROUNDDOWN(L58,0)*12)+IFERROR(VLOOKUP(ROUND(L58-(ROUNDDOWN(L58,0)),1),_Esperanzas!$R$5:$S$18,2,TRUE),0),0),12)","v":326},92.5,null,null,null,null,null,null,null,null,null,null,null,null,null,null,65.3,{"$f":"AD57+(AD65-AD55)/10","v":21.783333969116207},{"$f":"IFERROR(ROUND((ROUNDDOWN(AD58,0)*12)+IFERROR(VLOOKUP(ROUND(AD58-(ROUNDDOWN(AD58,0)),1),_Esperanzas!$R$5:$S$18,2,TRUE),0),0),12)","v":261},87.083333969116211,{"$f":"AG57+(AG65-AG55)/10","v":25.116666030883785},{"$f":"IFERROR(ROUND((ROUNDDOWN(AG58,0)*12)+IFERROR(VLOOKUP(ROUND(AG58-(ROUNDDOWN(AG58,0)),1),_Esperanzas!$R$5:$S$18,2,TRUE),0),0),12)","v":301},90.416666030883789]
[null,null,null,null,null,null,null,65.400000000000006,{"$f":"I58+(I65-I55)/10","v":23.766666030883783},{"$f":"IFERROR(ROUND((ROUNDDOWN(I59,0)*12)+IFERROR(VLOOKUP(ROUND(I59-(ROUNDDOWN(I59,0)),1),_Esperanzas!$R$5:$S$18,2,TRUE),0),0),12)","v":285},89.166666030883789,{"$f":"L58+(L65-L55)/10","v":27.099999999999994},{"$f":"IFERROR(ROUND((ROUNDDOWN(L59,0)*12)+IFERROR(VLOOKUP(ROUND(L59-(ROUNDDOWN(L59,0)),1),_Esperanzas!$R$5:$S$18,2,TRUE),0),0),12)","v":325},92.5,null,null,null,null,null,null,null,null,null,null,null,null,null,null,65.400000000000006,{"$f":"AD58+(AD65-AD55)/10","v":21.683333969116205},{"$f":"IFERROR(ROUND((ROUNDDOWN(AD59,0)*12)+IFERROR(VLOOKUP(ROUND(AD59-(ROUNDDOWN(AD59,0)),1),_Esperanzas!$R$5:$S$18,2,TRUE),0),0),12)","v":260},87.083333969116211,{"$f":"AG58+(AG65-AG55)/10","v":25.016666030883783},{"$f":"IFERROR(ROUND((ROUNDDOWN(AG59,0)*12)+IFERROR(VLOOKUP(ROUND(AG59-(ROUNDDOWN(AG59,0)),1),_Esperanzas!$R$5:$S$18,2,TRUE),0),0),12)","v":300},90.416666030883789]
[null,null,null,null,null,null,null,65.5,{"$f":"I59+(I65-I55)/10","v":23.666666030883782},{"$f":"IFERROR(ROUND((ROUNDDOWN(I60,0)*12)+IFERROR(VLOOKUP(ROUND(I60-(ROUNDDOWN(I60,0)),1),_Esperanzas!$R$5:$S$18,2,TRUE),0),0),12)","v":284},89.166666030883789,{"$f":"L59+(L65-L55)/10","v":26.999999999999993},{"$f":"IFERROR(ROUND((ROUNDDOWN(L60,0)*12)+IFERROR(VLOOKUP(ROUND(L60-(ROUNDDOWN(L60,0)),1),_Esperanzas!$R$5:$S$18,2,TRUE),0),0),12)","v":324},92.5,null,null,null,null,null,null,null,null,null,null,null,null,null,null,65.5,{"$f":"AD59+(AD65-AD55)/10","v":21.583333969116204},{"$f":"IFERROR(ROUND((ROUNDDOWN(AD60,0)*12)+IFERROR(VLOOKUP(ROUND(AD60-(ROUNDDOWN(AD60,0)),1),_Esperanzas!$R$5:$S$18,2,TRUE),0),0),12)","v":259},87.083333969116211,{"$f":"AG59+(AG65-AG55)/10","v":24.916666030883782},{"$f":"IFERROR(ROUND((ROUNDDOWN(AG60,0)*12)+IFERROR(VLOOKUP(ROUND(AG60-(ROUNDDOWN(AG60,0)),1),_Esperanzas!$R$5:$S$18,2,TRUE),0),0),12)","v":298},90.416666030883789]
[null,null,null,null,null,null,null,65.599999999999994,{"$f":"I60+(I65-I55)/10","v":23.566666030883781},{"$f":"IFERROR(ROUND((ROUNDDOWN(I61,0)*12)+IFERROR(VLOOKUP(ROUND(I61-(ROUNDDOWN(I61,0)),1),_Esperanzas!$R$5:$S$18,2,TRUE),0),0),12)","v":283},89.166666030883775,{"$f":"L60+(L65-L55)/10","v":26.899999999999991},{"$f":"IFERROR(ROUND((ROUNDDOWN(L61,0)*12)+IFERROR(VLOOKUP(ROUND(L61-(ROUNDDOWN(L61,0)),1),_Esperanzas!$R$5:$S$18,2,TRUE),0),0),12)","v":322},92.499999999999986,null,null,null,null,null,null,null,null,null,null,null,null,null,null,65.599999999999994,{"$f":"AD60+(AD65-AD55)/10","v":21.483333969116202},{"$f":"IFERROR(ROUND((ROUNDDOWN(AD61,0)*12)+IFERROR(VLOOKUP(ROUND(AD61-(ROUNDDOWN(AD61,0)),1),_Esperanzas!$R$5:$S$18,2,TRUE),0),0),12)","v":258},87.083333969116197,{"$f":"AG60+(AG65-AG55)/10","v":24.816666030883781},{"$f":"IFERROR(ROUND((ROUNDDOWN(AG61,0)*12)+IFERROR(VLOOKUP(ROUND(AG61-(ROUNDDOWN(AG61,0)),1),_Esperanzas!$R$5:$S$18,2,TRUE),0),0),12)","v":297},90.416666030883775]
[null,null,null,null,null,null,null,65.7,{"$f":"I61+(I65-I55)/10","v":23.466666030883779},{"$f":"IFERROR(ROUND((ROUNDDOWN(I62,0)*12)+IFERROR(VLOOKUP(ROUND(I62-(ROUNDDOWN(I62,0)),1),_Esperanzas!$R$5:$S$18,2,TRUE),0),0),12)","v":282},89.166666030883789,{"$f":"L61+(L65-L55)/10","v":26.79999999999999},{"$f":"IFERROR(ROUND((ROUNDDOWN(L62,0)*12)+IFERROR(VLOOKUP(ROUND(L62-(ROUNDDOWN(L62,0)),1),_Esperanzas!$R$5:$S$18,2,TRUE),0),0),12)","v":321},92.5,null,null,null,null,null,null,null,null,null,null,null,null,null,null,65.7,{"$f":"AD61+(AD65-AD55)/10","v":21.383333969116201},{"$f":"IFERROR(ROUND((ROUNDDOWN(AD62,0)*12)+IFERROR(VLOOKUP(ROUND(AD62-(ROUNDDOWN(AD62,0)),1),_Esperanzas!$R$5:$S$18,2,TRUE),0),0),12)","v":256},87.083333969116211,{"$f":"AG61+(AG65-AG55)/10","v":24.716666030883779},{"$f":"IFERROR(ROUND((ROUNDDOWN(AG62,0)*12)+IFERROR(VLOOKUP(ROUND(AG62-(ROUNDDOWN(AG62,0)),1),_Esperanzas!$R$5:$S$18,2,TRUE),0),0),12)","v":296},90.416666030883789]
[null,null,null,null,null,null,null,65.8,{"$f":"I62+(I65-I55)/10","v":23.366666030883778},{"$f":"IFERROR(ROUND((ROUNDDOWN(I63,0)*12)+IFERROR(VLOOKUP(ROUND(I63-(ROUNDDOWN(I63,0)),1),_Esperanzas!$R$5:$S$18,2,TRUE),0),0),12)","v":280},89.166666030883775,{"$f":"L62+(L65-L55)/10","v":26.699999999999989},{"$f":"IFERROR(ROUND((ROUNDDOWN(L63,0)*12)+IFERROR(VLOOKUP(ROUND(L63-(ROUNDDOWN(L63,0)),1),_Esperanzas!$R$5:$S$18,2,TRUE),0),0),12)","v":320},92.499999999999986,null,null,null,null,null,null,null,null,null,null,null,null,null,null,65.8,{"$f":"AD62+(AD65-AD55)/10","v":21.2833339691162},{"$f":"IFERROR(ROUND((ROUNDDOWN(AD63,0)*12)+IFERROR(VLOOKUP(ROUND(AD63-(ROUNDDOWN(AD63,0)),1),_Esperanzas!$R$5:$S$18,2,TRUE),0),0),12)","v":255},87.083333969116197,{"$f":"AG62+(AG65-AG55)/10","v":24.616666030883778},{"$f":"IFERROR(ROUND((ROUNDDOWN(AG63,0)*12)+IFERROR(VLOOKUP(ROUND(AG63-(ROUNDDOWN(AG63,0)),1),_Esperanzas!$R$5:$S$18,2,TRUE),0),0),12)","v":295},90.416666030883775]
[null,null,null,null,null,null,null,65.900000000000006,{"$f":"I63+(I65-I55)/10","v":23.266666030883776},{"$f":"IFERROR(ROUND((ROUNDDOWN(I64,0)*12)+IFERROR(VLOOKUP(ROUND(I64-(ROUNDDOWN(I64,0)),1),_Esperanzas!$R$5:$S$18,2,TRUE),0),0),12)","v":279},89.166666030883789,{"$f":"L63+(L65-L55)/10","v":26.599999999999987},{"$f":"IFERROR(ROUND((ROUNDDOWN(L64,0)*12)+IFERROR(VLOOKUP(ROUND(L64-(ROUNDDOWN(L64,0)),1),_Esperanzas!$R$5:$S$18,2,TRUE),0),0),12)","v":319},92.5,null,null,null,null,null,null,null,null,null,null,null,null,null,null,65.900000000000006,{"$f":"AD63+(AD65-AD55)/10","v":21.183333969116198},{"$f":"IFERROR(ROUND((ROUNDDOWN(AD64,0)*12)+IFERROR(VLOOKUP(ROUND(AD64-(ROUNDDOWN(AD64,0)),1),_Esperanzas!$R$5:$S$18,2,TRUE),0),0),12)","v":254},87.083333969116211,{"$f":"AG63+(AG65-AG55)/10","v":24.516666030883776},{"$f":"IFERROR(ROUND((ROUNDDOWN(AG64,0)*12)+IFERROR(VLOOKUP(ROUND(AG64-(ROUNDDOWN(AG64,0)),1),_Esperanzas!$R$5:$S$18,2,TRUE),0),0),12)","v":294},90.416666030883789]
[null,null,null,null,null,null,null,66,{"$f":"VLOOKUP($H65,$B$5:$F$55,2,0)","v":23.166666030883789},{"$f":"IFERROR(ROUND((ROUNDDOWN(I65,0)*12)+IFERROR(VLOOKUP(ROUND(I65-(ROUNDDOWN(I65,0)),1),_Esperanzas!$R$5:$S$18,2,TRUE),0),0),12)","v":278},89.166666030883789,{"$f":"VLOOKUP($H65,$B$5:$F$55,4,0)","v":26.5},{"$f":"IFERROR(ROUND((ROUNDDOWN(L65,0)*12)+IFERROR(VLOOKUP(ROUND(L65-(ROUNDDOWN(L65,0)),1),_Esperanzas!$R$5:$S$18,2,TRUE),0),0),12)","v":318},92.5,null,null,null,null,null,null,null,null,null,null,null,null,null,null,66,{"$f":"VLOOKUP($AC65,$W$5:$AA$55,2,0)","v":21.083333969116211},{"$f":"IFERROR(ROUND((ROUNDDOWN(AD65,0)*12)+IFERROR(VLOOKUP(ROUND(AD65-(ROUNDDOWN(AD65,0)),1),_Esperanzas!$R$5:$S$18,2,TRUE),0),0),12)","v":253},87.083333969116211,{"$f":"VLOOKUP($AC65,$W$5:$AA$55,4,0)","v":24.416666030883789},{"$f":"IFERROR(ROUND((ROUNDDOWN(AG65,0)*12)+IFERROR(VLOOKUP(ROUND(AG65-(ROUNDDOWN(AG65,0)),1),_Esperanzas!$R$5:$S$18,2,TRUE),0),0),12)","v":292},90.416666030883789]
[null,null,null,null,null,null,null,66.099999999999994,{"$f":"I65+(I75-I65)/10","v":23.066666030883788},{"$f":"IFERROR(ROUND((ROUNDDOWN(I66,0)*12)+IFERROR(VLOOKUP(ROUND(I66-(ROUNDDOWN(I66,0)),1),_Esperanzas!$R$5:$S$18,2,TRUE),0),0),12)","v":277},89.166666030883789,{"$f":"L65+(L75-L65)/10","v":26.4},{"$f":"IFERROR(ROUND((ROUNDDOWN(L66,0)*12)+IFERROR(VLOOKUP(ROUND(L66-(ROUNDDOWN(L66,0)),1),_Esperanzas!$R$5:$S$18,2,TRUE),0),0),12)","v":316},92.5,null,null,null,null,null,null,null,null,null,null,null,null,null,null,66.099999999999994,{"$f":"AD65+(AD75-AD65)/10","v":20.98333396911621},{"$f":"IFERROR(ROUND((ROUNDDOWN(AD66,0)*12)+IFERROR(VLOOKUP(ROUND(AD66-(ROUNDDOWN(AD66,0)),1),_Esperanzas!$R$5:$S$18,2,TRUE),0),0),12)","v":252},87.083333969116211,{"$f":"AG65+(AG75-AG65)/10","v":24.316666030883788},{"$f":"IFERROR(ROUND((ROUNDDOWN(AG66,0)*12)+IFERROR(VLOOKUP(ROUND(AG66-(ROUNDDOWN(AG66,0)),1),_Esperanzas!$R$5:$S$18,2,TRUE),0),0),12)","v":291},90.416666030883789]
[null,null,null,null,null,null,null,66.2,{"$f":"I66+(I75-I65)/10","v":22.966666030883786},{"$f":"IFERROR(ROUND((ROUNDDOWN(I67,0)*12)+IFERROR(VLOOKUP(ROUND(I67-(ROUNDDOWN(I67,0)),1),_Esperanzas!$R$5:$S$18,2,TRUE),0),0),12)","v":276},89.166666030883789,{"$f":"L66+(L75-L65)/10","v":26.299999999999997},{"$f":"IFERROR(ROUND((ROUNDDOWN(L67,0)*12)+IFERROR(VLOOKUP(ROUND(L67-(ROUNDDOWN(L67,0)),1),_Esperanzas!$R$5:$S$18,2,TRUE),0),0),12)","v":315},92.5,null,null,null,null,null,null,null,null,null,null,null,null,null,null,66.2,{"$f":"AD66+(AD75-AD65)/10","v":20.883333969116208},{"$f":"IFERROR(ROUND((ROUNDDOWN(AD67,0)*12)+IFERROR(VLOOKUP(ROUND(AD67-(ROUNDDOWN(AD67,0)),1),_Esperanzas!$R$5:$S$18,2,TRUE),0),0),12)","v":250},87.083333969116211,{"$f":"AG66+(AG75-AG65)/10","v":24.216666030883786},{"$f":"IFERROR(ROUND((ROUNDDOWN(AG67,0)*12)+IFERROR(VLOOKUP(ROUND(AG67-(ROUNDDOWN(AG67,0)),1),_Esperanzas!$R$5:$S$18,2,TRUE),0),0),12)","v":290},90.416666030883789]
[null,null,null,null,null,null,null,66.3,{"$f":"I67+(I75-I65)/10","v":22.866666030883785},{"$f":"IFERROR(ROUND((ROUNDDOWN(I68,0)*12)+IFERROR(VLOOKUP(ROUND(I68-(ROUNDDOWN(I68,0)),1),_Esperanzas!$R$5:$S$18,2,TRUE),0),0),12)","v":274},89.166666030883789,{"$f":"L67+(L75-L65)/10","v":26.199999999999996},{"$f":"IFERROR(ROUND((ROUNDDOWN(L68,0)*12)+IFERROR(VLOOKUP(ROUND(L68-(ROUNDDOWN(L68,0)),1),_Esperanzas!$R$5:$S$18,2,TRUE),0),0),12)","v":314},92.5,null,null,null,null,null,null,null,null,null,null,null,null,null,null,66.3,{"$f":"AD67+(AD75-AD65)/10","v":20.783333969116207},{"$f":"IFERROR(ROUND((ROUNDDOWN(AD68,0)*12)+IFERROR(VLOOKUP(ROUND(AD68-(ROUNDDOWN(AD68,0)),1),_Esperanzas!$R$5:$S$18,2,TRUE),0),0),12)","v":249},87.083333969116211,{"$f":"AG67+(AG75-AG65)/10","v":24.116666030883785},{"$f":"IFERROR(ROUND((ROUNDDOWN(AG68,0)*12)+IFERROR(VLOOKUP(ROUND(AG68-(ROUNDDOWN(AG68,0)),1),_Esperanzas!$R$5:$S$18,2,TRUE),0),0),12)","v":289},90.416666030883789]
[null,null,null,null,null,null,null,66.400000000000006,{"$f":"I68+(I75-I65)/10","v":22.766666030883783},{"$f":"IFERROR(ROUND((ROUNDDOWN(I69,0)*12)+IFERROR(VLOOKUP(ROUND(I69-(ROUNDDOWN(I69,0)),1),_Esperanzas!$R$5:$S$18,2,TRUE),0),0),12)","v":273},89.166666030883789,{"$f":"L68+(L75-L65)/10","v":26.099999999999994},{"$f":"IFERROR(ROUND((ROUNDDOWN(L69,0)*12)+IFERROR(VLOOKUP(ROUND(L69-(ROUNDDOWN(L69,0)),1),_Esperanzas!$R$5:$S$18,2,TRUE),0),0),12)","v":313},92.5,null,null,null,null,null,null,null,null,null,null,null,null,null,null,66.400000000000006,{"$f":"AD68+(AD75-AD65)/10","v":20.683333969116205},{"$f":"IFERROR(ROUND((ROUNDDOWN(AD69,0)*12)+IFERROR(VLOOKUP(ROUND(AD69-(ROUNDDOWN(AD69,0)),1),_Esperanzas!$R$5:$S$18,2,TRUE),0),0),12)","v":248},87.083333969116211,{"$f":"AG68+(AG75-AG65)/10","v":24.016666030883783},{"$f":"IFERROR(ROUND((ROUNDDOWN(AG69,0)*12)+IFERROR(VLOOKUP(ROUND(AG69-(ROUNDDOWN(AG69,0)),1),_Esperanzas!$R$5:$S$18,2,TRUE),0),0),12)","v":288},90.416666030883789]
[null,null,null,null,null,null,null,66.5,{"$f":"I69+(I75-I65)/10","v":22.666666030883782},{"$f":"IFERROR(ROUND((ROUNDDOWN(I70,0)*12)+IFERROR(VLOOKUP(ROUND(I70-(ROUNDDOWN(I70,0)),1),_Esperanzas!$R$5:$S$18,2,TRUE),0),0),12)","v":272},89.166666030883789,{"$f":"L69+(L75-L65)/10","v":25.999999999999993},{"$f":"IFERROR(ROUND((ROUNDDOWN(L70,0)*12)+IFERROR(VLOOKUP(ROUND(L70-(ROUNDDOWN(L70,0)),1),_Esperanzas!$R$5:$S$18,2,TRUE),0),0),12)","v":312},92.5,null,null,null,null,null,null,null,null,null,null,null,null,null,null,66.5,{"$f":"AD69+(AD75-AD65)/10","v":20.583333969116204},{"$f":"IFERROR(ROUND((ROUNDDOWN(AD70,0)*12)+IFERROR(VLOOKUP(ROUND(AD70-(ROUNDDOWN(AD70,0)),1),_Esperanzas!$R$5:$S$18,2,TRUE),0),0),12)","v":247},87.083333969116211,{"$f":"AG69+(AG75-AG65)/10","v":23.916666030883782},{"$f":"IFERROR(ROUND((ROUNDDOWN(AG70,0)*12)+IFERROR(VLOOKUP(ROUND(AG70-(ROUNDDOWN(AG70,0)),1),_Esperanzas!$R$5:$S$18,2,TRUE),0),0),12)","v":286},90.416666030883789]
[null,null,null,null,null,null,null,{"$f":"ROUND(H70+0.1,1)","v":66.599999999999994},{"$f":"I70+(I75-I65)/10","v":22.566666030883781},{"$f":"IFERROR(ROUND((ROUNDDOWN(I71,0)*12)+IFERROR(VLOOKUP(ROUND(I71-(ROUNDDOWN(I71,0)),1),_Esperanzas!$R$5:$S$18,2,TRUE),0),0),12)","v":271},89.166666030883775,{"$f":"L70+(L75-L65)/10","v":25.899999999999991},{"$f":"IFERROR(ROUND((ROUNDDOWN(L71,0)*12)+IFERROR(VLOOKUP(ROUND(L71-(ROUNDDOWN(L71,0)),1),_Esperanzas!$R$5:$S$18,2,TRUE),0),0),12)","v":310},92.499999999999986,null,null,null,null,null,null,null,null,null,null,null,null,null,null,{"$f":"ROUND(AC70+0.1,1)","v":66.599999999999994},{"$f":"AD70+(AD75-AD65)/10","v":20.483333969116202},{"$f":"IFERROR(ROUND((ROUNDDOWN(AD71,0)*12)+IFERROR(VLOOKUP(ROUND(AD71-(ROUNDDOWN(AD71,0)),1),_Esperanzas!$R$5:$S$18,2,TRUE),0),0),12)","v":246},87.083333969116197,{"$f":"AG70+(AG75-AG65)/10","v":23.816666030883781},{"$f":"IFERROR(ROUND((ROUNDDOWN(AG71,0)*12)+IFERROR(VLOOKUP(ROUND(AG71-(ROUNDDOWN(AG71,0)),1),_Esperanzas!$R$5:$S$18,2,TRUE),0),0),12)","v":285},90.416666030883775]
[null,null,null,null,null,null,null,66.7,{"$f":"I71+(I75-I65)/10","v":22.466666030883779},{"$f":"IFERROR(ROUND((ROUNDDOWN(I72,0)*12)+IFERROR(VLOOKUP(ROUND(I72-(ROUNDDOWN(I72,0)),1),_Esperanzas!$R$5:$S$18,2,TRUE),0),0),12)","v":270},89.166666030883789,{"$f":"L71+(L75-L65)/10","v":25.79999999999999},{"$f":"IFERROR(ROUND((ROUNDDOWN(L72,0)*12)+IFERROR(VLOOKUP(ROUND(L72-(ROUNDDOWN(L72,0)),1),_Esperanzas!$R$5:$S$18,2,TRUE),0),0),12)","v":309},92.5,null,null,null,null,null,null,null,null,null,null,null,null,null,null,66.7,{"$f":"AD71+(AD75-AD65)/10","v":20.383333969116201},{"$f":"IFERROR(ROUND((ROUNDDOWN(AD72,0)*12)+IFERROR(VLOOKUP(ROUND(AD72-(ROUNDDOWN(AD72,0)),1),_Esperanzas!$R$5:$S$18,2,TRUE),0),0),12)","v":244},87.083333969116211,{"$f":"AG71+(AG75-AG65)/10","v":23.716666030883779},{"$f":"IFERROR(ROUND((ROUNDDOWN(AG72,0)*12)+IFERROR(VLOOKUP(ROUND(AG72-(ROUNDDOWN(AG72,0)),1),_Esperanzas!$R$5:$S$18,2,TRUE),0),0),12)","v":284},90.416666030883789]
[null,null,null,null,null,null,null,66.8,{"$f":"I72+(I75-I65)/10","v":22.366666030883778},{"$f":"IFERROR(ROUND((ROUNDDOWN(I73,0)*12)+IFERROR(VLOOKUP(ROUND(I73-(ROUNDDOWN(I73,0)),1),_Esperanzas!$R$5:$S$18,2,TRUE),0),0),12)","v":268},89.166666030883775,{"$f":"L72+(L75-L65)/10","v":25.699999999999989},{"$f":"IFERROR(ROUND((ROUNDDOWN(L73,0)*12)+IFERROR(VLOOKUP(ROUND(L73-(ROUNDDOWN(L73,0)),1),_Esperanzas!$R$5:$S$18,2,TRUE),0),0),12)","v":308},{"$f":"L73+H73","v":92.499999999999986},null,null,null,null,null,null,null,null,null,null,null,null,null,null,66.8,{"$f":"AD72+(AD75-AD65)/10","v":20.2833339691162},{"$f":"IFERROR(ROUND((ROUNDDOWN(AD73,0)*12)+IFERROR(VLOOKUP(ROUND(AD73-(ROUNDDOWN(AD73,0)),1),_Esperanzas!$R$5:$S$18,2,TRUE),0),0),12)","v":243},87.083333969116197,{"$f":"AG72+(AG75-AG65)/10","v":23.616666030883778},{"$f":"IFERROR(ROUND((ROUNDDOWN(AG73,0)*12)+IFERROR(VLOOKUP(ROUND(AG73-(ROUNDDOWN(AG73,0)),1),_Esperanzas!$R$5:$S$18,2,TRUE),0),0),12)","v":283},90.416666030883775]
[null,null,null,null,null,null,null,66.900000000000006,{"$f":"I73+(I75-I65)/10","v":22.266666030883776},{"$f":"IFERROR(ROUND((ROUNDDOWN(I74,0)*12)+IFERROR(VLOOKUP(ROUND(I74-(ROUNDDOWN(I74,0)),1),_Esperanzas!$R$5:$S$18,2,TRUE),0),0),12)","v":267},89.166666030883789,{"$f":"L73+(L75-L65)/10","v":25.599999999999987},{"$f":"IFERROR(ROUND((ROUNDDOWN(L74,0)*12)+IFERROR(VLOOKUP(ROUND(L74-(ROUNDDOWN(L74,0)),1),_Esperanzas!$R$5:$S$18,2,TRUE),0),0),12)","v":307},92.5,null,null,null,null,null,null,null,null,null,null,null,null,null,null,66.900000000000006,{"$f":"AD73+(AD75-AD65)/10","v":20.183333969116198},{"$f":"IFERROR(ROUND((ROUNDDOWN(AD74,0)*12)+IFERROR(VLOOKUP(ROUND(AD74-(ROUNDDOWN(AD74,0)),1),_Esperanzas!$R$5:$S$18,2,TRUE),0),0),12)","v":242},87.083333969116211,{"$f":"AG73+(AG75-AG65)/10","v":23.516666030883776},{"$f":"IFERROR(ROUND((ROUNDDOWN(AG74,0)*12)+IFERROR(VLOOKUP(ROUND(AG74-(ROUNDDOWN(AG74,0)),1),_Esperanzas!$R$5:$S$18,2,TRUE),0),0),12)","v":282},90.416666030883789]
[null,null,null,null,null,null,null,67,{"$f":"VLOOKUP($H75,$B$5:$F$55,2,0)","v":22.166666030883789},{"$f":"IFERROR(ROUND((ROUNDDOWN(I75,0)*12)+IFERROR(VLOOKUP(ROUND(I75-(ROUNDDOWN(I75,0)),1),_Esperanzas!$R$5:$S$18,2,TRUE),0),0),12)","v":266},89.166666030883789,{"$f":"VLOOKUP($H75,$B$5:$F$55,4,0)","v":25.5},{"$f":"IFERROR(ROUND((ROUNDDOWN(L75,0)*12)+IFERROR(VLOOKUP(ROUND(L75-(ROUNDDOWN(L75,0)),1),_Esperanzas!$R$5:$S$18,2,TRUE),0),0),12)","v":306},92.5,null,null,null,null,null,null,null,null,null,null,null,null,null,null,67,{"$f":"VLOOKUP($AC75,$W$5:$AA$55,2,0)","v":20.083333969116211},{"$f":"IFERROR(ROUND((ROUNDDOWN(AD75,0)*12)+IFERROR(VLOOKUP(ROUND(AD75-(ROUNDDOWN(AD75,0)),1),_Esperanzas!$R$5:$S$18,2,TRUE),0),0),12)","v":241},87.083333969116211,{"$f":"VLOOKUP($AC75,$W$5:$AA$55,4,0)","v":23.416666030883789},{"$f":"IFERROR(ROUND((ROUNDDOWN(AG75,0)*12)+IFERROR(VLOOKUP(ROUND(AG75-(ROUNDDOWN(AG75,0)),1),_Esperanzas!$R$5:$S$18,2,TRUE),0),0),12)","v":280},90.416666030883789]
[null,null,null,null,null,null,null,67.099999999999994,{"$f":"I75+(I85-I75)/10","v":22.066666030883788},{"$f":"IFERROR(ROUND((ROUNDDOWN(I76,0)*12)+IFERROR(VLOOKUP(ROUND(I76-(ROUNDDOWN(I76,0)),1),_Esperanzas!$R$5:$S$18,2,TRUE),0),0),12)","v":265},89.166666030883789,{"$f":"L75+(L85-L75)/10","v":25.4},{"$f":"IFERROR(ROUND((ROUNDDOWN(L76,0)*12)+IFERROR(VLOOKUP(ROUND(L76-(ROUNDDOWN(L76,0)),1),_Esperanzas!$R$5:$S$18,2,TRUE),0),0),12)","v":304},92.5,null,null,null,null,null,null,null,null,null,null,null,null,null,null,67.099999999999994,{"$f":"AD75+(AD85-AD75)/10","v":19.98333396911621},{"$f":"IFERROR(ROUND((ROUNDDOWN(AD76,0)*12)+IFERROR(VLOOKUP(ROUND(AD76-(ROUNDDOWN(AD76,0)),1),_Esperanzas!$R$5:$S$18,2,TRUE),0),0),12)","v":240},87.083333969116211,{"$f":"AG75+(AG85-AG75)/10","v":23.316666030883788},{"$f":"IFERROR(ROUND((ROUNDDOWN(AG76,0)*12)+IFERROR(VLOOKUP(ROUND(AG76-(ROUNDDOWN(AG76,0)),1),_Esperanzas!$R$5:$S$18,2,TRUE),0),0),12)","v":279},90.416666030883789]
[null,null,null,null,null,null,null,67.2,{"$f":"I76+(I85-I75)/10","v":21.966666030883786},{"$f":"IFERROR(ROUND((ROUNDDOWN(I77,0)*12)+IFERROR(VLOOKUP(ROUND(I77-(ROUNDDOWN(I77,0)),1),_Esperanzas!$R$5:$S$18,2,TRUE),0),0),12)","v":264},89.166666030883789,{"$f":"L76+(L85-L75)/10","v":25.299999999999997},{"$f":"IFERROR(ROUND((ROUNDDOWN(L77,0)*12)+IFERROR(VLOOKUP(ROUND(L77-(ROUNDDOWN(L77,0)),1),_Esperanzas!$R$5:$S$18,2,TRUE),0),0),12)","v":303},92.5,null,null,null,null,null,null,null,null,null,null,null,null,null,null,67.2,{"$f":"AD76+(AD85-AD75)/10","v":19.883333969116208},{"$f":"IFERROR(ROUND((ROUNDDOWN(AD77,0)*12)+IFERROR(VLOOKUP(ROUND(AD77-(ROUNDDOWN(AD77,0)),1),_Esperanzas!$R$5:$S$18,2,TRUE),0),0),12)","v":238},87.083333969116211,{"$f":"AG76+(AG85-AG75)/10","v":23.216666030883786},{"$f":"IFERROR(ROUND((ROUNDDOWN(AG77,0)*12)+IFERROR(VLOOKUP(ROUND(AG77-(ROUNDDOWN(AG77,0)),1),_Esperanzas!$R$5:$S$18,2,TRUE),0),0),12)","v":278},90.416666030883789]
[null,null,null,null,null,null,null,67.3,{"$f":"I77+(I85-I75)/10","v":21.866666030883785},{"$f":"IFERROR(ROUND((ROUNDDOWN(I78,0)*12)+IFERROR(VLOOKUP(ROUND(I78-(ROUNDDOWN(I78,0)),1),_Esperanzas!$R$5:$S$18,2,TRUE),0),0),12)","v":262},89.166666030883789,{"$f":"L77+(L85-L75)/10","v":25.199999999999996},{"$f":"IFERROR(ROUND((ROUNDDOWN(L78,0)*12)+IFERROR(VLOOKUP(ROUND(L78-(ROUNDDOWN(L78,0)),1),_Esperanzas!$R$5:$S$18,2,TRUE),0),0),12)","v":302},92.5,null,null,null,null,null,null,null,null,null,null,null,null,null,null,67.3,{"$f":"AD77+(AD85-AD75)/10","v":19.783333969116207},{"$f":"IFERROR(ROUND((ROUNDDOWN(AD78,0)*12)+IFERROR(VLOOKUP(ROUND(AD78-(ROUNDDOWN(AD78,0)),1),_Esperanzas!$R$5:$S$18,2,TRUE),0),0),12)","v":237},87.083333969116211,{"$f":"AG77+(AG85-AG75)/10","v":23.116666030883785},{"$f":"IFERROR(ROUND((ROUNDDOWN(AG78,0)*12)+IFERROR(VLOOKUP(ROUND(AG78-(ROUNDDOWN(AG78,0)),1),_Esperanzas!$R$5:$S$18,2,TRUE),0),0),12)","v":277},90.416666030883789]
[null,null,null,null,null,null,null,67.400000000000006,{"$f":"I78+(I85-I75)/10","v":21.766666030883783},{"$f":"IFERROR(ROUND((ROUNDDOWN(I79,0)*12)+IFERROR(VLOOKUP(ROUND(I79-(ROUNDDOWN(I79,0)),1),_Esperanzas!$R$5:$S$18,2,TRUE),0),0),12)","v":261},89.166666030883789,{"$f":"L78+(L85-L75)/10","v":25.099999999999994},{"$f":"IFERROR(ROUND((ROUNDDOWN(L79,0)*12)+IFERROR(VLOOKUP(ROUND(L79-(ROUNDDOWN(L79,0)),1),_Esperanzas!$R$5:$S$18,2,TRUE),0),0),12)","v":301},92.5,null,null,null,null,null,null,null,null,null,null,null,null,null,null,67.400000000000006,{"$f":"AD78+(AD85-AD75)/10","v":19.683333969116205},{"$f":"IFERROR(ROUND((ROUNDDOWN(AD79,0)*12)+IFERROR(VLOOKUP(ROUND(AD79-(ROUNDDOWN(AD79,0)),1),_Esperanzas!$R$5:$S$18,2,TRUE),0),0),12)","v":236},87.083333969116211,{"$f":"AG78+(AG85-AG75)/10","v":23.016666030883783},{"$f":"IFERROR(ROUND((ROUNDDOWN(AG79,0)*12)+IFERROR(VLOOKUP(ROUND(AG79-(ROUNDDOWN(AG79,0)),1),_Esperanzas!$R$5:$S$18,2,TRUE),0),0),12)","v":276},90.416666030883789]
[null,null,null,null,null,null,null,67.5,{"$f":"I79+(I85-I75)/10","v":21.666666030883782},{"$f":"IFERROR(ROUND((ROUNDDOWN(I80,0)*12)+IFERROR(VLOOKUP(ROUND(I80-(ROUNDDOWN(I80,0)),1),_Esperanzas!$R$5:$S$18,2,TRUE),0),0),12)","v":260},89.166666030883789,{"$f":"L79+(L85-L75)/10","v":24.999999999999993},{"$f":"IFERROR(ROUND((ROUNDDOWN(L80,0)*12)+IFERROR(VLOOKUP(ROUND(L80-(ROUNDDOWN(L80,0)),1),_Esperanzas!$R$5:$S$18,2,TRUE),0),0),12)","v":300},92.5,null,null,null,null,null,null,null,null,null,null,null,null,null,null,67.5,{"$f":"AD79+(AD85-AD75)/10","v":19.583333969116204},{"$f":"IFERROR(ROUND((ROUNDDOWN(AD80,0)*12)+IFERROR(VLOOKUP(ROUND(AD80-(ROUNDDOWN(AD80,0)),1),_Esperanzas!$R$5:$S$18,2,TRUE),0),0),12)","v":235},87.083333969116211,{"$f":"AG79+(AG85-AG75)/10","v":22.916666030883782},{"$f":"IFERROR(ROUND((ROUNDDOWN(AG80,0)*12)+IFERROR(VLOOKUP(ROUND(AG80-(ROUNDDOWN(AG80,0)),1),_Esperanzas!$R$5:$S$18,2,TRUE),0),0),12)","v":274},90.416666030883789]
[null,null,null,null,null,null,null,67.599999999999994,{"$f":"I80+(I85-I75)/10","v":21.566666030883781},{"$f":"IFERROR(ROUND((ROUNDDOWN(I81,0)*12)+IFERROR(VLOOKUP(ROUND(I81-(ROUNDDOWN(I81,0)),1),_Esperanzas!$R$5:$S$18,2,TRUE),0),0),12)","v":259},89.166666030883775,{"$f":"L80+(L85-L75)/10","v":24.899999999999991},{"$f":"IFERROR(ROUND((ROUNDDOWN(L81,0)*12)+IFERROR(VLOOKUP(ROUND(L81-(ROUNDDOWN(L81,0)),1),_Esperanzas!$R$5:$S$18,2,TRUE),0),0),12)","v":298},92.499999999999986,null,null,null,null,null,null,null,null,null,null,null,null,null,null,67.599999999999994,{"$f":"AD80+(AD85-AD75)/10","v":19.483333969116202},{"$f":"IFERROR(ROUND((ROUNDDOWN(AD81,0)*12)+IFERROR(VLOOKUP(ROUND(AD81-(ROUNDDOWN(AD81,0)),1),_Esperanzas!$R$5:$S$18,2,TRUE),0),0),12)","v":234},87.083333969116197,{"$f":"AG80+(AG85-AG75)/10","v":22.816666030883781},{"$f":"IFERROR(ROUND((ROUNDDOWN(AG81,0)*12)+IFERROR(VLOOKUP(ROUND(AG81-(ROUNDDOWN(AG81,0)),1),_Esperanzas!$R$5:$S$18,2,TRUE),0),0),12)","v":273},90.416666030883775]
[null,null,null,null,null,null,null,67.7,{"$f":"I81+(I85-I75)/10","v":21.466666030883779},{"$f":"IFERROR(ROUND((ROUNDDOWN(I82,0)*12)+IFERROR(VLOOKUP(ROUND(I82-(ROUNDDOWN(I82,0)),1),_Esperanzas!$R$5:$S$18,2,TRUE),0),0),12)","v":258},89.166666030883789,{"$f":"L81+(L85-L75)/10","v":24.79999999999999},{"$f":"IFERROR(ROUND((ROUNDDOWN(L82,0)*12)+IFERROR(VLOOKUP(ROUND(L82-(ROUNDDOWN(L82,0)),1),_Esperanzas!$R$5:$S$18,2,TRUE),0),0),12)","v":297},92.5,null,null,null,null,null,null,null,null,null,null,null,null,null,null,67.7,{"$f":"AD81+(AD85-AD75)/10","v":19.383333969116201},{"$f":"IFERROR(ROUND((ROUNDDOWN(AD82,0)*12)+IFERROR(VLOOKUP(ROUND(AD82-(ROUNDDOWN(AD82,0)),1),_Esperanzas!$R$5:$S$18,2,TRUE),0),0),12)","v":232},87.083333969116211,{"$f":"AG81+(AG85-AG75)/10","v":22.716666030883779},{"$f":"IFERROR(ROUND((ROUNDDOWN(AG82,0)*12)+IFERROR(VLOOKUP(ROUND(AG82-(ROUNDDOWN(AG82,0)),1),_Esperanzas!$R$5:$S$18,2,TRUE),0),0),12)","v":272},90.416666030883789]
[null,null,null,null,null,null,null,67.8,{"$f":"I82+(I85-I75)/10","v":21.366666030883778},{"$f":"IFERROR(ROUND((ROUNDDOWN(I83,0)*12)+IFERROR(VLOOKUP(ROUND(I83-(ROUNDDOWN(I83,0)),1),_Esperanzas!$R$5:$S$18,2,TRUE),0),0),12)","v":256},{"$f":"I83+H83","v":89.166666030883775},{"$f":"L82+(L85-L75)/10","v":24.699999999999989},{"$f":"IFERROR(ROUND((ROUNDDOWN(L83,0)*12)+IFERROR(VLOOKUP(ROUND(L83-(ROUNDDOWN(L83,0)),1),_Esperanzas!$R$5:$S$18,2,TRUE),0),0),12)","v":296},92.499999999999986,null,null,null,null,null,null,null,null,null,null,null,null,null,null,67.8,{"$f":"AD82+(AD85-AD75)/10","v":19.2833339691162},{"$f":"IFERROR(ROUND((ROUNDDOWN(AD83,0)*12)+IFERROR(VLOOKUP(ROUND(AD83-(ROUNDDOWN(AD83,0)),1),_Esperanzas!$R$5:$S$18,2,TRUE),0),0),12)","v":231},{"$f":"AD83+AC83","v":87.083333969116197},{"$f":"AG82+(AG85-AG75)/10","v":22.616666030883778},{"$f":"IFERROR(ROUND((ROUNDDOWN(AG83,0)*12)+IFERROR(VLOOKUP(ROUND(AG83-(ROUNDDOWN(AG83,0)),1),_Esperanzas!$R$5:$S$18,2,TRUE),0),0),12)","v":271},{"$f":"AG83+AC83","v":90.416666030883775}]
[null,null,null,null,null,null,null,67.900000000000006,{"$f":"I83+(I85-I75)/10","v":21.266666030883776},{"$f":"IFERROR(ROUND((ROUNDDOWN(I84,0)*12)+IFERROR(VLOOKUP(ROUND(I84-(ROUNDDOWN(I84,0)),1),_Esperanzas!$R$5:$S$18,2,TRUE),0),0),12)","v":255},89.166666030883789,{"$f":"L83+(L85-L75)/10","v":24.599999999999987},{"$f":"IFERROR(ROUND((ROUNDDOWN(L84,0)*12)+IFERROR(VLOOKUP(ROUND(L84-(ROUNDDOWN(L84,0)),1),_Esperanzas!$R$5:$S$18,2,TRUE),0),0),12)","v":295},92.5,null,null,null,null,null,null,null,null,null,null,null,null,null,null,67.900000000000006,{"$f":"AD83+(AD85-AD75)/10","v":19.183333969116198},{"$f":"IFERROR(ROUND((ROUNDDOWN(AD84,0)*12)+IFERROR(VLOOKUP(ROUND(AD84-(ROUNDDOWN(AD84,0)),1),_Esperanzas!$R$5:$S$18,2,TRUE),0),0),12)","v":230},87.083333969116211,{"$f":"AG83+(AG85-AG75)/10","v":22.516666030883776},{"$f":"IFERROR(ROUND((ROUNDDOWN(AG84,0)*12)+IFERROR(VLOOKUP(ROUND(AG84-(ROUNDDOWN(AG84,0)),1),_Esperanzas!$R$5:$S$18,2,TRUE),0),0),12)","v":270},90.416666030883789]
[null,null,null,null,null,null,null,68,{"$f":"VLOOKUP($H85,$B$5:$F$55,2,0)","v":21.166666030883789},{"$f":"IFERROR(ROUND((ROUNDDOWN(I85,0)*12)+IFERROR(VLOOKUP(ROUND(I85-(ROUNDDOWN(I85,0)),1),_Esperanzas!$R$5:$S$18,2,TRUE),0),0),12)","v":254},89.166666030883789,{"$f":"VLOOKUP($H85,$B$5:$F$55,4,0)","v":24.5},{"$f":"IFERROR(ROUND((ROUNDDOWN(L85,0)*12)+IFERROR(VLOOKUP(ROUND(L85-(ROUNDDOWN(L85,0)),1),_Esperanzas!$R$5:$S$18,2,TRUE),0),0),12)","v":294},92.5,null,null,null,null,null,null,null,null,null,null,null,null,null,null,68,{"$f":"VLOOKUP($AC85,$W$5:$AA$55,2,0)","v":19.083333969116211},{"$f":"IFERROR(ROUND((ROUNDDOWN(AD85,0)*12)+IFERROR(VLOOKUP(ROUND(AD85-(ROUNDDOWN(AD85,0)),1),_Esperanzas!$R$5:$S$18,2,TRUE),0),0),12)","v":229},87.083333969116211,{"$f":"VLOOKUP($AC85,$W$5:$AA$55,4,0)","v":22.416666030883789},{"$f":"IFERROR(ROUND((ROUNDDOWN(AG85,0)*12)+IFERROR(VLOOKUP(ROUND(AG85-(ROUNDDOWN(AG85,0)),1),_Esperanzas!$R$5:$S$18,2,TRUE),0),0),12)","v":268},90.416666030883789]
[null,null,null,null,null,null,null,68.099999999999994,{"$f":"I85+(I95-I85)/10","v":21.066666030883788},{"$f":"IFERROR(ROUND((ROUNDDOWN(I86,0)*12)+IFERROR(VLOOKUP(ROUND(I86-(ROUNDDOWN(I86,0)),1),_Esperanzas!$R$5:$S$18,2,TRUE),0),0),12)","v":253},89.166666030883789,{"$f":"L85+(L95-L85)/10","v":24.4},{"$f":"IFERROR(ROUND((ROUNDDOWN(L86,0)*12)+IFERROR(VLOOKUP(ROUND(L86-(ROUNDDOWN(L86,0)),1),_Esperanzas!$R$5:$S$18,2,TRUE),0),0),12)","v":292},92.5,null,null,null,null,null,null,null,null,null,null,null,null,null,null,68.099999999999994,{"$f":"AD85+(AD95-AD85)/10","v":18.98333396911621},{"$f":"IFERROR(ROUND((ROUNDDOWN(AD86,0)*12)+IFERROR(VLOOKUP(ROUND(AD86-(ROUNDDOWN(AD86,0)),1),_Esperanzas!$R$5:$S$18,2,TRUE),0),0),12)","v":228},87.083333969116211,{"$f":"AG85+(AG95-AG85)/10","v":22.316666030883788},{"$f":"IFERROR(ROUND((ROUNDDOWN(AG86,0)*12)+IFERROR(VLOOKUP(ROUND(AG86-(ROUNDDOWN(AG86,0)),1),_Esperanzas!$R$5:$S$18,2,TRUE),0),0),12)","v":267},90.416666030883789]
[null,null,null,null,null,null,null,68.2,{"$f":"I86+(I95-I85)/10","v":20.966666030883786},{"$f":"IFERROR(ROUND((ROUNDDOWN(I87,0)*12)+IFERROR(VLOOKUP(ROUND(I87-(ROUNDDOWN(I87,0)),1),_Esperanzas!$R$5:$S$18,2,TRUE),0),0),12)","v":252},89.166666030883789,{"$f":"L86+(L95-L85)/10","v":24.299999999999997},{"$f":"IFERROR(ROUND((ROUNDDOWN(L87,0)*12)+IFERROR(VLOOKUP(ROUND(L87-(ROUNDDOWN(L87,0)),1),_Esperanzas!$R$5:$S$18,2,TRUE),0),0),12)","v":291},92.5,null,null,null,null,null,null,null,null,null,null,null,null,null,null,68.2,{"$f":"AD86+(AD95-AD85)/10","v":18.883333969116208},{"$f":"IFERROR(ROUND((ROUNDDOWN(AD87,0)*12)+IFERROR(VLOOKUP(ROUND(AD87-(ROUNDDOWN(AD87,0)),1),_Esperanzas!$R$5:$S$18,2,TRUE),0),0),12)","v":226},87.083333969116211,{"$f":"AG86+(AG95-AG85)/10","v":22.216666030883786},{"$f":"IFERROR(ROUND((ROUNDDOWN(AG87,0)*12)+IFERROR(VLOOKUP(ROUND(AG87-(ROUNDDOWN(AG87,0)),1),_Esperanzas!$R$5:$S$18,2,TRUE),0),0),12)","v":266},90.416666030883789]
[null,null,null,null,null,null,null,68.3,{"$f":"I87+(I95-I85)/10","v":20.866666030883785},{"$f":"IFERROR(ROUND((ROUNDDOWN(I88,0)*12)+IFERROR(VLOOKUP(ROUND(I88-(ROUNDDOWN(I88,0)),1),_Esperanzas!$R$5:$S$18,2,TRUE),0),0),12)","v":250},89.166666030883789,{"$f":"L87+(L95-L85)/10","v":24.199999999999996},{"$f":"IFERROR(ROUND((ROUNDDOWN(L88,0)*12)+IFERROR(VLOOKUP(ROUND(L88-(ROUNDDOWN(L88,0)),1),_Esperanzas!$R$5:$S$18,2,TRUE),0),0),12)","v":290},92.5,null,null,null,null,null,null,null,null,null,null,null,null,null,null,68.3,{"$f":"AD87+(AD95-AD85)/10","v":18.783333969116207},{"$f":"IFERROR(ROUND((ROUNDDOWN(AD88,0)*12)+IFERROR(VLOOKUP(ROUND(AD88-(ROUNDDOWN(AD88,0)),1),_Esperanzas!$R$5:$S$18,2,TRUE),0),0),12)","v":225},87.083333969116211,{"$f":"AG87+(AG95-AG85)/10","v":22.116666030883785},{"$f":"IFERROR(ROUND((ROUNDDOWN(AG88,0)*12)+IFERROR(VLOOKUP(ROUND(AG88-(ROUNDDOWN(AG88,0)),1),_Esperanzas!$R$5:$S$18,2,TRUE),0),0),12)","v":265},90.416666030883789]
[null,null,null,null,null,null,null,68.400000000000006,{"$f":"I88+(I95-I85)/10","v":20.766666030883783},{"$f":"IFERROR(ROUND((ROUNDDOWN(I89,0)*12)+IFERROR(VLOOKUP(ROUND(I89-(ROUNDDOWN(I89,0)),1),_Esperanzas!$R$5:$S$18,2,TRUE),0),0),12)","v":249},89.166666030883789,{"$f":"L88+(L95-L85)/10","v":24.099999999999994},{"$f":"IFERROR(ROUND((ROUNDDOWN(L89,0)*12)+IFERROR(VLOOKUP(ROUND(L89-(ROUNDDOWN(L89,0)),1),_Esperanzas!$R$5:$S$18,2,TRUE),0),0),12)","v":289},92.5,null,null,null,null,null,null,null,null,null,null,null,null,null,null,68.400000000000006,{"$f":"AD88+(AD95-AD85)/10","v":18.683333969116205},{"$f":"IFERROR(ROUND((ROUNDDOWN(AD89,0)*12)+IFERROR(VLOOKUP(ROUND(AD89-(ROUNDDOWN(AD89,0)),1),_Esperanzas!$R$5:$S$18,2,TRUE),0),0),12)","v":224},87.083333969116211,{"$f":"AG88+(AG95-AG85)/10","v":22.016666030883783},{"$f":"IFERROR(ROUND((ROUNDDOWN(AG89,0)*12)+IFERROR(VLOOKUP(ROUND(AG89-(ROUNDDOWN(AG89,0)),1),_Esperanzas!$R$5:$S$18,2,TRUE),0),0),12)","v":264},90.416666030883789]
[null,null,null,null,null,null,null,68.5,{"$f":"I89+(I95-I85)/10","v":20.666666030883782},{"$f":"IFERROR(ROUND((ROUNDDOWN(I90,0)*12)+IFERROR(VLOOKUP(ROUND(I90-(ROUNDDOWN(I90,0)),1),_Esperanzas!$R$5:$S$18,2,TRUE),0),0),12)","v":248},89.166666030883789,{"$f":"L89+(L95-L85)/10","v":23.999999999999993},{"$f":"IFERROR(ROUND((ROUNDDOWN(L90,0)*12)+IFERROR(VLOOKUP(ROUND(L90-(ROUNDDOWN(L90,0)),1),_Esperanzas!$R$5:$S$18,2,TRUE),0),0),12)","v":288},92.5,null,null,null,null,null,null,null,null,null,null,null,null,null,null,68.5,{"$f":"AD89+(AD95-AD85)/10","v":18.583333969116204},{"$f":"IFERROR(ROUND((ROUNDDOWN(AD90,0)*12)+IFERROR(VLOOKUP(ROUND(AD90-(ROUNDDOWN(AD90,0)),1),_Esperanzas!$R$5:$S$18,2,TRUE),0),0),12)","v":223},87.083333969116211,{"$f":"AG89+(AG95-AG85)/10","v":21.916666030883782},{"$f":"IFERROR(ROUND((ROUNDDOWN(AG90,0)*12)+IFERROR(VLOOKUP(ROUND(AG90-(ROUNDDOWN(AG90,0)),1),_Esperanzas!$R$5:$S$18,2,TRUE),0),0),12)","v":262},90.416666030883789]
[null,null,null,null,null,null,null,68.599999999999994,{"$f":"I90+(I95-I85)/10","v":20.566666030883781},{"$f":"IFERROR(ROUND((ROUNDDOWN(I91,0)*12)+IFERROR(VLOOKUP(ROUND(I91-(ROUNDDOWN(I91,0)),1),_Esperanzas!$R$5:$S$18,2,TRUE),0),0),12)","v":247},89.166666030883775,{"$f":"L90+(L95-L85)/10","v":23.899999999999991},{"$f":"IFERROR(ROUND((ROUNDDOWN(L91,0)*12)+IFERROR(VLOOKUP(ROUND(L91-(ROUNDDOWN(L91,0)),1),_Esperanzas!$R$5:$S$18,2,TRUE),0),0),12)","v":286},92.499999999999986,null,null,null,null,null,null,null,null,null,null,null,null,null,null,68.599999999999994,{"$f":"AD90+(AD95-AD85)/10","v":18.483333969116202},{"$f":"IFERROR(ROUND((ROUNDDOWN(AD91,0)*12)+IFERROR(VLOOKUP(ROUND(AD91-(ROUNDDOWN(AD91,0)),1),_Esperanzas!$R$5:$S$18,2,TRUE),0),0),12)","v":222},87.083333969116197,{"$f":"AG90+(AG95-AG85)/10","v":21.816666030883781},{"$f":"IFERROR(ROUND((ROUNDDOWN(AG91,0)*12)+IFERROR(VLOOKUP(ROUND(AG91-(ROUNDDOWN(AG91,0)),1),_Esperanzas!$R$5:$S$18,2,TRUE),0),0),12)","v":261},90.416666030883775]
[null,null,null,null,null,null,null,68.7,{"$f":"I91+(I95-I85)/10","v":20.466666030883779},{"$f":"IFERROR(ROUND((ROUNDDOWN(I92,0)*12)+IFERROR(VLOOKUP(ROUND(I92-(ROUNDDOWN(I92,0)),1),_Esperanzas!$R$5:$S$18,2,TRUE),0),0),12)","v":246},89.166666030883789,{"$f":"L91+(L95-L85)/10","v":23.79999999999999},{"$f":"IFERROR(ROUND((ROUNDDOWN(L92,0)*12)+IFERROR(VLOOKUP(ROUND(L92-(ROUNDDOWN(L92,0)),1),_Esperanzas!$R$5:$S$18,2,TRUE),0),0),12)","v":285},92.5,null,null,null,null,null,null,null,null,null,null,null,null,null,null,68.7,{"$f":"AD91+(AD95-AD85)/10","v":18.383333969116201},{"$f":"IFERROR(ROUND((ROUNDDOWN(AD92,0)*12)+IFERROR(VLOOKUP(ROUND(AD92-(ROUNDDOWN(AD92,0)),1),_Esperanzas!$R$5:$S$18,2,TRUE),0),0),12)","v":220},87.083333969116211,{"$f":"AG91+(AG95-AG85)/10","v":21.716666030883779},{"$f":"IFERROR(ROUND((ROUNDDOWN(AG92,0)*12)+IFERROR(VLOOKUP(ROUND(AG92-(ROUNDDOWN(AG92,0)),1),_Esperanzas!$R$5:$S$18,2,TRUE),0),0),12)","v":260},90.416666030883789]
[null,null,null,null,null,null,null,68.8,{"$f":"I92+(I95-I85)/10","v":20.366666030883778},{"$f":"IFERROR(ROUND((ROUNDDOWN(I93,0)*12)+IFERROR(VLOOKUP(ROUND(I93-(ROUNDDOWN(I93,0)),1),_Esperanzas!$R$5:$S$18,2,TRUE),0),0),12)","v":244},89.166666030883775,{"$f":"L92+(L95-L85)/10","v":23.699999999999989},{"$f":"IFERROR(ROUND((ROUNDDOWN(L93,0)*12)+IFERROR(VLOOKUP(ROUND(L93-(ROUNDDOWN(L93,0)),1),_Esperanzas!$R$5:$S$18,2,TRUE),0),0),12)","v":284},92.499999999999986,null,null,null,null,null,null,null,null,null,null,null,null,null,null,68.8,{"$f":"AD92+(AD95-AD85)/10","v":18.2833339691162},{"$f":"IFERROR(ROUND((ROUNDDOWN(AD93,0)*12)+IFERROR(VLOOKUP(ROUND(AD93-(ROUNDDOWN(AD93,0)),1),_Esperanzas!$R$5:$S$18,2,TRUE),0),0),12)","v":219},87.083333969116197,{"$f":"AG92+(AG95-AG85)/10","v":21.616666030883778},{"$f":"IFERROR(ROUND((ROUNDDOWN(AG93,0)*12)+IFERROR(VLOOKUP(ROUND(AG93-(ROUNDDOWN(AG93,0)),1),_Esperanzas!$R$5:$S$18,2,TRUE),0),0),12)","v":259},90.416666030883775]
[null,null,null,null,null,null,null,68.900000000000006,{"$f":"I93+(I95-I85)/10","v":20.266666030883776},{"$f":"IFERROR(ROUND((ROUNDDOWN(I94,0)*12)+IFERROR(VLOOKUP(ROUND(I94-(ROUNDDOWN(I94,0)),1),_Esperanzas!$R$5:$S$18,2,TRUE),0),0),12)","v":243},89.166666030883789,{"$f":"L93+(L95-L85)/10","v":23.599999999999987},{"$f":"IFERROR(ROUND((ROUNDDOWN(L94,0)*12)+IFERROR(VLOOKUP(ROUND(L94-(ROUNDDOWN(L94,0)),1),_Esperanzas!$R$5:$S$18,2,TRUE),0),0),12)","v":283},92.5,null,null,null,null,null,null,null,null,null,null,null,null,null,null,68.900000000000006,{"$f":"AD93+(AD95-AD85)/10","v":18.183333969116198},{"$f":"IFERROR(ROUND((ROUNDDOWN(AD94,0)*12)+IFERROR(VLOOKUP(ROUND(AD94-(ROUNDDOWN(AD94,0)),1),_Esperanzas!$R$5:$S$18,2,TRUE),0),0),12)","v":218},87.083333969116211,{"$f":"AG93+(AG95-AG85)/10","v":21.516666030883776},{"$f":"IFERROR(ROUND((ROUNDDOWN(AG94,0)*12)+IFERROR(VLOOKUP(ROUND(AG94-(ROUNDDOWN(AG94,0)),1),_Esperanzas!$R$5:$S$18,2,TRUE),0),0),12)","v":258},90.416666030883789]
[null,null,null,null,null,null,null,69,{"$f":"VLOOKUP($H95,$B$5:$F$55,2,0)","v":20.166666030883789},{"$f":"IFERROR(ROUND((ROUNDDOWN(I95,0)*12)+IFERROR(VLOOKUP(ROUND(I95-(ROUNDDOWN(I95,0)),1),_Esperanzas!$R$5:$S$18,2,TRUE),0),0),12)","v":242},89.166666030883789,{"$f":"VLOOKUP($H95,$B$5:$F$55,4,0)","v":23.5},{"$f":"IFERROR(ROUND((ROUNDDOWN(L95,0)*12)+IFERROR(VLOOKUP(ROUND(L95-(ROUNDDOWN(L95,0)),1),_Esperanzas!$R$5:$S$18,2,TRUE),0),0),12)","v":282},92.5,null,null,null,null,null,null,null,null,null,null,null,null,null,null,69,{"$f":"VLOOKUP($AC95,$W$5:$AA$55,2,0)","v":18.083333969116211},{"$f":"IFERROR(ROUND((ROUNDDOWN(AD95,0)*12)+IFERROR(VLOOKUP(ROUND(AD95-(ROUNDDOWN(AD95,0)),1),_Esperanzas!$R$5:$S$18,2,TRUE),0),0),12)","v":217},87.083333969116211,{"$f":"VLOOKUP($AC95,$W$5:$AA$55,4,0)","v":21.416666030883789},{"$f":"IFERROR(ROUND((ROUNDDOWN(AG95,0)*12)+IFERROR(VLOOKUP(ROUND(AG95-(ROUNDDOWN(AG95,0)),1),_Esperanzas!$R$5:$S$18,2,TRUE),0),0),12)","v":256},90.416666030883789]
[null,null,null,null,null,null,null,69.099999999999994,{"$f":"I95+(I105-I95)/10","v":20.066666030883788},{"$f":"IFERROR(ROUND((ROUNDDOWN(I96,0)*12)+IFERROR(VLOOKUP(ROUND(I96-(ROUNDDOWN(I96,0)),1),_Esperanzas!$R$5:$S$18,2,TRUE),0),0),12)","v":241},89.166666030883789,{"$f":"L95+(L105-L95)/10","v":23.4},{"$f":"IFERROR(ROUND((ROUNDDOWN(L96,0)*12)+IFERROR(VLOOKUP(ROUND(L96-(ROUNDDOWN(L96,0)),1),_Esperanzas!$R$5:$S$18,2,TRUE),0),0),12)","v":280},92.5,null,null,null,null,null,null,null,null,null,null,null,null,null,null,69.099999999999994,{"$f":"AD95+(AD105-AD95)/10","v":17.98333396911621},{"$f":"IFERROR(ROUND((ROUNDDOWN(AD96,0)*12)+IFERROR(VLOOKUP(ROUND(AD96-(ROUNDDOWN(AD96,0)),1),_Esperanzas!$R$5:$S$18,2,TRUE),0),0),12)","v":216},87.083333969116211,{"$f":"AG95+(AG105-AG95)/10","v":21.316666030883788},{"$f":"IFERROR(ROUND((ROUNDDOWN(AG96,0)*12)+IFERROR(VLOOKUP(ROUND(AG96-(ROUNDDOWN(AG96,0)),1),_Esperanzas!$R$5:$S$18,2,TRUE),0),0),12)","v":255},90.416666030883789]
[null,null,null,null,null,null,null,69.2,{"$f":"I96+(I105-I95)/10","v":19.966666030883786},{"$f":"IFERROR(ROUND((ROUNDDOWN(I97,0)*12)+IFERROR(VLOOKUP(ROUND(I97-(ROUNDDOWN(I97,0)),1),_Esperanzas!$R$5:$S$18,2,TRUE),0),0),12)","v":240},89.166666030883789,{"$f":"L96+(L105-L95)/10","v":23.299999999999997},{"$f":"IFERROR(ROUND((ROUNDDOWN(L97,0)*12)+IFERROR(VLOOKUP(ROUND(L97-(ROUNDDOWN(L97,0)),1),_Esperanzas!$R$5:$S$18,2,TRUE),0),0),12)","v":279},92.5,null,null,null,null,null,null,null,null,null,null,null,null,null,null,69.2,{"$f":"AD96+(AD105-AD95)/10","v":17.883333969116208},{"$f":"IFERROR(ROUND((ROUNDDOWN(AD97,0)*12)+IFERROR(VLOOKUP(ROUND(AD97-(ROUNDDOWN(AD97,0)),1),_Esperanzas!$R$5:$S$18,2,TRUE),0),0),12)","v":214},87.083333969116211,{"$f":"AG96+(AG105-AG95)/10","v":21.216666030883786},{"$f":"IFERROR(ROUND((ROUNDDOWN(AG97,0)*12)+IFERROR(VLOOKUP(ROUND(AG97-(ROUNDDOWN(AG97,0)),1),_Esperanzas!$R$5:$S$18,2,TRUE),0),0),12)","v":254},90.416666030883789]
[null,null,null,null,null,null,null,69.3,{"$f":"I97+(I105-I95)/10","v":19.866666030883785},{"$f":"IFERROR(ROUND((ROUNDDOWN(I98,0)*12)+IFERROR(VLOOKUP(ROUND(I98-(ROUNDDOWN(I98,0)),1),_Esperanzas!$R$5:$S$18,2,TRUE),0),0),12)","v":238},89.166666030883789,{"$f":"L97+(L105-L95)/10","v":23.199999999999996},{"$f":"IFERROR(ROUND((ROUNDDOWN(L98,0)*12)+IFERROR(VLOOKUP(ROUND(L98-(ROUNDDOWN(L98,0)),1),_Esperanzas!$R$5:$S$18,2,TRUE),0),0),12)","v":278},92.5,null,null,null,null,null,null,null,null,null,null,null,null,null,null,69.3,{"$f":"AD97+(AD105-AD95)/10","v":17.783333969116207},{"$f":"IFERROR(ROUND((ROUNDDOWN(AD98,0)*12)+IFERROR(VLOOKUP(ROUND(AD98-(ROUNDDOWN(AD98,0)),1),_Esperanzas!$R$5:$S$18,2,TRUE),0),0),12)","v":213},87.083333969116211,{"$f":"AG97+(AG105-AG95)/10","v":21.116666030883785},{"$f":"IFERROR(ROUND((ROUNDDOWN(AG98,0)*12)+IFERROR(VLOOKUP(ROUND(AG98-(ROUNDDOWN(AG98,0)),1),_Esperanzas!$R$5:$S$18,2,TRUE),0),0),12)","v":253},90.416666030883789]
[null,null,null,null,null,null,null,69.400000000000006,{"$f":"I98+(I105-I95)/10","v":19.766666030883783},{"$f":"IFERROR(ROUND((ROUNDDOWN(I99,0)*12)+IFERROR(VLOOKUP(ROUND(I99-(ROUNDDOWN(I99,0)),1),_Esperanzas!$R$5:$S$18,2,TRUE),0),0),12)","v":237},89.166666030883789,{"$f":"L98+(L105-L95)/10","v":23.099999999999994},{"$f":"IFERROR(ROUND((ROUNDDOWN(L99,0)*12)+IFERROR(VLOOKUP(ROUND(L99-(ROUNDDOWN(L99,0)),1),_Esperanzas!$R$5:$S$18,2,TRUE),0),0),12)","v":277},92.5,null,null,null,null,null,null,null,null,null,null,null,null,null,null,69.400000000000006,{"$f":"AD98+(AD105-AD95)/10","v":17.683333969116205},{"$f":"IFERROR(ROUND((ROUNDDOWN(AD99,0)*12)+IFERROR(VLOOKUP(ROUND(AD99-(ROUNDDOWN(AD99,0)),1),_Esperanzas!$R$5:$S$18,2,TRUE),0),0),12)","v":212},87.083333969116211,{"$f":"AG98+(AG105-AG95)/10","v":21.016666030883783},{"$f":"IFERROR(ROUND((ROUNDDOWN(AG99,0)*12)+IFERROR(VLOOKUP(ROUND(AG99-(ROUNDDOWN(AG99,0)),1),_Esperanzas!$R$5:$S$18,2,TRUE),0),0),12)","v":252},90.416666030883789]
[null,null,null,null,null,null,null,69.5,{"$f":"I99+(I105-I95)/10","v":19.666666030883782},{"$f":"IFERROR(ROUND((ROUNDDOWN(I100,0)*12)+IFERROR(VLOOKUP(ROUND(I100-(ROUNDDOWN(I100,0)),1),_Esperanzas!$R$5:$S$18,2,TRUE),0),0),12)","v":236},89.166666030883789,{"$f":"L99+(L105-L95)/10","v":22.999999999999993},{"$f":"IFERROR(ROUND((ROUNDDOWN(L100,0)*12)+IFERROR(VLOOKUP(ROUND(L100-(ROUNDDOWN(L100,0)),1),_Esperanzas!$R$5:$S$18,2,TRUE),0),0),12)","v":276},92.5,null,null,null,null,null,null,null,null,null,null,null,null,null,null,69.5,{"$f":"AD99+(AD105-AD95)/10","v":17.583333969116204},{"$f":"IFERROR(ROUND((ROUNDDOWN(AD100,0)*12)+IFERROR(VLOOKUP(ROUND(AD100-(ROUNDDOWN(AD100,0)),1),_Esperanzas!$R$5:$S$18,2,TRUE),0),0),12)","v":211},87.083333969116211,{"$f":"AG99+(AG105-AG95)/10","v":20.916666030883782},{"$f":"IFERROR(ROUND((ROUNDDOWN(AG100,0)*12)+IFERROR(VLOOKUP(ROUND(AG100-(ROUNDDOWN(AG100,0)),1),_Esperanzas!$R$5:$S$18,2,TRUE),0),0),12)","v":250},90.416666030883789]
[null,null,null,null,null,null,null,69.599999999999994,{"$f":"I100+(I105-I95)/10","v":19.566666030883781},{"$f":"IFERROR(ROUND((ROUNDDOWN(I101,0)*12)+IFERROR(VLOOKUP(ROUND(I101-(ROUNDDOWN(I101,0)),1),_Esperanzas!$R$5:$S$18,2,TRUE),0),0),12)","v":235},89.166666030883775,{"$f":"L100+(L105-L95)/10","v":22.899999999999991},{"$f":"IFERROR(ROUND((ROUNDDOWN(L101,0)*12)+IFERROR(VLOOKUP(ROUND(L101-(ROUNDDOWN(L101,0)),1),_Esperanzas!$R$5:$S$18,2,TRUE),0),0),12)","v":274},92.499999999999986,null,null,null,null,null,null,null,null,null,null,null,null,null,null,69.599999999999994,{"$f":"AD100+(AD105-AD95)/10","v":17.483333969116202},{"$f":"IFERROR(ROUND((ROUNDDOWN(AD101,0)*12)+IFERROR(VLOOKUP(ROUND(AD101-(ROUNDDOWN(AD101,0)),1),_Esperanzas!$R$5:$S$18,2,TRUE),0),0),12)","v":210},87.083333969116197,{"$f":"AG100+(AG105-AG95)/10","v":20.816666030883781},{"$f":"IFERROR(ROUND((ROUNDDOWN(AG101,0)*12)+IFERROR(VLOOKUP(ROUND(AG101-(ROUNDDOWN(AG101,0)),1),_Esperanzas!$R$5:$S$18,2,TRUE),0),0),12)","v":249},90.416666030883775]
[null,null,null,null,null,null,null,69.7,{"$f":"I101+(I105-I95)/10","v":19.466666030883779},{"$f":"IFERROR(ROUND((ROUNDDOWN(I102,0)*12)+IFERROR(VLOOKUP(ROUND(I102-(ROUNDDOWN(I102,0)),1),_Esperanzas!$R$5:$S$18,2,TRUE),0),0),12)","v":234},89.166666030883789,{"$f":"L101+(L105-L95)/10","v":22.79999999999999},{"$f":"IFERROR(ROUND((ROUNDDOWN(L102,0)*12)+IFERROR(VLOOKUP(ROUND(L102-(ROUNDDOWN(L102,0)),1),_Esperanzas!$R$5:$S$18,2,TRUE),0),0),12)","v":273},92.5,null,null,null,null,null,null,null,null,null,null,null,null,null,null,69.7,{"$f":"AD101+(AD105-AD95)/10","v":17.383333969116201},{"$f":"IFERROR(ROUND((ROUNDDOWN(AD102,0)*12)+IFERROR(VLOOKUP(ROUND(AD102-(ROUNDDOWN(AD102,0)),1),_Esperanzas!$R$5:$S$18,2,TRUE),0),0),12)","v":208},87.083333969116211,{"$f":"AG101+(AG105-AG95)/10","v":20.716666030883779},{"$f":"IFERROR(ROUND((ROUNDDOWN(AG102,0)*12)+IFERROR(VLOOKUP(ROUND(AG102-(ROUNDDOWN(AG102,0)),1),_Esperanzas!$R$5:$S$18,2,TRUE),0),0),12)","v":248},90.416666030883789]
[null,null,null,null,null,null,null,69.8,{"$f":"I102+(I105-I95)/10","v":19.366666030883778},{"$f":"IFERROR(ROUND((ROUNDDOWN(I103,0)*12)+IFERROR(VLOOKUP(ROUND(I103-(ROUNDDOWN(I103,0)),1),_Esperanzas!$R$5:$S$18,2,TRUE),0),0),12)","v":232},89.166666030883775,{"$f":"L102+(L105-L95)/10","v":22.699999999999989},{"$f":"IFERROR(ROUND((ROUNDDOWN(L103,0)*12)+IFERROR(VLOOKUP(ROUND(L103-(ROUNDDOWN(L103,0)),1),_Esperanzas!$R$5:$S$18,2,TRUE),0),0),12)","v":272},92.499999999999986,null,null,null,null,null,null,null,null,null,null,null,null,null,null,69.8,{"$f":"AD102+(AD105-AD95)/10","v":17.2833339691162},{"$f":"IFERROR(ROUND((ROUNDDOWN(AD103,0)*12)+IFERROR(VLOOKUP(ROUND(AD103-(ROUNDDOWN(AD103,0)),1),_Esperanzas!$R$5:$S$18,2,TRUE),0),0),12)","v":207},87.083333969116197,{"$f":"AG102+(AG105-AG95)/10","v":20.616666030883778},{"$f":"IFERROR(ROUND((ROUNDDOWN(AG103,0)*12)+IFERROR(VLOOKUP(ROUND(AG103-(ROUNDDOWN(AG103,0)),1),_Esperanzas!$R$5:$S$18,2,TRUE),0),0),12)","v":247},90.416666030883775]
[null,null,null,null,null,null,null,69.900000000000006,{"$f":"I103+(I105-I95)/10","v":19.266666030883776},{"$f":"IFERROR(ROUND((ROUNDDOWN(I104,0)*12)+IFERROR(VLOOKUP(ROUND(I104-(ROUNDDOWN(I104,0)),1),_Esperanzas!$R$5:$S$18,2,TRUE),0),0),12)","v":231},89.166666030883789,{"$f":"L103+(L105-L95)/10","v":22.599999999999987},{"$f":"IFERROR(ROUND((ROUNDDOWN(L104,0)*12)+IFERROR(VLOOKUP(ROUND(L104-(ROUNDDOWN(L104,0)),1),_Esperanzas!$R$5:$S$18,2,TRUE),0),0),12)","v":271},92.5,null,null,null,null,null,null,null,null,null,null,null,null,null,null,69.900000000000006,{"$f":"AD103+(AD105-AD95)/10","v":17.183333969116198},{"$f":"IFERROR(ROUND((ROUNDDOWN(AD104,0)*12)+IFERROR(VLOOKUP(ROUND(AD104-(ROUNDDOWN(AD104,0)),1),_Esperanzas!$R$5:$S$18,2,TRUE),0),0),12)","v":206},87.083333969116211,{"$f":"AG103+(AG105-AG95)/10","v":20.516666030883776},{"$f":"IFERROR(ROUND((ROUNDDOWN(AG104,0)*12)+IFERROR(VLOOKUP(ROUND(AG104-(ROUNDDOWN(AG104,0)),1),_Esperanzas!$R$5:$S$18,2,TRUE),0),0),12)","v":246},90.416666030883789]
[null,null,null,null,null,null,null,70,{"$f":"VLOOKUP($H105,$B$5:$F$55,2,0)","v":19.166666030883789},{"$f":"IFERROR(ROUND((ROUNDDOWN(I105,0)*12)+IFERROR(VLOOKUP(ROUND(I105-(ROUNDDOWN(I105,0)),1),_Esperanzas!$R$5:$S$18,2,TRUE),0),0),12)","v":230},89.166666030883789,{"$f":"VLOOKUP($H105,$B$5:$F$55,4,0)","v":22.5},{"$f":"IFERROR(ROUND((ROUNDDOWN(L105,0)*12)+IFERROR(VLOOKUP(ROUND(L105-(ROUNDDOWN(L105,0)),1),_Esperanzas!$R$5:$S$18,2,TRUE),0),0),12)","v":270},92.5,null,null,null,null,null,null,null,null,null,null,null,null,null,null,70,{"$f":"VLOOKUP($AC105,$W$5:$AA$55,2,0)","v":17.083333969116211},{"$f":"IFERROR(ROUND((ROUNDDOWN(AD105,0)*12)+IFERROR(VLOOKUP(ROUND(AD105-(ROUNDDOWN(AD105,0)),1),_Esperanzas!$R$5:$S$18,2,TRUE),0),0),12)","v":205},87.083333969116211,{"$f":"VLOOKUP($AC105,$W$5:$AA$55,4,0)","v":20.416666030883789},{"$f":"IFERROR(ROUND((ROUNDDOWN(AG105,0)*12)+IFERROR(VLOOKUP(ROUND(AG105-(ROUNDDOWN(AG105,0)),1),_Esperanzas!$R$5:$S$18,2,TRUE),0),0),12)","v":244},90.416666030883789]
[null,null,null,null,null,null,null,70.099999999999994,{"$f":"I105+(I115-I105)/10","v":19.074999427795412},{"$f":"IFERROR(ROUND((ROUNDDOWN(I106,0)*12)+IFERROR(VLOOKUP(ROUND(I106-(ROUNDDOWN(I106,0)),1),_Esperanzas!$R$5:$S$18,2,TRUE),0),0),12)","v":229},89.174999427795399,{"$f":"L105+(L115-L105)/10","v":22.408333396911623},{"$f":"IFERROR(ROUND((ROUNDDOWN(L106,0)*12)+IFERROR(VLOOKUP(ROUND(L106-(ROUNDDOWN(L106,0)),1),_Esperanzas!$R$5:$S$18,2,TRUE),0),0),12)","v":268},92.50833339691161,null,null,null,null,null,null,null,null,null,null,null,null,null,null,70.099999999999994,{"$f":"AD105+(AD115-AD105)/10","v":16.991667175292967},{"$f":"IFERROR(ROUND((ROUNDDOWN(AD106,0)*12)+IFERROR(VLOOKUP(ROUND(AD106-(ROUNDDOWN(AD106,0)),1),_Esperanzas!$R$5:$S$18,2,TRUE),0),0),12)","v":204},87.091667175292969,{"$f":"AG105+(AG115-AG105)/10","v":20.324999427795412},{"$f":"IFERROR(ROUND((ROUNDDOWN(AG106,0)*12)+IFERROR(VLOOKUP(ROUND(AG106-(ROUNDDOWN(AG106,0)),1),_Esperanzas!$R$5:$S$18,2,TRUE),0),0),12)","v":243},90.424999427795399]
[null,null,null,null,null,null,null,70.2,{"$f":"I106+(I115-I105)/10","v":18.983332824707034},{"$f":"IFERROR(ROUND((ROUNDDOWN(I107,0)*12)+IFERROR(VLOOKUP(ROUND(I107-(ROUNDDOWN(I107,0)),1),_Esperanzas!$R$5:$S$18,2,TRUE),0),0),12)","v":228},89.183332824707037,{"$f":"L106+(L115-L105)/10","v":22.316666793823245},{"$f":"IFERROR(ROUND((ROUNDDOWN(L107,0)*12)+IFERROR(VLOOKUP(ROUND(L107-(ROUNDDOWN(L107,0)),1),_Esperanzas!$R$5:$S$18,2,TRUE),0),0),12)","v":267},92.516666793823248,null,null,null,null,null,null,null,null,null,null,null,null,null,null,70.2,{"$f":"AD106+(AD115-AD105)/10","v":16.900000381469724},{"$f":"IFERROR(ROUND((ROUNDDOWN(AD107,0)*12)+IFERROR(VLOOKUP(ROUND(AD107-(ROUNDDOWN(AD107,0)),1),_Esperanzas!$R$5:$S$18,2,TRUE),0),0),12)","v":202},87.100000381469727,{"$f":"AG106+(AG115-AG105)/10","v":20.233332824707034},{"$f":"IFERROR(ROUND((ROUNDDOWN(AG107,0)*12)+IFERROR(VLOOKUP(ROUND(AG107-(ROUNDDOWN(AG107,0)),1),_Esperanzas!$R$5:$S$18,2,TRUE),0),0),12)","v":242},90.433332824707037]
[null,null,null,null,null,null,null,70.3,{"$f":"I107+(I115-I105)/10","v":18.891666221618657},{"$f":"IFERROR(ROUND((ROUNDDOWN(I108,0)*12)+IFERROR(VLOOKUP(ROUND(I108-(ROUNDDOWN(I108,0)),1),_Esperanzas!$R$5:$S$18,2,TRUE),0),0),12)","v":226},89.191666221618647,{"$f":"L107+(L115-L105)/10","v":22.225000190734868},{"$f":"IFERROR(ROUND((ROUNDDOWN(L108,0)*12)+IFERROR(VLOOKUP(ROUND(L108-(ROUNDDOWN(L108,0)),1),_Esperanzas!$R$5:$S$18,2,TRUE),0),0),12)","v":266},92.525000190734858,null,null,null,null,null,null,null,null,null,null,null,null,null,null,70.3,{"$f":"AD107+(AD115-AD105)/10","v":16.80833358764648},{"$f":"IFERROR(ROUND((ROUNDDOWN(AD108,0)*12)+IFERROR(VLOOKUP(ROUND(AD108-(ROUNDDOWN(AD108,0)),1),_Esperanzas!$R$5:$S$18,2,TRUE),0),0),12)","v":201},87.108333587646484,{"$f":"AG107+(AG115-AG105)/10","v":20.141666221618657},{"$f":"IFERROR(ROUND((ROUNDDOWN(AG108,0)*12)+IFERROR(VLOOKUP(ROUND(AG108-(ROUNDDOWN(AG108,0)),1),_Esperanzas!$R$5:$S$18,2,TRUE),0),0),12)","v":241},90.441666221618647]
[null,null,null,null,null,null,null,70.400000000000006,{"$f":"I108+(I115-I105)/10","v":18.799999618530279},{"$f":"IFERROR(ROUND((ROUNDDOWN(I109,0)*12)+IFERROR(VLOOKUP(ROUND(I109-(ROUNDDOWN(I109,0)),1),_Esperanzas!$R$5:$S$18,2,TRUE),0),0),12)","v":225},89.199999618530285,{"$f":"L108+(L115-L105)/10","v":22.13333358764649},{"$f":"IFERROR(ROUND((ROUNDDOWN(L109,0)*12)+IFERROR(VLOOKUP(ROUND(L109-(ROUNDDOWN(L109,0)),1),_Esperanzas!$R$5:$S$18,2,TRUE),0),0),12)","v":265},92.533333587646496,null,null,null,null,null,null,null,null,null,null,null,null,null,null,70.400000000000006,{"$f":"AD108+(AD115-AD105)/10","v":16.716666793823237},{"$f":"IFERROR(ROUND((ROUNDDOWN(AD109,0)*12)+IFERROR(VLOOKUP(ROUND(AD109-(ROUNDDOWN(AD109,0)),1),_Esperanzas!$R$5:$S$18,2,TRUE),0),0),12)","v":200},87.116666793823242,{"$f":"AG108+(AG115-AG105)/10","v":20.049999618530279},{"$f":"IFERROR(ROUND((ROUNDDOWN(AG109,0)*12)+IFERROR(VLOOKUP(ROUND(AG109-(ROUNDDOWN(AG109,0)),1),_Esperanzas!$R$5:$S$18,2,TRUE),0),0),12)","v":240},90.449999618530285]
[null,null,null,null,null,null,null,70.5,{"$f":"I109+(I115-I105)/10","v":18.708333015441902},{"$f":"IFERROR(ROUND((ROUNDDOWN(I110,0)*12)+IFERROR(VLOOKUP(ROUND(I110-(ROUNDDOWN(I110,0)),1),_Esperanzas!$R$5:$S$18,2,TRUE),0),0),12)","v":224},89.208333015441895,{"$f":"L109+(L115-L105)/10","v":22.041666984558113},{"$f":"IFERROR(ROUND((ROUNDDOWN(L110,0)*12)+IFERROR(VLOOKUP(ROUND(L110-(ROUNDDOWN(L110,0)),1),_Esperanzas!$R$5:$S$18,2,TRUE),0),0),12)","v":264},92.541666984558105,null,null,null,null,null,null,null,null,null,null,null,null,null,null,70.5,{"$f":"AD109+(AD115-AD105)/10","v":16.624999999999993},{"$f":"IFERROR(ROUND((ROUNDDOWN(AD110,0)*12)+IFERROR(VLOOKUP(ROUND(AD110-(ROUNDDOWN(AD110,0)),1),_Esperanzas!$R$5:$S$18,2,TRUE),0),0),12)","v":199},87.125,{"$f":"AG109+(AG115-AG105)/10","v":19.958333015441902},{"$f":"IFERROR(ROUND((ROUNDDOWN(AG110,0)*12)+IFERROR(VLOOKUP(ROUND(AG110-(ROUNDDOWN(AG110,0)),1),_Esperanzas!$R$5:$S$18,2,TRUE),0),0),12)","v":240},90.458333015441895]
[null,null,null,null,null,null,null,70.599999999999994,{"$f":"I110+(I115-I105)/10","v":18.616666412353524},{"$f":"IFERROR(ROUND((ROUNDDOWN(I111,0)*12)+IFERROR(VLOOKUP(ROUND(I111-(ROUNDDOWN(I111,0)),1),_Esperanzas!$R$5:$S$18,2,TRUE),0),0),12)","v":223},89.216666412353518,{"$f":"L110+(L115-L105)/10","v":21.950000381469735},{"$f":"IFERROR(ROUND((ROUNDDOWN(L111,0)*12)+IFERROR(VLOOKUP(ROUND(L111-(ROUNDDOWN(L111,0)),1),_Esperanzas!$R$5:$S$18,2,TRUE),0),0),12)","v":264},92.550000381469729,null,null,null,null,null,null,null,null,null,null,null,null,null,null,70.599999999999994,{"$f":"AD110+(AD115-AD105)/10","v":16.533333206176749},{"$f":"IFERROR(ROUND((ROUNDDOWN(AD111,0)*12)+IFERROR(VLOOKUP(ROUND(AD111-(ROUNDDOWN(AD111,0)),1),_Esperanzas!$R$5:$S$18,2,TRUE),0),0),12)","v":198},87.133333206176744,{"$f":"AG110+(AG115-AG105)/10","v":19.866666412353524},{"$f":"IFERROR(ROUND((ROUNDDOWN(AG111,0)*12)+IFERROR(VLOOKUP(ROUND(AG111-(ROUNDDOWN(AG111,0)),1),_Esperanzas!$R$5:$S$18,2,TRUE),0),0),12)","v":238},90.466666412353518]
[null,null,null,null,null,null,null,70.7,{"$f":"I111+(I115-I105)/10","v":18.524999809265147},{"$f":"IFERROR(ROUND((ROUNDDOWN(I112,0)*12)+IFERROR(VLOOKUP(ROUND(I112-(ROUNDDOWN(I112,0)),1),_Esperanzas!$R$5:$S$18,2,TRUE),0),0),12)","v":222},89.224999809265142,{"$f":"L111+(L115-L105)/10","v":21.858333778381358},{"$f":"IFERROR(ROUND((ROUNDDOWN(L112,0)*12)+IFERROR(VLOOKUP(ROUND(L112-(ROUNDDOWN(L112,0)),1),_Esperanzas!$R$5:$S$18,2,TRUE),0),0),12)","v":262},92.558333778381353,null,null,null,null,null,null,null,null,null,null,null,null,null,null,70.7,{"$f":"AD111+(AD115-AD105)/10","v":16.441666412353506},{"$f":"IFERROR(ROUND((ROUNDDOWN(AD112,0)*12)+IFERROR(VLOOKUP(ROUND(AD112-(ROUNDDOWN(AD112,0)),1),_Esperanzas!$R$5:$S$18,2,TRUE),0),0),12)","v":196},87.141666412353516,{"$f":"AG111+(AG115-AG105)/10","v":19.774999809265147},{"$f":"IFERROR(ROUND((ROUNDDOWN(AG112,0)*12)+IFERROR(VLOOKUP(ROUND(AG112-(ROUNDDOWN(AG112,0)),1),_Esperanzas!$R$5:$S$18,2,TRUE),0),0),12)","v":237},90.474999809265142]
[null,null,null,null,null,null,null,70.8,{"$f":"I112+(I115-I105)/10","v":18.433333206176769},{"$f":"IFERROR(ROUND((ROUNDDOWN(I113,0)*12)+IFERROR(VLOOKUP(ROUND(I113-(ROUNDDOWN(I113,0)),1),_Esperanzas!$R$5:$S$18,2,TRUE),0),0),12)","v":220},89.233333206176766,{"$f":"L112+(L115-L105)/10","v":21.76666717529298},{"$f":"IFERROR(ROUND((ROUNDDOWN(L113,0)*12)+IFERROR(VLOOKUP(ROUND(L113-(ROUNDDOWN(L113,0)),1),_Esperanzas!$R$5:$S$18,2,TRUE),0),0),12)","v":261},92.566667175292977,null,null,null,null,null,null,null,null,null,null,null,null,null,null,70.8,{"$f":"AD112+(AD115-AD105)/10","v":16.349999618530262},{"$f":"IFERROR(ROUND((ROUNDDOWN(AD113,0)*12)+IFERROR(VLOOKUP(ROUND(AD113-(ROUNDDOWN(AD113,0)),1),_Esperanzas!$R$5:$S$18,2,TRUE),0),0),12)","v":195},87.149999618530259,{"$f":"AG112+(AG115-AG105)/10","v":19.683333206176769},{"$f":"IFERROR(ROUND((ROUNDDOWN(AG113,0)*12)+IFERROR(VLOOKUP(ROUND(AG113-(ROUNDDOWN(AG113,0)),1),_Esperanzas!$R$5:$S$18,2,TRUE),0),0),12)","v":236},90.483333206176766]
[null,null,null,null,null,null,null,70.900000000000006,{"$f":"I113+(I115-I105)/10","v":18.341666603088392},{"$f":"IFERROR(ROUND((ROUNDDOWN(I114,0)*12)+IFERROR(VLOOKUP(ROUND(I114-(ROUNDDOWN(I114,0)),1),_Esperanzas!$R$5:$S$18,2,TRUE),0),0),12)","v":219},89.24166660308839,{"$f":"L113+(L115-L105)/10","v":21.675000572204603},{"$f":"IFERROR(ROUND((ROUNDDOWN(L114,0)*12)+IFERROR(VLOOKUP(ROUND(L114-(ROUNDDOWN(L114,0)),1),_Esperanzas!$R$5:$S$18,2,TRUE),0),0),12)","v":260},92.575000572204601,null,null,null,null,null,null,null,null,null,null,null,null,null,null,70.900000000000006,{"$f":"AD113+(AD115-AD105)/10","v":16.258332824707018},{"$f":"IFERROR(ROUND((ROUNDDOWN(AD114,0)*12)+IFERROR(VLOOKUP(ROUND(AD114-(ROUNDDOWN(AD114,0)),1),_Esperanzas!$R$5:$S$18,2,TRUE),0),0),12)","v":195},87.158332824707031,{"$f":"AG113+(AG115-AG105)/10","v":19.591666603088392},{"$f":"IFERROR(ROUND((ROUNDDOWN(AG114,0)*12)+IFERROR(VLOOKUP(ROUND(AG114-(ROUNDDOWN(AG114,0)),1),_Esperanzas!$R$5:$S$18,2,TRUE),0),0),12)","v":235},90.49166660308839]
[null,null,null,null,null,null,null,71,{"$f":"VLOOKUP($H115,$B$5:$F$55,2,0)","v":18.25},{"$f":"IFERROR(ROUND((ROUNDDOWN(I115,0)*12)+IFERROR(VLOOKUP(ROUND(I115-(ROUNDDOWN(I115,0)),1),_Esperanzas!$R$5:$S$18,2,TRUE),0),0),12)","v":219},89.25,{"$f":"VLOOKUP($H115,$B$5:$F$55,4,0)","v":21.583333969116211},{"$f":"IFERROR(ROUND((ROUNDDOWN(L115,0)*12)+IFERROR(VLOOKUP(ROUND(L115-(ROUNDDOWN(L115,0)),1),_Esperanzas!$R$5:$S$18,2,TRUE),0),0),12)","v":259},92.583333969116211,null,null,null,null,null,null,null,null,null,null,null,null,null,null,71,{"$f":"VLOOKUP($AC115,$W$5:$AA$55,2,0)","v":16.166666030883789},{"$f":"IFERROR(ROUND((ROUNDDOWN(AD115,0)*12)+IFERROR(VLOOKUP(ROUND(AD115-(ROUNDDOWN(AD115,0)),1),_Esperanzas!$R$5:$S$18,2,TRUE),0),0),12)","v":194},87.166666030883789,{"$f":"VLOOKUP($AC115,$W$5:$AA$55,4,0)","v":19.5},{"$f":"IFERROR(ROUND((ROUNDDOWN(AG115,0)*12)+IFERROR(VLOOKUP(ROUND(AG115-(ROUNDDOWN(AG115,0)),1),_Esperanzas!$R$5:$S$18,2,TRUE),0),0),12)","v":234},90.5]
[null,null,null,null,null,null,null,71.099999999999994,{"$f":"I115+(I125-I115)/10","v":18.158333396911623},{"$f":"IFERROR(ROUND((ROUNDDOWN(I116,0)*12)+IFERROR(VLOOKUP(ROUND(I116-(ROUNDDOWN(I116,0)),1),_Esperanzas!$R$5:$S$18,2,TRUE),0),0),12)","v":218},89.25833339691161,{"$f":"L115+(L125-L115)/10","v":21.48333396911621},{"$f":"IFERROR(ROUND((ROUNDDOWN(L116,0)*12)+IFERROR(VLOOKUP(ROUND(L116-(ROUNDDOWN(L116,0)),1),_Esperanzas!$R$5:$S$18,2,TRUE),0),0),12)","v":258},92.583333969116211,null,null,null,null,null,null,null,null,null,null,null,null,null,null,71.099999999999994,{"$f":"AD115+(AD125-AD115)/10","v":16.074999427795412},{"$f":"IFERROR(ROUND((ROUNDDOWN(AD116,0)*12)+IFERROR(VLOOKUP(ROUND(AD116-(ROUNDDOWN(AD116,0)),1),_Esperanzas!$R$5:$S$18,2,TRUE),0),0),12)","v":193},87.174999427795399,{"$f":"AG115+(AG125-AG115)/10","v":19.408333396911623},{"$f":"IFERROR(ROUND((ROUNDDOWN(AG116,0)*12)+IFERROR(VLOOKUP(ROUND(AG116-(ROUNDDOWN(AG116,0)),1),_Esperanzas!$R$5:$S$18,2,TRUE),0),0),12)","v":232},90.50833339691161]
[null,null,null,null,null,null,null,71.2,{"$f":"I116+(I125-I115)/10","v":18.066666793823245},{"$f":"IFERROR(ROUND((ROUNDDOWN(I117,0)*12)+IFERROR(VLOOKUP(ROUND(I117-(ROUNDDOWN(I117,0)),1),_Esperanzas!$R$5:$S$18,2,TRUE),0),0),12)","v":217},89.266666793823248,{"$f":"L116+(L125-L115)/10","v":21.383333969116208},{"$f":"IFERROR(ROUND((ROUNDDOWN(L117,0)*12)+IFERROR(VLOOKUP(ROUND(L117-(ROUNDDOWN(L117,0)),1),_Esperanzas!$R$5:$S$18,2,TRUE),0),0),12)","v":256},92.583333969116211,null,null,null,null,null,null,null,null,null,null,null,null,null,null,71.2,{"$f":"AD116+(AD125-AD115)/10","v":15.983332824707032},{"$f":"IFERROR(ROUND((ROUNDDOWN(AD117,0)*12)+IFERROR(VLOOKUP(ROUND(AD117-(ROUNDDOWN(AD117,0)),1),_Esperanzas!$R$5:$S$18,2,TRUE),0),0),12)","v":192},87.183332824707037,{"$f":"AG116+(AG125-AG115)/10","v":19.316666793823245},{"$f":"IFERROR(ROUND((ROUNDDOWN(AG117,0)*12)+IFERROR(VLOOKUP(ROUND(AG117-(ROUNDDOWN(AG117,0)),1),_Esperanzas!$R$5:$S$18,2,TRUE),0),0),12)","v":231},90.516666793823248]
[null,null,null,null,null,null,null,71.3,{"$f":"I117+(I125-I115)/10","v":17.975000190734868},{"$f":"IFERROR(ROUND((ROUNDDOWN(I118,0)*12)+IFERROR(VLOOKUP(ROUND(I118-(ROUNDDOWN(I118,0)),1),_Esperanzas!$R$5:$S$18,2,TRUE),0),0),12)","v":216},89.275000190734858,{"$f":"L117+(L125-L115)/10","v":21.283333969116207},{"$f":"IFERROR(ROUND((ROUNDDOWN(L118,0)*12)+IFERROR(VLOOKUP(ROUND(L118-(ROUNDDOWN(L118,0)),1),_Esperanzas!$R$5:$S$18,2,TRUE),0),0),12)","v":255},92.583333969116211,null,null,null,null,null,null,null,null,null,null,null,null,null,null,71.3,{"$f":"AD117+(AD125-AD115)/10","v":15.891666221618653},{"$f":"IFERROR(ROUND((ROUNDDOWN(AD118,0)*12)+IFERROR(VLOOKUP(ROUND(AD118-(ROUNDDOWN(AD118,0)),1),_Esperanzas!$R$5:$S$18,2,TRUE),0),0),12)","v":190},87.191666221618647,{"$f":"AG117+(AG125-AG115)/10","v":19.225000190734868},{"$f":"IFERROR(ROUND((ROUNDDOWN(AG118,0)*12)+IFERROR(VLOOKUP(ROUND(AG118-(ROUNDDOWN(AG118,0)),1),_Esperanzas!$R$5:$S$18,2,TRUE),0),0),12)","v":230},90.525000190734858]
[null,null,null,null,null,null,null,71.400000000000006,{"$f":"I118+(I125-I115)/10","v":17.88333358764649},{"$f":"IFERROR(ROUND((ROUNDDOWN(I119,0)*12)+IFERROR(VLOOKUP(ROUND(I119-(ROUNDDOWN(I119,0)),1),_Esperanzas!$R$5:$S$18,2,TRUE),0),0),12)","v":214},89.283333587646496,{"$f":"L118+(L125-L115)/10","v":21.183333969116205},{"$f":"IFERROR(ROUND((ROUNDDOWN(L119,0)*12)+IFERROR(VLOOKUP(ROUND(L119-(ROUNDDOWN(L119,0)),1),_Esperanzas!$R$5:$S$18,2,TRUE),0),0),12)","v":254},92.583333969116211,null,null,null,null,null,null,null,null,null,null,null,null,null,null,71.400000000000006,{"$f":"AD118+(AD125-AD115)/10","v":15.799999618530274},{"$f":"IFERROR(ROUND((ROUNDDOWN(AD119,0)*12)+IFERROR(VLOOKUP(ROUND(AD119-(ROUNDDOWN(AD119,0)),1),_Esperanzas!$R$5:$S$18,2,TRUE),0),0),12)","v":189},87.199999618530285,{"$f":"AG118+(AG125-AG115)/10","v":19.13333358764649},{"$f":"IFERROR(ROUND((ROUNDDOWN(AG119,0)*12)+IFERROR(VLOOKUP(ROUND(AG119-(ROUNDDOWN(AG119,0)),1),_Esperanzas!$R$5:$S$18,2,TRUE),0),0),12)","v":229},90.533333587646496]
[null,null,null,null,null,null,null,71.5,{"$f":"I119+(I125-I115)/10","v":17.791666984558113},{"$f":"IFERROR(ROUND((ROUNDDOWN(I120,0)*12)+IFERROR(VLOOKUP(ROUND(I120-(ROUNDDOWN(I120,0)),1),_Esperanzas!$R$5:$S$18,2,TRUE),0),0),12)","v":213},89.291666984558105,{"$f":"L119+(L125-L115)/10","v":21.083333969116204},{"$f":"IFERROR(ROUND((ROUNDDOWN(L120,0)*12)+IFERROR(VLOOKUP(ROUND(L120-(ROUNDDOWN(L120,0)),1),_Esperanzas!$R$5:$S$18,2,TRUE),0),0),12)","v":253},92.583333969116211,null,null,null,null,null,null,null,null,null,null,null,null,null,null,71.5,{"$f":"AD119+(AD125-AD115)/10","v":15.708333015441895},{"$f":"IFERROR(ROUND((ROUNDDOWN(AD120,0)*12)+IFERROR(VLOOKUP(ROUND(AD120-(ROUNDDOWN(AD120,0)),1),_Esperanzas!$R$5:$S$18,2,TRUE),0),0),12)","v":188},87.208333015441895,{"$f":"AG119+(AG125-AG115)/10","v":19.041666984558113},{"$f":"IFERROR(ROUND((ROUNDDOWN(AG120,0)*12)+IFERROR(VLOOKUP(ROUND(AG120-(ROUNDDOWN(AG120,0)),1),_Esperanzas!$R$5:$S$18,2,TRUE),0),0),12)","v":228},90.541666984558105]
[null,null,null,null,null,null,null,71.599999999999994,{"$f":"I120+(I125-I115)/10","v":17.700000381469735},{"$f":"IFERROR(ROUND((ROUNDDOWN(I121,0)*12)+IFERROR(VLOOKUP(ROUND(I121-(ROUNDDOWN(I121,0)),1),_Esperanzas!$R$5:$S$18,2,TRUE),0),0),12)","v":212},89.300000381469729,{"$f":"L120+(L125-L115)/10","v":20.983333969116202},{"$f":"IFERROR(ROUND((ROUNDDOWN(L121,0)*12)+IFERROR(VLOOKUP(ROUND(L121-(ROUNDDOWN(L121,0)),1),_Esperanzas!$R$5:$S$18,2,TRUE),0),0),12)","v":252},92.583333969116197,null,null,null,null,null,null,null,null,null,null,null,null,null,null,71.599999999999994,{"$f":"AD120+(AD125-AD115)/10","v":15.616666412353515},{"$f":"IFERROR(ROUND((ROUNDDOWN(AD121,0)*12)+IFERROR(VLOOKUP(ROUND(AD121-(ROUNDDOWN(AD121,0)),1),_Esperanzas!$R$5:$S$18,2,TRUE),0),0),12)","v":187},87.216666412353504,{"$f":"AG120+(AG125-AG115)/10","v":18.950000381469735},{"$f":"IFERROR(ROUND((ROUNDDOWN(AG121,0)*12)+IFERROR(VLOOKUP(ROUND(AG121-(ROUNDDOWN(AG121,0)),1),_Esperanzas!$R$5:$S$18,2,TRUE),0),0),12)","v":228},90.550000381469729]
[null,null,null,null,null,null,null,71.7,{"$f":"I121+(I125-I115)/10","v":17.608333778381358},{"$f":"IFERROR(ROUND((ROUNDDOWN(I122,0)*12)+IFERROR(VLOOKUP(ROUND(I122-(ROUNDDOWN(I122,0)),1),_Esperanzas!$R$5:$S$18,2,TRUE),0),0),12)","v":211},89.308333778381353,{"$f":"L121+(L125-L115)/10","v":20.883333969116201},{"$f":"IFERROR(ROUND((ROUNDDOWN(L122,0)*12)+IFERROR(VLOOKUP(ROUND(L122-(ROUNDDOWN(L122,0)),1),_Esperanzas!$R$5:$S$18,2,TRUE),0),0),12)","v":250},92.583333969116211,null,null,null,null,null,null,null,null,null,null,null,null,null,null,71.7,{"$f":"AD121+(AD125-AD115)/10","v":15.524999809265136},{"$f":"IFERROR(ROUND((ROUNDDOWN(AD122,0)*12)+IFERROR(VLOOKUP(ROUND(AD122-(ROUNDDOWN(AD122,0)),1),_Esperanzas!$R$5:$S$18,2,TRUE),0),0),12)","v":186},87.224999809265142,{"$f":"AG121+(AG125-AG115)/10","v":18.858333778381358},{"$f":"IFERROR(ROUND((ROUNDDOWN(AG122,0)*12)+IFERROR(VLOOKUP(ROUND(AG122-(ROUNDDOWN(AG122,0)),1),_Esperanzas!$R$5:$S$18,2,TRUE),0),0),12)","v":226},90.558333778381353]
[null,null,null,null,null,null,null,71.8,{"$f":"I122+(I125-I115)/10","v":17.51666717529298},{"$f":"IFERROR(ROUND((ROUNDDOWN(I123,0)*12)+IFERROR(VLOOKUP(ROUND(I123-(ROUNDDOWN(I123,0)),1),_Esperanzas!$R$5:$S$18,2,TRUE),0),0),12)","v":210},89.316667175292977,{"$f":"L122+(L125-L115)/10","v":20.7833339691162},{"$f":"IFERROR(ROUND((ROUNDDOWN(L123,0)*12)+IFERROR(VLOOKUP(ROUND(L123-(ROUNDDOWN(L123,0)),1),_Esperanzas!$R$5:$S$18,2,TRUE),0),0),12)","v":249},92.583333969116197,null,null,null,null,null,null,null,null,null,null,null,null,null,null,71.8,{"$f":"AD122+(AD125-AD115)/10","v":15.433333206176757},{"$f":"IFERROR(ROUND((ROUNDDOWN(AD123,0)*12)+IFERROR(VLOOKUP(ROUND(AD123-(ROUNDDOWN(AD123,0)),1),_Esperanzas!$R$5:$S$18,2,TRUE),0),0),12)","v":184},87.233333206176752,{"$f":"AG122+(AG125-AG115)/10","v":18.76666717529298},{"$f":"IFERROR(ROUND((ROUNDDOWN(AG123,0)*12)+IFERROR(VLOOKUP(ROUND(AG123-(ROUNDDOWN(AG123,0)),1),_Esperanzas!$R$5:$S$18,2,TRUE),0),0),12)","v":225},90.566667175292977]
[null,null,null,null,null,null,null,71.900000000000006,{"$f":"I123+(I125-I115)/10","v":17.425000572204603},{"$f":"IFERROR(ROUND((ROUNDDOWN(I124,0)*12)+IFERROR(VLOOKUP(ROUND(I124-(ROUNDDOWN(I124,0)),1),_Esperanzas!$R$5:$S$18,2,TRUE),0),0),12)","v":208},89.325000572204601,{"$f":"L123+(L125-L115)/10","v":20.683333969116198},{"$f":"IFERROR(ROUND((ROUNDDOWN(L124,0)*12)+IFERROR(VLOOKUP(ROUND(L124-(ROUNDDOWN(L124,0)),1),_Esperanzas!$R$5:$S$18,2,TRUE),0),0),12)","v":248},92.583333969116211,null,null,null,null,null,null,null,null,null,null,null,null,null,null,71.900000000000006,{"$f":"AD123+(AD125-AD115)/10","v":15.341666603088377},{"$f":"IFERROR(ROUND((ROUNDDOWN(AD124,0)*12)+IFERROR(VLOOKUP(ROUND(AD124-(ROUNDDOWN(AD124,0)),1),_Esperanzas!$R$5:$S$18,2,TRUE),0),0),12)","v":183},87.24166660308839,{"$f":"AG123+(AG125-AG115)/10","v":18.675000572204603},{"$f":"IFERROR(ROUND((ROUNDDOWN(AG124,0)*12)+IFERROR(VLOOKUP(ROUND(AG124-(ROUNDDOWN(AG124,0)),1),_Esperanzas!$R$5:$S$18,2,TRUE),0),0),12)","v":224},90.575000572204601]
[null,null,null,null,null,null,null,72,{"$f":"VLOOKUP($H125,$B$5:$F$55,2,0)","v":17.333333969116211},{"$f":"IFERROR(ROUND((ROUNDDOWN(I125,0)*12)+IFERROR(VLOOKUP(ROUND(I125-(ROUNDDOWN(I125,0)),1),_Esperanzas!$R$5:$S$18,2,TRUE),0),0),12)","v":207},89.333333969116211,{"$f":"VLOOKUP($H125,$B$5:$F$55,4,0)","v":20.583333969116211},{"$f":"IFERROR(ROUND((ROUNDDOWN(L125,0)*12)+IFERROR(VLOOKUP(ROUND(L125-(ROUNDDOWN(L125,0)),1),_Esperanzas!$R$5:$S$18,2,TRUE),0),0),12)","v":247},92.583333969116211,null,null,null,null,null,null,null,null,null,null,null,null,null,null,72,{"$f":"VLOOKUP($AC125,$W$5:$AA$55,2,0)","v":15.25},{"$f":"IFERROR(ROUND((ROUNDDOWN(AD125,0)*12)+IFERROR(VLOOKUP(ROUND(AD125-(ROUNDDOWN(AD125,0)),1),_Esperanzas!$R$5:$S$18,2,TRUE),0),0),12)","v":183},87.25,{"$f":"VLOOKUP($AC125,$W$5:$AA$55,4,0)","v":18.583333969116211},{"$f":"IFERROR(ROUND((ROUNDDOWN(AG125,0)*12)+IFERROR(VLOOKUP(ROUND(AG125-(ROUNDDOWN(AG125,0)),1),_Esperanzas!$R$5:$S$18,2,TRUE),0),0),12)","v":223},90.583333969116211]
[null,null,null,null,null,null,null,72.099999999999994,{"$f":"I125+(I135-I125)/10","v":17.250000572204591},{"$f":"IFERROR(ROUND((ROUNDDOWN(I126,0)*12)+IFERROR(VLOOKUP(ROUND(I126-(ROUNDDOWN(I126,0)),1),_Esperanzas!$R$5:$S$18,2,TRUE),0),0),12)","v":207},89.350000572204578,{"$f":"L125+(L135-L125)/10","v":20.491667175292967},{"$f":"IFERROR(ROUND((ROUNDDOWN(L126,0)*12)+IFERROR(VLOOKUP(ROUND(L126-(ROUNDDOWN(L126,0)),1),_Esperanzas!$R$5:$S$18,2,TRUE),0),0),12)","v":246},92.591667175292969,null,null,null,null,null,null,null,null,null,null,null,null,null,null,72.099999999999994,{"$f":"AD125+(AD135-AD125)/10","v":15.16666669845581},{"$f":"IFERROR(ROUND((ROUNDDOWN(AD126,0)*12)+IFERROR(VLOOKUP(ROUND(AD126-(ROUNDDOWN(AD126,0)),1),_Esperanzas!$R$5:$S$18,2,TRUE),0),0),12)","v":182},87.266666698455808,{"$f":"AG125+(AG135-AG125)/10","v":18.48333396911621},{"$f":"IFERROR(ROUND((ROUNDDOWN(AG126,0)*12)+IFERROR(VLOOKUP(ROUND(AG126-(ROUNDDOWN(AG126,0)),1),_Esperanzas!$R$5:$S$18,2,TRUE),0),0),12)","v":222},90.583333969116211]
[null,null,null,null,null,null,null,72.2,{"$f":"I126+(I135-I125)/10","v":17.166667175292972},{"$f":"IFERROR(ROUND((ROUNDDOWN(I127,0)*12)+IFERROR(VLOOKUP(ROUND(I127-(ROUNDDOWN(I127,0)),1),_Esperanzas!$R$5:$S$18,2,TRUE),0),0),12)","v":206},89.366667175292974,{"$f":"L126+(L135-L125)/10","v":20.400000381469724},{"$f":"IFERROR(ROUND((ROUNDDOWN(L127,0)*12)+IFERROR(VLOOKUP(ROUND(L127-(ROUNDDOWN(L127,0)),1),_Esperanzas!$R$5:$S$18,2,TRUE),0),0),12)","v":244},92.600000381469727,null,null,null,null,null,null,null,null,null,null,null,null,null,null,72.2,{"$f":"AD126+(AD135-AD125)/10","v":15.08333339691162},{"$f":"IFERROR(ROUND((ROUNDDOWN(AD127,0)*12)+IFERROR(VLOOKUP(ROUND(AD127-(ROUNDDOWN(AD127,0)),1),_Esperanzas!$R$5:$S$18,2,TRUE),0),0),12)","v":181},87.283333396911615,{"$f":"AG126+(AG135-AG125)/10","v":18.383333969116208},{"$f":"IFERROR(ROUND((ROUNDDOWN(AG127,0)*12)+IFERROR(VLOOKUP(ROUND(AG127-(ROUNDDOWN(AG127,0)),1),_Esperanzas!$R$5:$S$18,2,TRUE),0),0),12)","v":220},90.583333969116211]
[null,null,null,null,null,null,null,72.3,{"$f":"I127+(I135-I125)/10","v":17.083333778381352},{"$f":"IFERROR(ROUND((ROUNDDOWN(I128,0)*12)+IFERROR(VLOOKUP(ROUND(I128-(ROUNDDOWN(I128,0)),1),_Esperanzas!$R$5:$S$18,2,TRUE),0),0),12)","v":205},89.383333778381342,{"$f":"L127+(L135-L125)/10","v":20.30833358764648},{"$f":"IFERROR(ROUND((ROUNDDOWN(L128,0)*12)+IFERROR(VLOOKUP(ROUND(L128-(ROUNDDOWN(L128,0)),1),_Esperanzas!$R$5:$S$18,2,TRUE),0),0),12)","v":243},92.608333587646484,null,null,null,null,null,null,null,null,null,null,null,null,null,null,72.3,{"$f":"AD127+(AD135-AD125)/10","v":15.00000009536743},{"$f":"IFERROR(ROUND((ROUNDDOWN(AD128,0)*12)+IFERROR(VLOOKUP(ROUND(AD128-(ROUNDDOWN(AD128,0)),1),_Esperanzas!$R$5:$S$18,2,TRUE),0),0),12)","v":180},87.300000095367423,{"$f":"AG127+(AG135-AG125)/10","v":18.283333969116207},{"$f":"IFERROR(ROUND((ROUNDDOWN(AG128,0)*12)+IFERROR(VLOOKUP(ROUND(AG128-(ROUNDDOWN(AG128,0)),1),_Esperanzas!$R$5:$S$18,2,TRUE),0),0),12)","v":219},90.583333969116211]
[null,null,null,null,null,null,null,72.400000000000006,{"$f":"I128+(I135-I125)/10","v":17.000000381469732},{"$f":"IFERROR(ROUND((ROUNDDOWN(I129,0)*12)+IFERROR(VLOOKUP(ROUND(I129-(ROUNDDOWN(I129,0)),1),_Esperanzas!$R$5:$S$18,2,TRUE),0),0),12)","v":204},89.400000381469738,{"$f":"L128+(L135-L125)/10","v":20.216666793823237},{"$f":"IFERROR(ROUND((ROUNDDOWN(L129,0)*12)+IFERROR(VLOOKUP(ROUND(L129-(ROUNDDOWN(L129,0)),1),_Esperanzas!$R$5:$S$18,2,TRUE),0),0),12)","v":242},92.616666793823242,null,null,null,null,null,null,null,null,null,null,null,null,null,null,72.400000000000006,{"$f":"AD128+(AD135-AD125)/10","v":14.916666793823239},{"$f":"IFERROR(ROUND((ROUNDDOWN(AD129,0)*12)+IFERROR(VLOOKUP(ROUND(AD129-(ROUNDDOWN(AD129,0)),1),_Esperanzas!$R$5:$S$18,2,TRUE),0),0),12)","v":178},87.316666793823245,{"$f":"AG128+(AG135-AG125)/10","v":18.183333969116205},{"$f":"IFERROR(ROUND((ROUNDDOWN(AG129,0)*12)+IFERROR(VLOOKUP(ROUND(AG129-(ROUNDDOWN(AG129,0)),1),_Esperanzas!$R$5:$S$18,2,TRUE),0),0),12)","v":218},90.583333969116211]
[null,null,null,null,null,null,null,72.5,{"$f":"I129+(I135-I125)/10","v":16.916666984558113},{"$f":"IFERROR(ROUND((ROUNDDOWN(I130,0)*12)+IFERROR(VLOOKUP(ROUND(I130-(ROUNDDOWN(I130,0)),1),_Esperanzas!$R$5:$S$18,2,TRUE),0),0),12)","v":202},89.416666984558105,{"$f":"L129+(L135-L125)/10","v":20.124999999999993},{"$f":"IFERROR(ROUND((ROUNDDOWN(L130,0)*12)+IFERROR(VLOOKUP(ROUND(L130-(ROUNDDOWN(L130,0)),1),_Esperanzas!$R$5:$S$18,2,TRUE),0),0),12)","v":241},92.625,null,null,null,null,null,null,null,null,null,null,null,null,null,null,72.5,{"$f":"AD129+(AD135-AD125)/10","v":14.833333492279049},{"$f":"IFERROR(ROUND((ROUNDDOWN(AD130,0)*12)+IFERROR(VLOOKUP(ROUND(AD130-(ROUNDDOWN(AD130,0)),1),_Esperanzas!$R$5:$S$18,2,TRUE),0),0),12)","v":177},87.333333492279053,{"$f":"AG129+(AG135-AG125)/10","v":18.083333969116204},{"$f":"IFERROR(ROUND((ROUNDDOWN(AG130,0)*12)+IFERROR(VLOOKUP(ROUND(AG130-(ROUNDDOWN(AG130,0)),1),_Esperanzas!$R$5:$S$18,2,TRUE),0),0),12)","v":217},90.583333969116211]
[null,null,null,null,null,null,null,72.599999999999994,{"$f":"I130+(I135-I125)/10","v":16.833333587646493},{"$f":"IFERROR(ROUND((ROUNDDOWN(I131,0)*12)+IFERROR(VLOOKUP(ROUND(I131-(ROUNDDOWN(I131,0)),1),_Esperanzas!$R$5:$S$18,2,TRUE),0),0),12)","v":201},89.433333587646487,{"$f":"L130+(L135-L125)/10","v":20.033333206176749},{"$f":"IFERROR(ROUND((ROUNDDOWN(L131,0)*12)+IFERROR(VLOOKUP(ROUND(L131-(ROUNDDOWN(L131,0)),1),_Esperanzas!$R$5:$S$18,2,TRUE),0),0),12)","v":240},92.633333206176744,null,null,null,null,null,null,null,null,null,null,null,null,null,null,72.599999999999994,{"$f":"AD130+(AD135-AD125)/10","v":14.750000190734859},{"$f":"IFERROR(ROUND((ROUNDDOWN(AD131,0)*12)+IFERROR(VLOOKUP(ROUND(AD131-(ROUNDDOWN(AD131,0)),1),_Esperanzas!$R$5:$S$18,2,TRUE),0),0),12)","v":177},87.350000190734846,{"$f":"AG130+(AG135-AG125)/10","v":17.983333969116202},{"$f":"IFERROR(ROUND((ROUNDDOWN(AG131,0)*12)+IFERROR(VLOOKUP(ROUND(AG131-(ROUNDDOWN(AG131,0)),1),_Esperanzas!$R$5:$S$18,2,TRUE),0),0),12)","v":216},90.583333969116197]
[null,null,null,null,null,null,null,72.7,{"$f":"I131+(I135-I125)/10","v":16.750000190734873},{"$f":"IFERROR(ROUND((ROUNDDOWN(I132,0)*12)+IFERROR(VLOOKUP(ROUND(I132-(ROUNDDOWN(I132,0)),1),_Esperanzas!$R$5:$S$18,2,TRUE),0),0),12)","v":201},89.450000190734869,{"$f":"L131+(L135-L125)/10","v":19.941666412353506},{"$f":"IFERROR(ROUND((ROUNDDOWN(L132,0)*12)+IFERROR(VLOOKUP(ROUND(L132-(ROUNDDOWN(L132,0)),1),_Esperanzas!$R$5:$S$18,2,TRUE),0),0),12)","v":238},92.641666412353516,null,null,null,null,null,null,null,null,null,null,null,null,null,null,72.7,{"$f":"AD131+(AD135-AD125)/10","v":14.666666889190669},{"$f":"IFERROR(ROUND((ROUNDDOWN(AD132,0)*12)+IFERROR(VLOOKUP(ROUND(AD132-(ROUNDDOWN(AD132,0)),1),_Esperanzas!$R$5:$S$18,2,TRUE),0),0),12)","v":176},87.366666889190668,{"$f":"AG131+(AG135-AG125)/10","v":17.883333969116201},{"$f":"IFERROR(ROUND((ROUNDDOWN(AG132,0)*12)+IFERROR(VLOOKUP(ROUND(AG132-(ROUNDDOWN(AG132,0)),1),_Esperanzas!$R$5:$S$18,2,TRUE),0),0),12)","v":214},90.583333969116211]
[null,null,null,null,null,null,null,72.8,{"$f":"I132+(I135-I125)/10","v":16.666666793823254},{"$f":"IFERROR(ROUND((ROUNDDOWN(I133,0)*12)+IFERROR(VLOOKUP(ROUND(I133-(ROUNDDOWN(I133,0)),1),_Esperanzas!$R$5:$S$18,2,TRUE),0),0),12)","v":200},89.466666793823251,{"$f":"L132+(L135-L125)/10","v":19.849999618530262},{"$f":"IFERROR(ROUND((ROUNDDOWN(L133,0)*12)+IFERROR(VLOOKUP(ROUND(L133-(ROUNDDOWN(L133,0)),1),_Esperanzas!$R$5:$S$18,2,TRUE),0),0),12)","v":237},92.649999618530259,null,null,null,null,null,null,null,null,null,null,null,null,null,null,72.8,{"$f":"AD132+(AD135-AD125)/10","v":14.583333587646479},{"$f":"IFERROR(ROUND((ROUNDDOWN(AD133,0)*12)+IFERROR(VLOOKUP(ROUND(AD133-(ROUNDDOWN(AD133,0)),1),_Esperanzas!$R$5:$S$18,2,TRUE),0),0),12)","v":175},87.383333587646476,{"$f":"AG132+(AG135-AG125)/10","v":17.7833339691162},{"$f":"IFERROR(ROUND((ROUNDDOWN(AG133,0)*12)+IFERROR(VLOOKUP(ROUND(AG133-(ROUNDDOWN(AG133,0)),1),_Esperanzas!$R$5:$S$18,2,TRUE),0),0),12)","v":213},90.583333969116197]
[null,null,null,null,null,null,null,72.900000000000006,{"$f":"I133+(I135-I125)/10","v":16.583333396911634},{"$f":"IFERROR(ROUND((ROUNDDOWN(I134,0)*12)+IFERROR(VLOOKUP(ROUND(I134-(ROUNDDOWN(I134,0)),1),_Esperanzas!$R$5:$S$18,2,TRUE),0),0),12)","v":199},89.483333396911632,{"$f":"L133+(L135-L125)/10","v":19.758332824707018},{"$f":"IFERROR(ROUND((ROUNDDOWN(L134,0)*12)+IFERROR(VLOOKUP(ROUND(L134-(ROUNDDOWN(L134,0)),1),_Esperanzas!$R$5:$S$18,2,TRUE),0),0),12)","v":237},92.658332824707031,null,null,null,null,null,null,null,null,null,null,null,null,null,null,72.900000000000006,{"$f":"AD133+(AD135-AD125)/10","v":14.500000286102289},{"$f":"IFERROR(ROUND((ROUNDDOWN(AD134,0)*12)+IFERROR(VLOOKUP(ROUND(AD134-(ROUNDDOWN(AD134,0)),1),_Esperanzas!$R$5:$S$18,2,TRUE),0),0),12)","v":174},87.400000286102298,{"$f":"AG133+(AG135-AG125)/10","v":17.683333969116198},{"$f":"IFERROR(ROUND((ROUNDDOWN(AG134,0)*12)+IFERROR(VLOOKUP(ROUND(AG134-(ROUNDDOWN(AG134,0)),1),_Esperanzas!$R$5:$S$18,2,TRUE),0),0),12)","v":212},90.583333969116211]
[null,null,null,null,null,null,null,{"$f":"ROUND(H134+0.1,1)","v":73},{"$f":"VLOOKUP($H135,$B$5:$F$55,2,0)","v":16.5},{"$f":"IFERROR(ROUND((ROUNDDOWN(I135,0)*12)+IFERROR(VLOOKUP(ROUND(I135-(ROUNDDOWN(I135,0)),1),_Esperanzas!$R$5:$S$18,2,TRUE),0),0),12)","v":198},89.5,{"$f":"VLOOKUP($H135,$B$5:$F$55,4,0)","v":19.666666030883789},{"$f":"IFERROR(ROUND((ROUNDDOWN(L135,0)*12)+IFERROR(VLOOKUP(ROUND(L135-(ROUNDDOWN(L135,0)),1),_Esperanzas!$R$5:$S$18,2,TRUE),0),0),12)","v":236},92.666666030883789,null,null,null,null,null,null,null,null,null,null,null,null,null,null,{"$f":"ROUND(AC134+0.1,1)","v":73},{"$f":"VLOOKUP($AC135,$W$5:$AA$55,2,0)","v":14.416666984558105},{"$f":"IFERROR(ROUND((ROUNDDOWN(AD135,0)*12)+IFERROR(VLOOKUP(ROUND(AD135-(ROUNDDOWN(AD135,0)),1),_Esperanzas!$R$5:$S$18,2,TRUE),0),0),12)","v":172},87.416666984558105,{"$f":"VLOOKUP($AC135,$W$5:$AA$55,4,0)","v":17.583333969116211},{"$f":"IFERROR(ROUND((ROUNDDOWN(AG135,0)*12)+IFERROR(VLOOKUP(ROUND(AG135-(ROUNDDOWN(AG135,0)),1),_Esperanzas!$R$5:$S$18,2,TRUE),0),0),12)","v":211},90.583333969116211]
[null,null,null,null,null,null,null,73.099999999999994,{"$f":"I135+(I145-I135)/10","v":16.408333301544189},{"$f":"IFERROR(ROUND((ROUNDDOWN(I136,0)*12)+IFERROR(VLOOKUP(ROUND(I136-(ROUNDDOWN(I136,0)),1),_Esperanzas!$R$5:$S$18,2,TRUE),0),0),12)","v":196},89.508333301544184,{"$f":"L135+(L145-L135)/10","v":19.574999427795412},{"$f":"IFERROR(ROUND((ROUNDDOWN(L136,0)*12)+IFERROR(VLOOKUP(ROUND(L136-(ROUNDDOWN(L136,0)),1),_Esperanzas!$R$5:$S$18,2,TRUE),0),0),12)","v":235},92.674999427795399,null,null,null,null,null,null,null,null,null,null,null,null,null,null,73.099999999999994,{"$f":"AD135+(AD145-AD135)/10","v":14.333333587646484},{"$f":"IFERROR(ROUND((ROUNDDOWN(AD136,0)*12)+IFERROR(VLOOKUP(ROUND(AD136-(ROUNDDOWN(AD136,0)),1),_Esperanzas!$R$5:$S$18,2,TRUE),0),0),12)","v":171},87.433333587646473,{"$f":"AG135+(AG145-AG135)/10","v":17.491667175292967},{"$f":"IFERROR(ROUND((ROUNDDOWN(AG136,0)*12)+IFERROR(VLOOKUP(ROUND(AG136-(ROUNDDOWN(AG136,0)),1),_Esperanzas!$R$5:$S$18,2,TRUE),0),0),12)","v":210},90.591667175292969]
[null,null,null,null,null,null,null,73.2,{"$f":"I136+(I145-I135)/10","v":16.316666603088379},{"$f":"IFERROR(ROUND((ROUNDDOWN(I137,0)*12)+IFERROR(VLOOKUP(ROUND(I137-(ROUNDDOWN(I137,0)),1),_Esperanzas!$R$5:$S$18,2,TRUE),0),0),12)","v":195},89.516666603088382,{"$f":"L136+(L145-L135)/10","v":19.483332824707034},{"$f":"IFERROR(ROUND((ROUNDDOWN(L137,0)*12)+IFERROR(VLOOKUP(ROUND(L137-(ROUNDDOWN(L137,0)),1),_Esperanzas!$R$5:$S$18,2,TRUE),0),0),12)","v":234},{"$f":"L137+H137","v":92.683332824707037},null,null,null,null,null,null,null,null,null,null,null,null,null,null,73.2,{"$f":"AD136+(AD145-AD135)/10","v":14.250000190734863},{"$f":"IFERROR(ROUND((ROUNDDOWN(AD137,0)*12)+IFERROR(VLOOKUP(ROUND(AD137-(ROUNDDOWN(AD137,0)),1),_Esperanzas!$R$5:$S$18,2,TRUE),0),0),12)","v":171},87.450000190734869,{"$f":"AG136+(AG145-AG135)/10","v":17.400000381469724},{"$f":"IFERROR(ROUND((ROUNDDOWN(AG137,0)*12)+IFERROR(VLOOKUP(ROUND(AG137-(ROUNDDOWN(AG137,0)),1),_Esperanzas!$R$5:$S$18,2,TRUE),0),0),12)","v":208},90.600000381469727]
[null,null,null,null,null,null,null,73.3,{"$f":"I137+(I145-I135)/10","v":16.224999904632568},{"$f":"IFERROR(ROUND((ROUNDDOWN(I138,0)*12)+IFERROR(VLOOKUP(ROUND(I138-(ROUNDDOWN(I138,0)),1),_Esperanzas!$R$5:$S$18,2,TRUE),0),0),12)","v":194},89.524999904632566,{"$f":"L137+(L145-L135)/10","v":19.391666221618657},{"$f":"IFERROR(ROUND((ROUNDDOWN(L138,0)*12)+IFERROR(VLOOKUP(ROUND(L138-(ROUNDDOWN(L138,0)),1),_Esperanzas!$R$5:$S$18,2,TRUE),0),0),12)","v":232},92.691666221618647,null,null,null,null,null,null,null,null,null,null,null,null,null,null,73.3,{"$f":"AD137+(AD145-AD135)/10","v":14.166666793823241},{"$f":"IFERROR(ROUND((ROUNDDOWN(AD138,0)*12)+IFERROR(VLOOKUP(ROUND(AD138-(ROUNDDOWN(AD138,0)),1),_Esperanzas!$R$5:$S$18,2,TRUE),0),0),12)","v":170},87.466666793823237,{"$f":"AG137+(AG145-AG135)/10","v":17.30833358764648},{"$f":"IFERROR(ROUND((ROUNDDOWN(AG138,0)*12)+IFERROR(VLOOKUP(ROUND(AG138-(ROUNDDOWN(AG138,0)),1),_Esperanzas!$R$5:$S$18,2,TRUE),0),0),12)","v":207},90.608333587646484]
[null,null,null,null,null,null,null,73.400000000000006,{"$f":"I138+(I145-I135)/10","v":16.133333206176758},{"$f":"IFERROR(ROUND((ROUNDDOWN(I139,0)*12)+IFERROR(VLOOKUP(ROUND(I139-(ROUNDDOWN(I139,0)),1),_Esperanzas!$R$5:$S$18,2,TRUE),0),0),12)","v":193},89.533333206176763,{"$f":"L138+(L145-L135)/10","v":19.299999618530279},{"$f":"IFERROR(ROUND((ROUNDDOWN(L139,0)*12)+IFERROR(VLOOKUP(ROUND(L139-(ROUNDDOWN(L139,0)),1),_Esperanzas!$R$5:$S$18,2,TRUE),0),0),12)","v":231},92.699999618530285,null,null,null,null,null,null,null,null,null,null,null,null,null,null,73.400000000000006,{"$f":"AD138+(AD145-AD135)/10","v":14.08333339691162},{"$f":"IFERROR(ROUND((ROUNDDOWN(AD139,0)*12)+IFERROR(VLOOKUP(ROUND(AD139-(ROUNDDOWN(AD139,0)),1),_Esperanzas!$R$5:$S$18,2,TRUE),0),0),12)","v":169},87.483333396911632,{"$f":"AG138+(AG145-AG135)/10","v":17.216666793823237},{"$f":"IFERROR(ROUND((ROUNDDOWN(AG139,0)*12)+IFERROR(VLOOKUP(ROUND(AG139-(ROUNDDOWN(AG139,0)),1),_Esperanzas!$R$5:$S$18,2,TRUE),0),0),12)","v":206},90.616666793823242]
[null,null,null,null,null,null,null,73.5,{"$f":"I139+(I145-I135)/10","v":16.041666507720947},{"$f":"IFERROR(ROUND((ROUNDDOWN(I140,0)*12)+IFERROR(VLOOKUP(ROUND(I140-(ROUNDDOWN(I140,0)),1),_Esperanzas!$R$5:$S$18,2,TRUE),0),0),12)","v":192},89.541666507720947,{"$f":"L139+(L145-L135)/10","v":19.208333015441902},{"$f":"IFERROR(ROUND((ROUNDDOWN(L140,0)*12)+IFERROR(VLOOKUP(ROUND(L140-(ROUNDDOWN(L140,0)),1),_Esperanzas!$R$5:$S$18,2,TRUE),0),0),12)","v":230},92.708333015441895,null,null,null,null,null,null,null,null,null,null,null,null,null,null,73.5,{"$f":"AD139+(AD145-AD135)/10","v":13.999999999999998},{"$f":"IFERROR(ROUND((ROUNDDOWN(AD140,0)*12)+IFERROR(VLOOKUP(ROUND(AD140-(ROUNDDOWN(AD140,0)),1),_Esperanzas!$R$5:$S$18,2,TRUE),0),0),12)","v":168},87.5,{"$f":"AG139+(AG145-AG135)/10","v":17.124999999999993},{"$f":"IFERROR(ROUND((ROUNDDOWN(AG140,0)*12)+IFERROR(VLOOKUP(ROUND(AG140-(ROUNDDOWN(AG140,0)),1),_Esperanzas!$R$5:$S$18,2,TRUE),0),0),12)","v":205},90.625]
[null,null,null,null,null,null,null,73.599999999999994,{"$f":"I140+(I145-I135)/10","v":15.949999809265137},{"$f":"IFERROR(ROUND((ROUNDDOWN(I141,0)*12)+IFERROR(VLOOKUP(ROUND(I141-(ROUNDDOWN(I141,0)),1),_Esperanzas!$R$5:$S$18,2,TRUE),0),0),12)","v":190},89.549999809265131,{"$f":"L140+(L145-L135)/10","v":19.116666412353524},{"$f":"IFERROR(ROUND((ROUNDDOWN(L141,0)*12)+IFERROR(VLOOKUP(ROUND(L141-(ROUNDDOWN(L141,0)),1),_Esperanzas!$R$5:$S$18,2,TRUE),0),0),12)","v":229},92.716666412353518,null,null,null,null,null,null,null,null,null,null,null,null,null,null,73.599999999999994,{"$f":"AD140+(AD145-AD135)/10","v":13.916666603088377},{"$f":"IFERROR(ROUND((ROUNDDOWN(AD141,0)*12)+IFERROR(VLOOKUP(ROUND(AD141-(ROUNDDOWN(AD141,0)),1),_Esperanzas!$R$5:$S$18,2,TRUE),0),0),12)","v":166},87.516666603088368,{"$f":"AG140+(AG145-AG135)/10","v":17.033333206176749},{"$f":"IFERROR(ROUND((ROUNDDOWN(AG141,0)*12)+IFERROR(VLOOKUP(ROUND(AG141-(ROUNDDOWN(AG141,0)),1),_Esperanzas!$R$5:$S$18,2,TRUE),0),0),12)","v":204},90.633333206176744]
[null,null,null,null,null,null,null,73.7,{"$f":"I141+(I145-I135)/10","v":15.858333110809326},{"$f":"IFERROR(ROUND((ROUNDDOWN(I142,0)*12)+IFERROR(VLOOKUP(ROUND(I142-(ROUNDDOWN(I142,0)),1),_Esperanzas!$R$5:$S$18,2,TRUE),0),0),12)","v":190},89.558333110809329,{"$f":"L141+(L145-L135)/10","v":19.024999809265147},{"$f":"IFERROR(ROUND((ROUNDDOWN(L142,0)*12)+IFERROR(VLOOKUP(ROUND(L142-(ROUNDDOWN(L142,0)),1),_Esperanzas!$R$5:$S$18,2,TRUE),0),0),12)","v":228},92.724999809265142,null,null,null,null,null,null,null,null,null,null,null,null,null,null,73.7,{"$f":"AD141+(AD145-AD135)/10","v":13.833333206176755},{"$f":"IFERROR(ROUND((ROUNDDOWN(AD142,0)*12)+IFERROR(VLOOKUP(ROUND(AD142-(ROUNDDOWN(AD142,0)),1),_Esperanzas!$R$5:$S$18,2,TRUE),0),0),12)","v":165},87.533333206176763,{"$f":"AG141+(AG145-AG135)/10","v":16.941666412353506},{"$f":"IFERROR(ROUND((ROUNDDOWN(AG142,0)*12)+IFERROR(VLOOKUP(ROUND(AG142-(ROUNDDOWN(AG142,0)),1),_Esperanzas!$R$5:$S$18,2,TRUE),0),0),12)","v":202},90.641666412353516]
[null,null,null,null,null,null,null,73.8,{"$f":"I142+(I145-I135)/10","v":15.766666412353516},{"$f":"IFERROR(ROUND((ROUNDDOWN(I143,0)*12)+IFERROR(VLOOKUP(ROUND(I143-(ROUNDDOWN(I143,0)),1),_Esperanzas!$R$5:$S$18,2,TRUE),0),0),12)","v":189},89.566666412353513,{"$f":"L142+(L145-L135)/10","v":18.933333206176769},{"$f":"IFERROR(ROUND((ROUNDDOWN(L143,0)*12)+IFERROR(VLOOKUP(ROUND(L143-(ROUNDDOWN(L143,0)),1),_Esperanzas!$R$5:$S$18,2,TRUE),0),0),12)","v":226},92.733333206176766,null,null,null,null,null,null,null,null,null,null,null,null,null,null,73.8,{"$f":"AD142+(AD145-AD135)/10","v":13.749999809265134},{"$f":"IFERROR(ROUND((ROUNDDOWN(AD143,0)*12)+IFERROR(VLOOKUP(ROUND(AD143-(ROUNDDOWN(AD143,0)),1),_Esperanzas!$R$5:$S$18,2,TRUE),0),0),12)","v":164},87.549999809265131,{"$f":"AG142+(AG145-AG135)/10","v":16.849999618530262},{"$f":"IFERROR(ROUND((ROUNDDOWN(AG143,0)*12)+IFERROR(VLOOKUP(ROUND(AG143-(ROUNDDOWN(AG143,0)),1),_Esperanzas!$R$5:$S$18,2,TRUE),0),0),12)","v":201},90.649999618530259]
[null,null,null,null,null,null,null,73.900000000000006,{"$f":"I143+(I145-I135)/10","v":15.674999713897705},{"$f":"IFERROR(ROUND((ROUNDDOWN(I144,0)*12)+IFERROR(VLOOKUP(ROUND(I144-(ROUNDDOWN(I144,0)),1),_Esperanzas!$R$5:$S$18,2,TRUE),0),0),12)","v":188},89.574999713897711,{"$f":"L143+(L145-L135)/10","v":18.841666603088392},{"$f":"IFERROR(ROUND((ROUNDDOWN(L144,0)*12)+IFERROR(VLOOKUP(ROUND(L144-(ROUNDDOWN(L144,0)),1),_Esperanzas!$R$5:$S$18,2,TRUE),0),0),12)","v":225},92.74166660308839,null,null,null,null,null,null,null,null,null,null,null,null,null,null,73.900000000000006,{"$f":"AD143+(AD145-AD135)/10","v":13.666666412353512},{"$f":"IFERROR(ROUND((ROUNDDOWN(AD144,0)*12)+IFERROR(VLOOKUP(ROUND(AD144-(ROUNDDOWN(AD144,0)),1),_Esperanzas!$R$5:$S$18,2,TRUE),0),0),12)","v":164},87.566666412353513,{"$f":"AG143+(AG145-AG135)/10","v":16.758332824707018},{"$f":"IFERROR(ROUND((ROUNDDOWN(AG144,0)*12)+IFERROR(VLOOKUP(ROUND(AG144-(ROUNDDOWN(AG144,0)),1),_Esperanzas!$R$5:$S$18,2,TRUE),0),0),12)","v":201},90.658332824707031]
[null,null,null,null,null,null,null,74,{"$f":"VLOOKUP($H145,$B$5:$F$55,2,0)","v":15.583333015441895},{"$f":"IFERROR(ROUND((ROUNDDOWN(I145,0)*12)+IFERROR(VLOOKUP(ROUND(I145-(ROUNDDOWN(I145,0)),1),_Esperanzas!$R$5:$S$18,2,TRUE),0),0),12)","v":187},89.583333015441895,{"$f":"VLOOKUP($H145,$B$5:$F$55,4,0)","v":18.75},{"$f":"IFERROR(ROUND((ROUNDDOWN(L145,0)*12)+IFERROR(VLOOKUP(ROUND(L145-(ROUNDDOWN(L145,0)),1),_Esperanzas!$R$5:$S$18,2,TRUE),0),0),12)","v":225},92.75,null,null,null,null,null,null,null,null,null,null,null,null,null,null,74,{"$f":"VLOOKUP($AC145,$W$5:$AA$55,2,0)","v":13.583333015441895},{"$f":"IFERROR(ROUND((ROUNDDOWN(AD145,0)*12)+IFERROR(VLOOKUP(ROUND(AD145-(ROUNDDOWN(AD145,0)),1),_Esperanzas!$R$5:$S$18,2,TRUE),0),0),12)","v":163},87.583333015441895,{"$f":"VLOOKUP($AC145,$W$5:$AA$55,4,0)","v":16.666666030883789},{"$f":"IFERROR(ROUND((ROUNDDOWN(AG145,0)*12)+IFERROR(VLOOKUP(ROUND(AG145-(ROUNDDOWN(AG145,0)),1),_Esperanzas!$R$5:$S$18,2,TRUE),0),0),12)","v":200},90.666666030883789]
[null,null,null,null,null,null,null,74.099999999999994,{"$f":"I145+(I155-I145)/10","v":15.499999713897704},{"$f":"IFERROR(ROUND((ROUNDDOWN(I146,0)*12)+IFERROR(VLOOKUP(ROUND(I146-(ROUNDDOWN(I146,0)),1),_Esperanzas!$R$5:$S$18,2,TRUE),0),0),12)","v":186},89.599999713897702,{"$f":"L145+(L155-L145)/10","v":18.658333396911623},{"$f":"IFERROR(ROUND((ROUNDDOWN(L146,0)*12)+IFERROR(VLOOKUP(ROUND(L146-(ROUNDDOWN(L146,0)),1),_Esperanzas!$R$5:$S$18,2,TRUE),0),0),12)","v":224},92.75833339691161,null,null,null,null,null,null,null,null,null,null,null,null,null,null,74.099999999999994,{"$f":"AD145+(AD155-AD145)/10","v":13.499999713897704},{"$f":"IFERROR(ROUND((ROUNDDOWN(AD146,0)*12)+IFERROR(VLOOKUP(ROUND(AD146-(ROUNDDOWN(AD146,0)),1),_Esperanzas!$R$5:$S$18,2,TRUE),0),0),12)","v":162},87.599999713897702,{"$f":"AG145+(AG155-AG145)/10","v":16.583332729339599},{"$f":"IFERROR(ROUND((ROUNDDOWN(AG146,0)*12)+IFERROR(VLOOKUP(ROUND(AG146-(ROUNDDOWN(AG146,0)),1),_Esperanzas!$R$5:$S$18,2,TRUE),0),0),12)","v":199},90.683332729339597]
[null,null,null,null,null,null,null,74.2,{"$f":"I146+(I155-I145)/10","v":15.416666412353514},{"$f":"IFERROR(ROUND((ROUNDDOWN(I147,0)*12)+IFERROR(VLOOKUP(ROUND(I147-(ROUNDDOWN(I147,0)),1),_Esperanzas!$R$5:$S$18,2,TRUE),0),0),12)","v":184},{"$f":"I147+H147","v":89.61666641235351},{"$f":"L146+(L155-L145)/10","v":18.566666793823245},{"$f":"IFERROR(ROUND((ROUNDDOWN(L147,0)*12)+IFERROR(VLOOKUP(ROUND(L147-(ROUNDDOWN(L147,0)),1),_Esperanzas!$R$5:$S$18,2,TRUE),0),0),12)","v":223},92.766666793823248,null,null,null,null,null,null,null,null,null,null,null,null,null,null,74.2,{"$f":"AD146+(AD155-AD145)/10","v":13.416666412353514},{"$f":"IFERROR(ROUND((ROUNDDOWN(AD147,0)*12)+IFERROR(VLOOKUP(ROUND(AD147-(ROUNDDOWN(AD147,0)),1),_Esperanzas!$R$5:$S$18,2,TRUE),0),0),12)","v":160},{"$f":"AD147+AC147","v":87.61666641235351},{"$f":"AG146+(AG155-AG145)/10","v":16.499999427795409},{"$f":"IFERROR(ROUND((ROUNDDOWN(AG147,0)*12)+IFERROR(VLOOKUP(ROUND(AG147-(ROUNDDOWN(AG147,0)),1),_Esperanzas!$R$5:$S$18,2,TRUE),0),0),12)","v":198},{"$f":"AG147+AC147","v":90.699999427795404}]
[null,null,null,null,null,null,null,74.3,{"$f":"I147+(I155-I145)/10","v":15.333333110809324},{"$f":"IFERROR(ROUND((ROUNDDOWN(I148,0)*12)+IFERROR(VLOOKUP(ROUND(I148-(ROUNDDOWN(I148,0)),1),_Esperanzas!$R$5:$S$18,2,TRUE),0),0),12)","v":183},89.633333110809318,{"$f":"L147+(L155-L145)/10","v":18.475000190734868},{"$f":"IFERROR(ROUND((ROUNDDOWN(L148,0)*12)+IFERROR(VLOOKUP(ROUND(L148-(ROUNDDOWN(L148,0)),1),_Esperanzas!$R$5:$S$18,2,TRUE),0),0),12)","v":222},92.775000190734858,null,null,null,null,null,null,null,null,null,null,null,null,null,null,74.3,{"$f":"AD147+(AD155-AD145)/10","v":13.333333110809324},{"$f":"IFERROR(ROUND((ROUNDDOWN(AD148,0)*12)+IFERROR(VLOOKUP(ROUND(AD148-(ROUNDDOWN(AD148,0)),1),_Esperanzas!$R$5:$S$18,2,TRUE),0),0),12)","v":159},87.633333110809318,{"$f":"AG147+(AG155-AG145)/10","v":16.416666126251219},{"$f":"IFERROR(ROUND((ROUNDDOWN(AG148,0)*12)+IFERROR(VLOOKUP(ROUND(AG148-(ROUNDDOWN(AG148,0)),1),_Esperanzas!$R$5:$S$18,2,TRUE),0),0),12)","v":196},90.716666126251212]
[null,null,null,null,null,null,null,74.400000000000006,{"$f":"I148+(I155-I145)/10","v":15.249999809265134},{"$f":"IFERROR(ROUND((ROUNDDOWN(I149,0)*12)+IFERROR(VLOOKUP(ROUND(I149-(ROUNDDOWN(I149,0)),1),_Esperanzas!$R$5:$S$18,2,TRUE),0),0),12)","v":182},89.64999980926514,{"$f":"L148+(L155-L145)/10","v":18.38333358764649},{"$f":"IFERROR(ROUND((ROUNDDOWN(L149,0)*12)+IFERROR(VLOOKUP(ROUND(L149-(ROUNDDOWN(L149,0)),1),_Esperanzas!$R$5:$S$18,2,TRUE),0),0),12)","v":220},92.783333587646496,null,null,null,null,null,null,null,null,null,null,null,null,null,null,74.400000000000006,{"$f":"AD148+(AD155-AD145)/10","v":13.249999809265134},{"$f":"IFERROR(ROUND((ROUNDDOWN(AD149,0)*12)+IFERROR(VLOOKUP(ROUND(AD149-(ROUNDDOWN(AD149,0)),1),_Esperanzas!$R$5:$S$18,2,TRUE),0),0),12)","v":158},87.64999980926514,{"$f":"AG148+(AG155-AG145)/10","v":16.333332824707028},{"$f":"IFERROR(ROUND((ROUNDDOWN(AG149,0)*12)+IFERROR(VLOOKUP(ROUND(AG149-(ROUNDDOWN(AG149,0)),1),_Esperanzas!$R$5:$S$18,2,TRUE),0),0),12)","v":195},90.733332824707034]
[null,null,null,null,null,null,null,74.5,{"$f":"I149+(I155-I145)/10","v":15.166666507720944},{"$f":"IFERROR(ROUND((ROUNDDOWN(I150,0)*12)+IFERROR(VLOOKUP(ROUND(I150-(ROUNDDOWN(I150,0)),1),_Esperanzas!$R$5:$S$18,2,TRUE),0),0),12)","v":182},89.666666507720947,{"$f":"L149+(L155-L145)/10","v":18.291666984558113},{"$f":"IFERROR(ROUND((ROUNDDOWN(L150,0)*12)+IFERROR(VLOOKUP(ROUND(L150-(ROUNDDOWN(L150,0)),1),_Esperanzas!$R$5:$S$18,2,TRUE),0),0),12)","v":219},92.791666984558105,null,null,null,null,null,null,null,null,null,null,null,null,null,null,74.5,{"$f":"AD149+(AD155-AD145)/10","v":13.166666507720944},{"$f":"IFERROR(ROUND((ROUNDDOWN(AD150,0)*12)+IFERROR(VLOOKUP(ROUND(AD150-(ROUNDDOWN(AD150,0)),1),_Esperanzas!$R$5:$S$18,2,TRUE),0),0),12)","v":158},87.666666507720947,{"$f":"AG149+(AG155-AG145)/10","v":16.249999523162838},{"$f":"IFERROR(ROUND((ROUNDDOWN(AG150,0)*12)+IFERROR(VLOOKUP(ROUND(AG150-(ROUNDDOWN(AG150,0)),1),_Esperanzas!$R$5:$S$18,2,TRUE),0),0),12)","v":194},90.749999523162842]
[null,null,null,null,null,null,null,74.599999999999994,{"$f":"I150+(I155-I145)/10","v":15.083333206176754},{"$f":"IFERROR(ROUND((ROUNDDOWN(I151,0)*12)+IFERROR(VLOOKUP(ROUND(I151-(ROUNDDOWN(I151,0)),1),_Esperanzas!$R$5:$S$18,2,TRUE),0),0),12)","v":181},89.683333206176741,{"$f":"L150+(L155-L145)/10","v":18.200000381469735},{"$f":"IFERROR(ROUND((ROUNDDOWN(L151,0)*12)+IFERROR(VLOOKUP(ROUND(L151-(ROUNDDOWN(L151,0)),1),_Esperanzas!$R$5:$S$18,2,TRUE),0),0),12)","v":218},92.800000381469729,null,null,null,null,null,null,null,null,null,null,null,null,null,null,74.599999999999994,{"$f":"AD150+(AD155-AD145)/10","v":13.083333206176754},{"$f":"IFERROR(ROUND((ROUNDDOWN(AD151,0)*12)+IFERROR(VLOOKUP(ROUND(AD151-(ROUNDDOWN(AD151,0)),1),_Esperanzas!$R$5:$S$18,2,TRUE),0),0),12)","v":157},87.683333206176741,{"$f":"AG150+(AG155-AG145)/10","v":16.166666221618648},{"$f":"IFERROR(ROUND((ROUNDDOWN(AG151,0)*12)+IFERROR(VLOOKUP(ROUND(AG151-(ROUNDDOWN(AG151,0)),1),_Esperanzas!$R$5:$S$18,2,TRUE),0),0),12)","v":194},90.766666221618635]
[null,null,null,null,null,null,null,74.7,{"$f":"I151+(I155-I145)/10","v":14.999999904632563},{"$f":"IFERROR(ROUND((ROUNDDOWN(I152,0)*12)+IFERROR(VLOOKUP(ROUND(I152-(ROUNDDOWN(I152,0)),1),_Esperanzas!$R$5:$S$18,2,TRUE),0),0),12)","v":180},89.699999904632563,{"$f":"L151+(L155-L145)/10","v":18.108333778381358},{"$f":"IFERROR(ROUND((ROUNDDOWN(L152,0)*12)+IFERROR(VLOOKUP(ROUND(L152-(ROUNDDOWN(L152,0)),1),_Esperanzas!$R$5:$S$18,2,TRUE),0),0),12)","v":217},92.808333778381353,null,null,null,null,null,null,null,null,null,null,null,null,null,null,74.7,{"$f":"AD151+(AD155-AD145)/10","v":12.999999904632563},{"$f":"IFERROR(ROUND((ROUNDDOWN(AD152,0)*12)+IFERROR(VLOOKUP(ROUND(AD152-(ROUNDDOWN(AD152,0)),1),_Esperanzas!$R$5:$S$18,2,TRUE),0),0),12)","v":156},87.699999904632563,{"$f":"AG151+(AG155-AG145)/10","v":16.083332920074458},{"$f":"IFERROR(ROUND((ROUNDDOWN(AG152,0)*12)+IFERROR(VLOOKUP(ROUND(AG152-(ROUNDDOWN(AG152,0)),1),_Esperanzas!$R$5:$S$18,2,TRUE),0),0),12)","v":193},90.783332920074457]
[null,null,null,null,null,null,null,74.8,{"$f":"I152+(I155-I145)/10","v":14.916666603088373},{"$f":"IFERROR(ROUND((ROUNDDOWN(I153,0)*12)+IFERROR(VLOOKUP(ROUND(I153-(ROUNDDOWN(I153,0)),1),_Esperanzas!$R$5:$S$18,2,TRUE),0),0),12)","v":178},89.71666660308837,{"$f":"L152+(L155-L145)/10","v":18.01666717529298},{"$f":"IFERROR(ROUND((ROUNDDOWN(L153,0)*12)+IFERROR(VLOOKUP(ROUND(L153-(ROUNDDOWN(L153,0)),1),_Esperanzas!$R$5:$S$18,2,TRUE),0),0),12)","v":216},92.816667175292977,null,null,null,null,null,null,null,null,null,null,null,null,null,null,74.8,{"$f":"AD152+(AD155-AD145)/10","v":12.916666603088373},{"$f":"IFERROR(ROUND((ROUNDDOWN(AD153,0)*12)+IFERROR(VLOOKUP(ROUND(AD153-(ROUNDDOWN(AD153,0)),1),_Esperanzas!$R$5:$S$18,2,TRUE),0),0),12)","v":154},87.71666660308837,{"$f":"AG152+(AG155-AG145)/10","v":15.999999618530268},{"$f":"IFERROR(ROUND((ROUNDDOWN(AG153,0)*12)+IFERROR(VLOOKUP(ROUND(AG153-(ROUNDDOWN(AG153,0)),1),_Esperanzas!$R$5:$S$18,2,TRUE),0),0),12)","v":192},90.799999618530265]
[null,null,null,null,null,null,null,74.900000000000006,{"$f":"I153+(I155-I145)/10","v":14.833333301544183},{"$f":"IFERROR(ROUND((ROUNDDOWN(I154,0)*12)+IFERROR(VLOOKUP(ROUND(I154-(ROUNDDOWN(I154,0)),1),_Esperanzas!$R$5:$S$18,2,TRUE),0),0),12)","v":177},89.733333301544192,{"$f":"L153+(L155-L145)/10","v":17.925000572204603},{"$f":"IFERROR(ROUND((ROUNDDOWN(L154,0)*12)+IFERROR(VLOOKUP(ROUND(L154-(ROUNDDOWN(L154,0)),1),_Esperanzas!$R$5:$S$18,2,TRUE),0),0),12)","v":214},92.825000572204601,null,null,null,null,null,null,null,null,null,null,null,null,null,null,74.900000000000006,{"$f":"AD153+(AD155-AD145)/10","v":12.833333301544183},{"$f":"IFERROR(ROUND((ROUNDDOWN(AD154,0)*12)+IFERROR(VLOOKUP(ROUND(AD154-(ROUNDDOWN(AD154,0)),1),_Esperanzas!$R$5:$S$18,2,TRUE),0),0),12)","v":153},87.733333301544192,{"$f":"AG153+(AG155-AG145)/10","v":15.916666316986078},{"$f":"IFERROR(ROUND((ROUNDDOWN(AG154,0)*12)+IFERROR(VLOOKUP(ROUND(AG154-(ROUNDDOWN(AG154,0)),1),_Esperanzas!$R$5:$S$18,2,TRUE),0),0),12)","v":190},90.816666316986087]
[null,null,null,null,null,null,null,75,{"$f":"VLOOKUP($H155,$B$5:$F$55,2,0)","v":14.75},{"$f":"IFERROR(ROUND((ROUNDDOWN(I155,0)*12)+IFERROR(VLOOKUP(ROUND(I155-(ROUNDDOWN(I155,0)),1),_Esperanzas!$R$5:$S$18,2,TRUE),0),0),12)","v":177},89.75,{"$f":"VLOOKUP($H155,$B$5:$F$55,4,0)","v":17.833333969116211},{"$f":"IFERROR(ROUND((ROUNDDOWN(L155,0)*12)+IFERROR(VLOOKUP(ROUND(L155-(ROUNDDOWN(L155,0)),1),_Esperanzas!$R$5:$S$18,2,TRUE),0),0),12)","v":213},92.833333969116211,null,null,null,null,null,null,null,null,null,null,null,null,null,null,75,{"$f":"VLOOKUP($AC155,$W$5:$AA$55,2,0)","v":12.75},{"$f":"IFERROR(ROUND((ROUNDDOWN(AD155,0)*12)+IFERROR(VLOOKUP(ROUND(AD155-(ROUNDDOWN(AD155,0)),1),_Esperanzas!$R$5:$S$18,2,TRUE),0),0),12)","v":153},87.75,{"$f":"VLOOKUP($AC155,$W$5:$AA$55,4,0)","v":15.833333015441895},{"$f":"IFERROR(ROUND((ROUNDDOWN(AG155,0)*12)+IFERROR(VLOOKUP(ROUND(AG155-(ROUNDDOWN(AG155,0)),1),_Esperanzas!$R$5:$S$18,2,TRUE),0),0),12)","v":189},90.833333015441895]
[null,null,null,null,null,null,null,75.099999999999994,{"$f":"I155+(I165-I155)/10","v":14.66666669845581},{"$f":"IFERROR(ROUND((ROUNDDOWN(I156,0)*12)+IFERROR(VLOOKUP(ROUND(I156-(ROUNDDOWN(I156,0)),1),_Esperanzas!$R$5:$S$18,2,TRUE),0),0),12)","v":176},89.766666698455808,{"$f":"L155+(L165-L155)/10","v":17.741667175292967},{"$f":"IFERROR(ROUND((ROUNDDOWN(L156,0)*12)+IFERROR(VLOOKUP(ROUND(L156-(ROUNDDOWN(L156,0)),1),_Esperanzas!$R$5:$S$18,2,TRUE),0),0),12)","v":212},92.841667175292969,null,null,null,null,null,null,null,null,null,null,null,null,null,null,75.099999999999994,{"$f":"AD155+(AD165-AD155)/10","v":12.66666669845581},{"$f":"IFERROR(ROUND((ROUNDDOWN(AD156,0)*12)+IFERROR(VLOOKUP(ROUND(AD156-(ROUNDDOWN(AD156,0)),1),_Esperanzas!$R$5:$S$18,2,TRUE),0),0),12)","v":152},87.766666698455808,{"$f":"AG155+(AG165-AG155)/10","v":15.741666412353515},{"$f":"IFERROR(ROUND((ROUNDDOWN(AG156,0)*12)+IFERROR(VLOOKUP(ROUND(AG156-(ROUNDDOWN(AG156,0)),1),_Esperanzas!$R$5:$S$18,2,TRUE),0),0),12)","v":188},90.841666412353504]
[null,null,null,null,null,null,null,75.2,{"$f":"I156+(I165-I155)/10","v":14.58333339691162},{"$f":"IFERROR(ROUND((ROUNDDOWN(I157,0)*12)+IFERROR(VLOOKUP(ROUND(I157-(ROUNDDOWN(I157,0)),1),_Esperanzas!$R$5:$S$18,2,TRUE),0),0),12)","v":175},89.783333396911615,{"$f":"L156+(L165-L155)/10","v":17.650000381469724},{"$f":"IFERROR(ROUND((ROUNDDOWN(L157,0)*12)+IFERROR(VLOOKUP(ROUND(L157-(ROUNDDOWN(L157,0)),1),_Esperanzas!$R$5:$S$18,2,TRUE),0),0),12)","v":212},92.850000381469727,null,null,null,null,null,null,null,null,null,null,null,null,null,null,75.2,{"$f":"AD156+(AD165-AD155)/10","v":12.58333339691162},{"$f":"IFERROR(ROUND((ROUNDDOWN(AD157,0)*12)+IFERROR(VLOOKUP(ROUND(AD157-(ROUNDDOWN(AD157,0)),1),_Esperanzas!$R$5:$S$18,2,TRUE),0),0),12)","v":151},87.783333396911615,{"$f":"AG156+(AG165-AG155)/10","v":15.649999809265136},{"$f":"IFERROR(ROUND((ROUNDDOWN(AG157,0)*12)+IFERROR(VLOOKUP(ROUND(AG157-(ROUNDDOWN(AG157,0)),1),_Esperanzas!$R$5:$S$18,2,TRUE),0),0),12)","v":187},90.849999809265142]
[null,null,null,null,null,null,null,75.3,{"$f":"I157+(I165-I155)/10","v":14.50000009536743},{"$f":"IFERROR(ROUND((ROUNDDOWN(I158,0)*12)+IFERROR(VLOOKUP(ROUND(I158-(ROUNDDOWN(I158,0)),1),_Esperanzas!$R$5:$S$18,2,TRUE),0),0),12)","v":174},89.800000095367423,{"$f":"L157+(L165-L155)/10","v":17.55833358764648},{"$f":"IFERROR(ROUND((ROUNDDOWN(L158,0)*12)+IFERROR(VLOOKUP(ROUND(L158-(ROUNDDOWN(L158,0)),1),_Esperanzas!$R$5:$S$18,2,TRUE),0),0),12)","v":211},92.858333587646484,null,null,null,null,null,null,null,null,null,null,null,null,null,null,75.3,{"$f":"AD157+(AD165-AD155)/10","v":12.50000009536743},{"$f":"IFERROR(ROUND((ROUNDDOWN(AD158,0)*12)+IFERROR(VLOOKUP(ROUND(AD158-(ROUNDDOWN(AD158,0)),1),_Esperanzas!$R$5:$S$18,2,TRUE),0),0),12)","v":150},87.800000095367423,{"$f":"AG157+(AG165-AG155)/10","v":15.558333206176757},{"$f":"IFERROR(ROUND((ROUNDDOWN(AG158,0)*12)+IFERROR(VLOOKUP(ROUND(AG158-(ROUNDDOWN(AG158,0)),1),_Esperanzas!$R$5:$S$18,2,TRUE),0),0),12)","v":187},90.858333206176752]
[null,null,null,null,null,null,null,75.400000000000006,{"$f":"I158+(I165-I155)/10","v":14.416666793823239},{"$f":"IFERROR(ROUND((ROUNDDOWN(I159,0)*12)+IFERROR(VLOOKUP(ROUND(I159-(ROUNDDOWN(I159,0)),1),_Esperanzas!$R$5:$S$18,2,TRUE),0),0),12)","v":172},89.816666793823245,{"$f":"L158+(L165-L155)/10","v":17.466666793823237},{"$f":"IFERROR(ROUND((ROUNDDOWN(L159,0)*12)+IFERROR(VLOOKUP(ROUND(L159-(ROUNDDOWN(L159,0)),1),_Esperanzas!$R$5:$S$18,2,TRUE),0),0),12)","v":210},92.866666793823242,null,null,null,null,null,null,null,null,null,null,null,null,null,null,75.400000000000006,{"$f":"AD158+(AD165-AD155)/10","v":12.416666793823239},{"$f":"IFERROR(ROUND((ROUNDDOWN(AD159,0)*12)+IFERROR(VLOOKUP(ROUND(AD159-(ROUNDDOWN(AD159,0)),1),_Esperanzas!$R$5:$S$18,2,TRUE),0),0),12)","v":148},87.816666793823245,{"$f":"AG158+(AG165-AG155)/10","v":15.466666603088377},{"$f":"IFERROR(ROUND((ROUNDDOWN(AG159,0)*12)+IFERROR(VLOOKUP(ROUND(AG159-(ROUNDDOWN(AG159,0)),1),_Esperanzas!$R$5:$S$18,2,TRUE),0),0),12)","v":186},90.86666660308839]
[null,null,null,null,null,null,null,75.5,{"$f":"I159+(I165-I155)/10","v":14.333333492279049},{"$f":"IFERROR(ROUND((ROUNDDOWN(I160,0)*12)+IFERROR(VLOOKUP(ROUND(I160-(ROUNDDOWN(I160,0)),1),_Esperanzas!$R$5:$S$18,2,TRUE),0),0),12)","v":171},89.833333492279053,{"$f":"L159+(L165-L155)/10","v":17.374999999999993},{"$f":"IFERROR(ROUND((ROUNDDOWN(L160,0)*12)+IFERROR(VLOOKUP(ROUND(L160-(ROUNDDOWN(L160,0)),1),_Esperanzas!$R$5:$S$18,2,TRUE),0),0),12)","v":208},92.875,null,null,null,null,null,null,null,null,null,null,null,null,null,null,75.5,{"$f":"AD159+(AD165-AD155)/10","v":12.333333492279049},{"$f":"IFERROR(ROUND((ROUNDDOWN(AD160,0)*12)+IFERROR(VLOOKUP(ROUND(AD160-(ROUNDDOWN(AD160,0)),1),_Esperanzas!$R$5:$S$18,2,TRUE),0),0),12)","v":147},87.833333492279053,{"$f":"AG159+(AG165-AG155)/10","v":15.374999999999998},{"$f":"IFERROR(ROUND((ROUNDDOWN(AG160,0)*12)+IFERROR(VLOOKUP(ROUND(AG160-(ROUNDDOWN(AG160,0)),1),_Esperanzas!$R$5:$S$18,2,TRUE),0),0),12)","v":184},90.875]
[null,null,null,null,null,null,null,75.599999999999994,{"$f":"I160+(I165-I155)/10","v":14.250000190734859},{"$f":"IFERROR(ROUND((ROUNDDOWN(I161,0)*12)+IFERROR(VLOOKUP(ROUND(I161-(ROUNDDOWN(I161,0)),1),_Esperanzas!$R$5:$S$18,2,TRUE),0),0),12)","v":171},89.850000190734846,{"$f":"L160+(L165-L155)/10","v":17.283333206176749},{"$f":"IFERROR(ROUND((ROUNDDOWN(L161,0)*12)+IFERROR(VLOOKUP(ROUND(L161-(ROUNDDOWN(L161,0)),1),_Esperanzas!$R$5:$S$18,2,TRUE),0),0),12)","v":207},92.883333206176744,null,null,null,null,null,null,null,null,null,null,null,null,null,null,75.599999999999994,{"$f":"AD160+(AD165-AD155)/10","v":12.250000190734859},{"$f":"IFERROR(ROUND((ROUNDDOWN(AD161,0)*12)+IFERROR(VLOOKUP(ROUND(AD161-(ROUNDDOWN(AD161,0)),1),_Esperanzas!$R$5:$S$18,2,TRUE),0),0),12)","v":147},87.850000190734846,{"$f":"AG160+(AG165-AG155)/10","v":15.283333396911619},{"$f":"IFERROR(ROUND((ROUNDDOWN(AG161,0)*12)+IFERROR(VLOOKUP(ROUND(AG161-(ROUNDDOWN(AG161,0)),1),_Esperanzas!$R$5:$S$18,2,TRUE),0),0),12)","v":183},90.88333339691161]
[null,null,null,null,null,null,null,75.7,{"$f":"I161+(I165-I155)/10","v":14.166666889190669},{"$f":"IFERROR(ROUND((ROUNDDOWN(I162,0)*12)+IFERROR(VLOOKUP(ROUND(I162-(ROUNDDOWN(I162,0)),1),_Esperanzas!$R$5:$S$18,2,TRUE),0),0),12)","v":170},89.866666889190668,{"$f":"L161+(L165-L155)/10","v":17.191666412353506},{"$f":"IFERROR(ROUND((ROUNDDOWN(L162,0)*12)+IFERROR(VLOOKUP(ROUND(L162-(ROUNDDOWN(L162,0)),1),_Esperanzas!$R$5:$S$18,2,TRUE),0),0),12)","v":206},92.891666412353516,null,null,null,null,null,null,null,null,null,null,null,null,null,null,75.7,{"$f":"AD161+(AD165-AD155)/10","v":12.166666889190669},{"$f":"IFERROR(ROUND((ROUNDDOWN(AD162,0)*12)+IFERROR(VLOOKUP(ROUND(AD162-(ROUNDDOWN(AD162,0)),1),_Esperanzas!$R$5:$S$18,2,TRUE),0),0),12)","v":146},87.866666889190668,{"$f":"AG161+(AG165-AG155)/10","v":15.19166679382324},{"$f":"IFERROR(ROUND((ROUNDDOWN(AG162,0)*12)+IFERROR(VLOOKUP(ROUND(AG162-(ROUNDDOWN(AG162,0)),1),_Esperanzas!$R$5:$S$18,2,TRUE),0),0),12)","v":182},90.891666793823248]
[null,null,null,null,null,null,null,75.8,{"$f":"I162+(I165-I155)/10","v":14.083333587646479},{"$f":"IFERROR(ROUND((ROUNDDOWN(I163,0)*12)+IFERROR(VLOOKUP(ROUND(I163-(ROUNDDOWN(I163,0)),1),_Esperanzas!$R$5:$S$18,2,TRUE),0),0),12)","v":169},89.883333587646476,{"$f":"L162+(L165-L155)/10","v":17.099999618530262},{"$f":"IFERROR(ROUND((ROUNDDOWN(L163,0)*12)+IFERROR(VLOOKUP(ROUND(L163-(ROUNDDOWN(L163,0)),1),_Esperanzas!$R$5:$S$18,2,TRUE),0),0),12)","v":205},92.899999618530259,null,null,null,null,null,null,null,null,null,null,null,null,null,null,75.8,{"$f":"AD162+(AD165-AD155)/10","v":12.083333587646479},{"$f":"IFERROR(ROUND((ROUNDDOWN(AD163,0)*12)+IFERROR(VLOOKUP(ROUND(AD163-(ROUNDDOWN(AD163,0)),1),_Esperanzas!$R$5:$S$18,2,TRUE),0),0),12)","v":145},87.883333587646476,{"$f":"AG162+(AG165-AG155)/10","v":15.10000019073486},{"$f":"IFERROR(ROUND((ROUNDDOWN(AG163,0)*12)+IFERROR(VLOOKUP(ROUND(AG163-(ROUNDDOWN(AG163,0)),1),_Esperanzas!$R$5:$S$18,2,TRUE),0),0),12)","v":181},90.900000190734858]
[null,null,null,null,null,null,null,75.900000000000006,{"$f":"I163+(I165-I155)/10","v":14.000000286102289},{"$f":"IFERROR(ROUND((ROUNDDOWN(I164,0)*12)+IFERROR(VLOOKUP(ROUND(I164-(ROUNDDOWN(I164,0)),1),_Esperanzas!$R$5:$S$18,2,TRUE),0),0),12)","v":168},89.900000286102298,{"$f":"L163+(L165-L155)/10","v":17.008332824707018},{"$f":"IFERROR(ROUND((ROUNDDOWN(L164,0)*12)+IFERROR(VLOOKUP(ROUND(L164-(ROUNDDOWN(L164,0)),1),_Esperanzas!$R$5:$S$18,2,TRUE),0),0),12)","v":204},92.908332824707031,null,null,null,null,null,null,null,null,null,null,null,null,null,null,75.900000000000006,{"$f":"AD163+(AD165-AD155)/10","v":12.000000286102289},{"$f":"IFERROR(ROUND((ROUNDDOWN(AD164,0)*12)+IFERROR(VLOOKUP(ROUND(AD164-(ROUNDDOWN(AD164,0)),1),_Esperanzas!$R$5:$S$18,2,TRUE),0),0),12)","v":144},87.900000286102298,{"$f":"AG163+(AG165-AG155)/10","v":15.008333587646481},{"$f":"IFERROR(ROUND((ROUNDDOWN(AG164,0)*12)+IFERROR(VLOOKUP(ROUND(AG164-(ROUNDDOWN(AG164,0)),1),_Esperanzas!$R$5:$S$18,2,TRUE),0),0),12)","v":180},90.908333587646482]
[null,null,null,null,null,null,null,76,{"$f":"VLOOKUP($H165,$B$5:$F$55,2,0)","v":13.916666984558105},{"$f":"IFERROR(ROUND((ROUNDDOWN(I165,0)*12)+IFERROR(VLOOKUP(ROUND(I165-(ROUNDDOWN(I165,0)),1),_Esperanzas!$R$5:$S$18,2,TRUE),0),0),12)","v":166},89.916666984558105,{"$f":"VLOOKUP($H165,$B$5:$F$55,4,0)","v":16.916666030883789},{"$f":"IFERROR(ROUND((ROUNDDOWN(L165,0)*12)+IFERROR(VLOOKUP(ROUND(L165-(ROUNDDOWN(L165,0)),1),_Esperanzas!$R$5:$S$18,2,TRUE),0),0),12)","v":202},92.916666030883789,null,null,null,null,null,null,null,null,null,null,null,null,null,null,76,{"$f":"VLOOKUP($AC165,$W$5:$AA$55,2,0)","v":11.916666984558105},{"$f":"IFERROR(ROUND((ROUNDDOWN(AD165,0)*12)+IFERROR(VLOOKUP(ROUND(AD165-(ROUNDDOWN(AD165,0)),1),_Esperanzas!$R$5:$S$18,2,TRUE),0),0),12)","v":142},87.916666984558105,{"$f":"VLOOKUP($AC165,$W$5:$AA$55,4,0)","v":14.916666984558105},{"$f":"IFERROR(ROUND((ROUNDDOWN(AG165,0)*12)+IFERROR(VLOOKUP(ROUND(AG165-(ROUNDDOWN(AG165,0)),1),_Esperanzas!$R$5:$S$18,2,TRUE),0),0),12)","v":178},90.916666984558105]
[null,null,null,null,null,null,null,76.099999999999994,{"$f":"I165+(I175-I165)/10","v":13.833333587646484},{"$f":"IFERROR(ROUND((ROUNDDOWN(I166,0)*12)+IFERROR(VLOOKUP(ROUND(I166-(ROUNDDOWN(I166,0)),1),_Esperanzas!$R$5:$S$18,2,TRUE),0),0),12)","v":165},89.933333587646473,{"$f":"L165+(L175-L165)/10","v":16.824999427795412},{"$f":"IFERROR(ROUND((ROUNDDOWN(L166,0)*12)+IFERROR(VLOOKUP(ROUND(L166-(ROUNDDOWN(L166,0)),1),_Esperanzas!$R$5:$S$18,2,TRUE),0),0),12)","v":201},92.924999427795399,null,null,null,null,null,null,null,null,null,null,null,null,null,null,76.099999999999994,{"$f":"AD165+(AD175-AD165)/10","v":11.841666984558106},{"$f":"IFERROR(ROUND((ROUNDDOWN(AD166,0)*12)+IFERROR(VLOOKUP(ROUND(AD166-(ROUNDDOWN(AD166,0)),1),_Esperanzas!$R$5:$S$18,2,TRUE),0),0),12)","v":141},87.941666984558097,{"$f":"AG165+(AG175-AG165)/10","v":14.825000286102295},{"$f":"IFERROR(ROUND((ROUNDDOWN(AG166,0)*12)+IFERROR(VLOOKUP(ROUND(AG166-(ROUNDDOWN(AG166,0)),1),_Esperanzas!$R$5:$S$18,2,TRUE),0),0),12)","v":177},90.925000286102289]
[null,null,null,null,null,null,null,76.2,{"$f":"I166+(I175-I165)/10","v":13.750000190734863},{"$f":"IFERROR(ROUND((ROUNDDOWN(I167,0)*12)+IFERROR(VLOOKUP(ROUND(I167-(ROUNDDOWN(I167,0)),1),_Esperanzas!$R$5:$S$18,2,TRUE),0),0),12)","v":165},89.950000190734869,{"$f":"L166+(L175-L165)/10","v":16.733332824707034},{"$f":"IFERROR(ROUND((ROUNDDOWN(L167,0)*12)+IFERROR(VLOOKUP(ROUND(L167-(ROUNDDOWN(L167,0)),1),_Esperanzas!$R$5:$S$18,2,TRUE),0),0),12)","v":200},92.933332824707037,null,null,null,null,null,null,null,null,null,null,null,null,null,null,76.2,{"$f":"AD166+(AD175-AD165)/10","v":11.766666984558107},{"$f":"IFERROR(ROUND((ROUNDDOWN(AD167,0)*12)+IFERROR(VLOOKUP(ROUND(AD167-(ROUNDDOWN(AD167,0)),1),_Esperanzas!$R$5:$S$18,2,TRUE),0),0),12)","v":141},87.966666984558117,{"$f":"AG166+(AG175-AG165)/10","v":14.733333587646484},{"$f":"IFERROR(ROUND((ROUNDDOWN(AG167,0)*12)+IFERROR(VLOOKUP(ROUND(AG167-(ROUNDDOWN(AG167,0)),1),_Esperanzas!$R$5:$S$18,2,TRUE),0),0),12)","v":176},90.933333587646487]
[null,null,null,null,null,null,null,76.3,{"$f":"I167+(I175-I165)/10","v":13.666666793823241},{"$f":"IFERROR(ROUND((ROUNDDOWN(I168,0)*12)+IFERROR(VLOOKUP(ROUND(I168-(ROUNDDOWN(I168,0)),1),_Esperanzas!$R$5:$S$18,2,TRUE),0),0),12)","v":164},89.966666793823237,{"$f":"L167+(L175-L165)/10","v":16.641666221618657},{"$f":"IFERROR(ROUND((ROUNDDOWN(L168,0)*12)+IFERROR(VLOOKUP(ROUND(L168-(ROUNDDOWN(L168,0)),1),_Esperanzas!$R$5:$S$18,2,TRUE),0),0),12)","v":199},92.941666221618647,null,null,null,null,null,null,null,null,null,null,null,null,null,null,76.3,{"$f":"AD167+(AD175-AD165)/10","v":11.691666984558108},{"$f":"IFERROR(ROUND((ROUNDDOWN(AD168,0)*12)+IFERROR(VLOOKUP(ROUND(AD168-(ROUNDDOWN(AD168,0)),1),_Esperanzas!$R$5:$S$18,2,TRUE),0),0),12)","v":140},87.991666984558108,{"$f":"AG167+(AG175-AG165)/10","v":14.641666889190674},{"$f":"IFERROR(ROUND((ROUNDDOWN(AG168,0)*12)+IFERROR(VLOOKUP(ROUND(AG168-(ROUNDDOWN(AG168,0)),1),_Esperanzas!$R$5:$S$18,2,TRUE),0),0),12)","v":175},90.941666889190671]
[null,null,null,null,null,null,null,76.400000000000006,{"$f":"I168+(I175-I165)/10","v":13.58333339691162},{"$f":"IFERROR(ROUND((ROUNDDOWN(I169,0)*12)+IFERROR(VLOOKUP(ROUND(I169-(ROUNDDOWN(I169,0)),1),_Esperanzas!$R$5:$S$18,2,TRUE),0),0),12)","v":163},89.983333396911632,{"$f":"L168+(L175-L165)/10","v":16.549999618530279},{"$f":"IFERROR(ROUND((ROUNDDOWN(L169,0)*12)+IFERROR(VLOOKUP(ROUND(L169-(ROUNDDOWN(L169,0)),1),_Esperanzas!$R$5:$S$18,2,TRUE),0),0),12)","v":198},92.949999618530285,null,null,null,null,null,null,null,null,null,null,null,null,null,null,76.400000000000006,{"$f":"AD168+(AD175-AD165)/10","v":11.616666984558108},{"$f":"IFERROR(ROUND((ROUNDDOWN(AD169,0)*12)+IFERROR(VLOOKUP(ROUND(AD169-(ROUNDDOWN(AD169,0)),1),_Esperanzas!$R$5:$S$18,2,TRUE),0),0),12)","v":139},88.016666984558114,{"$f":"AG168+(AG175-AG165)/10","v":14.550000190734863},{"$f":"IFERROR(ROUND((ROUNDDOWN(AG169,0)*12)+IFERROR(VLOOKUP(ROUND(AG169-(ROUNDDOWN(AG169,0)),1),_Esperanzas!$R$5:$S$18,2,TRUE),0),0),12)","v":175},90.950000190734869]
[null,null,null,null,null,null,null,76.5,{"$f":"I169+(I175-I165)/10","v":13.499999999999998},{"$f":"IFERROR(ROUND((ROUNDDOWN(I170,0)*12)+IFERROR(VLOOKUP(ROUND(I170-(ROUNDDOWN(I170,0)),1),_Esperanzas!$R$5:$S$18,2,TRUE),0),0),12)","v":162},90,{"$f":"L169+(L175-L165)/10","v":16.458333015441902},{"$f":"IFERROR(ROUND((ROUNDDOWN(L170,0)*12)+IFERROR(VLOOKUP(ROUND(L170-(ROUNDDOWN(L170,0)),1),_Esperanzas!$R$5:$S$18,2,TRUE),0),0),12)","v":198},92.958333015441895,null,null,null,null,null,null,null,null,null,null,null,null,null,null,76.5,{"$f":"AD169+(AD175-AD165)/10","v":11.541666984558109},{"$f":"IFERROR(ROUND((ROUNDDOWN(AD170,0)*12)+IFERROR(VLOOKUP(ROUND(AD170-(ROUNDDOWN(AD170,0)),1),_Esperanzas!$R$5:$S$18,2,TRUE),0),0),12)","v":138},88.041666984558105,{"$f":"AG169+(AG175-AG165)/10","v":14.458333492279053},{"$f":"IFERROR(ROUND((ROUNDDOWN(AG170,0)*12)+IFERROR(VLOOKUP(ROUND(AG170-(ROUNDDOWN(AG170,0)),1),_Esperanzas!$R$5:$S$18,2,TRUE),0),0),12)","v":174},90.958333492279053]
[null,null,null,null,null,null,null,76.599999999999994,{"$f":"I170+(I175-I165)/10","v":13.416666603088377},{"$f":"IFERROR(ROUND((ROUNDDOWN(I171,0)*12)+IFERROR(VLOOKUP(ROUND(I171-(ROUNDDOWN(I171,0)),1),_Esperanzas!$R$5:$S$18,2,TRUE),0),0),12)","v":160},90.016666603088368,{"$f":"L170+(L175-L165)/10","v":16.366666412353524},{"$f":"IFERROR(ROUND((ROUNDDOWN(L171,0)*12)+IFERROR(VLOOKUP(ROUND(L171-(ROUNDDOWN(L171,0)),1),_Esperanzas!$R$5:$S$18,2,TRUE),0),0),12)","v":196},92.966666412353518,null,null,null,null,null,null,null,null,null,null,null,null,null,null,76.599999999999994,{"$f":"AD170+(AD175-AD165)/10","v":11.46666698455811},{"$f":"IFERROR(ROUND((ROUNDDOWN(AD171,0)*12)+IFERROR(VLOOKUP(ROUND(AD171-(ROUNDDOWN(AD171,0)),1),_Esperanzas!$R$5:$S$18,2,TRUE),0),0),12)","v":138},88.066666984558111,{"$f":"AG170+(AG175-AG165)/10","v":14.366666793823242},{"$f":"IFERROR(ROUND((ROUNDDOWN(AG171,0)*12)+IFERROR(VLOOKUP(ROUND(AG171-(ROUNDDOWN(AG171,0)),1),_Esperanzas!$R$5:$S$18,2,TRUE),0),0),12)","v":172},90.966666793823237]
[null,null,null,null,null,null,null,76.7,{"$f":"I171+(I175-I165)/10","v":13.333333206176755},{"$f":"IFERROR(ROUND((ROUNDDOWN(I172,0)*12)+IFERROR(VLOOKUP(ROUND(I172-(ROUNDDOWN(I172,0)),1),_Esperanzas!$R$5:$S$18,2,TRUE),0),0),12)","v":159},90.033333206176763,{"$f":"L171+(L175-L165)/10","v":16.274999809265147},{"$f":"IFERROR(ROUND((ROUNDDOWN(L172,0)*12)+IFERROR(VLOOKUP(ROUND(L172-(ROUNDDOWN(L172,0)),1),_Esperanzas!$R$5:$S$18,2,TRUE),0),0),12)","v":195},92.974999809265142,null,null,null,null,null,null,null,null,null,null,null,null,null,null,76.7,{"$f":"AD171+(AD175-AD165)/10","v":11.39166698455811},{"$f":"IFERROR(ROUND((ROUNDDOWN(AD172,0)*12)+IFERROR(VLOOKUP(ROUND(AD172-(ROUNDDOWN(AD172,0)),1),_Esperanzas!$R$5:$S$18,2,TRUE),0),0),12)","v":136},88.091666984558117,{"$f":"AG171+(AG175-AG165)/10","v":14.275000095367432},{"$f":"IFERROR(ROUND((ROUNDDOWN(AG172,0)*12)+IFERROR(VLOOKUP(ROUND(AG172-(ROUNDDOWN(AG172,0)),1),_Esperanzas!$R$5:$S$18,2,TRUE),0),0),12)","v":171},90.975000095367434]
[null,null,null,null,null,null,null,76.8,{"$f":"I172+(I175-I165)/10","v":13.249999809265134},{"$f":"IFERROR(ROUND((ROUNDDOWN(I173,0)*12)+IFERROR(VLOOKUP(ROUND(I173-(ROUNDDOWN(I173,0)),1),_Esperanzas!$R$5:$S$18,2,TRUE),0),0),12)","v":158},90.049999809265131,{"$f":"L172+(L175-L165)/10","v":16.183333206176769},{"$f":"IFERROR(ROUND((ROUNDDOWN(L173,0)*12)+IFERROR(VLOOKUP(ROUND(L173-(ROUNDDOWN(L173,0)),1),_Esperanzas!$R$5:$S$18,2,TRUE),0),0),12)","v":194},92.983333206176766,null,null,null,null,null,null,null,null,null,null,null,null,null,null,76.8,{"$f":"AD172+(AD175-AD165)/10","v":11.316666984558111},{"$f":"IFERROR(ROUND((ROUNDDOWN(AD173,0)*12)+IFERROR(VLOOKUP(ROUND(AD173-(ROUNDDOWN(AD173,0)),1),_Esperanzas!$R$5:$S$18,2,TRUE),0),0),12)","v":135},88.116666984558108,{"$f":"AG172+(AG175-AG165)/10","v":14.183333396911621},{"$f":"IFERROR(ROUND((ROUNDDOWN(AG173,0)*12)+IFERROR(VLOOKUP(ROUND(AG173-(ROUNDDOWN(AG173,0)),1),_Esperanzas!$R$5:$S$18,2,TRUE),0),0),12)","v":170},90.983333396911618]
[null,null,null,null,null,null,null,76.900000000000006,{"$f":"I173+(I175-I165)/10","v":13.166666412353512},{"$f":"IFERROR(ROUND((ROUNDDOWN(I174,0)*12)+IFERROR(VLOOKUP(ROUND(I174-(ROUNDDOWN(I174,0)),1),_Esperanzas!$R$5:$S$18,2,TRUE),0),0),12)","v":158},90.066666412353513,{"$f":"L173+(L175-L165)/10","v":16.091666603088392},{"$f":"IFERROR(ROUND((ROUNDDOWN(L174,0)*12)+IFERROR(VLOOKUP(ROUND(L174-(ROUNDDOWN(L174,0)),1),_Esperanzas!$R$5:$S$18,2,TRUE),0),0),12)","v":193},92.99166660308839,null,null,null,null,null,null,null,null,null,null,null,null,null,null,76.900000000000006,{"$f":"AD173+(AD175-AD165)/10","v":11.241666984558112},{"$f":"IFERROR(ROUND((ROUNDDOWN(AD174,0)*12)+IFERROR(VLOOKUP(ROUND(AD174-(ROUNDDOWN(AD174,0)),1),_Esperanzas!$R$5:$S$18,2,TRUE),0),0),12)","v":134},88.141666984558114,{"$f":"AG173+(AG175-AG165)/10","v":14.091666698455811},{"$f":"IFERROR(ROUND((ROUNDDOWN(AG174,0)*12)+IFERROR(VLOOKUP(ROUND(AG174-(ROUNDDOWN(AG174,0)),1),_Esperanzas!$R$5:$S$18,2,TRUE),0),0),12)","v":169},90.991666698455816]
[null,null,null,null,null,null,null,77,{"$f":"VLOOKUP($H175,$B$5:$F$55,2,0)","v":13.083333015441895},{"$f":"IFERROR(ROUND((ROUNDDOWN(I175,0)*12)+IFERROR(VLOOKUP(ROUND(I175-(ROUNDDOWN(I175,0)),1),_Esperanzas!$R$5:$S$18,2,TRUE),0),0),12)","v":157},90.083333015441895,{"$f":"VLOOKUP($H175,$B$5:$F$55,4,0)","v":16},{"$f":"IFERROR(ROUND((ROUNDDOWN(L175,0)*12)+IFERROR(VLOOKUP(ROUND(L175-(ROUNDDOWN(L175,0)),1),_Esperanzas!$R$5:$S$18,2,TRUE),0),0),12)","v":192},93,null,null,null,null,null,null,null,null,null,null,null,null,null,null,77,{"$f":"VLOOKUP($AC175,$W$5:$AA$55,2,0)","v":11.166666984558105},{"$f":"IFERROR(ROUND((ROUNDDOWN(AD175,0)*12)+IFERROR(VLOOKUP(ROUND(AD175-(ROUNDDOWN(AD175,0)),1),_Esperanzas!$R$5:$S$18,2,TRUE),0),0),12)","v":134},88.166666984558105,{"$f":"VLOOKUP($AC175,$W$5:$AA$55,4,0)","v":14},{"$f":"IFERROR(ROUND((ROUNDDOWN(AG175,0)*12)+IFERROR(VLOOKUP(ROUND(AG175-(ROUNDDOWN(AG175,0)),1),_Esperanzas!$R$5:$S$18,2,TRUE),0),0),12)","v":168},91]
[null,null,null,null,null,null,null,77.099999999999994,{"$f":"I175+(I185-I175)/10","v":12.999999713897704},{"$f":"IFERROR(ROUND((ROUNDDOWN(I176,0)*12)+IFERROR(VLOOKUP(ROUND(I176-(ROUNDDOWN(I176,0)),1),_Esperanzas!$R$5:$S$18,2,TRUE),0),0),12)","v":156},90.099999713897702,{"$f":"L175+(L185-L175)/10","v":15.908333301544189},{"$f":"IFERROR(ROUND((ROUNDDOWN(L176,0)*12)+IFERROR(VLOOKUP(ROUND(L176-(ROUNDDOWN(L176,0)),1),_Esperanzas!$R$5:$S$18,2,TRUE),0),0),12)","v":190},93.008333301544184,null,null,null,null,null,null,null,null,null,null,null,null,null,null,77.099999999999994,{"$f":"AD175+(AD185-AD175)/10","v":11.083333587646484},{"$f":"IFERROR(ROUND((ROUNDDOWN(AD176,0)*12)+IFERROR(VLOOKUP(ROUND(AD176-(ROUNDDOWN(AD176,0)),1),_Esperanzas!$R$5:$S$18,2,TRUE),0),0),12)","v":133},88.183333587646473,{"$f":"AG175+(AG185-AG175)/10","v":13.91666669845581},{"$f":"IFERROR(ROUND((ROUNDDOWN(AG176,0)*12)+IFERROR(VLOOKUP(ROUND(AG176-(ROUNDDOWN(AG176,0)),1),_Esperanzas!$R$5:$S$18,2,TRUE),0),0),12)","v":166},91.016666698455808]
[null,null,null,null,null,null,null,77.2,{"$f":"I176+(I185-I175)/10","v":12.916666412353514},{"$f":"IFERROR(ROUND((ROUNDDOWN(I177,0)*12)+IFERROR(VLOOKUP(ROUND(I177-(ROUNDDOWN(I177,0)),1),_Esperanzas!$R$5:$S$18,2,TRUE),0),0),12)","v":154},90.11666641235351,{"$f":"L176+(L185-L175)/10","v":15.816666603088379},{"$f":"IFERROR(ROUND((ROUNDDOWN(L177,0)*12)+IFERROR(VLOOKUP(ROUND(L177-(ROUNDDOWN(L177,0)),1),_Esperanzas!$R$5:$S$18,2,TRUE),0),0),12)","v":189},93.016666603088382,null,null,null,null,null,null,null,null,null,null,null,null,null,null,77.2,{"$f":"AD176+(AD185-AD175)/10","v":11.000000190734863},{"$f":"IFERROR(ROUND((ROUNDDOWN(AD177,0)*12)+IFERROR(VLOOKUP(ROUND(AD177-(ROUNDDOWN(AD177,0)),1),_Esperanzas!$R$5:$S$18,2,TRUE),0),0),12)","v":132},88.200000190734869,{"$f":"AG176+(AG185-AG175)/10","v":13.83333339691162},{"$f":"IFERROR(ROUND((ROUNDDOWN(AG177,0)*12)+IFERROR(VLOOKUP(ROUND(AG177-(ROUNDDOWN(AG177,0)),1),_Esperanzas!$R$5:$S$18,2,TRUE),0),0),12)","v":165},91.033333396911615]
[null,null,null,null,null,null,null,77.3,{"$f":"I177+(I185-I175)/10","v":12.833333110809324},{"$f":"IFERROR(ROUND((ROUNDDOWN(I178,0)*12)+IFERROR(VLOOKUP(ROUND(I178-(ROUNDDOWN(I178,0)),1),_Esperanzas!$R$5:$S$18,2,TRUE),0),0),12)","v":153},90.133333110809318,{"$f":"L177+(L185-L175)/10","v":15.724999904632568},{"$f":"IFERROR(ROUND((ROUNDDOWN(L178,0)*12)+IFERROR(VLOOKUP(ROUND(L178-(ROUNDDOWN(L178,0)),1),_Esperanzas!$R$5:$S$18,2,TRUE),0),0),12)","v":188},93.024999904632566,null,null,null,null,null,null,null,null,null,null,null,null,null,null,77.3,{"$f":"AD177+(AD185-AD175)/10","v":10.916666793823241},{"$f":"IFERROR(ROUND((ROUNDDOWN(AD178,0)*12)+IFERROR(VLOOKUP(ROUND(AD178-(ROUNDDOWN(AD178,0)),1),_Esperanzas!$R$5:$S$18,2,TRUE),0),0),12)","v":130},88.216666793823237,{"$f":"AG177+(AG185-AG175)/10","v":13.75000009536743},{"$f":"IFERROR(ROUND((ROUNDDOWN(AG178,0)*12)+IFERROR(VLOOKUP(ROUND(AG178-(ROUNDDOWN(AG178,0)),1),_Esperanzas!$R$5:$S$18,2,TRUE),0),0),12)","v":165},91.050000095367423]
[null,null,null,null,null,null,null,77.400000000000006,{"$f":"I178+(I185-I175)/10","v":12.749999809265134},{"$f":"IFERROR(ROUND((ROUNDDOWN(I179,0)*12)+IFERROR(VLOOKUP(ROUND(I179-(ROUNDDOWN(I179,0)),1),_Esperanzas!$R$5:$S$18,2,TRUE),0),0),12)","v":152},90.14999980926514,{"$f":"L178+(L185-L175)/10","v":15.633333206176758},{"$f":"IFERROR(ROUND((ROUNDDOWN(L179,0)*12)+IFERROR(VLOOKUP(ROUND(L179-(ROUNDDOWN(L179,0)),1),_Esperanzas!$R$5:$S$18,2,TRUE),0),0),12)","v":187},93.033333206176763,null,null,null,null,null,null,null,null,null,null,null,null,null,null,77.400000000000006,{"$f":"AD178+(AD185-AD175)/10","v":10.83333339691162},{"$f":"IFERROR(ROUND((ROUNDDOWN(AD179,0)*12)+IFERROR(VLOOKUP(ROUND(AD179-(ROUNDDOWN(AD179,0)),1),_Esperanzas!$R$5:$S$18,2,TRUE),0),0),12)","v":129},88.233333396911632,{"$f":"AG178+(AG185-AG175)/10","v":13.666666793823239},{"$f":"IFERROR(ROUND((ROUNDDOWN(AG179,0)*12)+IFERROR(VLOOKUP(ROUND(AG179-(ROUNDDOWN(AG179,0)),1),_Esperanzas!$R$5:$S$18,2,TRUE),0),0),12)","v":164},91.066666793823245]
[null,null,null,null,null,null,null,77.5,{"$f":"I179+(I185-I175)/10","v":12.666666507720944},{"$f":"IFERROR(ROUND((ROUNDDOWN(I180,0)*12)+IFERROR(VLOOKUP(ROUND(I180-(ROUNDDOWN(I180,0)),1),_Esperanzas!$R$5:$S$18,2,TRUE),0),0),12)","v":152},90.166666507720947,{"$f":"L179+(L185-L175)/10","v":15.541666507720947},{"$f":"IFERROR(ROUND((ROUNDDOWN(L180,0)*12)+IFERROR(VLOOKUP(ROUND(L180-(ROUNDDOWN(L180,0)),1),_Esperanzas!$R$5:$S$18,2,TRUE),0),0),12)","v":186},93.041666507720947,null,null,null,null,null,null,null,null,null,null,null,null,null,null,77.5,{"$f":"AD179+(AD185-AD175)/10","v":10.749999999999998},{"$f":"IFERROR(ROUND((ROUNDDOWN(AD180,0)*12)+IFERROR(VLOOKUP(ROUND(AD180-(ROUNDDOWN(AD180,0)),1),_Esperanzas!$R$5:$S$18,2,TRUE),0),0),12)","v":128},88.25,{"$f":"AG179+(AG185-AG175)/10","v":13.583333492279049},{"$f":"IFERROR(ROUND((ROUNDDOWN(AG180,0)*12)+IFERROR(VLOOKUP(ROUND(AG180-(ROUNDDOWN(AG180,0)),1),_Esperanzas!$R$5:$S$18,2,TRUE),0),0),12)","v":163},91.083333492279053]
[null,null,null,null,null,null,null,77.599999999999994,{"$f":"I180+(I185-I175)/10","v":12.583333206176754},{"$f":"IFERROR(ROUND((ROUNDDOWN(I181,0)*12)+IFERROR(VLOOKUP(ROUND(I181-(ROUNDDOWN(I181,0)),1),_Esperanzas!$R$5:$S$18,2,TRUE),0),0),12)","v":151},90.183333206176741,{"$f":"L180+(L185-L175)/10","v":15.449999809265137},{"$f":"IFERROR(ROUND((ROUNDDOWN(L181,0)*12)+IFERROR(VLOOKUP(ROUND(L181-(ROUNDDOWN(L181,0)),1),_Esperanzas!$R$5:$S$18,2,TRUE),0),0),12)","v":184},93.049999809265131,null,null,null,null,null,null,null,null,null,null,null,null,null,null,77.599999999999994,{"$f":"AD180+(AD185-AD175)/10","v":10.666666603088377},{"$f":"IFERROR(ROUND((ROUNDDOWN(AD181,0)*12)+IFERROR(VLOOKUP(ROUND(AD181-(ROUNDDOWN(AD181,0)),1),_Esperanzas!$R$5:$S$18,2,TRUE),0),0),12)","v":128},88.266666603088368,{"$f":"AG180+(AG185-AG175)/10","v":13.500000190734859},{"$f":"IFERROR(ROUND((ROUNDDOWN(AG181,0)*12)+IFERROR(VLOOKUP(ROUND(AG181-(ROUNDDOWN(AG181,0)),1),_Esperanzas!$R$5:$S$18,2,TRUE),0),0),12)","v":162},91.100000190734846]
[null,null,null,null,null,null,null,77.7,{"$f":"I181+(I185-I175)/10","v":12.499999904632563},{"$f":"IFERROR(ROUND((ROUNDDOWN(I182,0)*12)+IFERROR(VLOOKUP(ROUND(I182-(ROUNDDOWN(I182,0)),1),_Esperanzas!$R$5:$S$18,2,TRUE),0),0),12)","v":150},90.199999904632563,{"$f":"L181+(L185-L175)/10","v":15.358333110809326},{"$f":"IFERROR(ROUND((ROUNDDOWN(L182,0)*12)+IFERROR(VLOOKUP(ROUND(L182-(ROUNDDOWN(L182,0)),1),_Esperanzas!$R$5:$S$18,2,TRUE),0),0),12)","v":184},93.058333110809329,null,null,null,null,null,null,null,null,null,null,null,null,null,null,77.7,{"$f":"AD181+(AD185-AD175)/10","v":10.583333206176755},{"$f":"IFERROR(ROUND((ROUNDDOWN(AD182,0)*12)+IFERROR(VLOOKUP(ROUND(AD182-(ROUNDDOWN(AD182,0)),1),_Esperanzas!$R$5:$S$18,2,TRUE),0),0),12)","v":127},88.283333206176763,{"$f":"AG181+(AG185-AG175)/10","v":13.416666889190669},{"$f":"IFERROR(ROUND((ROUNDDOWN(AG182,0)*12)+IFERROR(VLOOKUP(ROUND(AG182-(ROUNDDOWN(AG182,0)),1),_Esperanzas!$R$5:$S$18,2,TRUE),0),0),12)","v":160},91.116666889190668]
[null,null,null,null,null,null,null,77.8,{"$f":"I182+(I185-I175)/10","v":12.416666603088373},{"$f":"IFERROR(ROUND((ROUNDDOWN(I183,0)*12)+IFERROR(VLOOKUP(ROUND(I183-(ROUNDDOWN(I183,0)),1),_Esperanzas!$R$5:$S$18,2,TRUE),0),0),12)","v":148},90.21666660308837,{"$f":"L182+(L185-L175)/10","v":15.266666412353516},{"$f":"IFERROR(ROUND((ROUNDDOWN(L183,0)*12)+IFERROR(VLOOKUP(ROUND(L183-(ROUNDDOWN(L183,0)),1),_Esperanzas!$R$5:$S$18,2,TRUE),0),0),12)","v":183},93.066666412353513,null,null,null,null,null,null,null,null,null,null,null,null,null,null,77.8,{"$f":"AD182+(AD185-AD175)/10","v":10.499999809265134},{"$f":"IFERROR(ROUND((ROUNDDOWN(AD183,0)*12)+IFERROR(VLOOKUP(ROUND(AD183-(ROUNDDOWN(AD183,0)),1),_Esperanzas!$R$5:$S$18,2,TRUE),0),0),12)","v":126},88.299999809265131,{"$f":"AG182+(AG185-AG175)/10","v":13.333333587646479},{"$f":"IFERROR(ROUND((ROUNDDOWN(AG183,0)*12)+IFERROR(VLOOKUP(ROUND(AG183-(ROUNDDOWN(AG183,0)),1),_Esperanzas!$R$5:$S$18,2,TRUE),0),0),12)","v":159},91.133333587646476]
[null,null,null,null,null,null,null,77.900000000000006,{"$f":"I183+(I185-I175)/10","v":12.333333301544183},{"$f":"IFERROR(ROUND((ROUNDDOWN(I184,0)*12)+IFERROR(VLOOKUP(ROUND(I184-(ROUNDDOWN(I184,0)),1),_Esperanzas!$R$5:$S$18,2,TRUE),0),0),12)","v":147},90.233333301544192,{"$f":"L183+(L185-L175)/10","v":15.174999713897705},{"$f":"IFERROR(ROUND((ROUNDDOWN(L184,0)*12)+IFERROR(VLOOKUP(ROUND(L184-(ROUNDDOWN(L184,0)),1),_Esperanzas!$R$5:$S$18,2,TRUE),0),0),12)","v":182},93.074999713897711,null,null,null,null,null,null,null,null,null,null,null,null,null,null,77.900000000000006,{"$f":"AD183+(AD185-AD175)/10","v":10.416666412353512},{"$f":"IFERROR(ROUND((ROUNDDOWN(AD184,0)*12)+IFERROR(VLOOKUP(ROUND(AD184-(ROUNDDOWN(AD184,0)),1),_Esperanzas!$R$5:$S$18,2,TRUE),0),0),12)","v":124},88.316666412353513,{"$f":"AG183+(AG185-AG175)/10","v":13.250000286102289},{"$f":"IFERROR(ROUND((ROUNDDOWN(AG184,0)*12)+IFERROR(VLOOKUP(ROUND(AG184-(ROUNDDOWN(AG184,0)),1),_Esperanzas!$R$5:$S$18,2,TRUE),0),0),12)","v":159},91.150000286102298]
[null,null,null,null,null,null,null,78,{"$f":"VLOOKUP($H185,$B$5:$F$55,2,0)","v":12.25},{"$f":"IFERROR(ROUND((ROUNDDOWN(I185,0)*12)+IFERROR(VLOOKUP(ROUND(I185-(ROUNDDOWN(I185,0)),1),_Esperanzas!$R$5:$S$18,2,TRUE),0),0),12)","v":147},90.25,{"$f":"VLOOKUP($H185,$B$5:$F$55,4,0)","v":15.083333015441895},{"$f":"IFERROR(ROUND((ROUNDDOWN(L185,0)*12)+IFERROR(VLOOKUP(ROUND(L185-(ROUNDDOWN(L185,0)),1),_Esperanzas!$R$5:$S$18,2,TRUE),0),0),12)","v":181},93.083333015441895,null,null,null,null,null,null,null,null,null,null,null,null,null,null,78,{"$f":"VLOOKUP($AC185,$W$5:$AA$55,2,0)","v":10.333333015441895},{"$f":"IFERROR(ROUND((ROUNDDOWN(AD185,0)*12)+IFERROR(VLOOKUP(ROUND(AD185-(ROUNDDOWN(AD185,0)),1),_Esperanzas!$R$5:$S$18,2,TRUE),0),0),12)","v":123},88.333333015441895,{"$f":"VLOOKUP($AC185,$W$5:$AA$55,4,0)","v":13.166666984558105},{"$f":"IFERROR(ROUND((ROUNDDOWN(AG185,0)*12)+IFERROR(VLOOKUP(ROUND(AG185-(ROUNDDOWN(AG185,0)),1),_Esperanzas!$R$5:$S$18,2,TRUE),0),0),12)","v":158},91.166666984558105]
[null,null,null,null,null,null,null,78.099999999999994,{"$f":"I185+(I195-I185)/10","v":12.175000000000001},{"$f":"IFERROR(ROUND((ROUNDDOWN(I186,0)*12)+IFERROR(VLOOKUP(ROUND(I186-(ROUNDDOWN(I186,0)),1),_Esperanzas!$R$5:$S$18,2,TRUE),0),0),12)","v":146},90.274999999999991,{"$f":"L185+(L195-L185)/10","v":14.991666412353515},{"$f":"IFERROR(ROUND((ROUNDDOWN(L186,0)*12)+IFERROR(VLOOKUP(ROUND(L186-(ROUNDDOWN(L186,0)),1),_Esperanzas!$R$5:$S$18,2,TRUE),0),0),12)","v":180},93.091666412353504,null,null,null,null,null,null,null,null,null,null,null,null,null,null,78.099999999999994,{"$f":"AD185+(AD195-AD185)/10","v":10.258333015441895},{"$f":"IFERROR(ROUND((ROUNDDOWN(AD186,0)*12)+IFERROR(VLOOKUP(ROUND(AD186-(ROUNDDOWN(AD186,0)),1),_Esperanzas!$R$5:$S$18,2,TRUE),0),0),12)","v":123},88.358333015441886,{"$f":"AG185+(AG195-AG185)/10","v":13.083333587646484},{"$f":"IFERROR(ROUND((ROUNDDOWN(AG186,0)*12)+IFERROR(VLOOKUP(ROUND(AG186-(ROUNDDOWN(AG186,0)),1),_Esperanzas!$R$5:$S$18,2,TRUE),0),0),12)","v":157},91.183333587646473]
[null,null,null,null,null,null,null,78.2,{"$f":"I186+(I195-I185)/10","v":12.100000000000001},{"$f":"IFERROR(ROUND((ROUNDDOWN(I187,0)*12)+IFERROR(VLOOKUP(ROUND(I187-(ROUNDDOWN(I187,0)),1),_Esperanzas!$R$5:$S$18,2,TRUE),0),0),12)","v":145},90.300000000000011,{"$f":"L186+(L195-L185)/10","v":14.899999809265136},{"$f":"IFERROR(ROUND((ROUNDDOWN(L187,0)*12)+IFERROR(VLOOKUP(ROUND(L187-(ROUNDDOWN(L187,0)),1),_Esperanzas!$R$5:$S$18,2,TRUE),0),0),12)","v":178},93.099999809265142,null,null,null,null,null,null,null,null,null,null,null,null,null,null,78.2,{"$f":"AD186+(AD195-AD185)/10","v":10.183333015441896},{"$f":"IFERROR(ROUND((ROUNDDOWN(AD187,0)*12)+IFERROR(VLOOKUP(ROUND(AD187-(ROUNDDOWN(AD187,0)),1),_Esperanzas!$R$5:$S$18,2,TRUE),0),0),12)","v":122},88.383333015441906,{"$f":"AG186+(AG195-AG185)/10","v":13.000000190734863},{"$f":"IFERROR(ROUND((ROUNDDOWN(AG187,0)*12)+IFERROR(VLOOKUP(ROUND(AG187-(ROUNDDOWN(AG187,0)),1),_Esperanzas!$R$5:$S$18,2,TRUE),0),0),12)","v":156},91.200000190734869]
[null,null,null,null,null,null,null,78.3,{"$f":"I187+(I195-I185)/10","v":12.025000000000002},{"$f":"IFERROR(ROUND((ROUNDDOWN(I188,0)*12)+IFERROR(VLOOKUP(ROUND(I188-(ROUNDDOWN(I188,0)),1),_Esperanzas!$R$5:$S$18,2,TRUE),0),0),12)","v":144},90.325000000000003,{"$f":"L187+(L195-L185)/10","v":14.808333206176757},{"$f":"IFERROR(ROUND((ROUNDDOWN(L188,0)*12)+IFERROR(VLOOKUP(ROUND(L188-(ROUNDDOWN(L188,0)),1),_Esperanzas!$R$5:$S$18,2,TRUE),0),0),12)","v":177},93.108333206176752,null,null,null,null,null,null,null,null,null,null,null,null,null,null,78.3,{"$f":"AD187+(AD195-AD185)/10","v":10.108333015441897},{"$f":"IFERROR(ROUND((ROUNDDOWN(AD188,0)*12)+IFERROR(VLOOKUP(ROUND(AD188-(ROUNDDOWN(AD188,0)),1),_Esperanzas!$R$5:$S$18,2,TRUE),0),0),12)","v":121},88.408333015441897,{"$f":"AG187+(AG195-AG185)/10","v":12.916666793823241},{"$f":"IFERROR(ROUND((ROUNDDOWN(AG188,0)*12)+IFERROR(VLOOKUP(ROUND(AG188-(ROUNDDOWN(AG188,0)),1),_Esperanzas!$R$5:$S$18,2,TRUE),0),0),12)","v":154},91.216666793823237]
[null,null,null,null,null,null,null,78.400000000000006,{"$f":"I188+(I195-I185)/10","v":11.950000000000003},{"$f":"IFERROR(ROUND((ROUNDDOWN(I189,0)*12)+IFERROR(VLOOKUP(ROUND(I189-(ROUNDDOWN(I189,0)),1),_Esperanzas!$R$5:$S$18,2,TRUE),0),0),12)","v":144},90.350000000000009,{"$f":"L188+(L195-L185)/10","v":14.716666603088377},{"$f":"IFERROR(ROUND((ROUNDDOWN(L189,0)*12)+IFERROR(VLOOKUP(ROUND(L189-(ROUNDDOWN(L189,0)),1),_Esperanzas!$R$5:$S$18,2,TRUE),0),0),12)","v":176},93.11666660308839,null,null,null,null,null,null,null,null,null,null,null,null,null,null,78.400000000000006,{"$f":"AD188+(AD195-AD185)/10","v":10.033333015441897},{"$f":"IFERROR(ROUND((ROUNDDOWN(AD189,0)*12)+IFERROR(VLOOKUP(ROUND(AD189-(ROUNDDOWN(AD189,0)),1),_Esperanzas!$R$5:$S$18,2,TRUE),0),0),12)","v":120},88.433333015441903,{"$f":"AG188+(AG195-AG185)/10","v":12.83333339691162},{"$f":"IFERROR(ROUND((ROUNDDOWN(AG189,0)*12)+IFERROR(VLOOKUP(ROUND(AG189-(ROUNDDOWN(AG189,0)),1),_Esperanzas!$R$5:$S$18,2,TRUE),0),0),12)","v":153},91.233333396911632]
[null,null,null,null,null,null,null,78.5,{"$f":"I189+(I195-I185)/10","v":11.875000000000004},{"$f":"IFERROR(ROUND((ROUNDDOWN(I190,0)*12)+IFERROR(VLOOKUP(ROUND(I190-(ROUNDDOWN(I190,0)),1),_Esperanzas!$R$5:$S$18,2,TRUE),0),0),12)","v":142},90.375,{"$f":"L189+(L195-L185)/10","v":14.624999999999998},{"$f":"IFERROR(ROUND((ROUNDDOWN(L190,0)*12)+IFERROR(VLOOKUP(ROUND(L190-(ROUNDDOWN(L190,0)),1),_Esperanzas!$R$5:$S$18,2,TRUE),0),0),12)","v":175},93.125,null,null,null,null,null,null,null,null,null,null,null,null,null,null,78.5,{"$f":"AD189+(AD195-AD185)/10","v":9.9583330154418981},{"$f":"IFERROR(ROUND((ROUNDDOWN(AD190,0)*12)+IFERROR(VLOOKUP(ROUND(AD190-(ROUNDDOWN(AD190,0)),1),_Esperanzas!$R$5:$S$18,2,TRUE),0),0),12)","v":120},88.458333015441895,{"$f":"AG189+(AG195-AG185)/10","v":12.749999999999998},{"$f":"IFERROR(ROUND((ROUNDDOWN(AG190,0)*12)+IFERROR(VLOOKUP(ROUND(AG190-(ROUNDDOWN(AG190,0)),1),_Esperanzas!$R$5:$S$18,2,TRUE),0),0),12)","v":152},91.25]
[null,null,null,null,null,null,null,78.599999999999994,{"$f":"I190+(I195-I185)/10","v":11.800000000000004},{"$f":"IFERROR(ROUND((ROUNDDOWN(I191,0)*12)+IFERROR(VLOOKUP(ROUND(I191-(ROUNDDOWN(I191,0)),1),_Esperanzas!$R$5:$S$18,2,TRUE),0),0),12)","v":141},90.4,{"$f":"L190+(L195-L185)/10","v":14.533333396911619},{"$f":"IFERROR(ROUND((ROUNDDOWN(L191,0)*12)+IFERROR(VLOOKUP(ROUND(L191-(ROUNDDOWN(L191,0)),1),_Esperanzas!$R$5:$S$18,2,TRUE),0),0),12)","v":174},93.13333339691161,null,null,null,null,null,null,null,null,null,null,null,null,null,null,78.599999999999994,{"$f":"AD190+(AD195-AD185)/10","v":9.8833330154418988},{"$f":"IFERROR(ROUND((ROUNDDOWN(AD191,0)*12)+IFERROR(VLOOKUP(ROUND(AD191-(ROUNDDOWN(AD191,0)),1),_Esperanzas!$R$5:$S$18,2,TRUE),0),0),12)","v":118},88.4833330154419,{"$f":"AG190+(AG195-AG185)/10","v":12.666666603088377},{"$f":"IFERROR(ROUND((ROUNDDOWN(AG191,0)*12)+IFERROR(VLOOKUP(ROUND(AG191-(ROUNDDOWN(AG191,0)),1),_Esperanzas!$R$5:$S$18,2,TRUE),0),0),12)","v":152},91.266666603088368]
[null,null,null,null,null,null,null,78.7,{"$f":"I191+(I195-I185)/10","v":11.725000000000005},{"$f":"IFERROR(ROUND((ROUNDDOWN(I192,0)*12)+IFERROR(VLOOKUP(ROUND(I192-(ROUNDDOWN(I192,0)),1),_Esperanzas!$R$5:$S$18,2,TRUE),0),0),12)","v":140},90.425000000000011,{"$f":"L191+(L195-L185)/10","v":14.44166679382324},{"$f":"IFERROR(ROUND((ROUNDDOWN(L192,0)*12)+IFERROR(VLOOKUP(ROUND(L192-(ROUNDDOWN(L192,0)),1),_Esperanzas!$R$5:$S$18,2,TRUE),0),0),12)","v":172},93.141666793823248,null,null,null,null,null,null,null,null,null,null,null,null,null,null,78.7,{"$f":"AD191+(AD195-AD185)/10","v":9.8083330154418995},{"$f":"IFERROR(ROUND((ROUNDDOWN(AD192,0)*12)+IFERROR(VLOOKUP(ROUND(AD192-(ROUNDDOWN(AD192,0)),1),_Esperanzas!$R$5:$S$18,2,TRUE),0),0),12)","v":117},88.508333015441906,{"$f":"AG191+(AG195-AG185)/10","v":12.583333206176755},{"$f":"IFERROR(ROUND((ROUNDDOWN(AG192,0)*12)+IFERROR(VLOOKUP(ROUND(AG192-(ROUNDDOWN(AG192,0)),1),_Esperanzas!$R$5:$S$18,2,TRUE),0),0),12)","v":151},91.283333206176763]
[null,null,null,null,null,null,null,78.8,{"$f":"I192+(I195-I185)/10","v":11.650000000000006},{"$f":"IFERROR(ROUND((ROUNDDOWN(I193,0)*12)+IFERROR(VLOOKUP(ROUND(I193-(ROUNDDOWN(I193,0)),1),_Esperanzas!$R$5:$S$18,2,TRUE),0),0),12)","v":140},90.45,{"$f":"L192+(L195-L185)/10","v":14.35000019073486},{"$f":"IFERROR(ROUND((ROUNDDOWN(L193,0)*12)+IFERROR(VLOOKUP(ROUND(L193-(ROUNDDOWN(L193,0)),1),_Esperanzas!$R$5:$S$18,2,TRUE),0),0),12)","v":172},93.150000190734858,null,null,null,null,null,null,null,null,null,null,null,null,null,null,78.8,{"$f":"AD192+(AD195-AD185)/10","v":9.7333330154419002},{"$f":"IFERROR(ROUND((ROUNDDOWN(AD193,0)*12)+IFERROR(VLOOKUP(ROUND(AD193-(ROUNDDOWN(AD193,0)),1),_Esperanzas!$R$5:$S$18,2,TRUE),0),0),12)","v":116},88.533333015441897,{"$f":"AG192+(AG195-AG185)/10","v":12.499999809265134},{"$f":"IFERROR(ROUND((ROUNDDOWN(AG193,0)*12)+IFERROR(VLOOKUP(ROUND(AG193-(ROUNDDOWN(AG193,0)),1),_Esperanzas!$R$5:$S$18,2,TRUE),0),0),12)","v":150},91.299999809265131]
[null,null,null,null,null,null,null,78.900000000000006,{"$f":"I193+(I195-I185)/10","v":11.575000000000006},{"$f":"IFERROR(ROUND((ROUNDDOWN(I194,0)*12)+IFERROR(VLOOKUP(ROUND(I194-(ROUNDDOWN(I194,0)),1),_Esperanzas!$R$5:$S$18,2,TRUE),0),0),12)","v":139},90.475000000000009,{"$f":"L193+(L195-L185)/10","v":14.258333587646481},{"$f":"IFERROR(ROUND((ROUNDDOWN(L194,0)*12)+IFERROR(VLOOKUP(ROUND(L194-(ROUNDDOWN(L194,0)),1),_Esperanzas!$R$5:$S$18,2,TRUE),0),0),12)","v":171},93.158333587646482,null,null,null,null,null,null,null,null,null,null,null,null,null,null,78.900000000000006,{"$f":"AD193+(AD195-AD185)/10","v":9.6583330154419009},{"$f":"IFERROR(ROUND((ROUNDDOWN(AD194,0)*12)+IFERROR(VLOOKUP(ROUND(AD194-(ROUNDDOWN(AD194,0)),1),_Esperanzas!$R$5:$S$18,2,TRUE),0),0),12)","v":116},88.558333015441903,{"$f":"AG193+(AG195-AG185)/10","v":12.416666412353512},{"$f":"IFERROR(ROUND((ROUNDDOWN(AG194,0)*12)+IFERROR(VLOOKUP(ROUND(AG194-(ROUNDDOWN(AG194,0)),1),_Esperanzas!$R$5:$S$18,2,TRUE),0),0),12)","v":148},91.316666412353513]
[null,null,null,null,null,null,null,79,{"$f":"VLOOKUP($H195,$B$5:$F$55,2,0)","v":11.5},{"$f":"IFERROR(ROUND((ROUNDDOWN(I195,0)*12)+IFERROR(VLOOKUP(ROUND(I195-(ROUNDDOWN(I195,0)),1),_Esperanzas!$R$5:$S$18,2,TRUE),0),0),12)","v":138},90.5,{"$f":"VLOOKUP($H195,$B$5:$F$55,4,0)","v":14.166666984558105},{"$f":"IFERROR(ROUND((ROUNDDOWN(L195,0)*12)+IFERROR(VLOOKUP(ROUND(L195-(ROUNDDOWN(L195,0)),1),_Esperanzas!$R$5:$S$18,2,TRUE),0),0),12)","v":170},93.166666984558105,null,null,null,null,null,null,null,null,null,null,null,null,null,null,79,{"$f":"VLOOKUP($AC195,$W$5:$AA$55,2,0)","v":9.5833330154418945},{"$f":"IFERROR(ROUND((ROUNDDOWN(AD195,0)*12)+IFERROR(VLOOKUP(ROUND(AD195-(ROUNDDOWN(AD195,0)),1),_Esperanzas!$R$5:$S$18,2,TRUE),0),0),12)","v":115},88.583333015441895,{"$f":"VLOOKUP($AC195,$W$5:$AA$55,4,0)","v":12.333333015441895},{"$f":"IFERROR(ROUND((ROUNDDOWN(AG195,0)*12)+IFERROR(VLOOKUP(ROUND(AG195-(ROUNDDOWN(AG195,0)),1),_Esperanzas!$R$5:$S$18,2,TRUE),0),0),12)","v":147},91.333333015441895]
[null,null,null,null,null,null,null,79.099999999999994,{"$f":"I195+(I205-I195)/10","v":11.425000000000001},{"$f":"IFERROR(ROUND((ROUNDDOWN(I196,0)*12)+IFERROR(VLOOKUP(ROUND(I196-(ROUNDDOWN(I196,0)),1),_Esperanzas!$R$5:$S$18,2,TRUE),0),0),12)","v":136},90.524999999999991,{"$f":"L195+(L205-L195)/10","v":14.083333587646484},{"$f":"IFERROR(ROUND((ROUNDDOWN(L196,0)*12)+IFERROR(VLOOKUP(ROUND(L196-(ROUNDDOWN(L196,0)),1),_Esperanzas!$R$5:$S$18,2,TRUE),0),0),12)","v":169},93.183333587646473,null,null,null,null,null,null,null,null,null,null,null,null,null,null,79.099999999999994,{"$f":"AD195+(AD205-AD195)/10","v":9.5166664123535156},{"$f":"IFERROR(ROUND((ROUNDDOWN(AD196,0)*12)+IFERROR(VLOOKUP(ROUND(AD196-(ROUNDDOWN(AD196,0)),1),_Esperanzas!$R$5:$S$18,2,TRUE),0),0),12)","v":114},88.61666641235351,{"$f":"AG195+(AG205-AG195)/10","v":12.249999713897704},{"$f":"IFERROR(ROUND((ROUNDDOWN(AG196,0)*12)+IFERROR(VLOOKUP(ROUND(AG196-(ROUNDDOWN(AG196,0)),1),_Esperanzas!$R$5:$S$18,2,TRUE),0),0),12)","v":146},91.349999713897702]
[null,null,null,null,null,null,null,79.2,{"$f":"I196+(I205-I195)/10","v":11.350000000000001},{"$f":"IFERROR(ROUND((ROUNDDOWN(I197,0)*12)+IFERROR(VLOOKUP(ROUND(I197-(ROUNDDOWN(I197,0)),1),_Esperanzas!$R$5:$S$18,2,TRUE),0),0),12)","v":136},90.550000000000011,{"$f":"L196+(L205-L195)/10","v":14.000000190734863},{"$f":"IFERROR(ROUND((ROUNDDOWN(L197,0)*12)+IFERROR(VLOOKUP(ROUND(L197-(ROUNDDOWN(L197,0)),1),_Esperanzas!$R$5:$S$18,2,TRUE),0),0),12)","v":168},93.200000190734869,null,null,null,null,null,null,null,null,null,null,null,null,null,null,79.2,{"$f":"AD196+(AD205-AD195)/10","v":9.4499998092651367},{"$f":"IFERROR(ROUND((ROUNDDOWN(AD197,0)*12)+IFERROR(VLOOKUP(ROUND(AD197-(ROUNDDOWN(AD197,0)),1),_Esperanzas!$R$5:$S$18,2,TRUE),0),0),12)","v":112},88.64999980926514,{"$f":"AG196+(AG205-AG195)/10","v":12.166666412353514},{"$f":"IFERROR(ROUND((ROUNDDOWN(AG197,0)*12)+IFERROR(VLOOKUP(ROUND(AG197-(ROUNDDOWN(AG197,0)),1),_Esperanzas!$R$5:$S$18,2,TRUE),0),0),12)","v":146},91.36666641235351]
[null,null,null,null,null,null,null,79.3,{"$f":"I197+(I205-I195)/10","v":11.275000000000002},{"$f":"IFERROR(ROUND((ROUNDDOWN(I198,0)*12)+IFERROR(VLOOKUP(ROUND(I198-(ROUNDDOWN(I198,0)),1),_Esperanzas!$R$5:$S$18,2,TRUE),0),0),12)","v":135},90.575000000000003,{"$f":"L197+(L205-L195)/10","v":13.916666793823241},{"$f":"IFERROR(ROUND((ROUNDDOWN(L198,0)*12)+IFERROR(VLOOKUP(ROUND(L198-(ROUNDDOWN(L198,0)),1),_Esperanzas!$R$5:$S$18,2,TRUE),0),0),12)","v":166},93.216666793823237,null,null,null,null,null,null,null,null,null,null,null,null,null,null,79.3,{"$f":"AD197+(AD205-AD195)/10","v":9.3833332061767578},{"$f":"IFERROR(ROUND((ROUNDDOWN(AD198,0)*12)+IFERROR(VLOOKUP(ROUND(AD198-(ROUNDDOWN(AD198,0)),1),_Esperanzas!$R$5:$S$18,2,TRUE),0),0),12)","v":112},88.683333206176755,{"$f":"AG197+(AG205-AG195)/10","v":12.083333110809324},{"$f":"IFERROR(ROUND((ROUNDDOWN(AG198,0)*12)+IFERROR(VLOOKUP(ROUND(AG198-(ROUNDDOWN(AG198,0)),1),_Esperanzas!$R$5:$S$18,2,TRUE),0),0),12)","v":145},91.383333110809318]
[null,null,null,null,null,null,null,{"$f":"ROUND(H198+0.1,1)","v":79.400000000000006},{"$f":"I198+(I205-I195)/10","v":11.200000000000003},{"$f":"IFERROR(ROUND((ROUNDDOWN(I199,0)*12)+IFERROR(VLOOKUP(ROUND(I199-(ROUNDDOWN(I199,0)),1),_Esperanzas!$R$5:$S$18,2,TRUE),0),0),12)","v":134},90.600000000000009,{"$f":"L198+(L205-L195)/10","v":13.83333339691162},{"$f":"IFERROR(ROUND((ROUNDDOWN(L199,0)*12)+IFERROR(VLOOKUP(ROUND(L199-(ROUNDDOWN(L199,0)),1),_Esperanzas!$R$5:$S$18,2,TRUE),0),0),12)","v":165},93.233333396911632,null,null,null,null,null,null,null,null,null,null,null,null,null,null,{"$f":"ROUND(AC198+0.1,1)","v":79.400000000000006},{"$f":"AD198+(AD205-AD195)/10","v":9.3166666030883789},{"$f":"IFERROR(ROUND((ROUNDDOWN(AD199,0)*12)+IFERROR(VLOOKUP(ROUND(AD199-(ROUNDDOWN(AD199,0)),1),_Esperanzas!$R$5:$S$18,2,TRUE),0),0),12)","v":111},88.716666603088385,{"$f":"AG198+(AG205-AG195)/10","v":11.999999809265134},{"$f":"IFERROR(ROUND((ROUNDDOWN(AG199,0)*12)+IFERROR(VLOOKUP(ROUND(AG199-(ROUNDDOWN(AG199,0)),1),_Esperanzas!$R$5:$S$18,2,TRUE),0),0),12)","v":144},91.39999980926514]
[null,null,null,null,null,null,null,79.5,{"$f":"I199+(I205-I195)/10","v":11.125000000000004},{"$f":"IFERROR(ROUND((ROUNDDOWN(I200,0)*12)+IFERROR(VLOOKUP(ROUND(I200-(ROUNDDOWN(I200,0)),1),_Esperanzas!$R$5:$S$18,2,TRUE),0),0),12)","v":133},90.625,{"$f":"L199+(L205-L195)/10","v":13.749999999999998},{"$f":"IFERROR(ROUND((ROUNDDOWN(L200,0)*12)+IFERROR(VLOOKUP(ROUND(L200-(ROUNDDOWN(L200,0)),1),_Esperanzas!$R$5:$S$18,2,TRUE),0),0),12)","v":164},93.25,null,null,null,null,null,null,null,null,null,null,null,null,null,null,79.5,{"$f":"AD199+(AD205-AD195)/10","v":9.25},{"$f":"IFERROR(ROUND((ROUNDDOWN(AD200,0)*12)+IFERROR(VLOOKUP(ROUND(AD200-(ROUNDDOWN(AD200,0)),1),_Esperanzas!$R$5:$S$18,2,TRUE),0),0),12)","v":111},88.75,{"$f":"AG199+(AG205-AG195)/10","v":11.916666507720944},{"$f":"IFERROR(ROUND((ROUNDDOWN(AG200,0)*12)+IFERROR(VLOOKUP(ROUND(AG200-(ROUNDDOWN(AG200,0)),1),_Esperanzas!$R$5:$S$18,2,TRUE),0),0),12)","v":142},91.416666507720947]
[null,null,null,null,null,null,null,79.599999999999994,{"$f":"I200+(I205-I195)/10","v":11.050000000000004},{"$f":"IFERROR(ROUND((ROUNDDOWN(I201,0)*12)+IFERROR(VLOOKUP(ROUND(I201-(ROUNDDOWN(I201,0)),1),_Esperanzas!$R$5:$S$18,2,TRUE),0),0),12)","v":133},90.65,{"$f":"L200+(L205-L195)/10","v":13.666666603088377},{"$f":"IFERROR(ROUND((ROUNDDOWN(L201,0)*12)+IFERROR(VLOOKUP(ROUND(L201-(ROUNDDOWN(L201,0)),1),_Esperanzas!$R$5:$S$18,2,TRUE),0),0),12)","v":164},{"$f":"L201+H201","v":93.266666603088368},null,null,null,null,null,null,null,null,null,null,null,null,null,null,79.599999999999994,{"$f":"AD200+(AD205-AD195)/10","v":9.1833333969116211},{"$f":"IFERROR(ROUND((ROUNDDOWN(AD201,0)*12)+IFERROR(VLOOKUP(ROUND(AD201-(ROUNDDOWN(AD201,0)),1),_Esperanzas!$R$5:$S$18,2,TRUE),0),0),12)","v":110},88.783333396911615,{"$f":"AG200+(AG205-AG195)/10","v":11.833333206176754},{"$f":"IFERROR(ROUND((ROUNDDOWN(AG201,0)*12)+IFERROR(VLOOKUP(ROUND(AG201-(ROUNDDOWN(AG201,0)),1),_Esperanzas!$R$5:$S$18,2,TRUE),0),0),12)","v":141},91.433333206176741]
[null,null,null,null,null,null,null,79.7,{"$f":"I201+(I205-I195)/10","v":10.975000000000005},{"$f":"IFERROR(ROUND((ROUNDDOWN(I202,0)*12)+IFERROR(VLOOKUP(ROUND(I202-(ROUNDDOWN(I202,0)),1),_Esperanzas!$R$5:$S$18,2,TRUE),0),0),12)","v":132},90.675000000000011,{"$f":"L201+(L205-L195)/10","v":13.583333206176755},{"$f":"IFERROR(ROUND((ROUNDDOWN(L202,0)*12)+IFERROR(VLOOKUP(ROUND(L202-(ROUNDDOWN(L202,0)),1),_Esperanzas!$R$5:$S$18,2,TRUE),0),0),12)","v":163},93.283333206176763,null,null,null,null,null,null,null,null,null,null,null,null,null,null,79.7,{"$f":"AD201+(AD205-AD195)/10","v":9.1166667938232422},{"$f":"IFERROR(ROUND((ROUNDDOWN(AD202,0)*12)+IFERROR(VLOOKUP(ROUND(AD202-(ROUNDDOWN(AD202,0)),1),_Esperanzas!$R$5:$S$18,2,TRUE),0),0),12)","v":109},88.816666793823245,{"$f":"AG201+(AG205-AG195)/10","v":11.749999904632563},{"$f":"IFERROR(ROUND((ROUNDDOWN(AG202,0)*12)+IFERROR(VLOOKUP(ROUND(AG202-(ROUNDDOWN(AG202,0)),1),_Esperanzas!$R$5:$S$18,2,TRUE),0),0),12)","v":140},91.449999904632563]
[null,null,null,null,null,null,null,79.8,{"$f":"I202+(I205-I195)/10","v":10.900000000000006},{"$f":"IFERROR(ROUND((ROUNDDOWN(I203,0)*12)+IFERROR(VLOOKUP(ROUND(I203-(ROUNDDOWN(I203,0)),1),_Esperanzas!$R$5:$S$18,2,TRUE),0),0),12)","v":130},90.7,{"$f":"L202+(L205-L195)/10","v":13.499999809265134},{"$f":"IFERROR(ROUND((ROUNDDOWN(L203,0)*12)+IFERROR(VLOOKUP(ROUND(L203-(ROUNDDOWN(L203,0)),1),_Esperanzas!$R$5:$S$18,2,TRUE),0),0),12)","v":162},93.299999809265131,null,null,null,null,null,null,null,null,null,null,null,null,null,null,79.8,{"$f":"AD202+(AD205-AD195)/10","v":9.0500001907348633},{"$f":"IFERROR(ROUND((ROUNDDOWN(AD203,0)*12)+IFERROR(VLOOKUP(ROUND(AD203-(ROUNDDOWN(AD203,0)),1),_Esperanzas!$R$5:$S$18,2,TRUE),0),0),12)","v":109},88.85000019073486,{"$f":"AG202+(AG205-AG195)/10","v":11.666666603088373},{"$f":"IFERROR(ROUND((ROUNDDOWN(AG203,0)*12)+IFERROR(VLOOKUP(ROUND(AG203-(ROUNDDOWN(AG203,0)),1),_Esperanzas!$R$5:$S$18,2,TRUE),0),0),12)","v":140},91.46666660308837]
[null,null,null,null,null,null,null,79.900000000000006,{"$f":"I203+(I205-I195)/10","v":10.825000000000006},{"$f":"IFERROR(ROUND((ROUNDDOWN(I204,0)*12)+IFERROR(VLOOKUP(ROUND(I204-(ROUNDDOWN(I204,0)),1),_Esperanzas!$R$5:$S$18,2,TRUE),0),0),12)","v":129},90.725000000000009,{"$f":"L203+(L205-L195)/10","v":13.416666412353512},{"$f":"IFERROR(ROUND((ROUNDDOWN(L204,0)*12)+IFERROR(VLOOKUP(ROUND(L204-(ROUNDDOWN(L204,0)),1),_Esperanzas!$R$5:$S$18,2,TRUE),0),0),12)","v":160},93.316666412353513,null,null,null,null,null,null,null,null,null,null,null,null,null,null,79.900000000000006,{"$f":"AD203+(AD205-AD195)/10","v":8.9833335876464844},{"$f":"IFERROR(ROUND((ROUNDDOWN(AD204,0)*12)+IFERROR(VLOOKUP(ROUND(AD204-(ROUNDDOWN(AD204,0)),1),_Esperanzas!$R$5:$S$18,2,TRUE),0),0),12)","v":108},88.88333358764649,{"$f":"AG203+(AG205-AG195)/10","v":11.583333301544183},{"$f":"IFERROR(ROUND((ROUNDDOWN(AG204,0)*12)+IFERROR(VLOOKUP(ROUND(AG204-(ROUNDDOWN(AG204,0)),1),_Esperanzas!$R$5:$S$18,2,TRUE),0),0),12)","v":139},91.483333301544192]
[null,null,null,null,null,null,null,80,{"$f":"VLOOKUP($H205,$B$5:$F$55,2,0)","v":10.75},{"$f":"IFERROR(ROUND((ROUNDDOWN(I205,0)*12)+IFERROR(VLOOKUP(ROUND(I205-(ROUNDDOWN(I205,0)),1),_Esperanzas!$R$5:$S$18,2,TRUE),0),0),12)","v":129},90.75,{"$f":"VLOOKUP($H205,$B$5:$F$55,4,0)","v":13.333333015441895},{"$f":"IFERROR(ROUND((ROUNDDOWN(L205,0)*12)+IFERROR(VLOOKUP(ROUND(L205-(ROUNDDOWN(L205,0)),1),_Esperanzas!$R$5:$S$18,2,TRUE),0),0),12)","v":159},93.333333015441895,null,null,null,null,null,null,null,null,null,null,null,null,null,null,80,{"$f":"VLOOKUP($AC205,$W$5:$AA$55,2,0)","v":8.9166669845581055},{"$f":"IFERROR(ROUND((ROUNDDOWN(AD205,0)*12)+IFERROR(VLOOKUP(ROUND(AD205-(ROUNDDOWN(AD205,0)),1),_Esperanzas!$R$5:$S$18,2,TRUE),0),0),12)","v":106},88.916666984558105,{"$f":"VLOOKUP($AC205,$W$5:$AA$55,4,0)","v":11.5},{"$f":"IFERROR(ROUND((ROUNDDOWN(AG205,0)*12)+IFERROR(VLOOKUP(ROUND(AG205-(ROUNDDOWN(AG205,0)),1),_Esperanzas!$R$5:$S$18,2,TRUE),0),0),12)","v":138},91.5]
[null,null,null,null,null,null,null,80.099999999999994,{"$f":"I205+(I215-I205)/10","v":10.675000000000001},{"$f":"IFERROR(ROUND((ROUNDDOWN(I206,0)*12)+IFERROR(VLOOKUP(ROUND(I206-(ROUNDDOWN(I206,0)),1),_Esperanzas!$R$5:$S$18,2,TRUE),0),0),12)","v":128},90.774999999999991,{"$f":"L205+(L215-L205)/10","v":13.249999713897704},{"$f":"IFERROR(ROUND((ROUNDDOWN(L206,0)*12)+IFERROR(VLOOKUP(ROUND(L206-(ROUNDDOWN(L206,0)),1),_Esperanzas!$R$5:$S$18,2,TRUE),0),0),12)","v":158},93.349999713897702,null,null,null,null,null,null,null,null,null,null,null,null,null,null,80.099999999999994,{"$f":"AD205+(AD215-AD205)/10","v":8.8500002861022953},{"$f":"IFERROR(ROUND((ROUNDDOWN(AD206,0)*12)+IFERROR(VLOOKUP(ROUND(AD206-(ROUNDDOWN(AD206,0)),1),_Esperanzas!$R$5:$S$18,2,TRUE),0),0),12)","v":106},88.950000286102295,{"$f":"AG205+(AG215-AG205)/10","v":11.41666669845581},{"$f":"IFERROR(ROUND((ROUNDDOWN(AG206,0)*12)+IFERROR(VLOOKUP(ROUND(AG206-(ROUNDDOWN(AG206,0)),1),_Esperanzas!$R$5:$S$18,2,TRUE),0),0),12)","v":136},91.516666698455808]
[null,null,null,null,null,null,null,80.2,{"$f":"I206+(I215-I205)/10","v":10.600000000000001},{"$f":"IFERROR(ROUND((ROUNDDOWN(I207,0)*12)+IFERROR(VLOOKUP(ROUND(I207-(ROUNDDOWN(I207,0)),1),_Esperanzas!$R$5:$S$18,2,TRUE),0),0),12)","v":127},90.800000000000011,{"$f":"L206+(L215-L205)/10","v":13.166666412353514},{"$f":"IFERROR(ROUND((ROUNDDOWN(L207,0)*12)+IFERROR(VLOOKUP(ROUND(L207-(ROUNDDOWN(L207,0)),1),_Esperanzas!$R$5:$S$18,2,TRUE),0),0),12)","v":158},93.36666641235351,null,null,null,null,null,null,null,null,null,null,null,null,null,null,80.2,{"$f":"AD206+(AD215-AD205)/10","v":8.7833335876464851},{"$f":"IFERROR(ROUND((ROUNDDOWN(AD207,0)*12)+IFERROR(VLOOKUP(ROUND(AD207-(ROUNDDOWN(AD207,0)),1),_Esperanzas!$R$5:$S$18,2,TRUE),0),0),12)","v":105},88.983333587646484,{"$f":"AG206+(AG215-AG205)/10","v":11.33333339691162},{"$f":"IFERROR(ROUND((ROUNDDOWN(AG207,0)*12)+IFERROR(VLOOKUP(ROUND(AG207-(ROUNDDOWN(AG207,0)),1),_Esperanzas!$R$5:$S$18,2,TRUE),0),0),12)","v":135},91.533333396911615]
[null,null,null,null,null,null,null,80.3,{"$f":"I207+(I215-I205)/10","v":10.525000000000002},{"$f":"IFERROR(ROUND((ROUNDDOWN(I208,0)*12)+IFERROR(VLOOKUP(ROUND(I208-(ROUNDDOWN(I208,0)),1),_Esperanzas!$R$5:$S$18,2,TRUE),0),0),12)","v":126},90.825000000000003,{"$f":"L207+(L215-L205)/10","v":13.083333110809324},{"$f":"IFERROR(ROUND((ROUNDDOWN(L208,0)*12)+IFERROR(VLOOKUP(ROUND(L208-(ROUNDDOWN(L208,0)),1),_Esperanzas!$R$5:$S$18,2,TRUE),0),0),12)","v":157},93.383333110809318,null,null,null,null,null,null,null,null,null,null,null,null,null,null,80.3,{"$f":"AD207+(AD215-AD205)/10","v":8.7166668891906749},{"$f":"IFERROR(ROUND((ROUNDDOWN(AD208,0)*12)+IFERROR(VLOOKUP(ROUND(AD208-(ROUNDDOWN(AD208,0)),1),_Esperanzas!$R$5:$S$18,2,TRUE),0),0),12)","v":104},89.016666889190674,{"$f":"AG207+(AG215-AG205)/10","v":11.25000009536743},{"$f":"IFERROR(ROUND((ROUNDDOWN(AG208,0)*12)+IFERROR(VLOOKUP(ROUND(AG208-(ROUNDDOWN(AG208,0)),1),_Esperanzas!$R$5:$S$18,2,TRUE),0),0),12)","v":135},91.550000095367423]
[null,null,null,null,null,null,null,80.400000000000006,{"$f":"I208+(I215-I205)/10","v":10.450000000000003},{"$f":"IFERROR(ROUND((ROUNDDOWN(I209,0)*12)+IFERROR(VLOOKUP(ROUND(I209-(ROUNDDOWN(I209,0)),1),_Esperanzas!$R$5:$S$18,2,TRUE),0),0),12)","v":126},90.850000000000009,{"$f":"L208+(L215-L205)/10","v":12.999999809265134},{"$f":"IFERROR(ROUND((ROUNDDOWN(L209,0)*12)+IFERROR(VLOOKUP(ROUND(L209-(ROUNDDOWN(L209,0)),1),_Esperanzas!$R$5:$S$18,2,TRUE),0),0),12)","v":156},93.39999980926514,null,null,null,null,null,null,null,null,null,null,null,null,null,null,80.400000000000006,{"$f":"AD208+(AD215-AD205)/10","v":8.6500001907348647},{"$f":"IFERROR(ROUND((ROUNDDOWN(AD209,0)*12)+IFERROR(VLOOKUP(ROUND(AD209-(ROUNDDOWN(AD209,0)),1),_Esperanzas!$R$5:$S$18,2,TRUE),0),0),12)","v":104},89.050000190734863,{"$f":"AG208+(AG215-AG205)/10","v":11.166666793823239},{"$f":"IFERROR(ROUND((ROUNDDOWN(AG209,0)*12)+IFERROR(VLOOKUP(ROUND(AG209-(ROUNDDOWN(AG209,0)),1),_Esperanzas!$R$5:$S$18,2,TRUE),0),0),12)","v":134},91.566666793823245]
[null,null,null,null,null,null,null,80.5,{"$f":"I209+(I215-I205)/10","v":10.375000000000004},{"$f":"IFERROR(ROUND((ROUNDDOWN(I210,0)*12)+IFERROR(VLOOKUP(ROUND(I210-(ROUNDDOWN(I210,0)),1),_Esperanzas!$R$5:$S$18,2,TRUE),0),0),12)","v":124},90.875,{"$f":"L209+(L215-L205)/10","v":12.916666507720944},{"$f":"IFERROR(ROUND((ROUNDDOWN(L210,0)*12)+IFERROR(VLOOKUP(ROUND(L210-(ROUNDDOWN(L210,0)),1),_Esperanzas!$R$5:$S$18,2,TRUE),0),0),12)","v":154},93.416666507720947,null,null,null,null,null,null,null,null,null,null,null,null,null,null,80.5,{"$f":"AD209+(AD215-AD205)/10","v":8.5833334922790545},{"$f":"IFERROR(ROUND((ROUNDDOWN(AD210,0)*12)+IFERROR(VLOOKUP(ROUND(AD210-(ROUNDDOWN(AD210,0)),1),_Esperanzas!$R$5:$S$18,2,TRUE),0),0),12)","v":103},89.083333492279053,{"$f":"AG209+(AG215-AG205)/10","v":11.083333492279049},{"$f":"IFERROR(ROUND((ROUNDDOWN(AG210,0)*12)+IFERROR(VLOOKUP(ROUND(AG210-(ROUNDDOWN(AG210,0)),1),_Esperanzas!$R$5:$S$18,2,TRUE),0),0),12)","v":133},91.583333492279053]
[null,null,null,null,null,null,null,80.599999999999994,{"$f":"I210+(I215-I205)/10","v":10.300000000000004},{"$f":"IFERROR(ROUND((ROUNDDOWN(I211,0)*12)+IFERROR(VLOOKUP(ROUND(I211-(ROUNDDOWN(I211,0)),1),_Esperanzas!$R$5:$S$18,2,TRUE),0),0),12)","v":123},{"$f":"I211+H211","v":90.9},{"$f":"L210+(L215-L205)/10","v":12.833333206176754},{"$f":"IFERROR(ROUND((ROUNDDOWN(L211,0)*12)+IFERROR(VLOOKUP(ROUND(L211-(ROUNDDOWN(L211,0)),1),_Esperanzas!$R$5:$S$18,2,TRUE),0),0),12)","v":153},93.433333206176741,null,null,null,null,null,null,null,null,null,null,null,null,null,null,80.599999999999994,{"$f":"AD210+(AD215-AD205)/10","v":8.5166667938232443},{"$f":"IFERROR(ROUND((ROUNDDOWN(AD211,0)*12)+IFERROR(VLOOKUP(ROUND(AD211-(ROUNDDOWN(AD211,0)),1),_Esperanzas!$R$5:$S$18,2,TRUE),0),0),12)","v":102},{"$f":"AD211+AC211","v":89.116666793823242},{"$f":"AG210+(AG215-AG205)/10","v":11.000000190734859},{"$f":"IFERROR(ROUND((ROUNDDOWN(AG211,0)*12)+IFERROR(VLOOKUP(ROUND(AG211-(ROUNDDOWN(AG211,0)),1),_Esperanzas!$R$5:$S$18,2,TRUE),0),0),12)","v":132},{"$f":"AG211+AC211","v":91.600000190734846}]
[null,null,null,null,null,null,null,80.7,{"$f":"I211+(I215-I205)/10","v":10.225000000000005},{"$f":"IFERROR(ROUND((ROUNDDOWN(I212,0)*12)+IFERROR(VLOOKUP(ROUND(I212-(ROUNDDOWN(I212,0)),1),_Esperanzas!$R$5:$S$18,2,TRUE),0),0),12)","v":122},90.925000000000011,{"$f":"L211+(L215-L205)/10","v":12.749999904632563},{"$f":"IFERROR(ROUND((ROUNDDOWN(L212,0)*12)+IFERROR(VLOOKUP(ROUND(L212-(ROUNDDOWN(L212,0)),1),_Esperanzas!$R$5:$S$18,2,TRUE),0),0),12)","v":152},93.449999904632563,null,null,null,null,null,null,null,null,null,null,null,null,null,null,80.7,{"$f":"AD211+(AD215-AD205)/10","v":8.4500000953674341},{"$f":"IFERROR(ROUND((ROUNDDOWN(AD212,0)*12)+IFERROR(VLOOKUP(ROUND(AD212-(ROUNDDOWN(AD212,0)),1),_Esperanzas!$R$5:$S$18,2,TRUE),0),0),12)","v":102},89.150000095367432,{"$f":"AG211+(AG215-AG205)/10","v":10.916666889190669},{"$f":"IFERROR(ROUND((ROUNDDOWN(AG212,0)*12)+IFERROR(VLOOKUP(ROUND(AG212-(ROUNDDOWN(AG212,0)),1),_Esperanzas!$R$5:$S$18,2,TRUE),0),0),12)","v":130},91.616666889190668]
[null,null,null,null,null,null,null,80.8,{"$f":"I212+(I215-I205)/10","v":10.150000000000006},{"$f":"IFERROR(ROUND((ROUNDDOWN(I213,0)*12)+IFERROR(VLOOKUP(ROUND(I213-(ROUNDDOWN(I213,0)),1),_Esperanzas!$R$5:$S$18,2,TRUE),0),0),12)","v":122},90.95,{"$f":"L212+(L215-L205)/10","v":12.666666603088373},{"$f":"IFERROR(ROUND((ROUNDDOWN(L213,0)*12)+IFERROR(VLOOKUP(ROUND(L213-(ROUNDDOWN(L213,0)),1),_Esperanzas!$R$5:$S$18,2,TRUE),0),0),12)","v":152},93.46666660308837,null,null,null,null,null,null,null,null,null,null,null,null,null,null,80.8,{"$f":"AD212+(AD215-AD205)/10","v":8.3833333969116239},{"$f":"IFERROR(ROUND((ROUNDDOWN(AD213,0)*12)+IFERROR(VLOOKUP(ROUND(AD213-(ROUNDDOWN(AD213,0)),1),_Esperanzas!$R$5:$S$18,2,TRUE),0),0),12)","v":100},89.183333396911621,{"$f":"AG212+(AG215-AG205)/10","v":10.833333587646479},{"$f":"IFERROR(ROUND((ROUNDDOWN(AG213,0)*12)+IFERROR(VLOOKUP(ROUND(AG213-(ROUNDDOWN(AG213,0)),1),_Esperanzas!$R$5:$S$18,2,TRUE),0),0),12)","v":129},91.633333587646476]
[null,null,null,null,null,null,null,80.900000000000006,{"$f":"I213+(I215-I205)/10","v":10.075000000000006},{"$f":"IFERROR(ROUND((ROUNDDOWN(I214,0)*12)+IFERROR(VLOOKUP(ROUND(I214-(ROUNDDOWN(I214,0)),1),_Esperanzas!$R$5:$S$18,2,TRUE),0),0),12)","v":121},90.975000000000009,{"$f":"L213+(L215-L205)/10","v":12.583333301544183},{"$f":"IFERROR(ROUND((ROUNDDOWN(L214,0)*12)+IFERROR(VLOOKUP(ROUND(L214-(ROUNDDOWN(L214,0)),1),_Esperanzas!$R$5:$S$18,2,TRUE),0),0),12)","v":151},93.483333301544192,null,null,null,null,null,null,null,null,null,null,null,null,null,null,80.900000000000006,{"$f":"AD213+(AD215-AD205)/10","v":8.3166666984558137},{"$f":"IFERROR(ROUND((ROUNDDOWN(AD214,0)*12)+IFERROR(VLOOKUP(ROUND(AD214-(ROUNDDOWN(AD214,0)),1),_Esperanzas!$R$5:$S$18,2,TRUE),0),0),12)","v":99},89.216666698455825,{"$f":"AG213+(AG215-AG205)/10","v":10.750000286102289},{"$f":"IFERROR(ROUND((ROUNDDOWN(AG214,0)*12)+IFERROR(VLOOKUP(ROUND(AG214-(ROUNDDOWN(AG214,0)),1),_Esperanzas!$R$5:$S$18,2,TRUE),0),0),12)","v":129},91.650000286102298]
[null,null,null,null,null,null,null,81,{"$f":"VLOOKUP($H215,$B$5:$F$55,2,0)","v":10},{"$f":"IFERROR(ROUND((ROUNDDOWN(I215,0)*12)+IFERROR(VLOOKUP(ROUND(I215-(ROUNDDOWN(I215,0)),1),_Esperanzas!$R$5:$S$18,2,TRUE),0),0),12)","v":120},91,{"$f":"VLOOKUP($H215,$B$5:$F$55,4,0)","v":12.5},{"$f":"IFERROR(ROUND((ROUNDDOWN(L215,0)*12)+IFERROR(VLOOKUP(ROUND(L215-(ROUNDDOWN(L215,0)),1),_Esperanzas!$R$5:$S$18,2,TRUE),0),0),12)","v":150},93.5,null,null,null,null,null,null,null,null,null,null,null,null,null,null,81,{"$f":"VLOOKUP($AC215,$W$5:$AA$55,2,0)","v":8.25},{"$f":"IFERROR(ROUND((ROUNDDOWN(AD215,0)*12)+IFERROR(VLOOKUP(ROUND(AD215-(ROUNDDOWN(AD215,0)),1),_Esperanzas!$R$5:$S$18,2,TRUE),0),0),12)","v":99},89.25,{"$f":"VLOOKUP($AC215,$W$5:$AA$55,4,0)","v":10.666666984558105},{"$f":"IFERROR(ROUND((ROUNDDOWN(AG215,0)*12)+IFERROR(VLOOKUP(ROUND(AG215-(ROUNDDOWN(AG215,0)),1),_Esperanzas!$R$5:$S$18,2,TRUE),0),0),12)","v":128},91.666666984558105]
[null,null,null,null,null,null,null,81.099999999999994,{"$f":"I215+(I225-I215)/10","v":9.9333333015441898},{"$f":"IFERROR(ROUND((ROUNDDOWN(I216,0)*12)+IFERROR(VLOOKUP(ROUND(I216-(ROUNDDOWN(I216,0)),1),_Esperanzas!$R$5:$S$18,2,TRUE),0),0),12)","v":118},91.033333301544189,{"$f":"L215+(L225-L215)/10","v":12.41666669845581},{"$f":"IFERROR(ROUND((ROUNDDOWN(L216,0)*12)+IFERROR(VLOOKUP(ROUND(L216-(ROUNDDOWN(L216,0)),1),_Esperanzas!$R$5:$S$18,2,TRUE),0),0),12)","v":148},93.516666698455808,null,null,null,null,null,null,null,null,null,null,null,null,null,null,81.099999999999994,{"$f":"AD215+(AD225-AD215)/10","v":8.1916666507720954},{"$f":"IFERROR(ROUND((ROUNDDOWN(AD216,0)*12)+IFERROR(VLOOKUP(ROUND(AD216-(ROUNDDOWN(AD216,0)),1),_Esperanzas!$R$5:$S$18,2,TRUE),0),0),12)","v":98},89.291666650772086,{"$f":"AG215+(AG225-AG215)/10","v":10.591666984558106},{"$f":"IFERROR(ROUND((ROUNDDOWN(AG216,0)*12)+IFERROR(VLOOKUP(ROUND(AG216-(ROUNDDOWN(AG216,0)),1),_Esperanzas!$R$5:$S$18,2,TRUE),0),0),12)","v":127},91.691666984558097]
[null,null,null,null,null,null,null,81.2,{"$f":"I216+(I225-I215)/10","v":9.8666666030883796},{"$f":"IFERROR(ROUND((ROUNDDOWN(I217,0)*12)+IFERROR(VLOOKUP(ROUND(I217-(ROUNDDOWN(I217,0)),1),_Esperanzas!$R$5:$S$18,2,TRUE),0),0),12)","v":118},91.066666603088379,{"$f":"L216+(L225-L215)/10","v":12.33333339691162},{"$f":"IFERROR(ROUND((ROUNDDOWN(L217,0)*12)+IFERROR(VLOOKUP(ROUND(L217-(ROUNDDOWN(L217,0)),1),_Esperanzas!$R$5:$S$18,2,TRUE),0),0),12)","v":147},93.533333396911615,null,null,null,null,null,null,null,null,null,null,null,null,null,null,81.2,{"$f":"AD216+(AD225-AD215)/10","v":8.1333333015441909},{"$f":"IFERROR(ROUND((ROUNDDOWN(AD217,0)*12)+IFERROR(VLOOKUP(ROUND(AD217-(ROUNDDOWN(AD217,0)),1),_Esperanzas!$R$5:$S$18,2,TRUE),0),0),12)","v":97},89.333333301544201,{"$f":"AG216+(AG225-AG215)/10","v":10.516666984558107},{"$f":"IFERROR(ROUND((ROUNDDOWN(AG217,0)*12)+IFERROR(VLOOKUP(ROUND(AG217-(ROUNDDOWN(AG217,0)),1),_Esperanzas!$R$5:$S$18,2,TRUE),0),0),12)","v":126},91.716666984558117]
[null,null,null,null,null,null,null,81.3,{"$f":"I217+(I225-I215)/10","v":9.7999999046325694},{"$f":"IFERROR(ROUND((ROUNDDOWN(I218,0)*12)+IFERROR(VLOOKUP(ROUND(I218-(ROUNDDOWN(I218,0)),1),_Esperanzas!$R$5:$S$18,2,TRUE),0),0),12)","v":117},91.099999904632568,{"$f":"L217+(L225-L215)/10","v":12.25000009536743},{"$f":"IFERROR(ROUND((ROUNDDOWN(L218,0)*12)+IFERROR(VLOOKUP(ROUND(L218-(ROUNDDOWN(L218,0)),1),_Esperanzas!$R$5:$S$18,2,TRUE),0),0),12)","v":147},93.550000095367423,null,null,null,null,null,null,null,null,null,null,null,null,null,null,81.3,{"$f":"AD217+(AD225-AD215)/10","v":8.0749999523162863},{"$f":"IFERROR(ROUND((ROUNDDOWN(AD218,0)*12)+IFERROR(VLOOKUP(ROUND(AD218-(ROUNDDOWN(AD218,0)),1),_Esperanzas!$R$5:$S$18,2,TRUE),0),0),12)","v":97},89.374999952316287,{"$f":"AG217+(AG225-AG215)/10","v":10.441666984558108},{"$f":"IFERROR(ROUND((ROUNDDOWN(AG218,0)*12)+IFERROR(VLOOKUP(ROUND(AG218-(ROUNDDOWN(AG218,0)),1),_Esperanzas!$R$5:$S$18,2,TRUE),0),0),12)","v":124},91.741666984558108]
[null,null,null,null,null,null,null,81.400000000000006,{"$f":"I218+(I225-I215)/10","v":9.7333332061767592},{"$f":"IFERROR(ROUND((ROUNDDOWN(I219,0)*12)+IFERROR(VLOOKUP(ROUND(I219-(ROUNDDOWN(I219,0)),1),_Esperanzas!$R$5:$S$18,2,TRUE),0),0),12)","v":116},91.133333206176758,{"$f":"L218+(L225-L215)/10","v":12.166666793823239},{"$f":"IFERROR(ROUND((ROUNDDOWN(L219,0)*12)+IFERROR(VLOOKUP(ROUND(L219-(ROUNDDOWN(L219,0)),1),_Esperanzas!$R$5:$S$18,2,TRUE),0),0),12)","v":146},93.566666793823245,null,null,null,null,null,null,null,null,null,null,null,null,null,null,81.400000000000006,{"$f":"AD218+(AD225-AD215)/10","v":8.0166666030883817},{"$f":"IFERROR(ROUND((ROUNDDOWN(AD219,0)*12)+IFERROR(VLOOKUP(ROUND(AD219-(ROUNDDOWN(AD219,0)),1),_Esperanzas!$R$5:$S$18,2,TRUE),0),0),12)","v":96},89.416666603088387,{"$f":"AG218+(AG225-AG215)/10","v":10.366666984558108},{"$f":"IFERROR(ROUND((ROUNDDOWN(AG219,0)*12)+IFERROR(VLOOKUP(ROUND(AG219-(ROUNDDOWN(AG219,0)),1),_Esperanzas!$R$5:$S$18,2,TRUE),0),0),12)","v":124},91.766666984558114]
[null,null,null,null,null,null,null,81.5,{"$f":"I219+(I225-I215)/10","v":9.666666507720949},{"$f":"IFERROR(ROUND((ROUNDDOWN(I220,0)*12)+IFERROR(VLOOKUP(ROUND(I220-(ROUNDDOWN(I220,0)),1),_Esperanzas!$R$5:$S$18,2,TRUE),0),0),12)","v":116},91.166666507720947,{"$f":"L219+(L225-L215)/10","v":12.083333492279049},{"$f":"IFERROR(ROUND((ROUNDDOWN(L220,0)*12)+IFERROR(VLOOKUP(ROUND(L220-(ROUNDDOWN(L220,0)),1),_Esperanzas!$R$5:$S$18,2,TRUE),0),0),12)","v":145},93.583333492279053,null,null,null,null,null,null,null,null,null,null,null,null,null,null,81.5,{"$f":"AD219+(AD225-AD215)/10","v":7.9583332538604763},{"$f":"IFERROR(ROUND((ROUNDDOWN(AD220,0)*12)+IFERROR(VLOOKUP(ROUND(AD220-(ROUNDDOWN(AD220,0)),1),_Esperanzas!$R$5:$S$18,2,TRUE),0),0),12)","v":96},89.458333253860474,{"$f":"AG219+(AG225-AG215)/10","v":10.291666984558109},{"$f":"IFERROR(ROUND((ROUNDDOWN(AG220,0)*12)+IFERROR(VLOOKUP(ROUND(AG220-(ROUNDDOWN(AG220,0)),1),_Esperanzas!$R$5:$S$18,2,TRUE),0),0),12)","v":123},91.791666984558105]
[null,null,null,null,null,null,null,81.599999999999994,{"$f":"I220+(I225-I215)/10","v":9.5999998092651389},{"$f":"IFERROR(ROUND((ROUNDDOWN(I221,0)*12)+IFERROR(VLOOKUP(ROUND(I221-(ROUNDDOWN(I221,0)),1),_Esperanzas!$R$5:$S$18,2,TRUE),0),0),12)","v":115},91.199999809265137,{"$f":"L220+(L225-L215)/10","v":12.000000190734859},{"$f":"IFERROR(ROUND((ROUNDDOWN(L221,0)*12)+IFERROR(VLOOKUP(ROUND(L221-(ROUNDDOWN(L221,0)),1),_Esperanzas!$R$5:$S$18,2,TRUE),0),0),12)","v":144},93.600000190734846,null,null,null,null,null,null,null,null,null,null,null,null,null,null,81.599999999999994,{"$f":"AD220+(AD225-AD215)/10","v":7.8999999046325708},{"$f":"IFERROR(ROUND((ROUNDDOWN(AD221,0)*12)+IFERROR(VLOOKUP(ROUND(AD221-(ROUNDDOWN(AD221,0)),1),_Esperanzas!$R$5:$S$18,2,TRUE),0),0),12)","v":94},89.49999990463256,{"$f":"AG220+(AG225-AG215)/10","v":10.21666698455811},{"$f":"IFERROR(ROUND((ROUNDDOWN(AG221,0)*12)+IFERROR(VLOOKUP(ROUND(AG221-(ROUNDDOWN(AG221,0)),1),_Esperanzas!$R$5:$S$18,2,TRUE),0),0),12)","v":122},91.816666984558111]
[null,null,null,null,null,null,null,81.7,{"$f":"I221+(I225-I215)/10","v":9.5333331108093287},{"$f":"IFERROR(ROUND((ROUNDDOWN(I222,0)*12)+IFERROR(VLOOKUP(ROUND(I222-(ROUNDDOWN(I222,0)),1),_Esperanzas!$R$5:$S$18,2,TRUE),0),0),12)","v":114},91.233333110809326,{"$f":"L221+(L225-L215)/10","v":11.916666889190669},{"$f":"IFERROR(ROUND((ROUNDDOWN(L222,0)*12)+IFERROR(VLOOKUP(ROUND(L222-(ROUNDDOWN(L222,0)),1),_Esperanzas!$R$5:$S$18,2,TRUE),0),0),12)","v":142},93.616666889190668,null,null,null,null,null,null,null,null,null,null,null,null,null,null,81.7,{"$f":"AD221+(AD225-AD215)/10","v":7.8416665554046654},{"$f":"IFERROR(ROUND((ROUNDDOWN(AD222,0)*12)+IFERROR(VLOOKUP(ROUND(AD222-(ROUNDDOWN(AD222,0)),1),_Esperanzas!$R$5:$S$18,2,TRUE),0),0),12)","v":93},89.541666555404674,{"$f":"AG221+(AG225-AG215)/10","v":10.14166698455811},{"$f":"IFERROR(ROUND((ROUNDDOWN(AG222,0)*12)+IFERROR(VLOOKUP(ROUND(AG222-(ROUNDDOWN(AG222,0)),1),_Esperanzas!$R$5:$S$18,2,TRUE),0),0),12)","v":121},91.841666984558117]
[null,null,null,null,null,null,null,81.8,{"$f":"I222+(I225-I215)/10","v":9.4666664123535185},{"$f":"IFERROR(ROUND((ROUNDDOWN(I223,0)*12)+IFERROR(VLOOKUP(ROUND(I223-(ROUNDDOWN(I223,0)),1),_Esperanzas!$R$5:$S$18,2,TRUE),0),0),12)","v":114},91.266666412353516,{"$f":"L222+(L225-L215)/10","v":11.833333587646479},{"$f":"IFERROR(ROUND((ROUNDDOWN(L223,0)*12)+IFERROR(VLOOKUP(ROUND(L223-(ROUNDDOWN(L223,0)),1),_Esperanzas!$R$5:$S$18,2,TRUE),0),0),12)","v":141},93.633333587646476,null,null,null,null,null,null,null,null,null,null,null,null,null,null,81.8,{"$f":"AD222+(AD225-AD215)/10","v":7.7833332061767599},{"$f":"IFERROR(ROUND((ROUNDDOWN(AD223,0)*12)+IFERROR(VLOOKUP(ROUND(AD223-(ROUNDDOWN(AD223,0)),1),_Esperanzas!$R$5:$S$18,2,TRUE),0),0),12)","v":93},89.583333206176761,{"$f":"AG222+(AG225-AG215)/10","v":10.066666984558111},{"$f":"IFERROR(ROUND((ROUNDDOWN(AG223,0)*12)+IFERROR(VLOOKUP(ROUND(AG223-(ROUNDDOWN(AG223,0)),1),_Esperanzas!$R$5:$S$18,2,TRUE),0),0),12)","v":121},91.866666984558108]
[null,null,null,null,null,null,null,81.900000000000006,{"$f":"I223+(I225-I215)/10","v":9.3999997138977083},{"$f":"IFERROR(ROUND((ROUNDDOWN(I224,0)*12)+IFERROR(VLOOKUP(ROUND(I224-(ROUNDDOWN(I224,0)),1),_Esperanzas!$R$5:$S$18,2,TRUE),0),0),12)","v":112},91.299999713897719,{"$f":"L223+(L225-L215)/10","v":11.750000286102289},{"$f":"IFERROR(ROUND((ROUNDDOWN(L224,0)*12)+IFERROR(VLOOKUP(ROUND(L224-(ROUNDDOWN(L224,0)),1),_Esperanzas!$R$5:$S$18,2,TRUE),0),0),12)","v":141},93.650000286102298,null,null,null,null,null,null,null,null,null,null,null,null,null,null,81.900000000000006,{"$f":"AD223+(AD225-AD215)/10","v":7.7249998569488545},{"$f":"IFERROR(ROUND((ROUNDDOWN(AD224,0)*12)+IFERROR(VLOOKUP(ROUND(AD224-(ROUNDDOWN(AD224,0)),1),_Esperanzas!$R$5:$S$18,2,TRUE),0),0),12)","v":92},89.624999856948861,{"$f":"AG223+(AG225-AG215)/10","v":9.9916669845581119},{"$f":"IFERROR(ROUND((ROUNDDOWN(AG224,0)*12)+IFERROR(VLOOKUP(ROUND(AG224-(ROUNDDOWN(AG224,0)),1),_Esperanzas!$R$5:$S$18,2,TRUE),0),0),12)","v":120},91.891666984558114]
[null,null,null,null,null,null,null,82,{"$f":"VLOOKUP($H225,$B$5:$F$55,2,0)","v":9.3333330154418945},{"$f":"IFERROR(ROUND((ROUNDDOWN(I225,0)*12)+IFERROR(VLOOKUP(ROUND(I225-(ROUNDDOWN(I225,0)),1),_Esperanzas!$R$5:$S$18,2,TRUE),0),0),12)","v":111},91.333333015441895,{"$f":"VLOOKUP($H225,$B$5:$F$55,4,0)","v":11.666666984558105},{"$f":"IFERROR(ROUND((ROUNDDOWN(L225,0)*12)+IFERROR(VLOOKUP(ROUND(L225-(ROUNDDOWN(L225,0)),1),_Esperanzas!$R$5:$S$18,2,TRUE),0),0),12)","v":140},93.666666984558105,null,null,null,null,null,null,null,null,null,null,null,null,null,null,82,{"$f":"VLOOKUP($AC225,$W$5:$AA$55,2,0)","v":7.6666665077209473},{"$f":"IFERROR(ROUND((ROUNDDOWN(AD225,0)*12)+IFERROR(VLOOKUP(ROUND(AD225-(ROUNDDOWN(AD225,0)),1),_Esperanzas!$R$5:$S$18,2,TRUE),0),0),12)","v":92},89.666666507720947,{"$f":"VLOOKUP($AC225,$W$5:$AA$55,4,0)","v":9.9166669845581055},{"$f":"IFERROR(ROUND((ROUNDDOWN(AG225,0)*12)+IFERROR(VLOOKUP(ROUND(AG225-(ROUNDDOWN(AG225,0)),1),_Esperanzas!$R$5:$S$18,2,TRUE),0),0),12)","v":118},91.916666984558105]
[null,null,null,null,null,null,null,82.1,{"$f":"I225+(I235-I225)/10","v":9.2666664123535156},{"$f":"IFERROR(ROUND((ROUNDDOWN(I226,0)*12)+IFERROR(VLOOKUP(ROUND(I226-(ROUNDDOWN(I226,0)),1),_Esperanzas!$R$5:$S$18,2,TRUE),0),0),12)","v":111},91.36666641235351,{"$f":"L225+(L235-L225)/10","v":11.591666984558106},{"$f":"IFERROR(ROUND((ROUNDDOWN(L226,0)*12)+IFERROR(VLOOKUP(ROUND(L226-(ROUNDDOWN(L226,0)),1),_Esperanzas!$R$5:$S$18,2,TRUE),0),0),12)","v":139},93.691666984558097,null,null,null,null,null,null,null,null,null,null,null,null,null,null,82.1,{"$f":"AD225+(AD235-AD225)/10","v":7.6083332061767575},{"$f":"IFERROR(ROUND((ROUNDDOWN(AD226,0)*12)+IFERROR(VLOOKUP(ROUND(AD226-(ROUNDDOWN(AD226,0)),1),_Esperanzas!$R$5:$S$18,2,TRUE),0),0),12)","v":91},89.708333206176746,{"$f":"AG225+(AG235-AG225)/10","v":9.8416669845581062},{"$f":"IFERROR(ROUND((ROUNDDOWN(AG226,0)*12)+IFERROR(VLOOKUP(ROUND(AG226-(ROUNDDOWN(AG226,0)),1),_Esperanzas!$R$5:$S$18,2,TRUE),0),0),12)","v":117},91.941666984558097]
[null,null,null,null,null,null,null,82.2,{"$f":"I226+(I235-I225)/10","v":9.1999998092651367},{"$f":"IFERROR(ROUND((ROUNDDOWN(I227,0)*12)+IFERROR(VLOOKUP(ROUND(I227-(ROUNDDOWN(I227,0)),1),_Esperanzas!$R$5:$S$18,2,TRUE),0),0),12)","v":110},91.39999980926514,{"$f":"L226+(L235-L225)/10","v":11.516666984558107},{"$f":"IFERROR(ROUND((ROUNDDOWN(L227,0)*12)+IFERROR(VLOOKUP(ROUND(L227-(ROUNDDOWN(L227,0)),1),_Esperanzas!$R$5:$S$18,2,TRUE),0),0),12)","v":138},93.716666984558117,null,null,null,null,null,null,null,null,null,null,null,null,null,null,82.2,{"$f":"AD226+(AD235-AD225)/10","v":7.5499999046325676},{"$f":"IFERROR(ROUND((ROUNDDOWN(AD227,0)*12)+IFERROR(VLOOKUP(ROUND(AD227-(ROUNDDOWN(AD227,0)),1),_Esperanzas!$R$5:$S$18,2,TRUE),0),0),12)","v":90},89.749999904632574,{"$f":"AG226+(AG235-AG225)/10","v":9.7666669845581069},{"$f":"IFERROR(ROUND((ROUNDDOWN(AG227,0)*12)+IFERROR(VLOOKUP(ROUND(AG227-(ROUNDDOWN(AG227,0)),1),_Esperanzas!$R$5:$S$18,2,TRUE),0),0),12)","v":117},91.966666984558117]
[null,null,null,null,null,null,null,82.3,{"$f":"I227+(I235-I225)/10","v":9.1333332061767578},{"$f":"IFERROR(ROUND((ROUNDDOWN(I228,0)*12)+IFERROR(VLOOKUP(ROUND(I228-(ROUNDDOWN(I228,0)),1),_Esperanzas!$R$5:$S$18,2,TRUE),0),0),12)","v":109},91.433333206176755,{"$f":"L227+(L235-L225)/10","v":11.441666984558108},{"$f":"IFERROR(ROUND((ROUNDDOWN(L228,0)*12)+IFERROR(VLOOKUP(ROUND(L228-(ROUNDDOWN(L228,0)),1),_Esperanzas!$R$5:$S$18,2,TRUE),0),0),12)","v":136},93.741666984558108,null,null,null,null,null,null,null,null,null,null,null,null,null,null,82.3,{"$f":"AD227+(AD235-AD225)/10","v":7.4916666030883778},{"$f":"IFERROR(ROUND((ROUNDDOWN(AD228,0)*12)+IFERROR(VLOOKUP(ROUND(AD228-(ROUNDDOWN(AD228,0)),1),_Esperanzas!$R$5:$S$18,2,TRUE),0),0),12)","v":90},89.791666603088373,{"$f":"AG227+(AG235-AG225)/10","v":9.6916669845581076},{"$f":"IFERROR(ROUND((ROUNDDOWN(AG228,0)*12)+IFERROR(VLOOKUP(ROUND(AG228-(ROUNDDOWN(AG228,0)),1),_Esperanzas!$R$5:$S$18,2,TRUE),0),0),12)","v":116},91.991666984558108]
[null,null,null,null,null,null,null,82.4,{"$f":"I228+(I235-I225)/10","v":9.0666666030883789},{"$f":"IFERROR(ROUND((ROUNDDOWN(I229,0)*12)+IFERROR(VLOOKUP(ROUND(I229-(ROUNDDOWN(I229,0)),1),_Esperanzas!$R$5:$S$18,2,TRUE),0),0),12)","v":109},91.466666603088385,{"$f":"L228+(L235-L225)/10","v":11.366666984558108},{"$f":"IFERROR(ROUND((ROUNDDOWN(L229,0)*12)+IFERROR(VLOOKUP(ROUND(L229-(ROUNDDOWN(L229,0)),1),_Esperanzas!$R$5:$S$18,2,TRUE),0),0),12)","v":136},93.766666984558114,null,null,null,null,null,null,null,null,null,null,null,null,null,null,82.4,{"$f":"AD228+(AD235-AD225)/10","v":7.433333301544188},{"$f":"IFERROR(ROUND((ROUNDDOWN(AD229,0)*12)+IFERROR(VLOOKUP(ROUND(AD229-(ROUNDDOWN(AD229,0)),1),_Esperanzas!$R$5:$S$18,2,TRUE),0),0),12)","v":88},89.833333301544201,{"$f":"AG228+(AG235-AG225)/10","v":9.6166669845581083},{"$f":"IFERROR(ROUND((ROUNDDOWN(AG229,0)*12)+IFERROR(VLOOKUP(ROUND(AG229-(ROUNDDOWN(AG229,0)),1),_Esperanzas!$R$5:$S$18,2,TRUE),0),0),12)","v":115},92.016666984558114]
[null,null,null,null,null,null,null,82.5,{"$f":"I229+(I235-I225)/10","v":9},{"$f":"IFERROR(ROUND((ROUNDDOWN(I230,0)*12)+IFERROR(VLOOKUP(ROUND(I230-(ROUNDDOWN(I230,0)),1),_Esperanzas!$R$5:$S$18,2,TRUE),0),0),12)","v":108},91.5,{"$f":"L229+(L235-L225)/10","v":11.291666984558109},{"$f":"IFERROR(ROUND((ROUNDDOWN(L230,0)*12)+IFERROR(VLOOKUP(ROUND(L230-(ROUNDDOWN(L230,0)),1),_Esperanzas!$R$5:$S$18,2,TRUE),0),0),12)","v":135},93.791666984558105,null,null,null,null,null,null,null,null,null,null,null,null,null,null,82.5,{"$f":"AD229+(AD235-AD225)/10","v":7.3749999999999982},{"$f":"IFERROR(ROUND((ROUNDDOWN(AD230,0)*12)+IFERROR(VLOOKUP(ROUND(AD230-(ROUNDDOWN(AD230,0)),1),_Esperanzas!$R$5:$S$18,2,TRUE),0),0),12)","v":88},89.875,{"$f":"AG229+(AG235-AG225)/10","v":9.541666984558109},{"$f":"IFERROR(ROUND((ROUNDDOWN(AG230,0)*12)+IFERROR(VLOOKUP(ROUND(AG230-(ROUNDDOWN(AG230,0)),1),_Esperanzas!$R$5:$S$18,2,TRUE),0),0),12)","v":114},92.041666984558105]
[null,null,null,null,null,null,null,82.6,{"$f":"I230+(I235-I225)/10","v":8.9333333969116211},{"$f":"IFERROR(ROUND((ROUNDDOWN(I231,0)*12)+IFERROR(VLOOKUP(ROUND(I231-(ROUNDDOWN(I231,0)),1),_Esperanzas!$R$5:$S$18,2,TRUE),0),0),12)","v":106},91.533333396911615,{"$f":"L230+(L235-L225)/10","v":11.21666698455811},{"$f":"IFERROR(ROUND((ROUNDDOWN(L231,0)*12)+IFERROR(VLOOKUP(ROUND(L231-(ROUNDDOWN(L231,0)),1),_Esperanzas!$R$5:$S$18,2,TRUE),0),0),12)","v":134},93.816666984558111,null,null,null,null,null,null,null,null,null,null,null,null,null,null,82.6,{"$f":"AD230+(AD235-AD225)/10","v":7.3166666984558084},{"$f":"IFERROR(ROUND((ROUNDDOWN(AD231,0)*12)+IFERROR(VLOOKUP(ROUND(AD231-(ROUNDDOWN(AD231,0)),1),_Esperanzas!$R$5:$S$18,2,TRUE),0),0),12)","v":87},89.916666698455799,{"$f":"AG230+(AG235-AG225)/10","v":9.4666669845581097},{"$f":"IFERROR(ROUND((ROUNDDOWN(AG231,0)*12)+IFERROR(VLOOKUP(ROUND(AG231-(ROUNDDOWN(AG231,0)),1),_Esperanzas!$R$5:$S$18,2,TRUE),0),0),12)","v":114},92.066666984558111]
[null,null,null,null,null,null,null,82.7,{"$f":"I231+(I235-I225)/10","v":8.8666667938232422},{"$f":"IFERROR(ROUND((ROUNDDOWN(I232,0)*12)+IFERROR(VLOOKUP(ROUND(I232-(ROUNDDOWN(I232,0)),1),_Esperanzas!$R$5:$S$18,2,TRUE),0),0),12)","v":106},91.566666793823245,{"$f":"L231+(L235-L225)/10","v":11.14166698455811},{"$f":"IFERROR(ROUND((ROUNDDOWN(L232,0)*12)+IFERROR(VLOOKUP(ROUND(L232-(ROUNDDOWN(L232,0)),1),_Esperanzas!$R$5:$S$18,2,TRUE),0),0),12)","v":133},93.841666984558117,null,null,null,null,null,null,null,null,null,null,null,null,null,null,82.7,{"$f":"AD231+(AD235-AD225)/10","v":7.2583333969116186},{"$f":"IFERROR(ROUND((ROUNDDOWN(AD232,0)*12)+IFERROR(VLOOKUP(ROUND(AD232-(ROUNDDOWN(AD232,0)),1),_Esperanzas!$R$5:$S$18,2,TRUE),0),0),12)","v":87},89.958333396911627,{"$f":"AG231+(AG235-AG225)/10","v":9.3916669845581104},{"$f":"IFERROR(ROUND((ROUNDDOWN(AG232,0)*12)+IFERROR(VLOOKUP(ROUND(AG232-(ROUNDDOWN(AG232,0)),1),_Esperanzas!$R$5:$S$18,2,TRUE),0),0),12)","v":112},92.091666984558117]
[null,null,null,null,null,null,null,82.8,{"$f":"I232+(I235-I225)/10","v":8.8000001907348633},{"$f":"IFERROR(ROUND((ROUNDDOWN(I233,0)*12)+IFERROR(VLOOKUP(ROUND(I233-(ROUNDDOWN(I233,0)),1),_Esperanzas!$R$5:$S$18,2,TRUE),0),0),12)","v":105},91.60000019073486,{"$f":"L232+(L235-L225)/10","v":11.066666984558111},{"$f":"IFERROR(ROUND((ROUNDDOWN(L233,0)*12)+IFERROR(VLOOKUP(ROUND(L233-(ROUNDDOWN(L233,0)),1),_Esperanzas!$R$5:$S$18,2,TRUE),0),0),12)","v":133},93.866666984558108,null,null,null,null,null,null,null,null,null,null,null,null,null,null,82.8,{"$f":"AD232+(AD235-AD225)/10","v":7.2000000953674288},{"$f":"IFERROR(ROUND((ROUNDDOWN(AD233,0)*12)+IFERROR(VLOOKUP(ROUND(AD233-(ROUNDDOWN(AD233,0)),1),_Esperanzas!$R$5:$S$18,2,TRUE),0),0),12)","v":86},90.000000095367426,{"$f":"AG232+(AG235-AG225)/10","v":9.3166669845581112},{"$f":"IFERROR(ROUND((ROUNDDOWN(AG233,0)*12)+IFERROR(VLOOKUP(ROUND(AG233-(ROUNDDOWN(AG233,0)),1),_Esperanzas!$R$5:$S$18,2,TRUE),0),0),12)","v":111},92.116666984558108]
[null,null,null,null,null,null,null,82.9,{"$f":"I233+(I235-I225)/10","v":8.7333335876464844},{"$f":"IFERROR(ROUND((ROUNDDOWN(I234,0)*12)+IFERROR(VLOOKUP(ROUND(I234-(ROUNDDOWN(I234,0)),1),_Esperanzas!$R$5:$S$18,2,TRUE),0),0),12)","v":104},91.63333358764649,{"$f":"L233+(L235-L225)/10","v":10.991666984558112},{"$f":"IFERROR(ROUND((ROUNDDOWN(L234,0)*12)+IFERROR(VLOOKUP(ROUND(L234-(ROUNDDOWN(L234,0)),1),_Esperanzas!$R$5:$S$18,2,TRUE),0),0),12)","v":132},93.891666984558114,null,null,null,null,null,null,null,null,null,null,null,null,null,null,82.9,{"$f":"AD233+(AD235-AD225)/10","v":7.141666793823239},{"$f":"IFERROR(ROUND((ROUNDDOWN(AD234,0)*12)+IFERROR(VLOOKUP(ROUND(AD234-(ROUNDDOWN(AD234,0)),1),_Esperanzas!$R$5:$S$18,2,TRUE),0),0),12)","v":85},90.041666793823239,{"$f":"AG233+(AG235-AG225)/10","v":9.2416669845581119},{"$f":"IFERROR(ROUND((ROUNDDOWN(AG234,0)*12)+IFERROR(VLOOKUP(ROUND(AG234-(ROUNDDOWN(AG234,0)),1),_Esperanzas!$R$5:$S$18,2,TRUE),0),0),12)","v":110},92.141666984558114]
[null,null,null,null,null,null,null,83,{"$f":"VLOOKUP($H235,$B$5:$F$55,2,0)","v":8.6666669845581055},{"$f":"IFERROR(ROUND((ROUNDDOWN(I235,0)*12)+IFERROR(VLOOKUP(ROUND(I235-(ROUNDDOWN(I235,0)),1),_Esperanzas!$R$5:$S$18,2,TRUE),0),0),12)","v":104},91.666666984558105,{"$f":"VLOOKUP($H235,$B$5:$F$55,4,0)","v":10.916666984558105},{"$f":"IFERROR(ROUND((ROUNDDOWN(L235,0)*12)+IFERROR(VLOOKUP(ROUND(L235-(ROUNDDOWN(L235,0)),1),_Esperanzas!$R$5:$S$18,2,TRUE),0),0),12)","v":130},93.916666984558105,null,null,null,null,null,null,null,null,null,null,null,null,null,null,83,{"$f":"VLOOKUP($AC235,$W$5:$AA$55,2,0)","v":7.0833334922790527},{"$f":"IFERROR(ROUND((ROUNDDOWN(AD235,0)*12)+IFERROR(VLOOKUP(ROUND(AD235-(ROUNDDOWN(AD235,0)),1),_Esperanzas!$R$5:$S$18,2,TRUE),0),0),12)","v":85},90.083333492279053,{"$f":"VLOOKUP($AC235,$W$5:$AA$55,4,0)","v":9.1666669845581055},{"$f":"IFERROR(ROUND((ROUNDDOWN(AG235,0)*12)+IFERROR(VLOOKUP(ROUND(AG235-(ROUNDDOWN(AG235,0)),1),_Esperanzas!$R$5:$S$18,2,TRUE),0),0),12)","v":110},92.166666984558105]
[null,null,null,null,null,null,null,83.1,{"$f":"I235+(I245-I235)/10","v":8.6083335876464844},{"$f":"IFERROR(ROUND((ROUNDDOWN(I236,0)*12)+IFERROR(VLOOKUP(ROUND(I236-(ROUNDDOWN(I236,0)),1),_Esperanzas!$R$5:$S$18,2,TRUE),0),0),12)","v":103},91.708333587646479,{"$f":"L235+(L245-L235)/10","v":10.841666984558106},{"$f":"IFERROR(ROUND((ROUNDDOWN(L236,0)*12)+IFERROR(VLOOKUP(ROUND(L236-(ROUNDDOWN(L236,0)),1),_Esperanzas!$R$5:$S$18,2,TRUE),0),0),12)","v":129},93.941666984558097,null,null,null,null,null,null,null,null,null,null,null,null,null,null,83.1,{"$f":"AD235+(AD245-AD235)/10","v":7.0250001430511473},{"$f":"IFERROR(ROUND((ROUNDDOWN(AD236,0)*12)+IFERROR(VLOOKUP(ROUND(AD236-(ROUNDDOWN(AD236,0)),1),_Esperanzas!$R$5:$S$18,2,TRUE),0),0),12)","v":84},90.125000143051139,{"$f":"AG235+(AG245-AG235)/10","v":9.0916669845581062},{"$f":"IFERROR(ROUND((ROUNDDOWN(AG236,0)*12)+IFERROR(VLOOKUP(ROUND(AG236-(ROUNDDOWN(AG236,0)),1),_Esperanzas!$R$5:$S$18,2,TRUE),0),0),12)","v":109},92.191666984558097]
[null,null,null,null,null,null,null,83.2,{"$f":"I236+(I245-I235)/10","v":8.5500001907348633},{"$f":"IFERROR(ROUND((ROUNDDOWN(I237,0)*12)+IFERROR(VLOOKUP(ROUND(I237-(ROUNDDOWN(I237,0)),1),_Esperanzas!$R$5:$S$18,2,TRUE),0),0),12)","v":103},91.750000190734866,{"$f":"L236+(L245-L235)/10","v":10.766666984558107},{"$f":"IFERROR(ROUND((ROUNDDOWN(L237,0)*12)+IFERROR(VLOOKUP(ROUND(L237-(ROUNDDOWN(L237,0)),1),_Esperanzas!$R$5:$S$18,2,TRUE),0),0),12)","v":129},93.966666984558117,null,null,null,null,null,null,null,null,null,null,null,null,null,null,83.2,{"$f":"AD236+(AD245-AD235)/10","v":6.9666667938232418},{"$f":"IFERROR(ROUND((ROUNDDOWN(AD237,0)*12)+IFERROR(VLOOKUP(ROUND(AD237-(ROUNDDOWN(AD237,0)),1),_Esperanzas!$R$5:$S$18,2,TRUE),0),0),12)","v":84},90.166666793823239,{"$f":"AG236+(AG245-AG235)/10","v":9.0166669845581069},{"$f":"IFERROR(ROUND((ROUNDDOWN(AG237,0)*12)+IFERROR(VLOOKUP(ROUND(AG237-(ROUNDDOWN(AG237,0)),1),_Esperanzas!$R$5:$S$18,2,TRUE),0),0),12)","v":108},92.216666984558117]
[null,null,null,null,null,null,null,83.3,{"$f":"I237+(I245-I235)/10","v":8.4916667938232422},{"$f":"IFERROR(ROUND((ROUNDDOWN(I238,0)*12)+IFERROR(VLOOKUP(ROUND(I238-(ROUNDDOWN(I238,0)),1),_Esperanzas!$R$5:$S$18,2,TRUE),0),0),12)","v":102},91.791666793823239,{"$f":"L237+(L245-L235)/10","v":10.691666984558108},{"$f":"IFERROR(ROUND((ROUNDDOWN(L238,0)*12)+IFERROR(VLOOKUP(ROUND(L238-(ROUNDDOWN(L238,0)),1),_Esperanzas!$R$5:$S$18,2,TRUE),0),0),12)","v":128},93.991666984558108,null,null,null,null,null,null,null,null,null,null,null,null,null,null,83.3,{"$f":"AD237+(AD245-AD235)/10","v":6.9083334445953364},{"$f":"IFERROR(ROUND((ROUNDDOWN(AD238,0)*12)+IFERROR(VLOOKUP(ROUND(AD238-(ROUNDDOWN(AD238,0)),1),_Esperanzas!$R$5:$S$18,2,TRUE),0),0),12)","v":82},90.20833344459534,{"$f":"AG237+(AG245-AG235)/10","v":8.9416669845581076},{"$f":"IFERROR(ROUND((ROUNDDOWN(AG238,0)*12)+IFERROR(VLOOKUP(ROUND(AG238-(ROUNDDOWN(AG238,0)),1),_Esperanzas!$R$5:$S$18,2,TRUE),0),0),12)","v":106},92.241666984558108]
[null,null,null,null,null,null,null,83.4,{"$f":"I238+(I245-I235)/10","v":8.4333333969116211},{"$f":"IFERROR(ROUND((ROUNDDOWN(I239,0)*12)+IFERROR(VLOOKUP(ROUND(I239-(ROUNDDOWN(I239,0)),1),_Esperanzas!$R$5:$S$18,2,TRUE),0),0),12)","v":100},91.833333396911627,{"$f":"L238+(L245-L235)/10","v":10.616666984558108},{"$f":"IFERROR(ROUND((ROUNDDOWN(L239,0)*12)+IFERROR(VLOOKUP(ROUND(L239-(ROUNDDOWN(L239,0)),1),_Esperanzas!$R$5:$S$18,2,TRUE),0),0),12)","v":127},94.016666984558114,null,null,null,null,null,null,null,null,null,null,null,null,null,null,83.4,{"$f":"AD238+(AD245-AD235)/10","v":6.8500000953674309},{"$f":"IFERROR(ROUND((ROUNDDOWN(AD239,0)*12)+IFERROR(VLOOKUP(ROUND(AD239-(ROUNDDOWN(AD239,0)),1),_Esperanzas!$R$5:$S$18,2,TRUE),0),0),12)","v":82},90.25000009536744,{"$f":"AG238+(AG245-AG235)/10","v":8.8666669845581083},{"$f":"IFERROR(ROUND((ROUNDDOWN(AG239,0)*12)+IFERROR(VLOOKUP(ROUND(AG239-(ROUNDDOWN(AG239,0)),1),_Esperanzas!$R$5:$S$18,2,TRUE),0),0),12)","v":106},92.266666984558114]
[null,null,null,null,null,null,null,83.5,{"$f":"I239+(I245-I235)/10","v":8.375},{"$f":"IFERROR(ROUND((ROUNDDOWN(I240,0)*12)+IFERROR(VLOOKUP(ROUND(I240-(ROUNDDOWN(I240,0)),1),_Esperanzas!$R$5:$S$18,2,TRUE),0),0),12)","v":100},91.875,{"$f":"L239+(L245-L235)/10","v":10.541666984558109},{"$f":"IFERROR(ROUND((ROUNDDOWN(L240,0)*12)+IFERROR(VLOOKUP(ROUND(L240-(ROUNDDOWN(L240,0)),1),_Esperanzas!$R$5:$S$18,2,TRUE),0),0),12)","v":126},94.041666984558105,null,null,null,null,null,null,null,null,null,null,null,null,null,null,83.5,{"$f":"AD239+(AD245-AD235)/10","v":6.7916667461395255},{"$f":"IFERROR(ROUND((ROUNDDOWN(AD240,0)*12)+IFERROR(VLOOKUP(ROUND(AD240-(ROUNDDOWN(AD240,0)),1),_Esperanzas!$R$5:$S$18,2,TRUE),0),0),12)","v":81},90.291666746139526,{"$f":"AG239+(AG245-AG235)/10","v":8.791666984558109},{"$f":"IFERROR(ROUND((ROUNDDOWN(AG240,0)*12)+IFERROR(VLOOKUP(ROUND(AG240-(ROUNDDOWN(AG240,0)),1),_Esperanzas!$R$5:$S$18,2,TRUE),0),0),12)","v":105},92.291666984558105]
[null,null,null,null,null,null,null,83.6,{"$f":"I240+(I245-I235)/10","v":8.3166666030883789},{"$f":"IFERROR(ROUND((ROUNDDOWN(I241,0)*12)+IFERROR(VLOOKUP(ROUND(I241-(ROUNDDOWN(I241,0)),1),_Esperanzas!$R$5:$S$18,2,TRUE),0),0),12)","v":99},91.916666603088373,{"$f":"L240+(L245-L235)/10","v":10.46666698455811},{"$f":"IFERROR(ROUND((ROUNDDOWN(L241,0)*12)+IFERROR(VLOOKUP(ROUND(L241-(ROUNDDOWN(L241,0)),1),_Esperanzas!$R$5:$S$18,2,TRUE),0),0),12)","v":126},94.066666984558111,null,null,null,null,null,null,null,null,null,null,null,null,null,null,83.6,{"$f":"AD240+(AD245-AD235)/10","v":6.73333339691162},{"$f":"IFERROR(ROUND((ROUNDDOWN(AD241,0)*12)+IFERROR(VLOOKUP(ROUND(AD241-(ROUNDDOWN(AD241,0)),1),_Esperanzas!$R$5:$S$18,2,TRUE),0),0),12)","v":80},90.333333396911613,{"$f":"AG240+(AG245-AG235)/10","v":8.7166669845581097},{"$f":"IFERROR(ROUND((ROUNDDOWN(AG241,0)*12)+IFERROR(VLOOKUP(ROUND(AG241-(ROUNDDOWN(AG241,0)),1),_Esperanzas!$R$5:$S$18,2,TRUE),0),0),12)","v":104},92.316666984558111]
[null,null,null,null,null,null,null,83.7,{"$f":"I241+(I245-I235)/10","v":8.2583332061767578},{"$f":"IFERROR(ROUND((ROUNDDOWN(I242,0)*12)+IFERROR(VLOOKUP(ROUND(I242-(ROUNDDOWN(I242,0)),1),_Esperanzas!$R$5:$S$18,2,TRUE),0),0),12)","v":99},91.958333206176761,{"$f":"L241+(L245-L235)/10","v":10.39166698455811},{"$f":"IFERROR(ROUND((ROUNDDOWN(L242,0)*12)+IFERROR(VLOOKUP(ROUND(L242-(ROUNDDOWN(L242,0)),1),_Esperanzas!$R$5:$S$18,2,TRUE),0),0),12)","v":124},94.091666984558117,null,null,null,null,null,null,null,null,null,null,null,null,null,null,83.7,{"$f":"AD241+(AD245-AD235)/10","v":6.6750000476837146},{"$f":"IFERROR(ROUND((ROUNDDOWN(AD242,0)*12)+IFERROR(VLOOKUP(ROUND(AD242-(ROUNDDOWN(AD242,0)),1),_Esperanzas!$R$5:$S$18,2,TRUE),0),0),12)","v":80},90.375000047683713,{"$f":"AG241+(AG245-AG235)/10","v":8.6416669845581104},{"$f":"IFERROR(ROUND((ROUNDDOWN(AG242,0)*12)+IFERROR(VLOOKUP(ROUND(AG242-(ROUNDDOWN(AG242,0)),1),_Esperanzas!$R$5:$S$18,2,TRUE),0),0),12)","v":103},92.341666984558117]
[null,null,null,null,null,null,null,83.8,{"$f":"I242+(I245-I235)/10","v":8.1999998092651367},{"$f":"IFERROR(ROUND((ROUNDDOWN(I243,0)*12)+IFERROR(VLOOKUP(ROUND(I243-(ROUNDDOWN(I243,0)),1),_Esperanzas!$R$5:$S$18,2,TRUE),0),0),12)","v":98},91.999999809265134,{"$f":"L242+(L245-L235)/10","v":10.316666984558111},{"$f":"IFERROR(ROUND((ROUNDDOWN(L243,0)*12)+IFERROR(VLOOKUP(ROUND(L243-(ROUNDDOWN(L243,0)),1),_Esperanzas!$R$5:$S$18,2,TRUE),0),0),12)","v":123},94.116666984558108,null,null,null,null,null,null,null,null,null,null,null,null,null,null,83.8,{"$f":"AD242+(AD245-AD235)/10","v":6.6166666984558091},{"$f":"IFERROR(ROUND((ROUNDDOWN(AD243,0)*12)+IFERROR(VLOOKUP(ROUND(AD243-(ROUNDDOWN(AD243,0)),1),_Esperanzas!$R$5:$S$18,2,TRUE),0),0),12)","v":79},90.416666698455799,{"$f":"AG242+(AG245-AG235)/10","v":8.5666669845581112},{"$f":"IFERROR(ROUND((ROUNDDOWN(AG243,0)*12)+IFERROR(VLOOKUP(ROUND(AG243-(ROUNDDOWN(AG243,0)),1),_Esperanzas!$R$5:$S$18,2,TRUE),0),0),12)","v":103},92.366666984558108]
[null,null,null,null,null,null,null,83.9,{"$f":"I243+(I245-I235)/10","v":8.1416664123535156},{"$f":"IFERROR(ROUND((ROUNDDOWN(I244,0)*12)+IFERROR(VLOOKUP(ROUND(I244-(ROUNDDOWN(I244,0)),1),_Esperanzas!$R$5:$S$18,2,TRUE),0),0),12)","v":97},92.041666412353521,{"$f":"L243+(L245-L235)/10","v":10.241666984558112},{"$f":"IFERROR(ROUND((ROUNDDOWN(L244,0)*12)+IFERROR(VLOOKUP(ROUND(L244-(ROUNDDOWN(L244,0)),1),_Esperanzas!$R$5:$S$18,2,TRUE),0),0),12)","v":122},94.141666984558114,null,null,null,null,null,null,null,null,null,null,null,null,null,null,83.9,{"$f":"AD243+(AD245-AD235)/10","v":6.5583333492279037},{"$f":"IFERROR(ROUND((ROUNDDOWN(AD244,0)*12)+IFERROR(VLOOKUP(ROUND(AD244-(ROUNDDOWN(AD244,0)),1),_Esperanzas!$R$5:$S$18,2,TRUE),0),0),12)","v":79},90.458333349227914,{"$f":"AG243+(AG245-AG235)/10","v":8.4916669845581119},{"$f":"IFERROR(ROUND((ROUNDDOWN(AG244,0)*12)+IFERROR(VLOOKUP(ROUND(AG244-(ROUNDDOWN(AG244,0)),1),_Esperanzas!$R$5:$S$18,2,TRUE),0),0),12)","v":102},92.391666984558114]
[null,null,null,null,null,null,null,84,{"$f":"VLOOKUP($H245,$B$5:$F$55,2,0)","v":8.0833330154418945},{"$f":"IFERROR(ROUND((ROUNDDOWN(I245,0)*12)+IFERROR(VLOOKUP(ROUND(I245-(ROUNDDOWN(I245,0)),1),_Esperanzas!$R$5:$S$18,2,TRUE),0),0),12)","v":97},92.083333015441895,{"$f":"VLOOKUP($H245,$B$5:$F$55,4,0)","v":10.166666984558105},{"$f":"IFERROR(ROUND((ROUNDDOWN(L245,0)*12)+IFERROR(VLOOKUP(ROUND(L245-(ROUNDDOWN(L245,0)),1),_Esperanzas!$R$5:$S$18,2,TRUE),0),0),12)","v":122},94.166666984558105,null,null,null,null,null,null,null,null,null,null,null,null,null,null,84,{"$f":"VLOOKUP($AC245,$W$5:$AA$55,2,0)","v":6.5},{"$f":"IFERROR(ROUND((ROUNDDOWN(AD245,0)*12)+IFERROR(VLOOKUP(ROUND(AD245-(ROUNDDOWN(AD245,0)),1),_Esperanzas!$R$5:$S$18,2,TRUE),0),0),12)","v":78},90.5,{"$f":"VLOOKUP($AC245,$W$5:$AA$55,4,0)","v":8.4166669845581055},{"$f":"IFERROR(ROUND((ROUNDDOWN(AG245,0)*12)+IFERROR(VLOOKUP(ROUND(AG245-(ROUNDDOWN(AG245,0)),1),_Esperanzas!$R$5:$S$18,2,TRUE),0),0),12)","v":100},92.416666984558105]
[null,null,null,null,null,null,null,84.1,{"$f":"I245+(I255-I245)/10","v":8.0333330631256104},{"$f":"IFERROR(ROUND((ROUNDDOWN(I246,0)*12)+IFERROR(VLOOKUP(ROUND(I246-(ROUNDDOWN(I246,0)),1),_Esperanzas!$R$5:$S$18,2,TRUE),0),0),12)","v":96},92.133333063125605,{"$f":"L245+(L255-L245)/10","v":10.091666984558106},{"$f":"IFERROR(ROUND((ROUNDDOWN(L246,0)*12)+IFERROR(VLOOKUP(ROUND(L246-(ROUNDDOWN(L246,0)),1),_Esperanzas!$R$5:$S$18,2,TRUE),0),0),12)","v":121},94.191666984558097,null,null,null,null,null,null,null,null,null,null,null,null,null,null,84.1,{"$f":"AD245+(AD255-AD245)/10","v":6.45},{"$f":"IFERROR(ROUND((ROUNDDOWN(AD246,0)*12)+IFERROR(VLOOKUP(ROUND(AD246-(ROUNDDOWN(AD246,0)),1),_Esperanzas!$R$5:$S$18,2,TRUE),0),0),12)","v":78},90.55,{"$f":"AG245+(AG255-AG245)/10","v":8.3583336353302009},{"$f":"IFERROR(ROUND((ROUNDDOWN(AG246,0)*12)+IFERROR(VLOOKUP(ROUND(AG246-(ROUNDDOWN(AG246,0)),1),_Esperanzas!$R$5:$S$18,2,TRUE),0),0),12)","v":100},92.458333635330192]
[null,null,null,null,null,null,null,84.2,{"$f":"I246+(I255-I245)/10","v":7.9833331108093262},{"$f":"IFERROR(ROUND((ROUNDDOWN(I247,0)*12)+IFERROR(VLOOKUP(ROUND(I247-(ROUNDDOWN(I247,0)),1),_Esperanzas!$R$5:$S$18,2,TRUE),0),0),12)","v":96},92.183333110809329,{"$f":"L246+(L255-L245)/10","v":10.016666984558107},{"$f":"IFERROR(ROUND((ROUNDDOWN(L247,0)*12)+IFERROR(VLOOKUP(ROUND(L247-(ROUNDDOWN(L247,0)),1),_Esperanzas!$R$5:$S$18,2,TRUE),0),0),12)","v":120},94.216666984558117,null,null,null,null,null,null,null,null,null,null,null,null,null,null,84.2,{"$f":"AD246+(AD255-AD245)/10","v":6.4},{"$f":"IFERROR(ROUND((ROUNDDOWN(AD247,0)*12)+IFERROR(VLOOKUP(ROUND(AD247-(ROUNDDOWN(AD247,0)),1),_Esperanzas!$R$5:$S$18,2,TRUE),0),0),12)","v":76},90.600000000000009,{"$f":"AG246+(AG255-AG245)/10","v":8.3000002861022963},{"$f":"IFERROR(ROUND((ROUNDDOWN(AG247,0)*12)+IFERROR(VLOOKUP(ROUND(AG247-(ROUNDDOWN(AG247,0)),1),_Esperanzas!$R$5:$S$18,2,TRUE),0),0),12)","v":99},92.500000286102306]
[null,null,null,null,null,null,null,84.3,{"$f":"I247+(I255-I245)/10","v":7.933333158493042},{"$f":"IFERROR(ROUND((ROUNDDOWN(I248,0)*12)+IFERROR(VLOOKUP(ROUND(I248-(ROUNDDOWN(I248,0)),1),_Esperanzas!$R$5:$S$18,2,TRUE),0),0),12)","v":94},92.233333158493039,{"$f":"L247+(L255-L245)/10","v":9.9416669845581076},{"$f":"IFERROR(ROUND((ROUNDDOWN(L248,0)*12)+IFERROR(VLOOKUP(ROUND(L248-(ROUNDDOWN(L248,0)),1),_Esperanzas!$R$5:$S$18,2,TRUE),0),0),12)","v":118},94.241666984558108,null,null,null,null,null,null,null,null,null,null,null,null,null,null,84.3,{"$f":"AD247+(AD255-AD245)/10","v":6.3500000000000005},{"$f":"IFERROR(ROUND((ROUNDDOWN(AD248,0)*12)+IFERROR(VLOOKUP(ROUND(AD248-(ROUNDDOWN(AD248,0)),1),_Esperanzas!$R$5:$S$18,2,TRUE),0),0),12)","v":76},90.649999999999991,{"$f":"AG247+(AG255-AG245)/10","v":8.2416669368743918},{"$f":"IFERROR(ROUND((ROUNDDOWN(AG248,0)*12)+IFERROR(VLOOKUP(ROUND(AG248-(ROUNDDOWN(AG248,0)),1),_Esperanzas!$R$5:$S$18,2,TRUE),0),0),12)","v":98},92.541666936874392]
[null,null,null,null,null,null,null,84.4,{"$f":"I248+(I255-I245)/10","v":7.8833332061767578},{"$f":"IFERROR(ROUND((ROUNDDOWN(I249,0)*12)+IFERROR(VLOOKUP(ROUND(I249-(ROUNDDOWN(I249,0)),1),_Esperanzas!$R$5:$S$18,2,TRUE),0),0),12)","v":94},92.283333206176763,{"$f":"L248+(L255-L245)/10","v":9.8666669845581083},{"$f":"IFERROR(ROUND((ROUNDDOWN(L249,0)*12)+IFERROR(VLOOKUP(ROUND(L249-(ROUNDDOWN(L249,0)),1),_Esperanzas!$R$5:$S$18,2,TRUE),0),0),12)","v":118},94.266666984558114,null,null,null,null,null,null,null,null,null,null,null,null,null,null,84.4,{"$f":"AD248+(AD255-AD245)/10","v":6.3000000000000007},{"$f":"IFERROR(ROUND((ROUNDDOWN(AD249,0)*12)+IFERROR(VLOOKUP(ROUND(AD249-(ROUNDDOWN(AD249,0)),1),_Esperanzas!$R$5:$S$18,2,TRUE),0),0),12)","v":75},90.7,{"$f":"AG248+(AG255-AG245)/10","v":8.1833335876464872},{"$f":"IFERROR(ROUND((ROUNDDOWN(AG249,0)*12)+IFERROR(VLOOKUP(ROUND(AG249-(ROUNDDOWN(AG249,0)),1),_Esperanzas!$R$5:$S$18,2,TRUE),0),0),12)","v":98},92.583333587646493]
[null,null,null,null,null,null,null,84.5,{"$f":"I249+(I255-I245)/10","v":7.8333332538604736},{"$f":"IFERROR(ROUND((ROUNDDOWN(I250,0)*12)+IFERROR(VLOOKUP(ROUND(I250-(ROUNDDOWN(I250,0)),1),_Esperanzas!$R$5:$S$18,2,TRUE),0),0),12)","v":93},92.333333253860474,{"$f":"L249+(L255-L245)/10","v":9.791666984558109},{"$f":"IFERROR(ROUND((ROUNDDOWN(L250,0)*12)+IFERROR(VLOOKUP(ROUND(L250-(ROUNDDOWN(L250,0)),1),_Esperanzas!$R$5:$S$18,2,TRUE),0),0),12)","v":117},94.291666984558105,null,null,null,null,null,null,null,null,null,null,null,null,null,null,84.5,{"$f":"AD249+(AD255-AD245)/10","v":6.2500000000000009},{"$f":"IFERROR(ROUND((ROUNDDOWN(AD250,0)*12)+IFERROR(VLOOKUP(ROUND(AD250-(ROUNDDOWN(AD250,0)),1),_Esperanzas!$R$5:$S$18,2,TRUE),0),0),12)","v":75},90.75,{"$f":"AG249+(AG255-AG245)/10","v":8.1250002384185827},{"$f":"IFERROR(ROUND((ROUNDDOWN(AG250,0)*12)+IFERROR(VLOOKUP(ROUND(AG250-(ROUNDDOWN(AG250,0)),1),_Esperanzas!$R$5:$S$18,2,TRUE),0),0),12)","v":97},92.625000238418579]
[null,null,null,null,null,null,null,84.6,{"$f":"I250+(I255-I245)/10","v":7.7833333015441895},{"$f":"IFERROR(ROUND((ROUNDDOWN(I251,0)*12)+IFERROR(VLOOKUP(ROUND(I251-(ROUNDDOWN(I251,0)),1),_Esperanzas!$R$5:$S$18,2,TRUE),0),0),12)","v":93},92.383333301544184,{"$f":"L250+(L255-L245)/10","v":9.7166669845581097},{"$f":"IFERROR(ROUND((ROUNDDOWN(L251,0)*12)+IFERROR(VLOOKUP(ROUND(L251-(ROUNDDOWN(L251,0)),1),_Esperanzas!$R$5:$S$18,2,TRUE),0),0),12)","v":116},94.316666984558111,null,null,null,null,null,null,null,null,null,null,null,null,null,null,84.6,{"$f":"AD250+(AD255-AD245)/10","v":6.2000000000000011},{"$f":"IFERROR(ROUND((ROUNDDOWN(AD251,0)*12)+IFERROR(VLOOKUP(ROUND(AD251-(ROUNDDOWN(AD251,0)),1),_Esperanzas!$R$5:$S$18,2,TRUE),0),0),12)","v":74},90.8,{"$f":"AG250+(AG255-AG245)/10","v":8.0666668891906781},{"$f":"IFERROR(ROUND((ROUNDDOWN(AG251,0)*12)+IFERROR(VLOOKUP(ROUND(AG251-(ROUNDDOWN(AG251,0)),1),_Esperanzas!$R$5:$S$18,2,TRUE),0),0),12)","v":97},92.66666688919068]
[null,null,null,null,null,null,null,84.7,{"$f":"I251+(I255-I245)/10","v":7.7333333492279053},{"$f":"IFERROR(ROUND((ROUNDDOWN(I252,0)*12)+IFERROR(VLOOKUP(ROUND(I252-(ROUNDDOWN(I252,0)),1),_Esperanzas!$R$5:$S$18,2,TRUE),0),0),12)","v":92},92.433333349227908,{"$f":"L251+(L255-L245)/10","v":9.6416669845581104},{"$f":"IFERROR(ROUND((ROUNDDOWN(L252,0)*12)+IFERROR(VLOOKUP(ROUND(L252-(ROUNDDOWN(L252,0)),1),_Esperanzas!$R$5:$S$18,2,TRUE),0),0),12)","v":115},94.341666984558117,null,null,null,null,null,null,null,null,null,null,null,null,null,null,84.7,{"$f":"AD251+(AD255-AD245)/10","v":6.1500000000000012},{"$f":"IFERROR(ROUND((ROUNDDOWN(AD252,0)*12)+IFERROR(VLOOKUP(ROUND(AD252-(ROUNDDOWN(AD252,0)),1),_Esperanzas!$R$5:$S$18,2,TRUE),0),0),12)","v":74},90.850000000000009,{"$f":"AG251+(AG255-AG245)/10","v":8.0083335399627735},{"$f":"IFERROR(ROUND((ROUNDDOWN(AG252,0)*12)+IFERROR(VLOOKUP(ROUND(AG252-(ROUNDDOWN(AG252,0)),1),_Esperanzas!$R$5:$S$18,2,TRUE),0),0),12)","v":96},92.70833353996278]
[null,null,null,null,null,null,null,84.8,{"$f":"I252+(I255-I245)/10","v":7.6833333969116211},{"$f":"IFERROR(ROUND((ROUNDDOWN(I253,0)*12)+IFERROR(VLOOKUP(ROUND(I253-(ROUNDDOWN(I253,0)),1),_Esperanzas!$R$5:$S$18,2,TRUE),0),0),12)","v":92},92.483333396911618,{"$f":"L252+(L255-L245)/10","v":9.5666669845581112},{"$f":"IFERROR(ROUND((ROUNDDOWN(L253,0)*12)+IFERROR(VLOOKUP(ROUND(L253-(ROUNDDOWN(L253,0)),1),_Esperanzas!$R$5:$S$18,2,TRUE),0),0),12)","v":115},94.366666984558108,null,null,null,null,null,null,null,null,null,null,null,null,null,null,84.8,{"$f":"AD252+(AD255-AD245)/10","v":6.1000000000000014},{"$f":"IFERROR(ROUND((ROUNDDOWN(AD253,0)*12)+IFERROR(VLOOKUP(ROUND(AD253-(ROUNDDOWN(AD253,0)),1),_Esperanzas!$R$5:$S$18,2,TRUE),0),0),12)","v":73},90.9,{"$f":"AG252+(AG255-AG245)/10","v":7.9500001907348681},{"$f":"IFERROR(ROUND((ROUNDDOWN(AG253,0)*12)+IFERROR(VLOOKUP(ROUND(AG253-(ROUNDDOWN(AG253,0)),1),_Esperanzas!$R$5:$S$18,2,TRUE),0),0),12)","v":96},92.750000190734866]
[null,null,null,null,null,null,null,84.9,{"$f":"I253+(I255-I245)/10","v":7.6333334445953369},{"$f":"IFERROR(ROUND((ROUNDDOWN(I254,0)*12)+IFERROR(VLOOKUP(ROUND(I254-(ROUNDDOWN(I254,0)),1),_Esperanzas!$R$5:$S$18,2,TRUE),0),0),12)","v":91},92.533333444595343,{"$f":"L253+(L255-L245)/10","v":9.4916669845581119},{"$f":"IFERROR(ROUND((ROUNDDOWN(L254,0)*12)+IFERROR(VLOOKUP(ROUND(L254-(ROUNDDOWN(L254,0)),1),_Esperanzas!$R$5:$S$18,2,TRUE),0),0),12)","v":114},94.391666984558114,null,null,null,null,null,null,null,null,null,null,null,null,null,null,84.9,{"$f":"AD253+(AD255-AD245)/10","v":6.0500000000000016},{"$f":"IFERROR(ROUND((ROUNDDOWN(AD254,0)*12)+IFERROR(VLOOKUP(ROUND(AD254-(ROUNDDOWN(AD254,0)),1),_Esperanzas!$R$5:$S$18,2,TRUE),0),0),12)","v":73},90.95,{"$f":"AG253+(AG255-AG245)/10","v":7.8916668415069626},{"$f":"IFERROR(ROUND((ROUNDDOWN(AG254,0)*12)+IFERROR(VLOOKUP(ROUND(AG254-(ROUNDDOWN(AG254,0)),1),_Esperanzas!$R$5:$S$18,2,TRUE),0),0),12)","v":94},92.791666841506967]
[null,null,null,null,null,null,null,85,{"$f":"VLOOKUP($H255,$B$5:$F$55,2,0)","v":7.5833334922790527},{"$f":"IFERROR(ROUND((ROUNDDOWN(I255,0)*12)+IFERROR(VLOOKUP(ROUND(I255-(ROUNDDOWN(I255,0)),1),_Esperanzas!$R$5:$S$18,2,TRUE),0),0),12)","v":91},92.583333492279053,{"$f":"VLOOKUP($H255,$B$5:$F$55,4,0)","v":9.4166669845581055},{"$f":"IFERROR(ROUND((ROUNDDOWN(L255,0)*12)+IFERROR(VLOOKUP(ROUND(L255-(ROUNDDOWN(L255,0)),1),_Esperanzas!$R$5:$S$18,2,TRUE),0),0),12)","v":112},94.416666984558105,null,null,null,null,null,null,null,null,null,null,null,null,null,null,85,{"$f":"VLOOKUP($AC255,$W$5:$AA$55,2,0)","v":6},{"$f":"IFERROR(ROUND((ROUNDDOWN(AD255,0)*12)+IFERROR(VLOOKUP(ROUND(AD255-(ROUNDDOWN(AD255,0)),1),_Esperanzas!$R$5:$S$18,2,TRUE),0),0),12)","v":72},91,{"$f":"VLOOKUP($AC255,$W$5:$AA$55,4,0)","v":7.8333334922790527},{"$f":"IFERROR(ROUND((ROUNDDOWN(AG255,0)*12)+IFERROR(VLOOKUP(ROUND(AG255-(ROUNDDOWN(AG255,0)),1),_Esperanzas!$R$5:$S$18,2,TRUE),0),0),12)","v":93},92.833333492279053]
[null,null,null,null,null,null,null,85.1,{"$f":"I255+(I265-I255)/10","v":7.5333334922790529},{"$f":"IFERROR(ROUND((ROUNDDOWN(I256,0)*12)+IFERROR(VLOOKUP(ROUND(I256-(ROUNDDOWN(I256,0)),1),_Esperanzas!$R$5:$S$18,2,TRUE),0),0),12)","v":90},92.63333349227905,{"$f":"L255+(L265-L255)/10","v":9.3500002861022953},{"$f":"IFERROR(ROUND((ROUNDDOWN(L256,0)*12)+IFERROR(VLOOKUP(ROUND(L256-(ROUNDDOWN(L256,0)),1),_Esperanzas!$R$5:$S$18,2,TRUE),0),0),12)","v":112},94.450000286102295,null,null,null,null,null,null,null,null,null,null,null,null,null,null,85.1,{"$f":"AD255+(AD265-AD255)/10","v":5.9583333492279049},{"$f":"IFERROR(ROUND((ROUNDDOWN(AD256,0)*12)+IFERROR(VLOOKUP(ROUND(AD256-(ROUNDDOWN(AD256,0)),1),_Esperanzas!$R$5:$S$18,2,TRUE),0),0),12)","v":72},91.058333349227894,{"$f":"AG255+(AG265-AG255)/10","v":7.7666667938232425},{"$f":"IFERROR(ROUND((ROUNDDOWN(AG256,0)*12)+IFERROR(VLOOKUP(ROUND(AG256-(ROUNDDOWN(AG256,0)),1),_Esperanzas!$R$5:$S$18,2,TRUE),0),0),12)","v":93},92.866666793823242]
[null,null,null,null,null,null,null,85.2,{"$f":"I256+(I265-I255)/10","v":7.4833334922790531},{"$f":"IFERROR(ROUND((ROUNDDOWN(I257,0)*12)+IFERROR(VLOOKUP(ROUND(I257-(ROUNDDOWN(I257,0)),1),_Esperanzas!$R$5:$S$18,2,TRUE),0),0),12)","v":90},92.683333492279061,{"$f":"L256+(L265-L255)/10","v":9.2833335876464851},{"$f":"IFERROR(ROUND((ROUNDDOWN(L257,0)*12)+IFERROR(VLOOKUP(ROUND(L257-(ROUNDDOWN(L257,0)),1),_Esperanzas!$R$5:$S$18,2,TRUE),0),0),12)","v":111},94.483333587646484,null,null,null,null,null,null,null,null,null,null,null,null,null,null,85.2,{"$f":"AD256+(AD265-AD255)/10","v":5.9166666984558098},{"$f":"IFERROR(ROUND((ROUNDDOWN(AD257,0)*12)+IFERROR(VLOOKUP(ROUND(AD257-(ROUNDDOWN(AD257,0)),1),_Esperanzas!$R$5:$S$18,2,TRUE),0),0),12)","v":70},91.116666698455816,{"$f":"AG256+(AG265-AG255)/10","v":7.7000000953674324},{"$f":"IFERROR(ROUND((ROUNDDOWN(AG257,0)*12)+IFERROR(VLOOKUP(ROUND(AG257-(ROUNDDOWN(AG257,0)),1),_Esperanzas!$R$5:$S$18,2,TRUE),0),0),12)","v":92},92.900000095367432]
[null,null,null,null,null,null,null,85.3,{"$f":"I257+(I265-I255)/10","v":7.4333334922790533},{"$f":"IFERROR(ROUND((ROUNDDOWN(I258,0)*12)+IFERROR(VLOOKUP(ROUND(I258-(ROUNDDOWN(I258,0)),1),_Esperanzas!$R$5:$S$18,2,TRUE),0),0),12)","v":88},92.733333492279044,{"$f":"L257+(L265-L255)/10","v":9.2166668891906749},{"$f":"IFERROR(ROUND((ROUNDDOWN(L258,0)*12)+IFERROR(VLOOKUP(ROUND(L258-(ROUNDDOWN(L258,0)),1),_Esperanzas!$R$5:$S$18,2,TRUE),0),0),12)","v":110},94.516666889190674,null,null,null,null,null,null,null,null,null,null,null,null,null,null,85.3,{"$f":"AD257+(AD265-AD255)/10","v":5.8750000476837148},{"$f":"IFERROR(ROUND((ROUNDDOWN(AD258,0)*12)+IFERROR(VLOOKUP(ROUND(AD258-(ROUNDDOWN(AD258,0)),1),_Esperanzas!$R$5:$S$18,2,TRUE),0),0),12)","v":70},91.17500004768371,{"$f":"AG257+(AG265-AG255)/10","v":7.6333333969116222},{"$f":"IFERROR(ROUND((ROUNDDOWN(AG258,0)*12)+IFERROR(VLOOKUP(ROUND(AG258-(ROUNDDOWN(AG258,0)),1),_Esperanzas!$R$5:$S$18,2,TRUE),0),0),12)","v":91},92.933333396911621]
[null,null,null,null,null,null,null,85.4,{"$f":"I258+(I265-I255)/10","v":7.3833334922790534},{"$f":"IFERROR(ROUND((ROUNDDOWN(I259,0)*12)+IFERROR(VLOOKUP(ROUND(I259-(ROUNDDOWN(I259,0)),1),_Esperanzas!$R$5:$S$18,2,TRUE),0),0),12)","v":88},92.783333492279056,{"$f":"L258+(L265-L255)/10","v":9.1500001907348647},{"$f":"IFERROR(ROUND((ROUNDDOWN(L259,0)*12)+IFERROR(VLOOKUP(ROUND(L259-(ROUNDDOWN(L259,0)),1),_Esperanzas!$R$5:$S$18,2,TRUE),0),0),12)","v":110},94.550000190734863,null,null,null,null,null,null,null,null,null,null,null,null,null,null,85.4,{"$f":"AD258+(AD265-AD255)/10","v":5.8333333969116197},{"$f":"IFERROR(ROUND((ROUNDDOWN(AD259,0)*12)+IFERROR(VLOOKUP(ROUND(AD259-(ROUNDDOWN(AD259,0)),1),_Esperanzas!$R$5:$S$18,2,TRUE),0),0),12)","v":69},91.233333396911632,{"$f":"AG258+(AG265-AG255)/10","v":7.566666698455812},{"$f":"IFERROR(ROUND((ROUNDDOWN(AG259,0)*12)+IFERROR(VLOOKUP(ROUND(AG259-(ROUNDDOWN(AG259,0)),1),_Esperanzas!$R$5:$S$18,2,TRUE),0),0),12)","v":91},92.966666698455811]
[null,null,null,null,null,null,null,85.5,{"$f":"I259+(I265-I255)/10","v":7.3333334922790536},{"$f":"IFERROR(ROUND((ROUNDDOWN(I260,0)*12)+IFERROR(VLOOKUP(ROUND(I260-(ROUNDDOWN(I260,0)),1),_Esperanzas!$R$5:$S$18,2,TRUE),0),0),12)","v":87},92.833333492279053,{"$f":"L259+(L265-L255)/10","v":9.0833334922790545},{"$f":"IFERROR(ROUND((ROUNDDOWN(L260,0)*12)+IFERROR(VLOOKUP(ROUND(L260-(ROUNDDOWN(L260,0)),1),_Esperanzas!$R$5:$S$18,2,TRUE),0),0),12)","v":109},94.583333492279053,null,null,null,null,null,null,null,null,null,null,null,null,null,null,85.5,{"$f":"AD259+(AD265-AD255)/10","v":5.7916667461395246},{"$f":"IFERROR(ROUND((ROUNDDOWN(AD260,0)*12)+IFERROR(VLOOKUP(ROUND(AD260-(ROUNDDOWN(AD260,0)),1),_Esperanzas!$R$5:$S$18,2,TRUE),0),0),12)","v":69},91.291666746139526,{"$f":"AG259+(AG265-AG255)/10","v":7.5000000000000018},{"$f":"IFERROR(ROUND((ROUNDDOWN(AG260,0)*12)+IFERROR(VLOOKUP(ROUND(AG260-(ROUNDDOWN(AG260,0)),1),_Esperanzas!$R$5:$S$18,2,TRUE),0),0),12)","v":90},93]
[null,null,null,null,null,null,null,85.6,{"$f":"I260+(I265-I255)/10","v":7.2833334922790538},{"$f":"IFERROR(ROUND((ROUNDDOWN(I261,0)*12)+IFERROR(VLOOKUP(ROUND(I261-(ROUNDDOWN(I261,0)),1),_Esperanzas!$R$5:$S$18,2,TRUE),0),0),12)","v":87},92.88333349227905,{"$f":"L260+(L265-L255)/10","v":9.0166667938232443},{"$f":"IFERROR(ROUND((ROUNDDOWN(L261,0)*12)+IFERROR(VLOOKUP(ROUND(L261-(ROUNDDOWN(L261,0)),1),_Esperanzas!$R$5:$S$18,2,TRUE),0),0),12)","v":108},94.616666793823242,null,null,null,null,null,null,null,null,null,null,null,null,null,null,85.6,{"$f":"AD260+(AD265-AD255)/10","v":5.7500000953674295},{"$f":"IFERROR(ROUND((ROUNDDOWN(AD261,0)*12)+IFERROR(VLOOKUP(ROUND(AD261-(ROUNDDOWN(AD261,0)),1),_Esperanzas!$R$5:$S$18,2,TRUE),0),0),12)","v":69},91.35000009536742,{"$f":"AG260+(AG265-AG255)/10","v":7.4333333015441916},{"$f":"IFERROR(ROUND((ROUNDDOWN(AG261,0)*12)+IFERROR(VLOOKUP(ROUND(AG261-(ROUNDDOWN(AG261,0)),1),_Esperanzas!$R$5:$S$18,2,TRUE),0),0),12)","v":88},93.033333301544189]
[null,null,null,null,null,null,null,85.7,{"$f":"I261+(I265-I255)/10","v":7.233333492279054},{"$f":"IFERROR(ROUND((ROUNDDOWN(I262,0)*12)+IFERROR(VLOOKUP(ROUND(I262-(ROUNDDOWN(I262,0)),1),_Esperanzas!$R$5:$S$18,2,TRUE),0),0),12)","v":86},92.933333492279061,{"$f":"L261+(L265-L255)/10","v":8.9500000953674341},{"$f":"IFERROR(ROUND((ROUNDDOWN(L262,0)*12)+IFERROR(VLOOKUP(ROUND(L262-(ROUNDDOWN(L262,0)),1),_Esperanzas!$R$5:$S$18,2,TRUE),0),0),12)","v":108},94.650000095367432,null,null,null,null,null,null,null,null,null,null,null,null,null,null,85.7,{"$f":"AD261+(AD265-AD255)/10","v":5.7083334445953344},{"$f":"IFERROR(ROUND((ROUNDDOWN(AD262,0)*12)+IFERROR(VLOOKUP(ROUND(AD262-(ROUNDDOWN(AD262,0)),1),_Esperanzas!$R$5:$S$18,2,TRUE),0),0),12)","v":68},91.408333444595343,{"$f":"AG261+(AG265-AG255)/10","v":7.3666666030883814},{"$f":"IFERROR(ROUND((ROUNDDOWN(AG262,0)*12)+IFERROR(VLOOKUP(ROUND(AG262-(ROUNDDOWN(AG262,0)),1),_Esperanzas!$R$5:$S$18,2,TRUE),0),0),12)","v":88},93.066666603088379]
[null,null,null,null,null,null,null,{"$f":"ROUND(H262+0.1,1)","v":85.8},{"$f":"I262+(I265-I255)/10","v":7.1833334922790542},{"$f":"IFERROR(ROUND((ROUNDDOWN(I263,0)*12)+IFERROR(VLOOKUP(ROUND(I263-(ROUNDDOWN(I263,0)),1),_Esperanzas!$R$5:$S$18,2,TRUE),0),0),12)","v":86},92.983333492279058,{"$f":"L262+(L265-L255)/10","v":8.8833333969116239},{"$f":"IFERROR(ROUND((ROUNDDOWN(L263,0)*12)+IFERROR(VLOOKUP(ROUND(L263-(ROUNDDOWN(L263,0)),1),_Esperanzas!$R$5:$S$18,2,TRUE),0),0),12)","v":106},94.683333396911621,null,null,null,null,null,null,null,null,null,null,null,null,null,null,{"$f":"ROUND(AC262+0.1,1)","v":85.8},{"$f":"AD262+(AD265-AD255)/10","v":5.6666667938232393},{"$f":"IFERROR(ROUND((ROUNDDOWN(AD263,0)*12)+IFERROR(VLOOKUP(ROUND(AD263-(ROUNDDOWN(AD263,0)),1),_Esperanzas!$R$5:$S$18,2,TRUE),0),0),12)","v":68},91.466666793823237,{"$f":"AG262+(AG265-AG255)/10","v":7.2999999046325712},{"$f":"IFERROR(ROUND((ROUNDDOWN(AG263,0)*12)+IFERROR(VLOOKUP(ROUND(AG263-(ROUNDDOWN(AG263,0)),1),_Esperanzas!$R$5:$S$18,2,TRUE),0),0),12)","v":87},93.099999904632568]
[null,null,null,null,null,null,null,85.9,{"$f":"I263+(I265-I255)/10","v":7.1333334922790543},{"$f":"IFERROR(ROUND((ROUNDDOWN(I264,0)*12)+IFERROR(VLOOKUP(ROUND(I264-(ROUNDDOWN(I264,0)),1),_Esperanzas!$R$5:$S$18,2,TRUE),0),0),12)","v":85},93.033333492279056,{"$f":"L263+(L265-L255)/10","v":8.8166666984558137},{"$f":"IFERROR(ROUND((ROUNDDOWN(L264,0)*12)+IFERROR(VLOOKUP(ROUND(L264-(ROUNDDOWN(L264,0)),1),_Esperanzas!$R$5:$S$18,2,TRUE),0),0),12)","v":105},94.716666698455825,null,null,null,null,null,null,null,null,null,null,null,null,null,null,85.9,{"$f":"AD263+(AD265-AD255)/10","v":5.6250001430511443},{"$f":"IFERROR(ROUND((ROUNDDOWN(AD264,0)*12)+IFERROR(VLOOKUP(ROUND(AD264-(ROUNDDOWN(AD264,0)),1),_Esperanzas!$R$5:$S$18,2,TRUE),0),0),12)","v":67},91.525000143051145,{"$f":"AG263+(AG265-AG255)/10","v":7.233333206176761},{"$f":"IFERROR(ROUND((ROUNDDOWN(AG264,0)*12)+IFERROR(VLOOKUP(ROUND(AG264-(ROUNDDOWN(AG264,0)),1),_Esperanzas!$R$5:$S$18,2,TRUE),0),0),12)","v":86},93.133333206176772]
[null,null,null,null,null,null,null,86,{"$f":"VLOOKUP($H265,$B$5:$F$55,2,0)","v":7.0833334922790527},{"$f":"IFERROR(ROUND((ROUNDDOWN(I265,0)*12)+IFERROR(VLOOKUP(ROUND(I265-(ROUNDDOWN(I265,0)),1),_Esperanzas!$R$5:$S$18,2,TRUE),0),0),12)","v":85},93.083333492279053,{"$f":"VLOOKUP($H265,$B$5:$F$55,4,0)","v":8.75},{"$f":"IFERROR(ROUND((ROUNDDOWN(L265,0)*12)+IFERROR(VLOOKUP(ROUND(L265-(ROUNDDOWN(L265,0)),1),_Esperanzas!$R$5:$S$18,2,TRUE),0),0),12)","v":105},{"$f":"L265+H265","v":94.75},null,null,null,null,null,null,null,null,null,null,null,null,null,null,86,{"$f":"VLOOKUP($AC265,$W$5:$AA$55,2,0)","v":5.5833334922790527},{"$f":"IFERROR(ROUND((ROUNDDOWN(AD265,0)*12)+IFERROR(VLOOKUP(ROUND(AD265-(ROUNDDOWN(AD265,0)),1),_Esperanzas!$R$5:$S$18,2,TRUE),0),0),12)","v":67},91.583333492279053,{"$f":"VLOOKUP($AC265,$W$5:$AA$55,4,0)","v":7.1666665077209473},{"$f":"IFERROR(ROUND((ROUNDDOWN(AG265,0)*12)+IFERROR(VLOOKUP(ROUND(AG265-(ROUNDDOWN(AG265,0)),1),_Esperanzas!$R$5:$S$18,2,TRUE),0),0),12)","v":86},93.166666507720947]
[null,null,null,null,null,null,null,86.1,{"$f":"I265+(I275-I265)/10","v":7.0333334922790529},{"$f":"IFERROR(ROUND((ROUNDDOWN(I266,0)*12)+IFERROR(VLOOKUP(ROUND(I266-(ROUNDDOWN(I266,0)),1),_Esperanzas!$R$5:$S$18,2,TRUE),0),0),12)","v":84},93.13333349227905,{"$f":"L265+(L275-L265)/10","v":8.6916666984558102},{"$f":"IFERROR(ROUND((ROUNDDOWN(L266,0)*12)+IFERROR(VLOOKUP(ROUND(L266-(ROUNDDOWN(L266,0)),1),_Esperanzas!$R$5:$S$18,2,TRUE),0),0),12)","v":104},94.791666698455799,null,null,null,null,null,null,null,null,null,null,null,null,null,null,86.1,{"$f":"AD265+(AD275-AD265)/10","v":5.541666793823242},{"$f":"IFERROR(ROUND((ROUNDDOWN(AD266,0)*12)+IFERROR(VLOOKUP(ROUND(AD266-(ROUNDDOWN(AD266,0)),1),_Esperanzas!$R$5:$S$18,2,TRUE),0),0),12)","v":66},91.641666793823234,{"$f":"AG265+(AG275-AG265)/10","v":7.1083332061767575},{"$f":"IFERROR(ROUND((ROUNDDOWN(AG266,0)*12)+IFERROR(VLOOKUP(ROUND(AG266-(ROUNDDOWN(AG266,0)),1),_Esperanzas!$R$5:$S$18,2,TRUE),0),0),12)","v":85},93.208333206176746]
[null,null,null,null,null,null,null,86.2,{"$f":"I266+(I275-I265)/10","v":6.9833334922790531},{"$f":"IFERROR(ROUND((ROUNDDOWN(I267,0)*12)+IFERROR(VLOOKUP(ROUND(I267-(ROUNDDOWN(I267,0)),1),_Esperanzas!$R$5:$S$18,2,TRUE),0),0),12)","v":84},93.183333492279061,{"$f":"L266+(L275-L265)/10","v":8.6333333969116204},{"$f":"IFERROR(ROUND((ROUNDDOWN(L267,0)*12)+IFERROR(VLOOKUP(ROUND(L267-(ROUNDDOWN(L267,0)),1),_Esperanzas!$R$5:$S$18,2,TRUE),0),0),12)","v":103},94.833333396911627,null,null,null,null,null,null,null,null,null,null,null,null,null,null,86.2,{"$f":"AD266+(AD275-AD265)/10","v":5.5000000953674313},{"$f":"IFERROR(ROUND((ROUNDDOWN(AD267,0)*12)+IFERROR(VLOOKUP(ROUND(AD267-(ROUNDDOWN(AD267,0)),1),_Esperanzas!$R$5:$S$18,2,TRUE),0),0),12)","v":66},91.700000095367429,{"$f":"AG266+(AG275-AG265)/10","v":7.0499999046325676},{"$f":"IFERROR(ROUND((ROUNDDOWN(AG267,0)*12)+IFERROR(VLOOKUP(ROUND(AG267-(ROUNDDOWN(AG267,0)),1),_Esperanzas!$R$5:$S$18,2,TRUE),0),0),12)","v":84},93.249999904632574]
[null,null,null,null,null,null,null,86.3,{"$f":"I267+(I275-I265)/10","v":6.9333334922790533},{"$f":"IFERROR(ROUND((ROUNDDOWN(I268,0)*12)+IFERROR(VLOOKUP(ROUND(I268-(ROUNDDOWN(I268,0)),1),_Esperanzas!$R$5:$S$18,2,TRUE),0),0),12)","v":82},93.233333492279044,{"$f":"L267+(L275-L265)/10","v":8.5750000953674306},{"$f":"IFERROR(ROUND((ROUNDDOWN(L268,0)*12)+IFERROR(VLOOKUP(ROUND(L268-(ROUNDDOWN(L268,0)),1),_Esperanzas!$R$5:$S$18,2,TRUE),0),0),12)","v":103},94.875000095367426,null,null,null,null,null,null,null,null,null,null,null,null,null,null,86.3,{"$f":"AD267+(AD275-AD265)/10","v":5.4583333969116206},{"$f":"IFERROR(ROUND((ROUNDDOWN(AD268,0)*12)+IFERROR(VLOOKUP(ROUND(AD268-(ROUNDDOWN(AD268,0)),1),_Esperanzas!$R$5:$S$18,2,TRUE),0),0),12)","v":66},91.758333396911624,{"$f":"AG267+(AG275-AG265)/10","v":6.9916666030883778},{"$f":"IFERROR(ROUND((ROUNDDOWN(AG268,0)*12)+IFERROR(VLOOKUP(ROUND(AG268-(ROUNDDOWN(AG268,0)),1),_Esperanzas!$R$5:$S$18,2,TRUE),0),0),12)","v":84},93.291666603088373]
[null,null,null,null,null,null,null,86.4,{"$f":"I268+(I275-I265)/10","v":6.8833334922790534},{"$f":"IFERROR(ROUND((ROUNDDOWN(I269,0)*12)+IFERROR(VLOOKUP(ROUND(I269-(ROUNDDOWN(I269,0)),1),_Esperanzas!$R$5:$S$18,2,TRUE),0),0),12)","v":82},93.283333492279056,{"$f":"L268+(L275-L265)/10","v":8.5166667938232408},{"$f":"IFERROR(ROUND((ROUNDDOWN(L269,0)*12)+IFERROR(VLOOKUP(ROUND(L269-(ROUNDDOWN(L269,0)),1),_Esperanzas!$R$5:$S$18,2,TRUE),0),0),12)","v":102},94.916666793823254,null,null,null,null,null,null,null,null,null,null,null,null,null,null,86.4,{"$f":"AD268+(AD275-AD265)/10","v":5.4166666984558098},{"$f":"IFERROR(ROUND((ROUNDDOWN(AD269,0)*12)+IFERROR(VLOOKUP(ROUND(AD269-(ROUNDDOWN(AD269,0)),1),_Esperanzas!$R$5:$S$18,2,TRUE),0),0),12)","v":64},91.816666698455819,{"$f":"AG268+(AG275-AG265)/10","v":6.933333301544188},{"$f":"IFERROR(ROUND((ROUNDDOWN(AG269,0)*12)+IFERROR(VLOOKUP(ROUND(AG269-(ROUNDDOWN(AG269,0)),1),_Esperanzas!$R$5:$S$18,2,TRUE),0),0),12)","v":82},93.333333301544201]
[null,null,null,null,null,null,null,86.5,{"$f":"I269+(I275-I265)/10","v":6.8333334922790536},{"$f":"IFERROR(ROUND((ROUNDDOWN(I270,0)*12)+IFERROR(VLOOKUP(ROUND(I270-(ROUNDDOWN(I270,0)),1),_Esperanzas!$R$5:$S$18,2,TRUE),0),0),12)","v":81},93.333333492279053,{"$f":"L269+(L275-L265)/10","v":8.458333492279051},{"$f":"IFERROR(ROUND((ROUNDDOWN(L270,0)*12)+IFERROR(VLOOKUP(ROUND(L270-(ROUNDDOWN(L270,0)),1),_Esperanzas!$R$5:$S$18,2,TRUE),0),0),12)","v":102},94.958333492279053,null,null,null,null,null,null,null,null,null,null,null,null,null,null,86.5,{"$f":"AD269+(AD275-AD265)/10","v":5.3749999999999991},{"$f":"IFERROR(ROUND((ROUNDDOWN(AD270,0)*12)+IFERROR(VLOOKUP(ROUND(AD270-(ROUNDDOWN(AD270,0)),1),_Esperanzas!$R$5:$S$18,2,TRUE),0),0),12)","v":64},91.875,{"$f":"AG269+(AG275-AG265)/10","v":6.8749999999999982},{"$f":"IFERROR(ROUND((ROUNDDOWN(AG270,0)*12)+IFERROR(VLOOKUP(ROUND(AG270-(ROUNDDOWN(AG270,0)),1),_Esperanzas!$R$5:$S$18,2,TRUE),0),0),12)","v":82},93.375]
[null,null,null,null,null,null,null,86.6,{"$f":"I270+(I275-I265)/10","v":6.7833334922790538},{"$f":"IFERROR(ROUND((ROUNDDOWN(I271,0)*12)+IFERROR(VLOOKUP(ROUND(I271-(ROUNDDOWN(I271,0)),1),_Esperanzas!$R$5:$S$18,2,TRUE),0),0),12)","v":81},93.38333349227905,{"$f":"L270+(L275-L265)/10","v":8.4000001907348611},{"$f":"IFERROR(ROUND((ROUNDDOWN(L271,0)*12)+IFERROR(VLOOKUP(ROUND(L271-(ROUNDDOWN(L271,0)),1),_Esperanzas!$R$5:$S$18,2,TRUE),0),0),12)","v":100},95.000000190734852,null,null,null,null,null,null,null,null,null,null,null,null,null,null,86.6,{"$f":"AD270+(AD275-AD265)/10","v":5.3333333015441884},{"$f":"IFERROR(ROUND((ROUNDDOWN(AD271,0)*12)+IFERROR(VLOOKUP(ROUND(AD271-(ROUNDDOWN(AD271,0)),1),_Esperanzas!$R$5:$S$18,2,TRUE),0),0),12)","v":63},91.933333301544181,{"$f":"AG270+(AG275-AG265)/10","v":6.8166666984558084},{"$f":"IFERROR(ROUND((ROUNDDOWN(AG271,0)*12)+IFERROR(VLOOKUP(ROUND(AG271-(ROUNDDOWN(AG271,0)),1),_Esperanzas!$R$5:$S$18,2,TRUE),0),0),12)","v":81},93.416666698455799]
[null,null,null,null,null,null,null,86.7,{"$f":"I271+(I275-I265)/10","v":6.733333492279054},{"$f":"IFERROR(ROUND((ROUNDDOWN(I272,0)*12)+IFERROR(VLOOKUP(ROUND(I272-(ROUNDDOWN(I272,0)),1),_Esperanzas!$R$5:$S$18,2,TRUE),0),0),12)","v":80},93.433333492279061,{"$f":"L271+(L275-L265)/10","v":8.3416668891906713},{"$f":"IFERROR(ROUND((ROUNDDOWN(L272,0)*12)+IFERROR(VLOOKUP(ROUND(L272-(ROUNDDOWN(L272,0)),1),_Esperanzas!$R$5:$S$18,2,TRUE),0),0),12)","v":99},95.04166688919068,null,null,null,null,null,null,null,null,null,null,null,null,null,null,86.7,{"$f":"AD271+(AD275-AD265)/10","v":5.2916666030883777},{"$f":"IFERROR(ROUND((ROUNDDOWN(AD272,0)*12)+IFERROR(VLOOKUP(ROUND(AD272-(ROUNDDOWN(AD272,0)),1),_Esperanzas!$R$5:$S$18,2,TRUE),0),0),12)","v":63},91.991666603088376,{"$f":"AG271+(AG275-AG265)/10","v":6.7583333969116186},{"$f":"IFERROR(ROUND((ROUNDDOWN(AG272,0)*12)+IFERROR(VLOOKUP(ROUND(AG272-(ROUNDDOWN(AG272,0)),1),_Esperanzas!$R$5:$S$18,2,TRUE),0),0),12)","v":81},93.458333396911627]
[null,null,null,null,null,null,null,86.8,{"$f":"I272+(I275-I265)/10","v":6.6833334922790542},{"$f":"IFERROR(ROUND((ROUNDDOWN(I273,0)*12)+IFERROR(VLOOKUP(ROUND(I273-(ROUNDDOWN(I273,0)),1),_Esperanzas!$R$5:$S$18,2,TRUE),0),0),12)","v":80},93.483333492279058,{"$f":"L272+(L275-L265)/10","v":8.2833335876464815},{"$f":"IFERROR(ROUND((ROUNDDOWN(L273,0)*12)+IFERROR(VLOOKUP(ROUND(L273-(ROUNDDOWN(L273,0)),1),_Esperanzas!$R$5:$S$18,2,TRUE),0),0),12)","v":99},95.083333587646479,null,null,null,null,null,null,null,null,null,null,null,null,null,null,86.8,{"$f":"AD272+(AD275-AD265)/10","v":5.2499999046325669},{"$f":"IFERROR(ROUND((ROUNDDOWN(AD273,0)*12)+IFERROR(VLOOKUP(ROUND(AD273-(ROUNDDOWN(AD273,0)),1),_Esperanzas!$R$5:$S$18,2,TRUE),0),0),12)","v":62},92.049999904632557,{"$f":"AG272+(AG275-AG265)/10","v":6.7000000953674288},{"$f":"IFERROR(ROUND((ROUNDDOWN(AG273,0)*12)+IFERROR(VLOOKUP(ROUND(AG273-(ROUNDDOWN(AG273,0)),1),_Esperanzas!$R$5:$S$18,2,TRUE),0),0),12)","v":80},93.500000095367426]
[null,null,null,null,null,null,null,86.9,{"$f":"I273+(I275-I265)/10","v":6.6333334922790543},{"$f":"IFERROR(ROUND((ROUNDDOWN(I274,0)*12)+IFERROR(VLOOKUP(ROUND(I274-(ROUNDDOWN(I274,0)),1),_Esperanzas!$R$5:$S$18,2,TRUE),0),0),12)","v":79},93.533333492279056,{"$f":"L273+(L275-L265)/10","v":8.2250002861022917},{"$f":"IFERROR(ROUND((ROUNDDOWN(L274,0)*12)+IFERROR(VLOOKUP(ROUND(L274-(ROUNDDOWN(L274,0)),1),_Esperanzas!$R$5:$S$18,2,TRUE),0),0),12)","v":98},95.125000286102292,null,null,null,null,null,null,null,null,null,null,null,null,null,null,86.9,{"$f":"AD273+(AD275-AD265)/10","v":5.2083332061767562},{"$f":"IFERROR(ROUND((ROUNDDOWN(AD274,0)*12)+IFERROR(VLOOKUP(ROUND(AD274-(ROUNDDOWN(AD274,0)),1),_Esperanzas!$R$5:$S$18,2,TRUE),0),0),12)","v":62},92.108333206176766,{"$f":"AG273+(AG275-AG265)/10","v":6.641666793823239},{"$f":"IFERROR(ROUND((ROUNDDOWN(AG274,0)*12)+IFERROR(VLOOKUP(ROUND(AG274-(ROUNDDOWN(AG274,0)),1),_Esperanzas!$R$5:$S$18,2,TRUE),0),0),12)","v":79},93.541666793823239]
[null,null,null,null,null,null,null,87,{"$f":"VLOOKUP($H275,$B$5:$F$55,2,0)","v":6.5833334922790527},{"$f":"IFERROR(ROUND((ROUNDDOWN(I275,0)*12)+IFERROR(VLOOKUP(ROUND(I275-(ROUNDDOWN(I275,0)),1),_Esperanzas!$R$5:$S$18,2,TRUE),0),0),12)","v":79},{"$f":"I275+H275","v":93.583333492279053},{"$f":"VLOOKUP($H275,$B$5:$F$55,4,0)","v":8.1666669845581055},{"$f":"IFERROR(ROUND((ROUNDDOWN(L275,0)*12)+IFERROR(VLOOKUP(ROUND(L275-(ROUNDDOWN(L275,0)),1),_Esperanzas!$R$5:$S$18,2,TRUE),0),0),12)","v":98},95.166666984558105,null,null,null,null,null,null,null,null,null,null,null,null,null,null,87,{"$f":"VLOOKUP($AC275,$W$5:$AA$55,2,0)","v":5.1666665077209473},{"$f":"IFERROR(ROUND((ROUNDDOWN(AD275,0)*12)+IFERROR(VLOOKUP(ROUND(AD275-(ROUNDDOWN(AD275,0)),1),_Esperanzas!$R$5:$S$18,2,TRUE),0),0),12)","v":62},{"$f":"AD275+AC275","v":92.166666507720947},{"$f":"VLOOKUP($AC275,$W$5:$AA$55,4,0)","v":6.5833334922790527},{"$f":"IFERROR(ROUND((ROUNDDOWN(AG275,0)*12)+IFERROR(VLOOKUP(ROUND(AG275-(ROUNDDOWN(AG275,0)),1),_Esperanzas!$R$5:$S$18,2,TRUE),0),0),12)","v":79},{"$f":"AG275+AC275","v":93.583333492279053}]
[null,null,null,null,null,null,null,87.1,{"$f":"I275+(I285-I275)/10","v":6.541666793823242},{"$f":"IFERROR(ROUND((ROUNDDOWN(I276,0)*12)+IFERROR(VLOOKUP(ROUND(I276-(ROUNDDOWN(I276,0)),1),_Esperanzas!$R$5:$S$18,2,TRUE),0),0),12)","v":78},93.641666793823234,{"$f":"L275+(L285-L275)/10","v":8.1000002861022953},{"$f":"IFERROR(ROUND((ROUNDDOWN(L276,0)*12)+IFERROR(VLOOKUP(ROUND(L276-(ROUNDDOWN(L276,0)),1),_Esperanzas!$R$5:$S$18,2,TRUE),0),0),12)","v":97},95.200000286102295,null,null,null,null,null,null,null,null,null,null,null,null,null,null,87.1,{"$f":"AD275+(AD285-AD275)/10","v":5.1333332061767578},{"$f":"IFERROR(ROUND((ROUNDDOWN(AD276,0)*12)+IFERROR(VLOOKUP(ROUND(AD276-(ROUNDDOWN(AD276,0)),1),_Esperanzas!$R$5:$S$18,2,TRUE),0),0),12)","v":61},92.233333206176752,{"$f":"AG275+(AG285-AG275)/10","v":6.5333334922790529},{"$f":"IFERROR(ROUND((ROUNDDOWN(AG276,0)*12)+IFERROR(VLOOKUP(ROUND(AG276-(ROUNDDOWN(AG276,0)),1),_Esperanzas!$R$5:$S$18,2,TRUE),0),0),12)","v":78},93.63333349227905]
[null,null,null,null,null,null,null,87.2,{"$f":"I276+(I285-I275)/10","v":6.5000000953674313},{"$f":"IFERROR(ROUND((ROUNDDOWN(I277,0)*12)+IFERROR(VLOOKUP(ROUND(I277-(ROUNDDOWN(I277,0)),1),_Esperanzas!$R$5:$S$18,2,TRUE),0),0),12)","v":78},93.700000095367429,{"$f":"L276+(L285-L275)/10","v":8.0333335876464851},{"$f":"IFERROR(ROUND((ROUNDDOWN(L277,0)*12)+IFERROR(VLOOKUP(ROUND(L277-(ROUNDDOWN(L277,0)),1),_Esperanzas!$R$5:$S$18,2,TRUE),0),0),12)","v":96},95.233333587646484,null,null,null,null,null,null,null,null,null,null,null,null,null,null,87.2,{"$f":"AD276+(AD285-AD275)/10","v":5.0999999046325684},{"$f":"IFERROR(ROUND((ROUNDDOWN(AD277,0)*12)+IFERROR(VLOOKUP(ROUND(AD277-(ROUNDDOWN(AD277,0)),1),_Esperanzas!$R$5:$S$18,2,TRUE),0),0),12)","v":61},92.299999904632571,{"$f":"AG276+(AG285-AG275)/10","v":6.4833334922790531},{"$f":"IFERROR(ROUND((ROUNDDOWN(AG277,0)*12)+IFERROR(VLOOKUP(ROUND(AG277-(ROUNDDOWN(AG277,0)),1),_Esperanzas!$R$5:$S$18,2,TRUE),0),0),12)","v":78},93.683333492279061]
[null,null,null,null,null,null,null,87.3,{"$f":"I277+(I285-I275)/10","v":6.4583333969116206},{"$f":"IFERROR(ROUND((ROUNDDOWN(I278,0)*12)+IFERROR(VLOOKUP(ROUND(I278-(ROUNDDOWN(I278,0)),1),_Esperanzas!$R$5:$S$18,2,TRUE),0),0),12)","v":78},93.758333396911624,{"$f":"L277+(L285-L275)/10","v":7.9666668891906749},{"$f":"IFERROR(ROUND((ROUNDDOWN(L278,0)*12)+IFERROR(VLOOKUP(ROUND(L278-(ROUNDDOWN(L278,0)),1),_Esperanzas!$R$5:$S$18,2,TRUE),0),0),12)","v":96},95.266666889190674,null,null,null,null,null,null,null,null,null,null,null,null,null,null,87.3,{"$f":"AD277+(AD285-AD275)/10","v":5.0666666030883789},{"$f":"IFERROR(ROUND((ROUNDDOWN(AD278,0)*12)+IFERROR(VLOOKUP(ROUND(AD278-(ROUNDDOWN(AD278,0)),1),_Esperanzas!$R$5:$S$18,2,TRUE),0),0),12)","v":61},92.366666603088376,{"$f":"AG277+(AG285-AG275)/10","v":6.4333334922790533},{"$f":"IFERROR(ROUND((ROUNDDOWN(AG278,0)*12)+IFERROR(VLOOKUP(ROUND(AG278-(ROUNDDOWN(AG278,0)),1),_Esperanzas!$R$5:$S$18,2,TRUE),0),0),12)","v":76},93.733333492279044]
[null,null,null,null,null,null,null,87.4,{"$f":"I278+(I285-I275)/10","v":6.4166666984558098},{"$f":"IFERROR(ROUND((ROUNDDOWN(I279,0)*12)+IFERROR(VLOOKUP(ROUND(I279-(ROUNDDOWN(I279,0)),1),_Esperanzas!$R$5:$S$18,2,TRUE),0),0),12)","v":76},93.816666698455819,{"$f":"L278+(L285-L275)/10","v":7.9000001907348647},{"$f":"IFERROR(ROUND((ROUNDDOWN(L279,0)*12)+IFERROR(VLOOKUP(ROUND(L279-(ROUNDDOWN(L279,0)),1),_Esperanzas!$R$5:$S$18,2,TRUE),0),0),12)","v":94},95.300000190734863,null,null,null,null,null,null,null,null,null,null,null,null,null,null,87.4,{"$f":"AD278+(AD285-AD275)/10","v":5.0333333015441895},{"$f":"IFERROR(ROUND((ROUNDDOWN(AD279,0)*12)+IFERROR(VLOOKUP(ROUND(AD279-(ROUNDDOWN(AD279,0)),1),_Esperanzas!$R$5:$S$18,2,TRUE),0),0),12)","v":60},92.433333301544195,{"$f":"AG278+(AG285-AG275)/10","v":6.3833334922790534},{"$f":"IFERROR(ROUND((ROUNDDOWN(AG279,0)*12)+IFERROR(VLOOKUP(ROUND(AG279-(ROUNDDOWN(AG279,0)),1),_Esperanzas!$R$5:$S$18,2,TRUE),0),0),12)","v":76},93.783333492279056]
[null,null,null,null,null,null,null,87.5,{"$f":"I279+(I285-I275)/10","v":6.3749999999999991},{"$f":"IFERROR(ROUND((ROUNDDOWN(I280,0)*12)+IFERROR(VLOOKUP(ROUND(I280-(ROUNDDOWN(I280,0)),1),_Esperanzas!$R$5:$S$18,2,TRUE),0),0),12)","v":76},93.875,{"$f":"L279+(L285-L275)/10","v":7.8333334922790545},{"$f":"IFERROR(ROUND((ROUNDDOWN(L280,0)*12)+IFERROR(VLOOKUP(ROUND(L280-(ROUNDDOWN(L280,0)),1),_Esperanzas!$R$5:$S$18,2,TRUE),0),0),12)","v":93},95.333333492279053,null,null,null,null,null,null,null,null,null,null,null,null,null,null,87.5,{"$f":"AD279+(AD285-AD275)/10","v":5},{"$f":"IFERROR(ROUND((ROUNDDOWN(AD280,0)*12)+IFERROR(VLOOKUP(ROUND(AD280-(ROUNDDOWN(AD280,0)),1),_Esperanzas!$R$5:$S$18,2,TRUE),0),0),12)","v":60},92.5,{"$f":"AG279+(AG285-AG275)/10","v":6.3333334922790536},{"$f":"IFERROR(ROUND((ROUNDDOWN(AG280,0)*12)+IFERROR(VLOOKUP(ROUND(AG280-(ROUNDDOWN(AG280,0)),1),_Esperanzas!$R$5:$S$18,2,TRUE),0),0),12)","v":75},93.833333492279053]
[null,null,null,null,null,null,null,87.6,{"$f":"I280+(I285-I275)/10","v":6.3333333015441884},{"$f":"IFERROR(ROUND((ROUNDDOWN(I281,0)*12)+IFERROR(VLOOKUP(ROUND(I281-(ROUNDDOWN(I281,0)),1),_Esperanzas!$R$5:$S$18,2,TRUE),0),0),12)","v":75},93.933333301544181,{"$f":"L280+(L285-L275)/10","v":7.7666667938232443},{"$f":"IFERROR(ROUND((ROUNDDOWN(L281,0)*12)+IFERROR(VLOOKUP(ROUND(L281-(ROUNDDOWN(L281,0)),1),_Esperanzas!$R$5:$S$18,2,TRUE),0),0),12)","v":93},95.366666793823242,null,null,null,null,null,null,null,null,null,null,null,null,null,null,87.6,{"$f":"AD280+(AD285-AD275)/10","v":4.9666666984558105},{"$f":"IFERROR(ROUND((ROUNDDOWN(AD281,0)*12)+IFERROR(VLOOKUP(ROUND(AD281-(ROUNDDOWN(AD281,0)),1),_Esperanzas!$R$5:$S$18,2,TRUE),0),0),12)","v":60},92.566666698455805,{"$f":"AG280+(AG285-AG275)/10","v":6.2833334922790538},{"$f":"IFERROR(ROUND((ROUNDDOWN(AG281,0)*12)+IFERROR(VLOOKUP(ROUND(AG281-(ROUNDDOWN(AG281,0)),1),_Esperanzas!$R$5:$S$18,2,TRUE),0),0),12)","v":75},93.88333349227905]
[null,null,null,null,null,null,null,87.7,{"$f":"I281+(I285-I275)/10","v":6.2916666030883777},{"$f":"IFERROR(ROUND((ROUNDDOWN(I282,0)*12)+IFERROR(VLOOKUP(ROUND(I282-(ROUNDDOWN(I282,0)),1),_Esperanzas!$R$5:$S$18,2,TRUE),0),0),12)","v":75},93.991666603088376,{"$f":"L281+(L285-L275)/10","v":7.7000000953674341},{"$f":"IFERROR(ROUND((ROUNDDOWN(L282,0)*12)+IFERROR(VLOOKUP(ROUND(L282-(ROUNDDOWN(L282,0)),1),_Esperanzas!$R$5:$S$18,2,TRUE),0),0),12)","v":92},95.400000095367432,null,null,null,null,null,null,null,null,null,null,null,null,null,null,87.7,{"$f":"AD281+(AD285-AD275)/10","v":4.9333333969116211},{"$f":"IFERROR(ROUND((ROUNDDOWN(AD282,0)*12)+IFERROR(VLOOKUP(ROUND(AD282-(ROUNDDOWN(AD282,0)),1),_Esperanzas!$R$5:$S$18,2,TRUE),0),0),12)","v":58},92.633333396911624,{"$f":"AG281+(AG285-AG275)/10","v":6.233333492279054},{"$f":"IFERROR(ROUND((ROUNDDOWN(AG282,0)*12)+IFERROR(VLOOKUP(ROUND(AG282-(ROUNDDOWN(AG282,0)),1),_Esperanzas!$R$5:$S$18,2,TRUE),0),0),12)","v":74},93.933333492279061]
[null,null,null,null,null,null,null,87.8,{"$f":"I282+(I285-I275)/10","v":6.2499999046325669},{"$f":"IFERROR(ROUND((ROUNDDOWN(I283,0)*12)+IFERROR(VLOOKUP(ROUND(I283-(ROUNDDOWN(I283,0)),1),_Esperanzas!$R$5:$S$18,2,TRUE),0),0),12)","v":74},94.049999904632557,{"$f":"L282+(L285-L275)/10","v":7.6333333969116239},{"$f":"IFERROR(ROUND((ROUNDDOWN(L283,0)*12)+IFERROR(VLOOKUP(ROUND(L283-(ROUNDDOWN(L283,0)),1),_Esperanzas!$R$5:$S$18,2,TRUE),0),0),12)","v":91},95.433333396911621,null,null,null,null,null,null,null,null,null,null,null,null,null,null,87.8,{"$f":"AD282+(AD285-AD275)/10","v":4.9000000953674316},{"$f":"IFERROR(ROUND((ROUNDDOWN(AD283,0)*12)+IFERROR(VLOOKUP(ROUND(AD283-(ROUNDDOWN(AD283,0)),1),_Esperanzas!$R$5:$S$18,2,TRUE),0),0),12)","v":58},92.700000095367429,{"$f":"AG282+(AG285-AG275)/10","v":6.1833334922790542},{"$f":"IFERROR(ROUND((ROUNDDOWN(AG283,0)*12)+IFERROR(VLOOKUP(ROUND(AG283-(ROUNDDOWN(AG283,0)),1),_Esperanzas!$R$5:$S$18,2,TRUE),0),0),12)","v":74},93.983333492279058]
[null,null,null,null,null,null,null,87.9,{"$f":"I283+(I285-I275)/10","v":6.2083332061767562},{"$f":"IFERROR(ROUND((ROUNDDOWN(I284,0)*12)+IFERROR(VLOOKUP(ROUND(I284-(ROUNDDOWN(I284,0)),1),_Esperanzas!$R$5:$S$18,2,TRUE),0),0),12)","v":74},94.108333206176766,{"$f":"L283+(L285-L275)/10","v":7.5666666984558137},{"$f":"IFERROR(ROUND((ROUNDDOWN(L284,0)*12)+IFERROR(VLOOKUP(ROUND(L284-(ROUNDDOWN(L284,0)),1),_Esperanzas!$R$5:$S$18,2,TRUE),0),0),12)","v":91},95.466666698455825,null,null,null,null,null,null,null,null,null,null,null,null,null,null,87.9,{"$f":"AD283+(AD285-AD275)/10","v":4.8666667938232422},{"$f":"IFERROR(ROUND((ROUNDDOWN(AD284,0)*12)+IFERROR(VLOOKUP(ROUND(AD284-(ROUNDDOWN(AD284,0)),1),_Esperanzas!$R$5:$S$18,2,TRUE),0),0),12)","v":58},92.766666793823248,{"$f":"AG283+(AG285-AG275)/10","v":6.1333334922790543},{"$f":"IFERROR(ROUND((ROUNDDOWN(AG284,0)*12)+IFERROR(VLOOKUP(ROUND(AG284-(ROUNDDOWN(AG284,0)),1),_Esperanzas!$R$5:$S$18,2,TRUE),0),0),12)","v":73},94.033333492279056]
[null,null,null,null,null,null,null,88,{"$f":"VLOOKUP($H285,$B$5:$F$55,2,0)","v":6.1666665077209473},{"$f":"IFERROR(ROUND((ROUNDDOWN(I285,0)*12)+IFERROR(VLOOKUP(ROUND(I285-(ROUNDDOWN(I285,0)),1),_Esperanzas!$R$5:$S$18,2,TRUE),0),0),12)","v":74},94.166666507720947,{"$f":"VLOOKUP($H285,$B$5:$F$55,4,0)","v":7.5},{"$f":"IFERROR(ROUND((ROUNDDOWN(L285,0)*12)+IFERROR(VLOOKUP(ROUND(L285-(ROUNDDOWN(L285,0)),1),_Esperanzas!$R$5:$S$18,2,TRUE),0),0),12)","v":90},95.5,null,null,null,null,null,null,null,null,null,null,null,null,null,null,88,{"$f":"VLOOKUP($AC285,$W$5:$AA$55,2,0)","v":4.8333334922790527},{"$f":"IFERROR(ROUND((ROUNDDOWN(AD285,0)*12)+IFERROR(VLOOKUP(ROUND(AD285-(ROUNDDOWN(AD285,0)),1),_Esperanzas!$R$5:$S$18,2,TRUE),0),0),12)","v":57},92.833333492279053,{"$f":"VLOOKUP($AC285,$W$5:$AA$55,4,0)","v":6.0833334922790527},{"$f":"IFERROR(ROUND((ROUNDDOWN(AG285,0)*12)+IFERROR(VLOOKUP(ROUND(AG285-(ROUNDDOWN(AG285,0)),1),_Esperanzas!$R$5:$S$18,2,TRUE),0),0),12)","v":73},94.083333492279053]
[null,null,null,null,null,null,null,88.1,{"$f":"I285+(I295-I285)/10","v":6.1249998569488522},{"$f":"IFERROR(ROUND((ROUNDDOWN(I286,0)*12)+IFERROR(VLOOKUP(ROUND(I286-(ROUNDDOWN(I286,0)),1),_Esperanzas!$R$5:$S$18,2,TRUE),0),0),12)","v":73},94.224999856948841,{"$f":"L285+(L295-L285)/10","v":7.45},{"$f":"IFERROR(ROUND((ROUNDDOWN(L286,0)*12)+IFERROR(VLOOKUP(ROUND(L286-(ROUNDDOWN(L286,0)),1),_Esperanzas!$R$5:$S$18,2,TRUE),0),0),12)","v":90},95.55,null,null,null,null,null,null,null,null,null,null,null,null,null,null,88.1,{"$f":"AD285+(AD295-AD285)/10","v":4.8000001430511476},{"$f":"IFERROR(ROUND((ROUNDDOWN(AD286,0)*12)+IFERROR(VLOOKUP(ROUND(AD286-(ROUNDDOWN(AD286,0)),1),_Esperanzas!$R$5:$S$18,2,TRUE),0),0),12)","v":57},92.900000143051145,{"$f":"AG285+(AG295-AG285)/10","v":6.0333334922790529},{"$f":"IFERROR(ROUND((ROUNDDOWN(AG286,0)*12)+IFERROR(VLOOKUP(ROUND(AG286-(ROUNDDOWN(AG286,0)),1),_Esperanzas!$R$5:$S$18,2,TRUE),0),0),12)","v":72},94.13333349227905]
[null,null,null,null,null,null,null,88.2,{"$f":"I286+(I295-I285)/10","v":6.0833332061767571},{"$f":"IFERROR(ROUND((ROUNDDOWN(I287,0)*12)+IFERROR(VLOOKUP(ROUND(I287-(ROUNDDOWN(I287,0)),1),_Esperanzas!$R$5:$S$18,2,TRUE),0),0),12)","v":73},94.283333206176763,{"$f":"L286+(L295-L285)/10","v":7.4},{"$f":"IFERROR(ROUND((ROUNDDOWN(L287,0)*12)+IFERROR(VLOOKUP(ROUND(L287-(ROUNDDOWN(L287,0)),1),_Esperanzas!$R$5:$S$18,2,TRUE),0),0),12)","v":88},95.600000000000009,null,null,null,null,null,null,null,null,null,null,null,null,null,null,88.2,{"$f":"AD286+(AD295-AD285)/10","v":4.7666667938232425},{"$f":"IFERROR(ROUND((ROUNDDOWN(AD287,0)*12)+IFERROR(VLOOKUP(ROUND(AD287-(ROUNDDOWN(AD287,0)),1),_Esperanzas!$R$5:$S$18,2,TRUE),0),0),12)","v":57},92.966666793823251,{"$f":"AG286+(AG295-AG285)/10","v":5.9833334922790531},{"$f":"IFERROR(ROUND((ROUNDDOWN(AG287,0)*12)+IFERROR(VLOOKUP(ROUND(AG287-(ROUNDDOWN(AG287,0)),1),_Esperanzas!$R$5:$S$18,2,TRUE),0),0),12)","v":72},94.183333492279061]
[null,null,null,null,null,null,null,88.3,{"$f":"I287+(I295-I285)/10","v":6.041666555404662},{"$f":"IFERROR(ROUND((ROUNDDOWN(I288,0)*12)+IFERROR(VLOOKUP(ROUND(I288-(ROUNDDOWN(I288,0)),1),_Esperanzas!$R$5:$S$18,2,TRUE),0),0),12)","v":72},94.341666555404657,{"$f":"L287+(L295-L285)/10","v":7.3500000000000005},{"$f":"IFERROR(ROUND((ROUNDDOWN(L288,0)*12)+IFERROR(VLOOKUP(ROUND(L288-(ROUNDDOWN(L288,0)),1),_Esperanzas!$R$5:$S$18,2,TRUE),0),0),12)","v":88},95.649999999999991,null,null,null,null,null,null,null,null,null,null,null,null,null,null,88.3,{"$f":"AD287+(AD295-AD285)/10","v":4.7333334445953374},{"$f":"IFERROR(ROUND((ROUNDDOWN(AD288,0)*12)+IFERROR(VLOOKUP(ROUND(AD288-(ROUNDDOWN(AD288,0)),1),_Esperanzas!$R$5:$S$18,2,TRUE),0),0),12)","v":56},93.033333444595328,{"$f":"AG287+(AG295-AG285)/10","v":5.9333334922790533},{"$f":"IFERROR(ROUND((ROUNDDOWN(AG288,0)*12)+IFERROR(VLOOKUP(ROUND(AG288-(ROUNDDOWN(AG288,0)),1),_Esperanzas!$R$5:$S$18,2,TRUE),0),0),12)","v":70},94.233333492279044]
[null,null,null,null,null,null,null,88.4,{"$f":"I288+(I295-I285)/10","v":5.9999999046325669},{"$f":"IFERROR(ROUND((ROUNDDOWN(I289,0)*12)+IFERROR(VLOOKUP(ROUND(I289-(ROUNDDOWN(I289,0)),1),_Esperanzas!$R$5:$S$18,2,TRUE),0),0),12)","v":72},94.39999990463258,{"$f":"L288+(L295-L285)/10","v":7.3000000000000007},{"$f":"IFERROR(ROUND((ROUNDDOWN(L289,0)*12)+IFERROR(VLOOKUP(ROUND(L289-(ROUNDDOWN(L289,0)),1),_Esperanzas!$R$5:$S$18,2,TRUE),0),0),12)","v":87},95.7,null,null,null,null,null,null,null,null,null,null,null,null,null,null,88.4,{"$f":"AD288+(AD295-AD285)/10","v":4.7000000953674324},{"$f":"IFERROR(ROUND((ROUNDDOWN(AD289,0)*12)+IFERROR(VLOOKUP(ROUND(AD289-(ROUNDDOWN(AD289,0)),1),_Esperanzas!$R$5:$S$18,2,TRUE),0),0),12)","v":56},93.100000095367434,{"$f":"AG288+(AG295-AG285)/10","v":5.8833334922790534},{"$f":"IFERROR(ROUND((ROUNDDOWN(AG289,0)*12)+IFERROR(VLOOKUP(ROUND(AG289-(ROUNDDOWN(AG289,0)),1),_Esperanzas!$R$5:$S$18,2,TRUE),0),0),12)","v":70},94.283333492279056]
[null,null,null,null,null,null,null,88.5,{"$f":"I289+(I295-I285)/10","v":5.9583332538604719},{"$f":"IFERROR(ROUND((ROUNDDOWN(I290,0)*12)+IFERROR(VLOOKUP(ROUND(I290-(ROUNDDOWN(I290,0)),1),_Esperanzas!$R$5:$S$18,2,TRUE),0),0),12)","v":72},94.458333253860474,{"$f":"L289+(L295-L285)/10","v":7.2500000000000009},{"$f":"IFERROR(ROUND((ROUNDDOWN(L290,0)*12)+IFERROR(VLOOKUP(ROUND(L290-(ROUNDDOWN(L290,0)),1),_Esperanzas!$R$5:$S$18,2,TRUE),0),0),12)","v":87},95.75,null,null,null,null,null,null,null,null,null,null,null,null,null,null,88.5,{"$f":"AD289+(AD295-AD285)/10","v":4.6666667461395273},{"$f":"IFERROR(ROUND((ROUNDDOWN(AD290,0)*12)+IFERROR(VLOOKUP(ROUND(AD290-(ROUNDDOWN(AD290,0)),1),_Esperanzas!$R$5:$S$18,2,TRUE),0),0),12)","v":56},93.166666746139526,{"$f":"AG289+(AG295-AG285)/10","v":5.8333334922790536},{"$f":"IFERROR(ROUND((ROUNDDOWN(AG290,0)*12)+IFERROR(VLOOKUP(ROUND(AG290-(ROUNDDOWN(AG290,0)),1),_Esperanzas!$R$5:$S$18,2,TRUE),0),0),12)","v":69},94.333333492279053]
[null,null,null,null,null,null,null,88.6,{"$f":"I290+(I295-I285)/10","v":5.9166666030883768},{"$f":"IFERROR(ROUND((ROUNDDOWN(I291,0)*12)+IFERROR(VLOOKUP(ROUND(I291-(ROUNDDOWN(I291,0)),1),_Esperanzas!$R$5:$S$18,2,TRUE),0),0),12)","v":70},94.516666603088368,{"$f":"L290+(L295-L285)/10","v":7.2000000000000011},{"$f":"IFERROR(ROUND((ROUNDDOWN(L291,0)*12)+IFERROR(VLOOKUP(ROUND(L291-(ROUNDDOWN(L291,0)),1),_Esperanzas!$R$5:$S$18,2,TRUE),0),0),12)","v":86},95.8,null,null,null,null,null,null,null,null,null,null,null,null,null,null,88.6,{"$f":"AD290+(AD295-AD285)/10","v":4.6333333969116222},{"$f":"IFERROR(ROUND((ROUNDDOWN(AD291,0)*12)+IFERROR(VLOOKUP(ROUND(AD291-(ROUNDDOWN(AD291,0)),1),_Esperanzas!$R$5:$S$18,2,TRUE),0),0),12)","v":55},93.233333396911618,{"$f":"AG290+(AG295-AG285)/10","v":5.7833334922790538},{"$f":"IFERROR(ROUND((ROUNDDOWN(AG291,0)*12)+IFERROR(VLOOKUP(ROUND(AG291-(ROUNDDOWN(AG291,0)),1),_Esperanzas!$R$5:$S$18,2,TRUE),0),0),12)","v":69},94.38333349227905]
[null,null,null,null,null,null,null,88.7,{"$f":"I291+(I295-I285)/10","v":5.8749999523162817},{"$f":"IFERROR(ROUND((ROUNDDOWN(I292,0)*12)+IFERROR(VLOOKUP(ROUND(I292-(ROUNDDOWN(I292,0)),1),_Esperanzas!$R$5:$S$18,2,TRUE),0),0),12)","v":70},94.57499995231629,{"$f":"L291+(L295-L285)/10","v":7.1500000000000012},{"$f":"IFERROR(ROUND((ROUNDDOWN(L292,0)*12)+IFERROR(VLOOKUP(ROUND(L292-(ROUNDDOWN(L292,0)),1),_Esperanzas!$R$5:$S$18,2,TRUE),0),0),12)","v":86},95.850000000000009,null,null,null,null,null,null,null,null,null,null,null,null,null,null,88.7,{"$f":"AD291+(AD295-AD285)/10","v":4.6000000476837171},{"$f":"IFERROR(ROUND((ROUNDDOWN(AD292,0)*12)+IFERROR(VLOOKUP(ROUND(AD292-(ROUNDDOWN(AD292,0)),1),_Esperanzas!$R$5:$S$18,2,TRUE),0),0),12)","v":55},93.300000047683724,{"$f":"AG291+(AG295-AG285)/10","v":5.733333492279054},{"$f":"IFERROR(ROUND((ROUNDDOWN(AG292,0)*12)+IFERROR(VLOOKUP(ROUND(AG292-(ROUNDDOWN(AG292,0)),1),_Esperanzas!$R$5:$S$18,2,TRUE),0),0),12)","v":68},94.433333492279061]
[null,null,null,null,null,null,null,88.8,{"$f":"I292+(I295-I285)/10","v":5.8333333015441866},{"$f":"IFERROR(ROUND((ROUNDDOWN(I293,0)*12)+IFERROR(VLOOKUP(ROUND(I293-(ROUNDDOWN(I293,0)),1),_Esperanzas!$R$5:$S$18,2,TRUE),0),0),12)","v":69},94.633333301544184,{"$f":"L292+(L295-L285)/10","v":7.1000000000000014},{"$f":"IFERROR(ROUND((ROUNDDOWN(L293,0)*12)+IFERROR(VLOOKUP(ROUND(L293-(ROUNDDOWN(L293,0)),1),_Esperanzas!$R$5:$S$18,2,TRUE),0),0),12)","v":85},95.9,null,null,null,null,null,null,null,null,null,null,null,null,null,null,88.8,{"$f":"AD292+(AD295-AD285)/10","v":4.566666698455812},{"$f":"IFERROR(ROUND((ROUNDDOWN(AD293,0)*12)+IFERROR(VLOOKUP(ROUND(AD293-(ROUNDDOWN(AD293,0)),1),_Esperanzas!$R$5:$S$18,2,TRUE),0),0),12)","v":55},93.366666698455816,{"$f":"AG292+(AG295-AG285)/10","v":5.6833334922790542},{"$f":"IFERROR(ROUND((ROUNDDOWN(AG293,0)*12)+IFERROR(VLOOKUP(ROUND(AG293-(ROUNDDOWN(AG293,0)),1),_Esperanzas!$R$5:$S$18,2,TRUE),0),0),12)","v":68},94.483333492279058]
[null,null,null,null,null,null,null,88.9,{"$f":"I293+(I295-I285)/10","v":5.7916666507720915},{"$f":"IFERROR(ROUND((ROUNDDOWN(I294,0)*12)+IFERROR(VLOOKUP(ROUND(I294-(ROUNDDOWN(I294,0)),1),_Esperanzas!$R$5:$S$18,2,TRUE),0),0),12)","v":69},94.691666650772092,{"$f":"L293+(L295-L285)/10","v":7.0500000000000016},{"$f":"IFERROR(ROUND((ROUNDDOWN(L294,0)*12)+IFERROR(VLOOKUP(ROUND(L294-(ROUNDDOWN(L294,0)),1),_Esperanzas!$R$5:$S$18,2,TRUE),0),0),12)","v":85},95.95,null,null,null,null,null,null,null,null,null,null,null,null,null,null,88.9,{"$f":"AD293+(AD295-AD285)/10","v":4.5333333492279069},{"$f":"IFERROR(ROUND((ROUNDDOWN(AD294,0)*12)+IFERROR(VLOOKUP(ROUND(AD294-(ROUNDDOWN(AD294,0)),1),_Esperanzas!$R$5:$S$18,2,TRUE),0),0),12)","v":54},93.433333349227908,{"$f":"AG293+(AG295-AG285)/10","v":5.6333334922790543},{"$f":"IFERROR(ROUND((ROUNDDOWN(AG294,0)*12)+IFERROR(VLOOKUP(ROUND(AG294-(ROUNDDOWN(AG294,0)),1),_Esperanzas!$R$5:$S$18,2,TRUE),0),0),12)","v":67},94.533333492279056]
[null,null,null,null,null,null,null,89,{"$f":"VLOOKUP($H295,$B$5:$F$55,2,0)","v":5.75},{"$f":"IFERROR(ROUND((ROUNDDOWN(I295,0)*12)+IFERROR(VLOOKUP(ROUND(I295-(ROUNDDOWN(I295,0)),1),_Esperanzas!$R$5:$S$18,2,TRUE),0),0),12)","v":69},94.75,{"$f":"VLOOKUP($H295,$B$5:$F$55,4,0)","v":7},{"$f":"IFERROR(ROUND((ROUNDDOWN(L295,0)*12)+IFERROR(VLOOKUP(ROUND(L295-(ROUNDDOWN(L295,0)),1),_Esperanzas!$R$5:$S$18,2,TRUE),0),0),12)","v":84},96,null,null,null,null,null,null,null,null,null,null,null,null,null,null,89,{"$f":"VLOOKUP($AC295,$W$5:$AA$55,2,0)","v":4.5},{"$f":"IFERROR(ROUND((ROUNDDOWN(AD295,0)*12)+IFERROR(VLOOKUP(ROUND(AD295-(ROUNDDOWN(AD295,0)),1),_Esperanzas!$R$5:$S$18,2,TRUE),0),0),12)","v":54},93.5,{"$f":"VLOOKUP($AC295,$W$5:$AA$55,4,0)","v":5.5833334922790527},{"$f":"IFERROR(ROUND((ROUNDDOWN(AG295,0)*12)+IFERROR(VLOOKUP(ROUND(AG295-(ROUNDDOWN(AG295,0)),1),_Esperanzas!$R$5:$S$18,2,TRUE),0),0),12)","v":67},94.583333492279053]
[null,null,null,null,null,null,null,89.1,{"$f":"I295+(I305-I295)/10","v":5.7083333492279049},{"$f":"IFERROR(ROUND((ROUNDDOWN(I296,0)*12)+IFERROR(VLOOKUP(ROUND(I296-(ROUNDDOWN(I296,0)),1),_Esperanzas!$R$5:$S$18,2,TRUE),0),0),12)","v":68},94.808333349227894,{"$f":"L295+(L305-L295)/10","v":6.9416666507720945},{"$f":"IFERROR(ROUND((ROUNDDOWN(L296,0)*12)+IFERROR(VLOOKUP(ROUND(L296-(ROUNDDOWN(L296,0)),1),_Esperanzas!$R$5:$S$18,2,TRUE),0),0),12)","v":82},96.041666650772086,null,null,null,null,null,null,null,null,null,null,null,null,null,null,89.1,{"$f":"AD295+(AD305-AD295)/10","v":4.4666666507720949},{"$f":"IFERROR(ROUND((ROUNDDOWN(AD296,0)*12)+IFERROR(VLOOKUP(ROUND(AD296-(ROUNDDOWN(AD296,0)),1),_Esperanzas!$R$5:$S$18,2,TRUE),0),0),12)","v":54},93.566666650772092,{"$f":"AG295+(AG305-AG295)/10","v":5.541666793823242},{"$f":"IFERROR(ROUND((ROUNDDOWN(AG296,0)*12)+IFERROR(VLOOKUP(ROUND(AG296-(ROUNDDOWN(AG296,0)),1),_Esperanzas!$R$5:$S$18,2,TRUE),0),0),12)","v":66},94.641666793823234]
[null,null,null,null,null,null,null,89.2,{"$f":"I296+(I305-I295)/10","v":5.6666666984558098},{"$f":"IFERROR(ROUND((ROUNDDOWN(I297,0)*12)+IFERROR(VLOOKUP(ROUND(I297-(ROUNDDOWN(I297,0)),1),_Esperanzas!$R$5:$S$18,2,TRUE),0),0),12)","v":68},94.866666698455816,{"$f":"L296+(L305-L295)/10","v":6.8833333015441891},{"$f":"IFERROR(ROUND((ROUNDDOWN(L297,0)*12)+IFERROR(VLOOKUP(ROUND(L297-(ROUNDDOWN(L297,0)),1),_Esperanzas!$R$5:$S$18,2,TRUE),0),0),12)","v":82},96.083333301544187,null,null,null,null,null,null,null,null,null,null,null,null,null,null,89.2,{"$f":"AD296+(AD305-AD295)/10","v":4.4333333015441898},{"$f":"IFERROR(ROUND((ROUNDDOWN(AD297,0)*12)+IFERROR(VLOOKUP(ROUND(AD297-(ROUNDDOWN(AD297,0)),1),_Esperanzas!$R$5:$S$18,2,TRUE),0),0),12)","v":52},93.633333301544198,{"$f":"AG296+(AG305-AG295)/10","v":5.5000000953674313},{"$f":"IFERROR(ROUND((ROUNDDOWN(AG297,0)*12)+IFERROR(VLOOKUP(ROUND(AG297-(ROUNDDOWN(AG297,0)),1),_Esperanzas!$R$5:$S$18,2,TRUE),0),0),12)","v":66},94.700000095367429]
[null,null,null,null,null,null,null,89.3,{"$f":"I297+(I305-I295)/10","v":5.6250000476837148},{"$f":"IFERROR(ROUND((ROUNDDOWN(I298,0)*12)+IFERROR(VLOOKUP(ROUND(I298-(ROUNDDOWN(I298,0)),1),_Esperanzas!$R$5:$S$18,2,TRUE),0),0),12)","v":67},94.92500004768371,{"$f":"L297+(L305-L295)/10","v":6.8249999523162836},{"$f":"IFERROR(ROUND((ROUNDDOWN(L298,0)*12)+IFERROR(VLOOKUP(ROUND(L298-(ROUNDDOWN(L298,0)),1),_Esperanzas!$R$5:$S$18,2,TRUE),0),0),12)","v":81},96.124999952316287,null,null,null,null,null,null,null,null,null,null,null,null,null,null,89.3,{"$f":"AD297+(AD305-AD295)/10","v":4.3999999523162847},{"$f":"IFERROR(ROUND((ROUNDDOWN(AD298,0)*12)+IFERROR(VLOOKUP(ROUND(AD298-(ROUNDDOWN(AD298,0)),1),_Esperanzas!$R$5:$S$18,2,TRUE),0),0),12)","v":52},93.699999952316276,{"$f":"AG297+(AG305-AG295)/10","v":5.4583333969116206},{"$f":"IFERROR(ROUND((ROUNDDOWN(AG298,0)*12)+IFERROR(VLOOKUP(ROUND(AG298-(ROUNDDOWN(AG298,0)),1),_Esperanzas!$R$5:$S$18,2,TRUE),0),0),12)","v":66},94.758333396911624]
[null,null,null,null,null,null,null,89.4,{"$f":"I298+(I305-I295)/10","v":5.5833333969116197},{"$f":"IFERROR(ROUND((ROUNDDOWN(I299,0)*12)+IFERROR(VLOOKUP(ROUND(I299-(ROUNDDOWN(I299,0)),1),_Esperanzas!$R$5:$S$18,2,TRUE),0),0),12)","v":67},94.983333396911632,{"$f":"L298+(L305-L295)/10","v":6.7666666030883782},{"$f":"IFERROR(ROUND((ROUNDDOWN(L299,0)*12)+IFERROR(VLOOKUP(ROUND(L299-(ROUNDDOWN(L299,0)),1),_Esperanzas!$R$5:$S$18,2,TRUE),0),0),12)","v":81},96.166666603088387,null,null,null,null,null,null,null,null,null,null,null,null,null,null,89.4,{"$f":"AD298+(AD305-AD295)/10","v":4.3666666030883796},{"$f":"IFERROR(ROUND((ROUNDDOWN(AD299,0)*12)+IFERROR(VLOOKUP(ROUND(AD299-(ROUNDDOWN(AD299,0)),1),_Esperanzas!$R$5:$S$18,2,TRUE),0),0),12)","v":52},93.766666603088382,{"$f":"AG298+(AG305-AG295)/10","v":5.4166666984558098},{"$f":"IFERROR(ROUND((ROUNDDOWN(AG299,0)*12)+IFERROR(VLOOKUP(ROUND(AG299-(ROUNDDOWN(AG299,0)),1),_Esperanzas!$R$5:$S$18,2,TRUE),0),0),12)","v":64},94.816666698455819]
[null,null,null,null,null,null,null,89.5,{"$f":"I299+(I305-I295)/10","v":5.5416667461395246},{"$f":"IFERROR(ROUND((ROUNDDOWN(I300,0)*12)+IFERROR(VLOOKUP(ROUND(I300-(ROUNDDOWN(I300,0)),1),_Esperanzas!$R$5:$S$18,2,TRUE),0),0),12)","v":66},95.041666746139526,{"$f":"L299+(L305-L295)/10","v":6.7083332538604727},{"$f":"IFERROR(ROUND((ROUNDDOWN(L300,0)*12)+IFERROR(VLOOKUP(ROUND(L300-(ROUNDDOWN(L300,0)),1),_Esperanzas!$R$5:$S$18,2,TRUE),0),0),12)","v":80},96.208333253860474,null,null,null,null,null,null,null,null,null,null,null,null,null,null,89.5,{"$f":"AD299+(AD305-AD295)/10","v":4.3333332538604745},{"$f":"IFERROR(ROUND((ROUNDDOWN(AD300,0)*12)+IFERROR(VLOOKUP(ROUND(AD300-(ROUNDDOWN(AD300,0)),1),_Esperanzas!$R$5:$S$18,2,TRUE),0),0),12)","v":51},93.833333253860474,{"$f":"AG299+(AG305-AG295)/10","v":5.3749999999999991},{"$f":"IFERROR(ROUND((ROUNDDOWN(AG300,0)*12)+IFERROR(VLOOKUP(ROUND(AG300-(ROUNDDOWN(AG300,0)),1),_Esperanzas!$R$5:$S$18,2,TRUE),0),0),12)","v":64},94.875]
[null,null,null,null,null,null,null,89.6,{"$f":"I300+(I305-I295)/10","v":5.5000000953674295},{"$f":"IFERROR(ROUND((ROUNDDOWN(I301,0)*12)+IFERROR(VLOOKUP(ROUND(I301-(ROUNDDOWN(I301,0)),1),_Esperanzas!$R$5:$S$18,2,TRUE),0),0),12)","v":66},95.10000009536742,{"$f":"L300+(L305-L295)/10","v":6.6499999046325673},{"$f":"IFERROR(ROUND((ROUNDDOWN(L301,0)*12)+IFERROR(VLOOKUP(ROUND(L301-(ROUNDDOWN(L301,0)),1),_Esperanzas!$R$5:$S$18,2,TRUE),0),0),12)","v":79},96.24999990463256,null,null,null,null,null,null,null,null,null,null,null,null,null,null,89.6,{"$f":"AD300+(AD305-AD295)/10","v":4.2999999046325694},{"$f":"IFERROR(ROUND((ROUNDDOWN(AD301,0)*12)+IFERROR(VLOOKUP(ROUND(AD301-(ROUNDDOWN(AD301,0)),1),_Esperanzas!$R$5:$S$18,2,TRUE),0),0),12)","v":51},93.899999904632566,{"$f":"AG300+(AG305-AG295)/10","v":5.3333333015441884},{"$f":"IFERROR(ROUND((ROUNDDOWN(AG301,0)*12)+IFERROR(VLOOKUP(ROUND(AG301-(ROUNDDOWN(AG301,0)),1),_Esperanzas!$R$5:$S$18,2,TRUE),0),0),12)","v":63},94.933333301544181]
[null,null,null,null,null,null,null,89.7,{"$f":"I301+(I305-I295)/10","v":5.4583334445953344},{"$f":"IFERROR(ROUND((ROUNDDOWN(I302,0)*12)+IFERROR(VLOOKUP(ROUND(I302-(ROUNDDOWN(I302,0)),1),_Esperanzas!$R$5:$S$18,2,TRUE),0),0),12)","v":66},95.158333444595343,{"$f":"L301+(L305-L295)/10","v":6.5916665554046618},{"$f":"IFERROR(ROUND((ROUNDDOWN(L302,0)*12)+IFERROR(VLOOKUP(ROUND(L302-(ROUNDDOWN(L302,0)),1),_Esperanzas!$R$5:$S$18,2,TRUE),0),0),12)","v":79},96.29166655540466,null,null,null,null,null,null,null,null,null,null,null,null,null,null,89.7,{"$f":"AD301+(AD305-AD295)/10","v":4.2666665554046643},{"$f":"IFERROR(ROUND((ROUNDDOWN(AD302,0)*12)+IFERROR(VLOOKUP(ROUND(AD302-(ROUNDDOWN(AD302,0)),1),_Esperanzas!$R$5:$S$18,2,TRUE),0),0),12)","v":51},93.966666555404672,{"$f":"AG301+(AG305-AG295)/10","v":5.2916666030883777},{"$f":"IFERROR(ROUND((ROUNDDOWN(AG302,0)*12)+IFERROR(VLOOKUP(ROUND(AG302-(ROUNDDOWN(AG302,0)),1),_Esperanzas!$R$5:$S$18,2,TRUE),0),0),12)","v":63},94.991666603088376]
[null,null,null,null,null,null,null,89.8,{"$f":"I302+(I305-I295)/10","v":5.4166667938232393},{"$f":"IFERROR(ROUND((ROUNDDOWN(I303,0)*12)+IFERROR(VLOOKUP(ROUND(I303-(ROUNDDOWN(I303,0)),1),_Esperanzas!$R$5:$S$18,2,TRUE),0),0),12)","v":64},95.216666793823237,{"$f":"L302+(L305-L295)/10","v":6.5333332061767564},{"$f":"IFERROR(ROUND((ROUNDDOWN(L303,0)*12)+IFERROR(VLOOKUP(ROUND(L303-(ROUNDDOWN(L303,0)),1),_Esperanzas!$R$5:$S$18,2,TRUE),0),0),12)","v":78},96.333333206176746,null,null,null,null,null,null,null,null,null,null,null,null,null,null,89.8,{"$f":"AD302+(AD305-AD295)/10","v":4.2333332061767592},{"$f":"IFERROR(ROUND((ROUNDDOWN(AD303,0)*12)+IFERROR(VLOOKUP(ROUND(AD303-(ROUNDDOWN(AD303,0)),1),_Esperanzas!$R$5:$S$18,2,TRUE),0),0),12)","v":50},94.033333206176763,{"$f":"AG302+(AG305-AG295)/10","v":5.2499999046325669},{"$f":"IFERROR(ROUND((ROUNDDOWN(AG303,0)*12)+IFERROR(VLOOKUP(ROUND(AG303-(ROUNDDOWN(AG303,0)),1),_Esperanzas!$R$5:$S$18,2,TRUE),0),0),12)","v":62},95.049999904632557]
[null,null,null,null,null,null,null,89.9,{"$f":"I303+(I305-I295)/10","v":5.3750001430511443},{"$f":"IFERROR(ROUND((ROUNDDOWN(I304,0)*12)+IFERROR(VLOOKUP(ROUND(I304-(ROUNDDOWN(I304,0)),1),_Esperanzas!$R$5:$S$18,2,TRUE),0),0),12)","v":64},95.275000143051145,{"$f":"L303+(L305-L295)/10","v":6.4749998569488509},{"$f":"IFERROR(ROUND((ROUNDDOWN(L304,0)*12)+IFERROR(VLOOKUP(ROUND(L304-(ROUNDDOWN(L304,0)),1),_Esperanzas!$R$5:$S$18,2,TRUE),0),0),12)","v":78},96.374999856948861,null,null,null,null,null,null,null,null,null,null,null,null,null,null,89.9,{"$f":"AD303+(AD305-AD295)/10","v":4.1999998569488541},{"$f":"IFERROR(ROUND((ROUNDDOWN(AD304,0)*12)+IFERROR(VLOOKUP(ROUND(AD304-(ROUNDDOWN(AD304,0)),1),_Esperanzas!$R$5:$S$18,2,TRUE),0),0),12)","v":50},94.099999856948855,{"$f":"AG303+(AG305-AG295)/10","v":5.2083332061767562},{"$f":"IFERROR(ROUND((ROUNDDOWN(AG304,0)*12)+IFERROR(VLOOKUP(ROUND(AG304-(ROUNDDOWN(AG304,0)),1),_Esperanzas!$R$5:$S$18,2,TRUE),0),0),12)","v":62},95.108333206176766]
[null,null,null,null,null,null,null,90,{"$f":"VLOOKUP($H305,$B$5:$F$55,2,0)","v":5.3333334922790527},{"$f":"IFERROR(ROUND((ROUNDDOWN(I305,0)*12)+IFERROR(VLOOKUP(ROUND(I305-(ROUNDDOWN(I305,0)),1),_Esperanzas!$R$5:$S$18,2,TRUE),0),0),12)","v":63},95.333333492279053,{"$f":"VLOOKUP($H305,$B$5:$F$55,4,0)","v":6.4166665077209473},{"$f":"IFERROR(ROUND((ROUNDDOWN(L305,0)*12)+IFERROR(VLOOKUP(ROUND(L305-(ROUNDDOWN(L305,0)),1),_Esperanzas!$R$5:$S$18,2,TRUE),0),0),12)","v":76},96.416666507720947,null,null,null,null,null,null,null,null,null,null,null,null,null,null,90,{"$f":"VLOOKUP($AC305,$W$5:$AA$55,2,0)","v":4.1666665077209473},{"$f":"IFERROR(ROUND((ROUNDDOWN(AD305,0)*12)+IFERROR(VLOOKUP(ROUND(AD305-(ROUNDDOWN(AD305,0)),1),_Esperanzas!$R$5:$S$18,2,TRUE),0),0),12)","v":50},94.166666507720947,{"$f":"VLOOKUP($AC305,$W$5:$AA$55,4,0)","v":5.1666665077209473},{"$f":"IFERROR(ROUND((ROUNDDOWN(AG305,0)*12)+IFERROR(VLOOKUP(ROUND(AG305-(ROUNDDOWN(AG305,0)),1),_Esperanzas!$R$5:$S$18,2,TRUE),0),0),12)","v":62},95.166666507720947]
[null,null,null,null,null,null,null,90.1,{"$f":"I305+(I315-I305)/10","v":5.3000001430511476},{"$f":"IFERROR(ROUND((ROUNDDOWN(I306,0)*12)+IFERROR(VLOOKUP(ROUND(I306-(ROUNDDOWN(I306,0)),1),_Esperanzas!$R$5:$S$18,2,TRUE),0),0),12)","v":63},95.400000143051145,{"$f":"L305+(L315-L305)/10","v":6.3749998569488522},{"$f":"IFERROR(ROUND((ROUNDDOWN(L306,0)*12)+IFERROR(VLOOKUP(ROUND(L306-(ROUNDDOWN(L306,0)),1),_Esperanzas!$R$5:$S$18,2,TRUE),0),0),12)","v":76},96.474999856948841,null,null,null,null,null,null,null,null,null,null,null,null,null,null,90.1,{"$f":"AD305+(AD315-AD305)/10","v":4.1416665315628052},{"$f":"IFERROR(ROUND((ROUNDDOWN(AD306,0)*12)+IFERROR(VLOOKUP(ROUND(AD306-(ROUNDDOWN(AD306,0)),1),_Esperanzas!$R$5:$S$18,2,TRUE),0),0),12)","v":49},94.241666531562799,{"$f":"AG305+(AG315-AG305)/10","v":5.1249998569488522},{"$f":"IFERROR(ROUND((ROUNDDOWN(AG306,0)*12)+IFERROR(VLOOKUP(ROUND(AG306-(ROUNDDOWN(AG306,0)),1),_Esperanzas!$R$5:$S$18,2,TRUE),0),0),12)","v":61},95.224999856948841]
[null,null,null,null,null,null,null,90.2,{"$f":"I306+(I315-I305)/10","v":5.2666667938232425},{"$f":"IFERROR(ROUND((ROUNDDOWN(I307,0)*12)+IFERROR(VLOOKUP(ROUND(I307-(ROUNDDOWN(I307,0)),1),_Esperanzas!$R$5:$S$18,2,TRUE),0),0),12)","v":63},95.466666793823251,{"$f":"L306+(L315-L305)/10","v":6.3333332061767571},{"$f":"IFERROR(ROUND((ROUNDDOWN(L307,0)*12)+IFERROR(VLOOKUP(ROUND(L307-(ROUNDDOWN(L307,0)),1),_Esperanzas!$R$5:$S$18,2,TRUE),0),0),12)","v":75},96.533333206176763,null,null,null,null,null,null,null,null,null,null,null,null,null,null,90.2,{"$f":"AD306+(AD315-AD305)/10","v":4.1166665554046631},{"$f":"IFERROR(ROUND((ROUNDDOWN(AD307,0)*12)+IFERROR(VLOOKUP(ROUND(AD307-(ROUNDDOWN(AD307,0)),1),_Esperanzas!$R$5:$S$18,2,TRUE),0),0),12)","v":49},94.316666555404666,{"$f":"AG306+(AG315-AG305)/10","v":5.0833332061767571},{"$f":"IFERROR(ROUND((ROUNDDOWN(AG307,0)*12)+IFERROR(VLOOKUP(ROUND(AG307-(ROUNDDOWN(AG307,0)),1),_Esperanzas!$R$5:$S$18,2,TRUE),0),0),12)","v":61},95.283333206176763]
[null,null,null,null,null,null,null,90.3,{"$f":"I307+(I315-I305)/10","v":5.2333334445953374},{"$f":"IFERROR(ROUND((ROUNDDOWN(I308,0)*12)+IFERROR(VLOOKUP(ROUND(I308-(ROUNDDOWN(I308,0)),1),_Esperanzas!$R$5:$S$18,2,TRUE),0),0),12)","v":62},95.533333444595328,{"$f":"L307+(L315-L305)/10","v":6.291666555404662},{"$f":"IFERROR(ROUND((ROUNDDOWN(L308,0)*12)+IFERROR(VLOOKUP(ROUND(L308-(ROUNDDOWN(L308,0)),1),_Esperanzas!$R$5:$S$18,2,TRUE),0),0),12)","v":75},96.591666555404657,null,null,null,null,null,null,null,null,null,null,null,null,null,null,90.3,{"$f":"AD307+(AD315-AD305)/10","v":4.091666579246521},{"$f":"IFERROR(ROUND((ROUNDDOWN(AD308,0)*12)+IFERROR(VLOOKUP(ROUND(AD308-(ROUNDDOWN(AD308,0)),1),_Esperanzas!$R$5:$S$18,2,TRUE),0),0),12)","v":49},94.391666579246518,{"$f":"AG307+(AG315-AG305)/10","v":5.041666555404662},{"$f":"IFERROR(ROUND((ROUNDDOWN(AG308,0)*12)+IFERROR(VLOOKUP(ROUND(AG308-(ROUNDDOWN(AG308,0)),1),_Esperanzas!$R$5:$S$18,2,TRUE),0),0),12)","v":60},95.341666555404657]
[null,null,null,null,null,null,null,90.4,{"$f":"I308+(I315-I305)/10","v":5.2000000953674324},{"$f":"IFERROR(ROUND((ROUNDDOWN(I309,0)*12)+IFERROR(VLOOKUP(ROUND(I309-(ROUNDDOWN(I309,0)),1),_Esperanzas!$R$5:$S$18,2,TRUE),0),0),12)","v":62},95.600000095367434,{"$f":"L308+(L315-L305)/10","v":6.2499999046325669},{"$f":"IFERROR(ROUND((ROUNDDOWN(L309,0)*12)+IFERROR(VLOOKUP(ROUND(L309-(ROUNDDOWN(L309,0)),1),_Esperanzas!$R$5:$S$18,2,TRUE),0),0),12)","v":74},96.64999990463258,null,null,null,null,null,null,null,null,null,null,null,null,null,null,90.4,{"$f":"AD308+(AD315-AD305)/10","v":4.0666666030883789},{"$f":"IFERROR(ROUND((ROUNDDOWN(AD309,0)*12)+IFERROR(VLOOKUP(ROUND(AD309-(ROUNDDOWN(AD309,0)),1),_Esperanzas!$R$5:$S$18,2,TRUE),0),0),12)","v":49},94.466666603088385,{"$f":"AG308+(AG315-AG305)/10","v":4.9999999046325669},{"$f":"IFERROR(ROUND((ROUNDDOWN(AG309,0)*12)+IFERROR(VLOOKUP(ROUND(AG309-(ROUNDDOWN(AG309,0)),1),_Esperanzas!$R$5:$S$18,2,TRUE),0),0),12)","v":60},95.39999990463258]
[null,null,null,null,null,null,null,90.5,{"$f":"I309+(I315-I305)/10","v":5.1666667461395273},{"$f":"IFERROR(ROUND((ROUNDDOWN(I310,0)*12)+IFERROR(VLOOKUP(ROUND(I310-(ROUNDDOWN(I310,0)),1),_Esperanzas!$R$5:$S$18,2,TRUE),0),0),12)","v":62},95.666666746139526,{"$f":"L309+(L315-L305)/10","v":6.2083332538604719},{"$f":"IFERROR(ROUND((ROUNDDOWN(L310,0)*12)+IFERROR(VLOOKUP(ROUND(L310-(ROUNDDOWN(L310,0)),1),_Esperanzas!$R$5:$S$18,2,TRUE),0),0),12)","v":74},96.708333253860474,null,null,null,null,null,null,null,null,null,null,null,null,null,null,90.5,{"$f":"AD309+(AD315-AD305)/10","v":4.0416666269302368},{"$f":"IFERROR(ROUND((ROUNDDOWN(AD310,0)*12)+IFERROR(VLOOKUP(ROUND(AD310-(ROUNDDOWN(AD310,0)),1),_Esperanzas!$R$5:$S$18,2,TRUE),0),0),12)","v":48},94.541666626930237,{"$f":"AG309+(AG315-AG305)/10","v":4.9583332538604719},{"$f":"IFERROR(ROUND((ROUNDDOWN(AG310,0)*12)+IFERROR(VLOOKUP(ROUND(AG310-(ROUNDDOWN(AG310,0)),1),_Esperanzas!$R$5:$S$18,2,TRUE),0),0),12)","v":60},95.458333253860474]
[null,null,null,null,null,null,null,90.6,{"$f":"I310+(I315-I305)/10","v":5.1333333969116222},{"$f":"IFERROR(ROUND((ROUNDDOWN(I311,0)*12)+IFERROR(VLOOKUP(ROUND(I311-(ROUNDDOWN(I311,0)),1),_Esperanzas!$R$5:$S$18,2,TRUE),0),0),12)","v":61},95.733333396911618,{"$f":"L310+(L315-L305)/10","v":6.1666666030883768},{"$f":"IFERROR(ROUND((ROUNDDOWN(L311,0)*12)+IFERROR(VLOOKUP(ROUND(L311-(ROUNDDOWN(L311,0)),1),_Esperanzas!$R$5:$S$18,2,TRUE),0),0),12)","v":74},96.766666603088368,null,null,null,null,null,null,null,null,null,null,null,null,null,null,90.6,{"$f":"AD310+(AD315-AD305)/10","v":4.0166666507720947},{"$f":"IFERROR(ROUND((ROUNDDOWN(AD311,0)*12)+IFERROR(VLOOKUP(ROUND(AD311-(ROUNDDOWN(AD311,0)),1),_Esperanzas!$R$5:$S$18,2,TRUE),0),0),12)","v":48},94.616666650772089,{"$f":"AG310+(AG315-AG305)/10","v":4.9166666030883768},{"$f":"IFERROR(ROUND((ROUNDDOWN(AG311,0)*12)+IFERROR(VLOOKUP(ROUND(AG311-(ROUNDDOWN(AG311,0)),1),_Esperanzas!$R$5:$S$18,2,TRUE),0),0),12)","v":58},95.516666603088368]
[null,null,null,null,null,null,null,90.7,{"$f":"I311+(I315-I305)/10","v":5.1000000476837171},{"$f":"IFERROR(ROUND((ROUNDDOWN(I312,0)*12)+IFERROR(VLOOKUP(ROUND(I312-(ROUNDDOWN(I312,0)),1),_Esperanzas!$R$5:$S$18,2,TRUE),0),0),12)","v":61},95.800000047683724,{"$f":"L311+(L315-L305)/10","v":6.1249999523162817},{"$f":"IFERROR(ROUND((ROUNDDOWN(L312,0)*12)+IFERROR(VLOOKUP(ROUND(L312-(ROUNDDOWN(L312,0)),1),_Esperanzas!$R$5:$S$18,2,TRUE),0),0),12)","v":73},96.82499995231629,null,null,null,null,null,null,null,null,null,null,null,null,null,null,90.7,{"$f":"AD311+(AD315-AD305)/10","v":3.9916666746139526},{"$f":"IFERROR(ROUND((ROUNDDOWN(AD312,0)*12)+IFERROR(VLOOKUP(ROUND(AD312-(ROUNDDOWN(AD312,0)),1),_Esperanzas!$R$5:$S$18,2,TRUE),0),0),12)","v":48},94.691666674613955,{"$f":"AG311+(AG315-AG305)/10","v":4.8749999523162817},{"$f":"IFERROR(ROUND((ROUNDDOWN(AG312,0)*12)+IFERROR(VLOOKUP(ROUND(AG312-(ROUNDDOWN(AG312,0)),1),_Esperanzas!$R$5:$S$18,2,TRUE),0),0),12)","v":58},95.57499995231629]
[null,null,null,null,null,null,null,90.8,{"$f":"I312+(I315-I305)/10","v":5.066666698455812},{"$f":"IFERROR(ROUND((ROUNDDOWN(I313,0)*12)+IFERROR(VLOOKUP(ROUND(I313-(ROUNDDOWN(I313,0)),1),_Esperanzas!$R$5:$S$18,2,TRUE),0),0),12)","v":61},95.866666698455816,{"$f":"L312+(L315-L305)/10","v":6.0833333015441866},{"$f":"IFERROR(ROUND((ROUNDDOWN(L313,0)*12)+IFERROR(VLOOKUP(ROUND(L313-(ROUNDDOWN(L313,0)),1),_Esperanzas!$R$5:$S$18,2,TRUE),0),0),12)","v":73},96.883333301544184,null,null,null,null,null,null,null,null,null,null,null,null,null,null,90.8,{"$f":"AD312+(AD315-AD305)/10","v":3.9666666984558105},{"$f":"IFERROR(ROUND((ROUNDDOWN(AD313,0)*12)+IFERROR(VLOOKUP(ROUND(AD313-(ROUNDDOWN(AD313,0)),1),_Esperanzas!$R$5:$S$18,2,TRUE),0),0),12)","v":48},94.766666698455808,{"$f":"AG312+(AG315-AG305)/10","v":4.8333333015441866},{"$f":"IFERROR(ROUND((ROUNDDOWN(AG313,0)*12)+IFERROR(VLOOKUP(ROUND(AG313-(ROUNDDOWN(AG313,0)),1),_Esperanzas!$R$5:$S$18,2,TRUE),0),0),12)","v":57},95.633333301544184]
[null,null,null,null,null,null,null,90.9,{"$f":"I313+(I315-I305)/10","v":5.0333333492279069},{"$f":"IFERROR(ROUND((ROUNDDOWN(I314,0)*12)+IFERROR(VLOOKUP(ROUND(I314-(ROUNDDOWN(I314,0)),1),_Esperanzas!$R$5:$S$18,2,TRUE),0),0),12)","v":60},95.933333349227908,{"$f":"L313+(L315-L305)/10","v":6.0416666507720915},{"$f":"IFERROR(ROUND((ROUNDDOWN(L314,0)*12)+IFERROR(VLOOKUP(ROUND(L314-(ROUNDDOWN(L314,0)),1),_Esperanzas!$R$5:$S$18,2,TRUE),0),0),12)","v":72},96.941666650772092,null,null,null,null,null,null,null,null,null,null,null,null,null,null,90.9,{"$f":"AD313+(AD315-AD305)/10","v":3.9416667222976685},{"$f":"IFERROR(ROUND((ROUNDDOWN(AD314,0)*12)+IFERROR(VLOOKUP(ROUND(AD314-(ROUNDDOWN(AD314,0)),1),_Esperanzas!$R$5:$S$18,2,TRUE),0),0),12)","v":46},94.841666722297674,{"$f":"AG313+(AG315-AG305)/10","v":4.7916666507720915},{"$f":"IFERROR(ROUND((ROUNDDOWN(AG314,0)*12)+IFERROR(VLOOKUP(ROUND(AG314-(ROUNDDOWN(AG314,0)),1),_Esperanzas!$R$5:$S$18,2,TRUE),0),0),12)","v":57},95.691666650772092]
[null,null,null,null,null,null,null,91,{"$f":"VLOOKUP($H315,$B$5:$F$55,2,0)","v":5},{"$f":"IFERROR(ROUND((ROUNDDOWN(I315,0)*12)+IFERROR(VLOOKUP(ROUND(I315-(ROUNDDOWN(I315,0)),1),_Esperanzas!$R$5:$S$18,2,TRUE),0),0),12)","v":60},96,{"$f":"VLOOKUP($H315,$B$5:$F$55,4,0)","v":6},{"$f":"IFERROR(ROUND((ROUNDDOWN(L315,0)*12)+IFERROR(VLOOKUP(ROUND(L315-(ROUNDDOWN(L315,0)),1),_Esperanzas!$R$5:$S$18,2,TRUE),0),0),12)","v":72},97,null,null,null,null,null,null,null,null,null,null,null,null,null,null,91,{"$f":"VLOOKUP($AC315,$W$5:$AA$55,2,0)","v":3.9166667461395264},{"$f":"IFERROR(ROUND((ROUNDDOWN(AD315,0)*12)+IFERROR(VLOOKUP(ROUND(AD315-(ROUNDDOWN(AD315,0)),1),_Esperanzas!$R$5:$S$18,2,TRUE),0),0),12)","v":46},94.916666746139526,{"$f":"VLOOKUP($AC315,$W$5:$AA$55,4,0)","v":4.75},{"$f":"IFERROR(ROUND((ROUNDDOWN(AG315,0)*12)+IFERROR(VLOOKUP(ROUND(AG315-(ROUNDDOWN(AG315,0)),1),_Esperanzas!$R$5:$S$18,2,TRUE),0),0),12)","v":57},95.75]
[null,null,null,null,null,null,null,91.1,{"$f":"I315+(I325-I315)/10","v":4.9583333492279049},{"$f":"IFERROR(ROUND((ROUNDDOWN(I316,0)*12)+IFERROR(VLOOKUP(ROUND(I316-(ROUNDDOWN(I316,0)),1),_Esperanzas!$R$5:$S$18,2,TRUE),0),0),12)","v":60},96.058333349227894,{"$f":"L315+(L325-L315)/10","v":5.95},{"$f":"IFERROR(ROUND((ROUNDDOWN(L316,0)*12)+IFERROR(VLOOKUP(ROUND(L316-(ROUNDDOWN(L316,0)),1),_Esperanzas!$R$5:$S$18,2,TRUE),0),0),12)","v":72},97.05,null,null,null,null,null,null,null,null,null,null,null,null,null,null,91.1,{"$f":"AD315+(AD325-AD315)/10","v":3.8833333969116213},{"$f":"IFERROR(ROUND((ROUNDDOWN(AD316,0)*12)+IFERROR(VLOOKUP(ROUND(AD316-(ROUNDDOWN(AD316,0)),1),_Esperanzas!$R$5:$S$18,2,TRUE),0),0),12)","v":46},94.983333396911618,{"$f":"AG315+(AG325-AG315)/10","v":4.7083333492279049},{"$f":"IFERROR(ROUND((ROUNDDOWN(AG316,0)*12)+IFERROR(VLOOKUP(ROUND(AG316-(ROUNDDOWN(AG316,0)),1),_Esperanzas!$R$5:$S$18,2,TRUE),0),0),12)","v":56},95.808333349227894]
[null,null,null,null,null,null,null,91.2,{"$f":"I316+(I325-I315)/10","v":4.9166666984558098},{"$f":"IFERROR(ROUND((ROUNDDOWN(I317,0)*12)+IFERROR(VLOOKUP(ROUND(I317-(ROUNDDOWN(I317,0)),1),_Esperanzas!$R$5:$S$18,2,TRUE),0),0),12)","v":58},96.116666698455816,{"$f":"L316+(L325-L315)/10","v":5.9},{"$f":"IFERROR(ROUND((ROUNDDOWN(L317,0)*12)+IFERROR(VLOOKUP(ROUND(L317-(ROUNDDOWN(L317,0)),1),_Esperanzas!$R$5:$S$18,2,TRUE),0),0),12)","v":70},97.100000000000009,null,null,null,null,null,null,null,null,null,null,null,null,null,null,91.2,{"$f":"AD316+(AD325-AD315)/10","v":3.8500000476837162},{"$f":"IFERROR(ROUND((ROUNDDOWN(AD317,0)*12)+IFERROR(VLOOKUP(ROUND(AD317-(ROUNDDOWN(AD317,0)),1),_Esperanzas!$R$5:$S$18,2,TRUE),0),0),12)","v":46},95.050000047683724,{"$f":"AG316+(AG325-AG315)/10","v":4.6666666984558098},{"$f":"IFERROR(ROUND((ROUNDDOWN(AG317,0)*12)+IFERROR(VLOOKUP(ROUND(AG317-(ROUNDDOWN(AG317,0)),1),_Esperanzas!$R$5:$S$18,2,TRUE),0),0),12)","v":56},95.866666698455816]
[null,null,null,null,null,null,null,91.3,{"$f":"I317+(I325-I315)/10","v":4.8750000476837148},{"$f":"IFERROR(ROUND((ROUNDDOWN(I318,0)*12)+IFERROR(VLOOKUP(ROUND(I318-(ROUNDDOWN(I318,0)),1),_Esperanzas!$R$5:$S$18,2,TRUE),0),0),12)","v":58},96.17500004768371,{"$f":"L317+(L325-L315)/10","v":5.8500000000000005},{"$f":"IFERROR(ROUND((ROUNDDOWN(L318,0)*12)+IFERROR(VLOOKUP(ROUND(L318-(ROUNDDOWN(L318,0)),1),_Esperanzas!$R$5:$S$18,2,TRUE),0),0),12)","v":70},97.149999999999991,null,null,null,null,null,null,null,null,null,null,null,null,null,null,91.3,{"$f":"AD317+(AD325-AD315)/10","v":3.8166666984558111},{"$f":"IFERROR(ROUND((ROUNDDOWN(AD318,0)*12)+IFERROR(VLOOKUP(ROUND(AD318-(ROUNDDOWN(AD318,0)),1),_Esperanzas!$R$5:$S$18,2,TRUE),0),0),12)","v":45},95.116666698455802,{"$f":"AG317+(AG325-AG315)/10","v":4.6250000476837148},{"$f":"IFERROR(ROUND((ROUNDDOWN(AG318,0)*12)+IFERROR(VLOOKUP(ROUND(AG318-(ROUNDDOWN(AG318,0)),1),_Esperanzas!$R$5:$S$18,2,TRUE),0),0),12)","v":55},95.92500004768371]
[null,null,null,null,null,null,null,91.4,{"$f":"I318+(I325-I315)/10","v":4.8333333969116197},{"$f":"IFERROR(ROUND((ROUNDDOWN(I319,0)*12)+IFERROR(VLOOKUP(ROUND(I319-(ROUNDDOWN(I319,0)),1),_Esperanzas!$R$5:$S$18,2,TRUE),0),0),12)","v":57},96.233333396911632,{"$f":"L318+(L325-L315)/10","v":5.8000000000000007},{"$f":"IFERROR(ROUND((ROUNDDOWN(L319,0)*12)+IFERROR(VLOOKUP(ROUND(L319-(ROUNDDOWN(L319,0)),1),_Esperanzas!$R$5:$S$18,2,TRUE),0),0),12)","v":69},97.2,null,null,null,null,null,null,null,null,null,null,null,null,null,null,91.4,{"$f":"AD318+(AD325-AD315)/10","v":3.783333349227906},{"$f":"IFERROR(ROUND((ROUNDDOWN(AD319,0)*12)+IFERROR(VLOOKUP(ROUND(AD319-(ROUNDDOWN(AD319,0)),1),_Esperanzas!$R$5:$S$18,2,TRUE),0),0),12)","v":45},95.183333349227908,{"$f":"AG318+(AG325-AG315)/10","v":4.5833333969116197},{"$f":"IFERROR(ROUND((ROUNDDOWN(AG319,0)*12)+IFERROR(VLOOKUP(ROUND(AG319-(ROUNDDOWN(AG319,0)),1),_Esperanzas!$R$5:$S$18,2,TRUE),0),0),12)","v":55},95.983333396911632]
[null,null,null,null,null,null,null,91.5,{"$f":"I319+(I325-I315)/10","v":4.7916667461395246},{"$f":"IFERROR(ROUND((ROUNDDOWN(I320,0)*12)+IFERROR(VLOOKUP(ROUND(I320-(ROUNDDOWN(I320,0)),1),_Esperanzas!$R$5:$S$18,2,TRUE),0),0),12)","v":57},96.291666746139526,{"$f":"L319+(L325-L315)/10","v":5.7500000000000009},{"$f":"IFERROR(ROUND((ROUNDDOWN(L320,0)*12)+IFERROR(VLOOKUP(ROUND(L320-(ROUNDDOWN(L320,0)),1),_Esperanzas!$R$5:$S$18,2,TRUE),0),0),12)","v":69},97.25,null,null,null,null,null,null,null,null,null,null,null,null,null,null,91.5,{"$f":"AD319+(AD325-AD315)/10","v":3.7500000000000009},{"$f":"IFERROR(ROUND((ROUNDDOWN(AD320,0)*12)+IFERROR(VLOOKUP(ROUND(AD320-(ROUNDDOWN(AD320,0)),1),_Esperanzas!$R$5:$S$18,2,TRUE),0),0),12)","v":45},95.25,{"$f":"AG319+(AG325-AG315)/10","v":4.5416667461395246},{"$f":"IFERROR(ROUND((ROUNDDOWN(AG320,0)*12)+IFERROR(VLOOKUP(ROUND(AG320-(ROUNDDOWN(AG320,0)),1),_Esperanzas!$R$5:$S$18,2,TRUE),0),0),12)","v":54},96.041666746139526]
[null,null,null,null,null,null,null,91.6,{"$f":"I320+(I325-I315)/10","v":4.7500000953674295},{"$f":"IFERROR(ROUND((ROUNDDOWN(I321,0)*12)+IFERROR(VLOOKUP(ROUND(I321-(ROUNDDOWN(I321,0)),1),_Esperanzas!$R$5:$S$18,2,TRUE),0),0),12)","v":57},96.35000009536742,{"$f":"L320+(L325-L315)/10","v":5.7000000000000011},{"$f":"IFERROR(ROUND((ROUNDDOWN(L321,0)*12)+IFERROR(VLOOKUP(ROUND(L321-(ROUNDDOWN(L321,0)),1),_Esperanzas!$R$5:$S$18,2,TRUE),0),0),12)","v":68},97.3,null,null,null,null,null,null,null,null,null,null,null,null,null,null,91.6,{"$f":"AD320+(AD325-AD315)/10","v":3.7166666507720958},{"$f":"IFERROR(ROUND((ROUNDDOWN(AD321,0)*12)+IFERROR(VLOOKUP(ROUND(AD321-(ROUNDDOWN(AD321,0)),1),_Esperanzas!$R$5:$S$18,2,TRUE),0),0),12)","v":44},95.316666650772092,{"$f":"AG320+(AG325-AG315)/10","v":4.5000000953674295},{"$f":"IFERROR(ROUND((ROUNDDOWN(AG321,0)*12)+IFERROR(VLOOKUP(ROUND(AG321-(ROUNDDOWN(AG321,0)),1),_Esperanzas!$R$5:$S$18,2,TRUE),0),0),12)","v":54},96.10000009536742]
[null,null,null,null,null,null,null,91.7,{"$f":"I321+(I325-I315)/10","v":4.7083334445953344},{"$f":"IFERROR(ROUND((ROUNDDOWN(I322,0)*12)+IFERROR(VLOOKUP(ROUND(I322-(ROUNDDOWN(I322,0)),1),_Esperanzas!$R$5:$S$18,2,TRUE),0),0),12)","v":56},96.408333444595343,{"$f":"L321+(L325-L315)/10","v":5.6500000000000012},{"$f":"IFERROR(ROUND((ROUNDDOWN(L322,0)*12)+IFERROR(VLOOKUP(ROUND(L322-(ROUNDDOWN(L322,0)),1),_Esperanzas!$R$5:$S$18,2,TRUE),0),0),12)","v":68},97.350000000000009,null,null,null,null,null,null,null,null,null,null,null,null,null,null,91.7,{"$f":"AD321+(AD325-AD315)/10","v":3.6833333015441907},{"$f":"IFERROR(ROUND((ROUNDDOWN(AD322,0)*12)+IFERROR(VLOOKUP(ROUND(AD322-(ROUNDDOWN(AD322,0)),1),_Esperanzas!$R$5:$S$18,2,TRUE),0),0),12)","v":44},95.383333301544198,{"$f":"AG321+(AG325-AG315)/10","v":4.4583334445953344},{"$f":"IFERROR(ROUND((ROUNDDOWN(AG322,0)*12)+IFERROR(VLOOKUP(ROUND(AG322-(ROUNDDOWN(AG322,0)),1),_Esperanzas!$R$5:$S$18,2,TRUE),0),0),12)","v":54},96.158333444595343]
[null,null,null,null,null,null,null,91.8,{"$f":"I322+(I325-I315)/10","v":4.6666667938232393},{"$f":"IFERROR(ROUND((ROUNDDOWN(I323,0)*12)+IFERROR(VLOOKUP(ROUND(I323-(ROUNDDOWN(I323,0)),1),_Esperanzas!$R$5:$S$18,2,TRUE),0),0),12)","v":56},96.466666793823237,{"$f":"L322+(L325-L315)/10","v":5.6000000000000014},{"$f":"IFERROR(ROUND((ROUNDDOWN(L323,0)*12)+IFERROR(VLOOKUP(ROUND(L323-(ROUNDDOWN(L323,0)),1),_Esperanzas!$R$5:$S$18,2,TRUE),0),0),12)","v":67},97.4,null,null,null,null,null,null,null,null,null,null,null,null,null,null,91.8,{"$f":"AD322+(AD325-AD315)/10","v":3.6499999523162856},{"$f":"IFERROR(ROUND((ROUNDDOWN(AD323,0)*12)+IFERROR(VLOOKUP(ROUND(AD323-(ROUNDDOWN(AD323,0)),1),_Esperanzas!$R$5:$S$18,2,TRUE),0),0),12)","v":43},95.44999995231629,{"$f":"AG322+(AG325-AG315)/10","v":4.4166667938232393},{"$f":"IFERROR(ROUND((ROUNDDOWN(AG323,0)*12)+IFERROR(VLOOKUP(ROUND(AG323-(ROUNDDOWN(AG323,0)),1),_Esperanzas!$R$5:$S$18,2,TRUE),0),0),12)","v":52},96.216666793823237]
[null,null,null,null,null,null,null,91.9,{"$f":"I323+(I325-I315)/10","v":4.6250001430511443},{"$f":"IFERROR(ROUND((ROUNDDOWN(I324,0)*12)+IFERROR(VLOOKUP(ROUND(I324-(ROUNDDOWN(I324,0)),1),_Esperanzas!$R$5:$S$18,2,TRUE),0),0),12)","v":55},96.525000143051145,{"$f":"L323+(L325-L315)/10","v":5.5500000000000016},{"$f":"IFERROR(ROUND((ROUNDDOWN(L324,0)*12)+IFERROR(VLOOKUP(ROUND(L324-(ROUNDDOWN(L324,0)),1),_Esperanzas!$R$5:$S$18,2,TRUE),0),0),12)","v":67},97.45,null,null,null,null,null,null,null,null,null,null,null,null,null,null,91.9,{"$f":"AD323+(AD325-AD315)/10","v":3.6166666030883805},{"$f":"IFERROR(ROUND((ROUNDDOWN(AD324,0)*12)+IFERROR(VLOOKUP(ROUND(AD324-(ROUNDDOWN(AD324,0)),1),_Esperanzas!$R$5:$S$18,2,TRUE),0),0),12)","v":43},95.516666603088382,{"$f":"AG323+(AG325-AG315)/10","v":4.3750001430511443},{"$f":"IFERROR(ROUND((ROUNDDOWN(AG324,0)*12)+IFERROR(VLOOKUP(ROUND(AG324-(ROUNDDOWN(AG324,0)),1),_Esperanzas!$R$5:$S$18,2,TRUE),0),0),12)","v":52},96.275000143051145]
[null,null,null,null,null,null,null,92,{"$f":"VLOOKUP($H325,$B$5:$F$55,2,0)","v":4.5833334922790527},{"$f":"IFERROR(ROUND((ROUNDDOWN(I325,0)*12)+IFERROR(VLOOKUP(ROUND(I325-(ROUNDDOWN(I325,0)),1),_Esperanzas!$R$5:$S$18,2,TRUE),0),0),12)","v":55},96.583333492279053,{"$f":"VLOOKUP($H325,$B$5:$F$55,4,0)","v":5.5},{"$f":"IFERROR(ROUND((ROUNDDOWN(L325,0)*12)+IFERROR(VLOOKUP(ROUND(L325-(ROUNDDOWN(L325,0)),1),_Esperanzas!$R$5:$S$18,2,TRUE),0),0),12)","v":66},97.5,null,null,null,null,null,null,null,null,null,null,null,null,null,null,92,{"$f":"VLOOKUP($AC325,$W$5:$AA$55,2,0)","v":3.5833332538604736},{"$f":"IFERROR(ROUND((ROUNDDOWN(AD325,0)*12)+IFERROR(VLOOKUP(ROUND(AD325-(ROUNDDOWN(AD325,0)),1),_Esperanzas!$R$5:$S$18,2,TRUE),0),0),12)","v":43},95.583333253860474,{"$f":"VLOOKUP($AC325,$W$5:$AA$55,4,0)","v":4.3333334922790527},{"$f":"IFERROR(ROUND((ROUNDDOWN(AG325,0)*12)+IFERROR(VLOOKUP(ROUND(AG325-(ROUNDDOWN(AG325,0)),1),_Esperanzas!$R$5:$S$18,2,TRUE),0),0),12)","v":51},96.333333492279053]
[null,null,null,null,null,null,null,92.1,{"$f":"I325+(I335-I325)/10","v":4.5500001430511476},{"$f":"IFERROR(ROUND((ROUNDDOWN(I326,0)*12)+IFERROR(VLOOKUP(ROUND(I326-(ROUNDDOWN(I326,0)),1),_Esperanzas!$R$5:$S$18,2,TRUE),0),0),12)","v":55},96.650000143051145,{"$f":"L325+(L335-L325)/10","v":5.4583333492279049},{"$f":"IFERROR(ROUND((ROUNDDOWN(L326,0)*12)+IFERROR(VLOOKUP(ROUND(L326-(ROUNDDOWN(L326,0)),1),_Esperanzas!$R$5:$S$18,2,TRUE),0),0),12)","v":66},97.558333349227894,null,null,null,null,null,null,null,null,null,null,null,null,null,null,92.1,{"$f":"AD325+(AD335-AD325)/10","v":3.5583332538604737},{"$f":"IFERROR(ROUND((ROUNDDOWN(AD326,0)*12)+IFERROR(VLOOKUP(ROUND(AD326-(ROUNDDOWN(AD326,0)),1),_Esperanzas!$R$5:$S$18,2,TRUE),0),0),12)","v":43},95.658333253860462,{"$f":"AG325+(AG335-AG325)/10","v":4.3000001430511476},{"$f":"IFERROR(ROUND((ROUNDDOWN(AG326,0)*12)+IFERROR(VLOOKUP(ROUND(AG326-(ROUNDDOWN(AG326,0)),1),_Esperanzas!$R$5:$S$18,2,TRUE),0),0),12)","v":51},96.400000143051145]
[null,null,null,null,null,null,null,{"$f":"ROUND(H326+0.1,1)","v":92.2},{"$f":"I326+(I335-I325)/10","v":4.5166667938232425},{"$f":"IFERROR(ROUND((ROUNDDOWN(I327,0)*12)+IFERROR(VLOOKUP(ROUND(I327-(ROUNDDOWN(I327,0)),1),_Esperanzas!$R$5:$S$18,2,TRUE),0),0),12)","v":54},96.716666793823251,{"$f":"L326+(L335-L325)/10","v":5.4166666984558098},{"$f":"IFERROR(ROUND((ROUNDDOWN(L327,0)*12)+IFERROR(VLOOKUP(ROUND(L327-(ROUNDDOWN(L327,0)),1),_Esperanzas!$R$5:$S$18,2,TRUE),0),0),12)","v":64},97.616666698455816,null,null,null,null,null,null,null,null,null,null,null,null,null,null,{"$f":"ROUND(AC326+0.1,1)","v":92.2},{"$f":"AD326+(AD335-AD325)/10","v":3.5333332538604738},{"$f":"IFERROR(ROUND((ROUNDDOWN(AD327,0)*12)+IFERROR(VLOOKUP(ROUND(AD327-(ROUNDDOWN(AD327,0)),1),_Esperanzas!$R$5:$S$18,2,TRUE),0),0),12)","v":42},95.733333253860479,{"$f":"AG326+(AG335-AG325)/10","v":4.2666667938232425},{"$f":"IFERROR(ROUND((ROUNDDOWN(AG327,0)*12)+IFERROR(VLOOKUP(ROUND(AG327-(ROUNDDOWN(AG327,0)),1),_Esperanzas!$R$5:$S$18,2,TRUE),0),0),12)","v":51},96.466666793823251]
[null,null,null,null,null,null,null,92.3,{"$f":"I327+(I335-I325)/10","v":4.4833334445953374},{"$f":"IFERROR(ROUND((ROUNDDOWN(I328,0)*12)+IFERROR(VLOOKUP(ROUND(I328-(ROUNDDOWN(I328,0)),1),_Esperanzas!$R$5:$S$18,2,TRUE),0),0),12)","v":54},96.783333444595328,{"$f":"L327+(L335-L325)/10","v":5.3750000476837148},{"$f":"IFERROR(ROUND((ROUNDDOWN(L328,0)*12)+IFERROR(VLOOKUP(ROUND(L328-(ROUNDDOWN(L328,0)),1),_Esperanzas!$R$5:$S$18,2,TRUE),0),0),12)","v":64},97.67500004768371,null,null,null,null,null,null,null,null,null,null,null,null,null,null,92.3,{"$f":"AD327+(AD335-AD325)/10","v":3.5083332538604739},{"$f":"IFERROR(ROUND((ROUNDDOWN(AD328,0)*12)+IFERROR(VLOOKUP(ROUND(AD328-(ROUNDDOWN(AD328,0)),1),_Esperanzas!$R$5:$S$18,2,TRUE),0),0),12)","v":42},95.808333253860468,{"$f":"AG327+(AG335-AG325)/10","v":4.2333334445953374},{"$f":"IFERROR(ROUND((ROUNDDOWN(AG328,0)*12)+IFERROR(VLOOKUP(ROUND(AG328-(ROUNDDOWN(AG328,0)),1),_Esperanzas!$R$5:$S$18,2,TRUE),0),0),12)","v":50},96.533333444595328]
[null,null,null,null,null,null,null,92.4,{"$f":"I328+(I335-I325)/10","v":4.4500000953674324},{"$f":"IFERROR(ROUND((ROUNDDOWN(I329,0)*12)+IFERROR(VLOOKUP(ROUND(I329-(ROUNDDOWN(I329,0)),1),_Esperanzas!$R$5:$S$18,2,TRUE),0),0),12)","v":54},96.850000095367434,{"$f":"L328+(L335-L325)/10","v":5.3333333969116197},{"$f":"IFERROR(ROUND((ROUNDDOWN(L329,0)*12)+IFERROR(VLOOKUP(ROUND(L329-(ROUNDDOWN(L329,0)),1),_Esperanzas!$R$5:$S$18,2,TRUE),0),0),12)","v":63},{"$f":"L329+H329","v":97.733333396911632},null,null,null,null,null,null,null,null,null,null,null,null,null,null,92.4,{"$f":"AD328+(AD335-AD325)/10","v":3.483333253860474},{"$f":"IFERROR(ROUND((ROUNDDOWN(AD329,0)*12)+IFERROR(VLOOKUP(ROUND(AD329-(ROUNDDOWN(AD329,0)),1),_Esperanzas!$R$5:$S$18,2,TRUE),0),0),12)","v":42},95.883333253860485,{"$f":"AG328+(AG335-AG325)/10","v":4.2000000953674324},{"$f":"IFERROR(ROUND((ROUNDDOWN(AG329,0)*12)+IFERROR(VLOOKUP(ROUND(AG329-(ROUNDDOWN(AG329,0)),1),_Esperanzas!$R$5:$S$18,2,TRUE),0),0),12)","v":50},96.600000095367434]
[null,null,null,null,null,null,null,92.5,{"$f":"I329+(I335-I325)/10","v":4.4166667461395273},{"$f":"IFERROR(ROUND((ROUNDDOWN(I330,0)*12)+IFERROR(VLOOKUP(ROUND(I330-(ROUNDDOWN(I330,0)),1),_Esperanzas!$R$5:$S$18,2,TRUE),0),0),12)","v":52},96.916666746139526,{"$f":"L329+(L335-L325)/10","v":5.2916667461395246},{"$f":"IFERROR(ROUND((ROUNDDOWN(L330,0)*12)+IFERROR(VLOOKUP(ROUND(L330-(ROUNDDOWN(L330,0)),1),_Esperanzas!$R$5:$S$18,2,TRUE),0),0),12)","v":63},97.791666746139526,null,null,null,null,null,null,null,null,null,null,null,null,null,null,92.5,{"$f":"AD329+(AD335-AD325)/10","v":3.4583332538604741},{"$f":"IFERROR(ROUND((ROUNDDOWN(AD330,0)*12)+IFERROR(VLOOKUP(ROUND(AD330-(ROUNDDOWN(AD330,0)),1),_Esperanzas!$R$5:$S$18,2,TRUE),0),0),12)","v":42},95.958333253860474,{"$f":"AG329+(AG335-AG325)/10","v":4.1666667461395273},{"$f":"IFERROR(ROUND((ROUNDDOWN(AG330,0)*12)+IFERROR(VLOOKUP(ROUND(AG330-(ROUNDDOWN(AG330,0)),1),_Esperanzas!$R$5:$S$18,2,TRUE),0),0),12)","v":50},96.666666746139526]
[null,null,null,null,null,null,null,92.6,{"$f":"I330+(I335-I325)/10","v":4.3833333969116222},{"$f":"IFERROR(ROUND((ROUNDDOWN(I331,0)*12)+IFERROR(VLOOKUP(ROUND(I331-(ROUNDDOWN(I331,0)),1),_Esperanzas!$R$5:$S$18,2,TRUE),0),0),12)","v":52},96.983333396911618,{"$f":"L330+(L335-L325)/10","v":5.2500000953674295},{"$f":"IFERROR(ROUND((ROUNDDOWN(L331,0)*12)+IFERROR(VLOOKUP(ROUND(L331-(ROUNDDOWN(L331,0)),1),_Esperanzas!$R$5:$S$18,2,TRUE),0),0),12)","v":63},97.85000009536742,null,null,null,null,null,null,null,null,null,null,null,null,null,null,92.6,{"$f":"AD330+(AD335-AD325)/10","v":3.4333332538604742},{"$f":"IFERROR(ROUND((ROUNDDOWN(AD331,0)*12)+IFERROR(VLOOKUP(ROUND(AD331-(ROUNDDOWN(AD331,0)),1),_Esperanzas!$R$5:$S$18,2,TRUE),0),0),12)","v":40},96.033333253860462,{"$f":"AG330+(AG335-AG325)/10","v":4.1333333969116222},{"$f":"IFERROR(ROUND((ROUNDDOWN(AG331,0)*12)+IFERROR(VLOOKUP(ROUND(AG331-(ROUNDDOWN(AG331,0)),1),_Esperanzas!$R$5:$S$18,2,TRUE),0),0),12)","v":49},96.733333396911618]
[null,null,null,null,null,null,null,92.7,{"$f":"I331+(I335-I325)/10","v":4.3500000476837171},{"$f":"IFERROR(ROUND((ROUNDDOWN(I332,0)*12)+IFERROR(VLOOKUP(ROUND(I332-(ROUNDDOWN(I332,0)),1),_Esperanzas!$R$5:$S$18,2,TRUE),0),0),12)","v":52},97.050000047683724,{"$f":"L331+(L335-L325)/10","v":5.2083334445953344},{"$f":"IFERROR(ROUND((ROUNDDOWN(L332,0)*12)+IFERROR(VLOOKUP(ROUND(L332-(ROUNDDOWN(L332,0)),1),_Esperanzas!$R$5:$S$18,2,TRUE),0),0),12)","v":62},97.908333444595343,null,null,null,null,null,null,null,null,null,null,null,null,null,null,92.7,{"$f":"AD331+(AD335-AD325)/10","v":3.4083332538604743},{"$f":"IFERROR(ROUND((ROUNDDOWN(AD332,0)*12)+IFERROR(VLOOKUP(ROUND(AD332-(ROUNDDOWN(AD332,0)),1),_Esperanzas!$R$5:$S$18,2,TRUE),0),0),12)","v":40},96.108333253860479,{"$f":"AG331+(AG335-AG325)/10","v":4.1000000476837171},{"$f":"IFERROR(ROUND((ROUNDDOWN(AG332,0)*12)+IFERROR(VLOOKUP(ROUND(AG332-(ROUNDDOWN(AG332,0)),1),_Esperanzas!$R$5:$S$18,2,TRUE),0),0),12)","v":49},96.800000047683724]
[null,null,null,null,null,null,null,92.8,{"$f":"I332+(I335-I325)/10","v":4.316666698455812},{"$f":"IFERROR(ROUND((ROUNDDOWN(I333,0)*12)+IFERROR(VLOOKUP(ROUND(I333-(ROUNDDOWN(I333,0)),1),_Esperanzas!$R$5:$S$18,2,TRUE),0),0),12)","v":51},97.116666698455816,{"$f":"L332+(L335-L325)/10","v":5.1666667938232393},{"$f":"IFERROR(ROUND((ROUNDDOWN(L333,0)*12)+IFERROR(VLOOKUP(ROUND(L333-(ROUNDDOWN(L333,0)),1),_Esperanzas!$R$5:$S$18,2,TRUE),0),0),12)","v":62},97.966666793823237,null,null,null,null,null,null,null,null,null,null,null,null,null,null,92.8,{"$f":"AD332+(AD335-AD325)/10","v":3.3833332538604743},{"$f":"IFERROR(ROUND((ROUNDDOWN(AD333,0)*12)+IFERROR(VLOOKUP(ROUND(AD333-(ROUNDDOWN(AD333,0)),1),_Esperanzas!$R$5:$S$18,2,TRUE),0),0),12)","v":40},96.183333253860468,{"$f":"AG332+(AG335-AG325)/10","v":4.066666698455812},{"$f":"IFERROR(ROUND((ROUNDDOWN(AG333,0)*12)+IFERROR(VLOOKUP(ROUND(AG333-(ROUNDDOWN(AG333,0)),1),_Esperanzas!$R$5:$S$18,2,TRUE),0),0),12)","v":49},96.866666698455816]
[null,null,null,null,null,null,null,92.9,{"$f":"I333+(I335-I325)/10","v":4.2833333492279069},{"$f":"IFERROR(ROUND((ROUNDDOWN(I334,0)*12)+IFERROR(VLOOKUP(ROUND(I334-(ROUNDDOWN(I334,0)),1),_Esperanzas!$R$5:$S$18,2,TRUE),0),0),12)","v":51},97.183333349227908,{"$f":"L333+(L335-L325)/10","v":5.1250001430511443},{"$f":"IFERROR(ROUND((ROUNDDOWN(L334,0)*12)+IFERROR(VLOOKUP(ROUND(L334-(ROUNDDOWN(L334,0)),1),_Esperanzas!$R$5:$S$18,2,TRUE),0),0),12)","v":61},98.025000143051145,null,null,null,null,null,null,null,null,null,null,null,null,null,null,92.9,{"$f":"AD333+(AD335-AD325)/10","v":3.3583332538604744},{"$f":"IFERROR(ROUND((ROUNDDOWN(AD334,0)*12)+IFERROR(VLOOKUP(ROUND(AD334-(ROUNDDOWN(AD334,0)),1),_Esperanzas!$R$5:$S$18,2,TRUE),0),0),12)","v":40},96.258333253860485,{"$f":"AG333+(AG335-AG325)/10","v":4.0333333492279069},{"$f":"IFERROR(ROUND((ROUNDDOWN(AG334,0)*12)+IFERROR(VLOOKUP(ROUND(AG334-(ROUNDDOWN(AG334,0)),1),_Esperanzas!$R$5:$S$18,2,TRUE),0),0),12)","v":48},96.933333349227908]
[null,null,null,null,null,null,null,93,{"$f":"VLOOKUP($H335,$B$5:$F$55,2,0)","v":4.25},{"$f":"IFERROR(ROUND((ROUNDDOWN(I335,0)*12)+IFERROR(VLOOKUP(ROUND(I335-(ROUNDDOWN(I335,0)),1),_Esperanzas!$R$5:$S$18,2,TRUE),0),0),12)","v":51},97.25,{"$f":"VLOOKUP($H335,$B$5:$F$55,4,0)","v":5.0833334922790527},{"$f":"IFERROR(ROUND((ROUNDDOWN(L335,0)*12)+IFERROR(VLOOKUP(ROUND(L335-(ROUNDDOWN(L335,0)),1),_Esperanzas!$R$5:$S$18,2,TRUE),0),0),12)","v":61},98.083333492279053,null,null,null,null,null,null,null,null,null,null,null,null,null,null,93,{"$f":"VLOOKUP($AC335,$W$5:$AA$55,2,0)","v":3.3333332538604736},{"$f":"IFERROR(ROUND((ROUNDDOWN(AD335,0)*12)+IFERROR(VLOOKUP(ROUND(AD335-(ROUNDDOWN(AD335,0)),1),_Esperanzas!$R$5:$S$18,2,TRUE),0),0),12)","v":39},96.333333253860474,{"$f":"VLOOKUP($AC335,$W$5:$AA$55,4,0)","v":4},{"$f":"IFERROR(ROUND((ROUNDDOWN(AG335,0)*12)+IFERROR(VLOOKUP(ROUND(AG335-(ROUNDDOWN(AG335,0)),1),_Esperanzas!$R$5:$S$18,2,TRUE),0),0),12)","v":48},97]
[null,null,null,null,null,null,null,93.1,{"$f":"I335+(I345-I335)/10","v":4.2166666746139523},{"$f":"IFERROR(ROUND((ROUNDDOWN(I336,0)*12)+IFERROR(VLOOKUP(ROUND(I336-(ROUNDDOWN(I336,0)),1),_Esperanzas!$R$5:$S$18,2,TRUE),0),0),12)","v":50},97.316666674613941,{"$f":"L335+(L345-L335)/10","v":5.041666793823242},{"$f":"IFERROR(ROUND((ROUNDDOWN(L336,0)*12)+IFERROR(VLOOKUP(ROUND(L336-(ROUNDDOWN(L336,0)),1),_Esperanzas!$R$5:$S$18,2,TRUE),0),0),12)","v":60},98.141666793823234,null,null,null,null,null,null,null,null,null,null,null,null,null,null,93.1,{"$f":"AD335+(AD345-AD335)/10","v":3.3083332538604737},{"$f":"IFERROR(ROUND((ROUNDDOWN(AD336,0)*12)+IFERROR(VLOOKUP(ROUND(AD336-(ROUNDDOWN(AD336,0)),1),_Esperanzas!$R$5:$S$18,2,TRUE),0),0),12)","v":39},96.408333253860462,{"$f":"AG335+(AG345-AG335)/10","v":3.9666666746139527},{"$f":"IFERROR(ROUND((ROUNDDOWN(AG336,0)*12)+IFERROR(VLOOKUP(ROUND(AG336-(ROUNDDOWN(AG336,0)),1),_Esperanzas!$R$5:$S$18,2,TRUE),0),0),12)","v":48},97.066666674613941]
[null,null,null,null,null,null,null,93.2,{"$f":"I336+(I345-I335)/10","v":4.1833333492279046},{"$f":"IFERROR(ROUND((ROUNDDOWN(I337,0)*12)+IFERROR(VLOOKUP(ROUND(I337-(ROUNDDOWN(I337,0)),1),_Esperanzas!$R$5:$S$18,2,TRUE),0),0),12)","v":50},97.383333349227911,{"$f":"L336+(L345-L335)/10","v":5.0000000953674313},{"$f":"IFERROR(ROUND((ROUNDDOWN(L337,0)*12)+IFERROR(VLOOKUP(ROUND(L337-(ROUNDDOWN(L337,0)),1),_Esperanzas!$R$5:$S$18,2,TRUE),0),0),12)","v":60},98.200000095367429,null,null,null,null,null,null,null,null,null,null,null,null,null,null,93.2,{"$f":"AD336+(AD345-AD335)/10","v":3.2833332538604738},{"$f":"IFERROR(ROUND((ROUNDDOWN(AD337,0)*12)+IFERROR(VLOOKUP(ROUND(AD337-(ROUNDDOWN(AD337,0)),1),_Esperanzas!$R$5:$S$18,2,TRUE),0),0),12)","v":39},96.483333253860479,{"$f":"AG336+(AG345-AG335)/10","v":3.9333333492279055},{"$f":"IFERROR(ROUND((ROUNDDOWN(AG337,0)*12)+IFERROR(VLOOKUP(ROUND(AG337-(ROUNDDOWN(AG337,0)),1),_Esperanzas!$R$5:$S$18,2,TRUE),0),0),12)","v":46},97.133333349227911]
[null,null,null,null,null,null,null,93.3,{"$f":"I337+(I345-I335)/10","v":4.1500000238418568},{"$f":"IFERROR(ROUND((ROUNDDOWN(I338,0)*12)+IFERROR(VLOOKUP(ROUND(I338-(ROUNDDOWN(I338,0)),1),_Esperanzas!$R$5:$S$18,2,TRUE),0),0),12)","v":50},97.450000023841852,{"$f":"L337+(L345-L335)/10","v":4.9583333969116206},{"$f":"IFERROR(ROUND((ROUNDDOWN(L338,0)*12)+IFERROR(VLOOKUP(ROUND(L338-(ROUNDDOWN(L338,0)),1),_Esperanzas!$R$5:$S$18,2,TRUE),0),0),12)","v":60},98.258333396911624,null,null,null,null,null,null,null,null,null,null,null,null,null,null,93.3,{"$f":"AD337+(AD345-AD335)/10","v":3.2583332538604739},{"$f":"IFERROR(ROUND((ROUNDDOWN(AD338,0)*12)+IFERROR(VLOOKUP(ROUND(AD338-(ROUNDDOWN(AD338,0)),1),_Esperanzas!$R$5:$S$18,2,TRUE),0),0),12)","v":39},96.558333253860468,{"$f":"AG337+(AG345-AG335)/10","v":3.9000000238418582},{"$f":"IFERROR(ROUND((ROUNDDOWN(AG338,0)*12)+IFERROR(VLOOKUP(ROUND(AG338-(ROUNDDOWN(AG338,0)),1),_Esperanzas!$R$5:$S$18,2,TRUE),0),0),12)","v":46},97.200000023841852]
[null,null,null,null,null,null,null,93.4,{"$f":"I338+(I345-I335)/10","v":4.1166666984558091},{"$f":"IFERROR(ROUND((ROUNDDOWN(I339,0)*12)+IFERROR(VLOOKUP(ROUND(I339-(ROUNDDOWN(I339,0)),1),_Esperanzas!$R$5:$S$18,2,TRUE),0),0),12)","v":49},{"$f":"I339+H339","v":97.516666698455822},{"$f":"L338+(L345-L335)/10","v":4.9166666984558098},{"$f":"IFERROR(ROUND((ROUNDDOWN(L339,0)*12)+IFERROR(VLOOKUP(ROUND(L339-(ROUNDDOWN(L339,0)),1),_Esperanzas!$R$5:$S$18,2,TRUE),0),0),12)","v":58},98.316666698455819,null,null,null,null,null,null,null,null,null,null,null,null,null,null,93.4,{"$f":"AD338+(AD345-AD335)/10","v":3.233333253860474},{"$f":"IFERROR(ROUND((ROUNDDOWN(AD339,0)*12)+IFERROR(VLOOKUP(ROUND(AD339-(ROUNDDOWN(AD339,0)),1),_Esperanzas!$R$5:$S$18,2,TRUE),0),0),12)","v":38},{"$f":"AD339+AC339","v":96.633333253860485},{"$f":"AG338+(AG345-AG335)/10","v":3.8666666984558109},{"$f":"IFERROR(ROUND((ROUNDDOWN(AG339,0)*12)+IFERROR(VLOOKUP(ROUND(AG339-(ROUNDDOWN(AG339,0)),1),_Esperanzas!$R$5:$S$18,2,TRUE),0),0),12)","v":46},{"$f":"AG339+AC339","v":97.266666698455822}]
[null,null,null,null,null,null,null,93.5,{"$f":"I339+(I345-I335)/10","v":4.0833333730697614},{"$f":"IFERROR(ROUND((ROUNDDOWN(I340,0)*12)+IFERROR(VLOOKUP(ROUND(I340-(ROUNDDOWN(I340,0)),1),_Esperanzas!$R$5:$S$18,2,TRUE),0),0),12)","v":49},97.583333373069763,{"$f":"L339+(L345-L335)/10","v":4.8749999999999991},{"$f":"IFERROR(ROUND((ROUNDDOWN(L340,0)*12)+IFERROR(VLOOKUP(ROUND(L340-(ROUNDDOWN(L340,0)),1),_Esperanzas!$R$5:$S$18,2,TRUE),0),0),12)","v":58},98.375,null,null,null,null,null,null,null,null,null,null,null,null,null,null,93.5,{"$f":"AD339+(AD345-AD335)/10","v":3.2083332538604741},{"$f":"IFERROR(ROUND((ROUNDDOWN(AD340,0)*12)+IFERROR(VLOOKUP(ROUND(AD340-(ROUNDDOWN(AD340,0)),1),_Esperanzas!$R$5:$S$18,2,TRUE),0),0),12)","v":38},96.708333253860474,{"$f":"AG339+(AG345-AG335)/10","v":3.8333333730697636},{"$f":"IFERROR(ROUND((ROUNDDOWN(AG340,0)*12)+IFERROR(VLOOKUP(ROUND(AG340-(ROUNDDOWN(AG340,0)),1),_Esperanzas!$R$5:$S$18,2,TRUE),0),0),12)","v":45},97.333333373069763]
[null,null,null,null,null,null,null,93.6,{"$f":"I340+(I345-I335)/10","v":4.0500000476837137},{"$f":"IFERROR(ROUND((ROUNDDOWN(I341,0)*12)+IFERROR(VLOOKUP(ROUND(I341-(ROUNDDOWN(I341,0)),1),_Esperanzas!$R$5:$S$18,2,TRUE),0),0),12)","v":49},97.650000047683704,{"$f":"L340+(L345-L335)/10","v":4.8333333015441884},{"$f":"IFERROR(ROUND((ROUNDDOWN(L341,0)*12)+IFERROR(VLOOKUP(ROUND(L341-(ROUNDDOWN(L341,0)),1),_Esperanzas!$R$5:$S$18,2,TRUE),0),0),12)","v":57},98.433333301544181,null,null,null,null,null,null,null,null,null,null,null,null,null,null,93.6,{"$f":"AD340+(AD345-AD335)/10","v":3.1833332538604742},{"$f":"IFERROR(ROUND((ROUNDDOWN(AD341,0)*12)+IFERROR(VLOOKUP(ROUND(AD341-(ROUNDDOWN(AD341,0)),1),_Esperanzas!$R$5:$S$18,2,TRUE),0),0),12)","v":38},96.783333253860462,{"$f":"AG340+(AG345-AG335)/10","v":3.8000000476837164},{"$f":"IFERROR(ROUND((ROUNDDOWN(AG341,0)*12)+IFERROR(VLOOKUP(ROUND(AG341-(ROUNDDOWN(AG341,0)),1),_Esperanzas!$R$5:$S$18,2,TRUE),0),0),12)","v":45},97.400000047683704]
[null,null,null,null,null,null,null,93.7,{"$f":"I341+(I345-I335)/10","v":4.016666722297666},{"$f":"IFERROR(ROUND((ROUNDDOWN(I342,0)*12)+IFERROR(VLOOKUP(ROUND(I342-(ROUNDDOWN(I342,0)),1),_Esperanzas!$R$5:$S$18,2,TRUE),0),0),12)","v":48},97.716666722297674,{"$f":"L341+(L345-L335)/10","v":4.7916666030883777},{"$f":"IFERROR(ROUND((ROUNDDOWN(L342,0)*12)+IFERROR(VLOOKUP(ROUND(L342-(ROUNDDOWN(L342,0)),1),_Esperanzas!$R$5:$S$18,2,TRUE),0),0),12)","v":57},98.491666603088376,null,null,null,null,null,null,null,null,null,null,null,null,null,null,93.7,{"$f":"AD341+(AD345-AD335)/10","v":3.1583332538604743},{"$f":"IFERROR(ROUND((ROUNDDOWN(AD342,0)*12)+IFERROR(VLOOKUP(ROUND(AD342-(ROUNDDOWN(AD342,0)),1),_Esperanzas!$R$5:$S$18,2,TRUE),0),0),12)","v":38},96.858333253860479,{"$f":"AG341+(AG345-AG335)/10","v":3.7666667222976691},{"$f":"IFERROR(ROUND((ROUNDDOWN(AG342,0)*12)+IFERROR(VLOOKUP(ROUND(AG342-(ROUNDDOWN(AG342,0)),1),_Esperanzas!$R$5:$S$18,2,TRUE),0),0),12)","v":45},97.466666722297674]
[null,null,null,null,null,null,null,93.8,{"$f":"I342+(I345-I335)/10","v":3.9833333969116187},{"$f":"IFERROR(ROUND((ROUNDDOWN(I343,0)*12)+IFERROR(VLOOKUP(ROUND(I343-(ROUNDDOWN(I343,0)),1),_Esperanzas!$R$5:$S$18,2,TRUE),0),0),12)","v":48},97.783333396911615,{"$f":"L342+(L345-L335)/10","v":4.7499999046325669},{"$f":"IFERROR(ROUND((ROUNDDOWN(L343,0)*12)+IFERROR(VLOOKUP(ROUND(L343-(ROUNDDOWN(L343,0)),1),_Esperanzas!$R$5:$S$18,2,TRUE),0),0),12)","v":56},98.549999904632557,null,null,null,null,null,null,null,null,null,null,null,null,null,null,93.8,{"$f":"AD342+(AD345-AD335)/10","v":3.1333332538604743},{"$f":"IFERROR(ROUND((ROUNDDOWN(AD343,0)*12)+IFERROR(VLOOKUP(ROUND(AD343-(ROUNDDOWN(AD343,0)),1),_Esperanzas!$R$5:$S$18,2,TRUE),0),0),12)","v":37},96.933333253860468,{"$f":"AG342+(AG345-AG335)/10","v":3.7333333969116218},{"$f":"IFERROR(ROUND((ROUNDDOWN(AG343,0)*12)+IFERROR(VLOOKUP(ROUND(AG343-(ROUNDDOWN(AG343,0)),1),_Esperanzas!$R$5:$S$18,2,TRUE),0),0),12)","v":44},97.533333396911615]
[null,null,null,null,null,null,null,93.9,{"$f":"I343+(I345-I335)/10","v":3.9500000715255714},{"$f":"IFERROR(ROUND((ROUNDDOWN(I344,0)*12)+IFERROR(VLOOKUP(ROUND(I344-(ROUNDDOWN(I344,0)),1),_Esperanzas!$R$5:$S$18,2,TRUE),0),0),12)","v":48},97.850000071525571,{"$f":"L343+(L345-L335)/10","v":4.7083332061767562},{"$f":"IFERROR(ROUND((ROUNDDOWN(L344,0)*12)+IFERROR(VLOOKUP(ROUND(L344-(ROUNDDOWN(L344,0)),1),_Esperanzas!$R$5:$S$18,2,TRUE),0),0),12)","v":56},98.608333206176766,null,null,null,null,null,null,null,null,null,null,null,null,null,null,93.9,{"$f":"AD343+(AD345-AD335)/10","v":3.1083332538604744},{"$f":"IFERROR(ROUND((ROUNDDOWN(AD344,0)*12)+IFERROR(VLOOKUP(ROUND(AD344-(ROUNDDOWN(AD344,0)),1),_Esperanzas!$R$5:$S$18,2,TRUE),0),0),12)","v":37},97.008333253860485,{"$f":"AG343+(AG345-AG335)/10","v":3.7000000715255745},{"$f":"IFERROR(ROUND((ROUNDDOWN(AG344,0)*12)+IFERROR(VLOOKUP(ROUND(AG344-(ROUNDDOWN(AG344,0)),1),_Esperanzas!$R$5:$S$18,2,TRUE),0),0),12)","v":44},97.600000071525585]
[null,null,null,null,null,null,null,94,{"$f":"VLOOKUP($H345,$B$5:$F$55,2,0)","v":3.9166667461395264},{"$f":"IFERROR(ROUND((ROUNDDOWN(I345,0)*12)+IFERROR(VLOOKUP(ROUND(I345-(ROUNDDOWN(I345,0)),1),_Esperanzas!$R$5:$S$18,2,TRUE),0),0),12)","v":46},97.916666746139526,{"$f":"VLOOKUP($H345,$B$5:$F$55,4,0)","v":4.6666665077209473},{"$f":"IFERROR(ROUND((ROUNDDOWN(L345,0)*12)+IFERROR(VLOOKUP(ROUND(L345-(ROUNDDOWN(L345,0)),1),_Esperanzas!$R$5:$S$18,2,TRUE),0),0),12)","v":56},98.666666507720947,null,null,null,null,null,null,null,null,null,null,null,null,null,null,94,{"$f":"VLOOKUP($AC345,$W$5:$AA$55,2,0)","v":3.0833332538604736},{"$f":"IFERROR(ROUND((ROUNDDOWN(AD345,0)*12)+IFERROR(VLOOKUP(ROUND(AD345-(ROUNDDOWN(AD345,0)),1),_Esperanzas!$R$5:$S$18,2,TRUE),0),0),12)","v":37},97.083333253860474,{"$f":"VLOOKUP($AC345,$W$5:$AA$55,4,0)","v":3.6666667461395264},{"$f":"IFERROR(ROUND((ROUNDDOWN(AG345,0)*12)+IFERROR(VLOOKUP(ROUND(AG345-(ROUNDDOWN(AG345,0)),1),_Esperanzas!$R$5:$S$18,2,TRUE),0),0),12)","v":44},97.666666746139526]
[null,null,null,null,null,null,null,94.1,{"$f":"I345+(I355-I345)/10","v":3.8916667461395265},{"$f":"IFERROR(ROUND((ROUNDDOWN(I346,0)*12)+IFERROR(VLOOKUP(ROUND(I346-(ROUNDDOWN(I346,0)),1),_Esperanzas!$R$5:$S$18,2,TRUE),0),0),12)","v":46},97.991666746139515,{"$f":"L345+(L355-L345)/10","v":4.6333332061767578},{"$f":"IFERROR(ROUND((ROUNDDOWN(L346,0)*12)+IFERROR(VLOOKUP(ROUND(L346-(ROUNDDOWN(L346,0)),1),_Esperanzas!$R$5:$S$18,2,TRUE),0),0),12)","v":55},98.733333206176752,null,null,null,null,null,null,null,null,null,null,null,null,null,null,94.1,{"$f":"AD345+(AD355-AD345)/10","v":3.0583332538604737},{"$f":"IFERROR(ROUND((ROUNDDOWN(AD346,0)*12)+IFERROR(VLOOKUP(ROUND(AD346-(ROUNDDOWN(AD346,0)),1),_Esperanzas!$R$5:$S$18,2,TRUE),0),0),12)","v":37},97.158333253860462,{"$f":"AG345+(AG355-AG345)/10","v":3.6333333969116213},{"$f":"IFERROR(ROUND((ROUNDDOWN(AG346,0)*12)+IFERROR(VLOOKUP(ROUND(AG346-(ROUNDDOWN(AG346,0)),1),_Esperanzas!$R$5:$S$18,2,TRUE),0),0),12)","v":43},97.733333396911618]
[null,null,null,null,null,null,null,94.2,{"$f":"I346+(I355-I345)/10","v":3.8666667461395265},{"$f":"IFERROR(ROUND((ROUNDDOWN(I347,0)*12)+IFERROR(VLOOKUP(ROUND(I347-(ROUNDDOWN(I347,0)),1),_Esperanzas!$R$5:$S$18,2,TRUE),0),0),12)","v":46},98.066666746139532,{"$f":"L346+(L355-L345)/10","v":4.5999999046325684},{"$f":"IFERROR(ROUND((ROUNDDOWN(L347,0)*12)+IFERROR(VLOOKUP(ROUND(L347-(ROUNDDOWN(L347,0)),1),_Esperanzas!$R$5:$S$18,2,TRUE),0),0),12)","v":55},98.799999904632571,null,null,null,null,null,null,null,null,null,null,null,null,null,null,94.2,{"$f":"AD346+(AD355-AD345)/10","v":3.0333332538604738},{"$f":"IFERROR(ROUND((ROUNDDOWN(AD347,0)*12)+IFERROR(VLOOKUP(ROUND(AD347-(ROUNDDOWN(AD347,0)),1),_Esperanzas!$R$5:$S$18,2,TRUE),0),0),12)","v":36},97.233333253860479,{"$f":"AG346+(AG355-AG345)/10","v":3.6000000476837162},{"$f":"IFERROR(ROUND((ROUNDDOWN(AG347,0)*12)+IFERROR(VLOOKUP(ROUND(AG347-(ROUNDDOWN(AG347,0)),1),_Esperanzas!$R$5:$S$18,2,TRUE),0),0),12)","v":43},97.800000047683724]
[null,null,null,null,null,null,null,94.3,{"$f":"I347+(I355-I345)/10","v":3.8416667461395266},{"$f":"IFERROR(ROUND((ROUNDDOWN(I348,0)*12)+IFERROR(VLOOKUP(ROUND(I348-(ROUNDDOWN(I348,0)),1),_Esperanzas!$R$5:$S$18,2,TRUE),0),0),12)","v":45},98.141666746139521,{"$f":"L347+(L355-L345)/10","v":4.5666666030883789},{"$f":"IFERROR(ROUND((ROUNDDOWN(L348,0)*12)+IFERROR(VLOOKUP(ROUND(L348-(ROUNDDOWN(L348,0)),1),_Esperanzas!$R$5:$S$18,2,TRUE),0),0),12)","v":55},98.866666603088376,null,null,null,null,null,null,null,null,null,null,null,null,null,null,94.3,{"$f":"AD347+(AD355-AD345)/10","v":3.0083332538604739},{"$f":"IFERROR(ROUND((ROUNDDOWN(AD348,0)*12)+IFERROR(VLOOKUP(ROUND(AD348-(ROUNDDOWN(AD348,0)),1),_Esperanzas!$R$5:$S$18,2,TRUE),0),0),12)","v":36},97.308333253860468,{"$f":"AG347+(AG355-AG345)/10","v":3.5666666984558111},{"$f":"IFERROR(ROUND((ROUNDDOWN(AG348,0)*12)+IFERROR(VLOOKUP(ROUND(AG348-(ROUNDDOWN(AG348,0)),1),_Esperanzas!$R$5:$S$18,2,TRUE),0),0),12)","v":43},97.866666698455802]
[null,null,null,null,null,null,null,94.4,{"$f":"I348+(I355-I345)/10","v":3.8166667461395267},{"$f":"IFERROR(ROUND((ROUNDDOWN(I349,0)*12)+IFERROR(VLOOKUP(ROUND(I349-(ROUNDDOWN(I349,0)),1),_Esperanzas!$R$5:$S$18,2,TRUE),0),0),12)","v":45},98.216666746139538,{"$f":"L348+(L355-L345)/10","v":4.5333333015441895},{"$f":"IFERROR(ROUND((ROUNDDOWN(L349,0)*12)+IFERROR(VLOOKUP(ROUND(L349-(ROUNDDOWN(L349,0)),1),_Esperanzas!$R$5:$S$18,2,TRUE),0),0),12)","v":54},98.933333301544195,null,null,null,null,null,null,null,null,null,null,null,null,null,null,94.4,{"$f":"AD348+(AD355-AD345)/10","v":2.983333253860474},{"$f":"IFERROR(ROUND((ROUNDDOWN(AD349,0)*12)+IFERROR(VLOOKUP(ROUND(AD349-(ROUNDDOWN(AD349,0)),1),_Esperanzas!$R$5:$S$18,2,TRUE),0),0),12)","v":36},97.383333253860485,{"$f":"AG348+(AG355-AG345)/10","v":3.533333349227906},{"$f":"IFERROR(ROUND((ROUNDDOWN(AG349,0)*12)+IFERROR(VLOOKUP(ROUND(AG349-(ROUNDDOWN(AG349,0)),1),_Esperanzas!$R$5:$S$18,2,TRUE),0),0),12)","v":42},97.933333349227908]
[null,null,null,null,null,null,null,94.5,{"$f":"I349+(I355-I345)/10","v":3.7916667461395268},{"$f":"IFERROR(ROUND((ROUNDDOWN(I350,0)*12)+IFERROR(VLOOKUP(ROUND(I350-(ROUNDDOWN(I350,0)),1),_Esperanzas!$R$5:$S$18,2,TRUE),0),0),12)","v":45},98.291666746139526,{"$f":"L349+(L355-L345)/10","v":4.5},{"$f":"IFERROR(ROUND((ROUNDDOWN(L350,0)*12)+IFERROR(VLOOKUP(ROUND(L350-(ROUNDDOWN(L350,0)),1),_Esperanzas!$R$5:$S$18,2,TRUE),0),0),12)","v":54},99,null,null,null,null,null,null,null,null,null,null,null,null,null,null,94.5,{"$f":"AD349+(AD355-AD345)/10","v":2.9583332538604741},{"$f":"IFERROR(ROUND((ROUNDDOWN(AD350,0)*12)+IFERROR(VLOOKUP(ROUND(AD350-(ROUNDDOWN(AD350,0)),1),_Esperanzas!$R$5:$S$18,2,TRUE),0),0),12)","v":36},97.458333253860474,{"$f":"AG349+(AG355-AG345)/10","v":3.5000000000000009},{"$f":"IFERROR(ROUND((ROUNDDOWN(AG350,0)*12)+IFERROR(VLOOKUP(ROUND(AG350-(ROUNDDOWN(AG350,0)),1),_Esperanzas!$R$5:$S$18,2,TRUE),0),0),12)","v":42},98]
[null,null,null,null,null,null,null,94.6,{"$f":"I350+(I355-I345)/10","v":3.7666667461395269},{"$f":"IFERROR(ROUND((ROUNDDOWN(I351,0)*12)+IFERROR(VLOOKUP(ROUND(I351-(ROUNDDOWN(I351,0)),1),_Esperanzas!$R$5:$S$18,2,TRUE),0),0),12)","v":45},98.366666746139515,{"$f":"L350+(L355-L345)/10","v":4.4666666984558105},{"$f":"IFERROR(ROUND((ROUNDDOWN(L351,0)*12)+IFERROR(VLOOKUP(ROUND(L351-(ROUNDDOWN(L351,0)),1),_Esperanzas!$R$5:$S$18,2,TRUE),0),0),12)","v":54},99.066666698455805,null,null,null,null,null,null,null,null,null,null,null,null,null,null,94.6,{"$f":"AD350+(AD355-AD345)/10","v":2.9333332538604742},{"$f":"IFERROR(ROUND((ROUNDDOWN(AD351,0)*12)+IFERROR(VLOOKUP(ROUND(AD351-(ROUNDDOWN(AD351,0)),1),_Esperanzas!$R$5:$S$18,2,TRUE),0),0),12)","v":34},97.533333253860462,{"$f":"AG350+(AG355-AG345)/10","v":3.4666666507720958},{"$f":"IFERROR(ROUND((ROUNDDOWN(AG351,0)*12)+IFERROR(VLOOKUP(ROUND(AG351-(ROUNDDOWN(AG351,0)),1),_Esperanzas!$R$5:$S$18,2,TRUE),0),0),12)","v":42},98.066666650772092]
[null,null,null,null,null,null,null,94.7,{"$f":"I351+(I355-I345)/10","v":3.741666746139527},{"$f":"IFERROR(ROUND((ROUNDDOWN(I352,0)*12)+IFERROR(VLOOKUP(ROUND(I352-(ROUNDDOWN(I352,0)),1),_Esperanzas!$R$5:$S$18,2,TRUE),0),0),12)","v":44},98.441666746139532,{"$f":"L351+(L355-L345)/10","v":4.4333333969116211},{"$f":"IFERROR(ROUND((ROUNDDOWN(L352,0)*12)+IFERROR(VLOOKUP(ROUND(L352-(ROUNDDOWN(L352,0)),1),_Esperanzas!$R$5:$S$18,2,TRUE),0),0),12)","v":52},99.133333396911624,null,null,null,null,null,null,null,null,null,null,null,null,null,null,94.7,{"$f":"AD351+(AD355-AD345)/10","v":2.9083332538604743},{"$f":"IFERROR(ROUND((ROUNDDOWN(AD352,0)*12)+IFERROR(VLOOKUP(ROUND(AD352-(ROUNDDOWN(AD352,0)),1),_Esperanzas!$R$5:$S$18,2,TRUE),0),0),12)","v":34},97.608333253860479,{"$f":"AG351+(AG355-AG345)/10","v":3.4333333015441907},{"$f":"IFERROR(ROUND((ROUNDDOWN(AG352,0)*12)+IFERROR(VLOOKUP(ROUND(AG352-(ROUNDDOWN(AG352,0)),1),_Esperanzas!$R$5:$S$18,2,TRUE),0),0),12)","v":40},98.133333301544198]
[null,null,null,null,null,null,null,94.8,{"$f":"I352+(I355-I345)/10","v":3.7166667461395271},{"$f":"IFERROR(ROUND((ROUNDDOWN(I353,0)*12)+IFERROR(VLOOKUP(ROUND(I353-(ROUNDDOWN(I353,0)),1),_Esperanzas!$R$5:$S$18,2,TRUE),0),0),12)","v":44},98.516666746139521,{"$f":"L352+(L355-L345)/10","v":4.4000000953674316},{"$f":"IFERROR(ROUND((ROUNDDOWN(L353,0)*12)+IFERROR(VLOOKUP(ROUND(L353-(ROUNDDOWN(L353,0)),1),_Esperanzas!$R$5:$S$18,2,TRUE),0),0),12)","v":52},99.200000095367429,null,null,null,null,null,null,null,null,null,null,null,null,null,null,94.8,{"$f":"AD352+(AD355-AD345)/10","v":2.8833332538604743},{"$f":"IFERROR(ROUND((ROUNDDOWN(AD353,0)*12)+IFERROR(VLOOKUP(ROUND(AD353-(ROUNDDOWN(AD353,0)),1),_Esperanzas!$R$5:$S$18,2,TRUE),0),0),12)","v":34},97.683333253860468,{"$f":"AG352+(AG355-AG345)/10","v":3.3999999523162856},{"$f":"IFERROR(ROUND((ROUNDDOWN(AG353,0)*12)+IFERROR(VLOOKUP(ROUND(AG353-(ROUNDDOWN(AG353,0)),1),_Esperanzas!$R$5:$S$18,2,TRUE),0),0),12)","v":40},98.19999995231629]
[null,null,null,null,null,null,null,94.9,{"$f":"I353+(I355-I345)/10","v":3.6916667461395272},{"$f":"IFERROR(ROUND((ROUNDDOWN(I354,0)*12)+IFERROR(VLOOKUP(ROUND(I354-(ROUNDDOWN(I354,0)),1),_Esperanzas!$R$5:$S$18,2,TRUE),0),0),12)","v":44},98.591666746139538,{"$f":"L353+(L355-L345)/10","v":4.3666667938232422},{"$f":"IFERROR(ROUND((ROUNDDOWN(L354,0)*12)+IFERROR(VLOOKUP(ROUND(L354-(ROUNDDOWN(L354,0)),1),_Esperanzas!$R$5:$S$18,2,TRUE),0),0),12)","v":52},99.266666793823248,null,null,null,null,null,null,null,null,null,null,null,null,null,null,94.9,{"$f":"AD353+(AD355-AD345)/10","v":2.8583332538604744},{"$f":"IFERROR(ROUND((ROUNDDOWN(AD354,0)*12)+IFERROR(VLOOKUP(ROUND(AD354-(ROUNDDOWN(AD354,0)),1),_Esperanzas!$R$5:$S$18,2,TRUE),0),0),12)","v":34},97.758333253860485,{"$f":"AG353+(AG355-AG345)/10","v":3.3666666030883805},{"$f":"IFERROR(ROUND((ROUNDDOWN(AG354,0)*12)+IFERROR(VLOOKUP(ROUND(AG354-(ROUNDDOWN(AG354,0)),1),_Esperanzas!$R$5:$S$18,2,TRUE),0),0),12)","v":40},98.266666603088382]
[null,null,null,null,null,null,null,95,{"$f":"VLOOKUP($H355,$B$5:$F$55,2,0)","v":3.6666667461395264},{"$f":"IFERROR(ROUND((ROUNDDOWN(I355,0)*12)+IFERROR(VLOOKUP(ROUND(I355-(ROUNDDOWN(I355,0)),1),_Esperanzas!$R$5:$S$18,2,TRUE),0),0),12)","v":44},98.666666746139526,{"$f":"VLOOKUP($H355,$B$5:$F$55,4,0)","v":4.3333334922790527},{"$f":"IFERROR(ROUND((ROUNDDOWN(L355,0)*12)+IFERROR(VLOOKUP(ROUND(L355-(ROUNDDOWN(L355,0)),1),_Esperanzas!$R$5:$S$18,2,TRUE),0),0),12)","v":51},99.333333492279053,null,null,null,null,null,null,null,null,null,null,null,null,null,null,95,{"$f":"VLOOKUP($AC355,$W$5:$AA$55,2,0)","v":2.8333332538604736},{"$f":"IFERROR(ROUND((ROUNDDOWN(AD355,0)*12)+IFERROR(VLOOKUP(ROUND(AD355-(ROUNDDOWN(AD355,0)),1),_Esperanzas!$R$5:$S$18,2,TRUE),0),0),12)","v":33},97.833333253860474,{"$f":"VLOOKUP($AC355,$W$5:$AA$55,4,0)","v":3.3333332538604736},{"$f":"IFERROR(ROUND((ROUNDDOWN(AG355,0)*12)+IFERROR(VLOOKUP(ROUND(AG355-(ROUNDDOWN(AG355,0)),1),_Esperanzas!$R$5:$S$18,2,TRUE),0),0),12)","v":39},98.333333253860474]
[null,null,null,null,null,null,null,95.1,{"$f":"I355+(I365-I355)/10","v":3.6416667461395265},{"$f":"IFERROR(ROUND((ROUNDDOWN(I356,0)*12)+IFERROR(VLOOKUP(ROUND(I356-(ROUNDDOWN(I356,0)),1),_Esperanzas!$R$5:$S$18,2,TRUE),0),0),12)","v":43},98.741666746139515,{"$f":"L355+(L365-L355)/10","v":4.3000001430511476},{"$f":"IFERROR(ROUND((ROUNDDOWN(L356,0)*12)+IFERROR(VLOOKUP(ROUND(L356-(ROUNDDOWN(L356,0)),1),_Esperanzas!$R$5:$S$18,2,TRUE),0),0),12)","v":51},99.400000143051145,null,null,null,null,null,null,null,null,null,null,null,null,null,null,95.1,{"$f":"AD355+(AD365-AD355)/10","v":2.8083332538604737},{"$f":"IFERROR(ROUND((ROUNDDOWN(AD356,0)*12)+IFERROR(VLOOKUP(ROUND(AD356-(ROUNDDOWN(AD356,0)),1),_Esperanzas!$R$5:$S$18,2,TRUE),0),0),12)","v":33},97.908333253860462,{"$f":"AG355+(AG365-AG355)/10","v":3.3083332538604737},{"$f":"IFERROR(ROUND((ROUNDDOWN(AG356,0)*12)+IFERROR(VLOOKUP(ROUND(AG356-(ROUNDDOWN(AG356,0)),1),_Esperanzas!$R$5:$S$18,2,TRUE),0),0),12)","v":39},98.408333253860462]
[null,null,null,null,null,null,null,95.2,{"$f":"I356+(I365-I355)/10","v":3.6166667461395265},{"$f":"IFERROR(ROUND((ROUNDDOWN(I357,0)*12)+IFERROR(VLOOKUP(ROUND(I357-(ROUNDDOWN(I357,0)),1),_Esperanzas!$R$5:$S$18,2,TRUE),0),0),12)","v":43},98.816666746139532,{"$f":"L356+(L365-L355)/10","v":4.2666667938232425},{"$f":"IFERROR(ROUND((ROUNDDOWN(L357,0)*12)+IFERROR(VLOOKUP(ROUND(L357-(ROUNDDOWN(L357,0)),1),_Esperanzas!$R$5:$S$18,2,TRUE),0),0),12)","v":51},99.466666793823251,null,null,null,null,null,null,null,null,null,null,null,null,null,null,95.2,{"$f":"AD356+(AD365-AD355)/10","v":2.7833332538604738},{"$f":"IFERROR(ROUND((ROUNDDOWN(AD357,0)*12)+IFERROR(VLOOKUP(ROUND(AD357-(ROUNDDOWN(AD357,0)),1),_Esperanzas!$R$5:$S$18,2,TRUE),0),0),12)","v":33},97.983333253860479,{"$f":"AG356+(AG365-AG355)/10","v":3.2833332538604738},{"$f":"IFERROR(ROUND((ROUNDDOWN(AG357,0)*12)+IFERROR(VLOOKUP(ROUND(AG357-(ROUNDDOWN(AG357,0)),1),_Esperanzas!$R$5:$S$18,2,TRUE),0),0),12)","v":39},98.483333253860479]
[null,null,null,null,null,null,null,95.3,{"$f":"I357+(I365-I355)/10","v":3.5916667461395266},{"$f":"IFERROR(ROUND((ROUNDDOWN(I358,0)*12)+IFERROR(VLOOKUP(ROUND(I358-(ROUNDDOWN(I358,0)),1),_Esperanzas!$R$5:$S$18,2,TRUE),0),0),12)","v":43},98.891666746139521,{"$f":"L357+(L365-L355)/10","v":4.2333334445953374},{"$f":"IFERROR(ROUND((ROUNDDOWN(L358,0)*12)+IFERROR(VLOOKUP(ROUND(L358-(ROUNDDOWN(L358,0)),1),_Esperanzas!$R$5:$S$18,2,TRUE),0),0),12)","v":50},99.533333444595328,null,null,null,null,null,null,null,null,null,null,null,null,null,null,95.3,{"$f":"AD357+(AD365-AD355)/10","v":2.7583332538604739},{"$f":"IFERROR(ROUND((ROUNDDOWN(AD358,0)*12)+IFERROR(VLOOKUP(ROUND(AD358-(ROUNDDOWN(AD358,0)),1),_Esperanzas!$R$5:$S$18,2,TRUE),0),0),12)","v":33},98.058333253860468,{"$f":"AG357+(AG365-AG355)/10","v":3.2583332538604739},{"$f":"IFERROR(ROUND((ROUNDDOWN(AG358,0)*12)+IFERROR(VLOOKUP(ROUND(AG358-(ROUNDDOWN(AG358,0)),1),_Esperanzas!$R$5:$S$18,2,TRUE),0),0),12)","v":39},98.558333253860468]
[null,null,null,null,null,null,null,95.4,{"$f":"I358+(I365-I355)/10","v":3.5666667461395267},{"$f":"IFERROR(ROUND((ROUNDDOWN(I359,0)*12)+IFERROR(VLOOKUP(ROUND(I359-(ROUNDDOWN(I359,0)),1),_Esperanzas!$R$5:$S$18,2,TRUE),0),0),12)","v":43},98.966666746139538,{"$f":"L358+(L365-L355)/10","v":4.2000000953674324},{"$f":"IFERROR(ROUND((ROUNDDOWN(L359,0)*12)+IFERROR(VLOOKUP(ROUND(L359-(ROUNDDOWN(L359,0)),1),_Esperanzas!$R$5:$S$18,2,TRUE),0),0),12)","v":50},99.600000095367434,null,null,null,null,null,null,null,null,null,null,null,null,null,null,95.4,{"$f":"AD358+(AD365-AD355)/10","v":2.733333253860474},{"$f":"IFERROR(ROUND((ROUNDDOWN(AD359,0)*12)+IFERROR(VLOOKUP(ROUND(AD359-(ROUNDDOWN(AD359,0)),1),_Esperanzas!$R$5:$S$18,2,TRUE),0),0),12)","v":32},98.133333253860485,{"$f":"AG358+(AG365-AG355)/10","v":3.233333253860474},{"$f":"IFERROR(ROUND((ROUNDDOWN(AG359,0)*12)+IFERROR(VLOOKUP(ROUND(AG359-(ROUNDDOWN(AG359,0)),1),_Esperanzas!$R$5:$S$18,2,TRUE),0),0),12)","v":38},98.633333253860485]
[null,null,null,null,null,null,null,95.5,{"$f":"I359+(I365-I355)/10","v":3.5416667461395268},{"$f":"IFERROR(ROUND((ROUNDDOWN(I360,0)*12)+IFERROR(VLOOKUP(ROUND(I360-(ROUNDDOWN(I360,0)),1),_Esperanzas!$R$5:$S$18,2,TRUE),0),0),12)","v":42},99.041666746139526,{"$f":"L359+(L365-L355)/10","v":4.1666667461395273},{"$f":"IFERROR(ROUND((ROUNDDOWN(L360,0)*12)+IFERROR(VLOOKUP(ROUND(L360-(ROUNDDOWN(L360,0)),1),_Esperanzas!$R$5:$S$18,2,TRUE),0),0),12)","v":50},99.666666746139526,null,null,null,null,null,null,null,null,null,null,null,null,null,null,95.5,{"$f":"AD359+(AD365-AD355)/10","v":2.7083332538604741},{"$f":"IFERROR(ROUND((ROUNDDOWN(AD360,0)*12)+IFERROR(VLOOKUP(ROUND(AD360-(ROUNDDOWN(AD360,0)),1),_Esperanzas!$R$5:$S$18,2,TRUE),0),0),12)","v":32},98.208333253860474,{"$f":"AG359+(AG365-AG355)/10","v":3.2083332538604741},{"$f":"IFERROR(ROUND((ROUNDDOWN(AG360,0)*12)+IFERROR(VLOOKUP(ROUND(AG360-(ROUNDDOWN(AG360,0)),1),_Esperanzas!$R$5:$S$18,2,TRUE),0),0),12)","v":38},98.708333253860474]
[null,null,null,null,null,null,null,95.6,{"$f":"I360+(I365-I355)/10","v":3.5166667461395269},{"$f":"IFERROR(ROUND((ROUNDDOWN(I361,0)*12)+IFERROR(VLOOKUP(ROUND(I361-(ROUNDDOWN(I361,0)),1),_Esperanzas!$R$5:$S$18,2,TRUE),0),0),12)","v":42},99.116666746139515,{"$f":"L360+(L365-L355)/10","v":4.1333333969116222},{"$f":"IFERROR(ROUND((ROUNDDOWN(L361,0)*12)+IFERROR(VLOOKUP(ROUND(L361-(ROUNDDOWN(L361,0)),1),_Esperanzas!$R$5:$S$18,2,TRUE),0),0),12)","v":49},99.733333396911618,null,null,null,null,null,null,null,null,null,null,null,null,null,null,95.6,{"$f":"AD360+(AD365-AD355)/10","v":2.6833332538604742},{"$f":"IFERROR(ROUND((ROUNDDOWN(AD361,0)*12)+IFERROR(VLOOKUP(ROUND(AD361-(ROUNDDOWN(AD361,0)),1),_Esperanzas!$R$5:$S$18,2,TRUE),0),0),12)","v":32},98.283333253860462,{"$f":"AG360+(AG365-AG355)/10","v":3.1833332538604742},{"$f":"IFERROR(ROUND((ROUNDDOWN(AG361,0)*12)+IFERROR(VLOOKUP(ROUND(AG361-(ROUNDDOWN(AG361,0)),1),_Esperanzas!$R$5:$S$18,2,TRUE),0),0),12)","v":38},98.783333253860462]
[null,null,null,null,null,null,null,95.7,{"$f":"I361+(I365-I355)/10","v":3.491666746139527},{"$f":"IFERROR(ROUND((ROUNDDOWN(I362,0)*12)+IFERROR(VLOOKUP(ROUND(I362-(ROUNDDOWN(I362,0)),1),_Esperanzas!$R$5:$S$18,2,TRUE),0),0),12)","v":42},99.191666746139532,{"$f":"L361+(L365-L355)/10","v":4.1000000476837171},{"$f":"IFERROR(ROUND((ROUNDDOWN(L362,0)*12)+IFERROR(VLOOKUP(ROUND(L362-(ROUNDDOWN(L362,0)),1),_Esperanzas!$R$5:$S$18,2,TRUE),0),0),12)","v":49},99.800000047683724,null,null,null,null,null,null,null,null,null,null,null,null,null,null,95.7,{"$f":"AD361+(AD365-AD355)/10","v":2.6583332538604743},{"$f":"IFERROR(ROUND((ROUNDDOWN(AD362,0)*12)+IFERROR(VLOOKUP(ROUND(AD362-(ROUNDDOWN(AD362,0)),1),_Esperanzas!$R$5:$S$18,2,TRUE),0),0),12)","v":32},98.358333253860479,{"$f":"AG361+(AG365-AG355)/10","v":3.1583332538604743},{"$f":"IFERROR(ROUND((ROUNDDOWN(AG362,0)*12)+IFERROR(VLOOKUP(ROUND(AG362-(ROUNDDOWN(AG362,0)),1),_Esperanzas!$R$5:$S$18,2,TRUE),0),0),12)","v":38},98.858333253860479]
[null,null,null,null,null,null,null,95.8,{"$f":"I362+(I365-I355)/10","v":3.4666667461395271},{"$f":"IFERROR(ROUND((ROUNDDOWN(I363,0)*12)+IFERROR(VLOOKUP(ROUND(I363-(ROUNDDOWN(I363,0)),1),_Esperanzas!$R$5:$S$18,2,TRUE),0),0),12)","v":42},99.266666746139521,{"$f":"L362+(L365-L355)/10","v":4.066666698455812},{"$f":"IFERROR(ROUND((ROUNDDOWN(L363,0)*12)+IFERROR(VLOOKUP(ROUND(L363-(ROUNDDOWN(L363,0)),1),_Esperanzas!$R$5:$S$18,2,TRUE),0),0),12)","v":49},99.866666698455816,null,null,null,null,null,null,null,null,null,null,null,null,null,null,95.8,{"$f":"AD362+(AD365-AD355)/10","v":2.6333332538604743},{"$f":"IFERROR(ROUND((ROUNDDOWN(AD363,0)*12)+IFERROR(VLOOKUP(ROUND(AD363-(ROUNDDOWN(AD363,0)),1),_Esperanzas!$R$5:$S$18,2,TRUE),0),0),12)","v":31},98.433333253860468,{"$f":"AG362+(AG365-AG355)/10","v":3.1333332538604743},{"$f":"IFERROR(ROUND((ROUNDDOWN(AG363,0)*12)+IFERROR(VLOOKUP(ROUND(AG363-(ROUNDDOWN(AG363,0)),1),_Esperanzas!$R$5:$S$18,2,TRUE),0),0),12)","v":37},98.933333253860468]
[null,null,null,null,null,null,null,95.9,{"$f":"I363+(I365-I355)/10","v":3.4416667461395272},{"$f":"IFERROR(ROUND((ROUNDDOWN(I364,0)*12)+IFERROR(VLOOKUP(ROUND(I364-(ROUNDDOWN(I364,0)),1),_Esperanzas!$R$5:$S$18,2,TRUE),0),0),12)","v":40},99.341666746139538,{"$f":"L363+(L365-L355)/10","v":4.0333333492279069},{"$f":"IFERROR(ROUND((ROUNDDOWN(L364,0)*12)+IFERROR(VLOOKUP(ROUND(L364-(ROUNDDOWN(L364,0)),1),_Esperanzas!$R$5:$S$18,2,TRUE),0),0),12)","v":48},99.933333349227908,null,null,null,null,null,null,null,null,null,null,null,null,null,null,95.9,{"$f":"AD363+(AD365-AD355)/10","v":2.6083332538604744},{"$f":"IFERROR(ROUND((ROUNDDOWN(AD364,0)*12)+IFERROR(VLOOKUP(ROUND(AD364-(ROUNDDOWN(AD364,0)),1),_Esperanzas!$R$5:$S$18,2,TRUE),0),0),12)","v":31},98.508333253860485,{"$f":"AG363+(AG365-AG355)/10","v":3.1083332538604744},{"$f":"IFERROR(ROUND((ROUNDDOWN(AG364,0)*12)+IFERROR(VLOOKUP(ROUND(AG364-(ROUNDDOWN(AG364,0)),1),_Esperanzas!$R$5:$S$18,2,TRUE),0),0),12)","v":37},99.008333253860485]
[null,null,null,null,null,null,null,96,{"$f":"VLOOKUP($H365,$B$5:$F$55,2,0)","v":3.4166667461395264},{"$f":"IFERROR(ROUND((ROUNDDOWN(I365,0)*12)+IFERROR(VLOOKUP(ROUND(I365-(ROUNDDOWN(I365,0)),1),_Esperanzas!$R$5:$S$18,2,TRUE),0),0),12)","v":40},99.416666746139526,{"$f":"VLOOKUP($H365,$B$5:$F$55,4,0)","v":4},{"$f":"IFERROR(ROUND((ROUNDDOWN(L365,0)*12)+IFERROR(VLOOKUP(ROUND(L365-(ROUNDDOWN(L365,0)),1),_Esperanzas!$R$5:$S$18,2,TRUE),0),0),12)","v":48},100,null,null,null,null,null,null,null,null,null,null,null,null,null,null,96,{"$f":"VLOOKUP($AC365,$W$5:$AA$55,2,0)","v":2.5833332538604736},{"$f":"IFERROR(ROUND((ROUNDDOWN(AD365,0)*12)+IFERROR(VLOOKUP(ROUND(AD365-(ROUNDDOWN(AD365,0)),1),_Esperanzas!$R$5:$S$18,2,TRUE),0),0),12)","v":31},98.583333253860474,{"$f":"VLOOKUP($AC365,$W$5:$AA$55,4,0)","v":3.0833332538604736},{"$f":"IFERROR(ROUND((ROUNDDOWN(AG365,0)*12)+IFERROR(VLOOKUP(ROUND(AG365-(ROUNDDOWN(AG365,0)),1),_Esperanzas!$R$5:$S$18,2,TRUE),0),0),12)","v":37},99.083333253860474]
[null,null,null,null,null,null,null,96.1,{"$f":"I365+(I375-I365)/10","v":3.3916667461395265},{"$f":"IFERROR(ROUND((ROUNDDOWN(I366,0)*12)+IFERROR(VLOOKUP(ROUND(I366-(ROUNDDOWN(I366,0)),1),_Esperanzas!$R$5:$S$18,2,TRUE),0),0),12)","v":40},99.491666746139515,{"$f":"L365+(L375-L365)/10","v":3.9666666746139527},{"$f":"IFERROR(ROUND((ROUNDDOWN(L366,0)*12)+IFERROR(VLOOKUP(ROUND(L366-(ROUNDDOWN(L366,0)),1),_Esperanzas!$R$5:$S$18,2,TRUE),0),0),12)","v":48},100.06666667461394,null,null,null,null,null,null,null,null,null,null,null,null,null,null,96.1,{"$f":"AD365+(AD375-AD365)/10","v":2.5666666030883789},{"$f":"IFERROR(ROUND((ROUNDDOWN(AD366,0)*12)+IFERROR(VLOOKUP(ROUND(AD366-(ROUNDDOWN(AD366,0)),1),_Esperanzas!$R$5:$S$18,2,TRUE),0),0),12)","v":31},98.666666603088373,{"$f":"AG365+(AG375-AG365)/10","v":3.0583332538604737},{"$f":"IFERROR(ROUND((ROUNDDOWN(AG366,0)*12)+IFERROR(VLOOKUP(ROUND(AG366-(ROUNDDOWN(AG366,0)),1),_Esperanzas!$R$5:$S$18,2,TRUE),0),0),12)","v":37},99.158333253860462]
[null,null,null,null,null,null,null,96.2,{"$f":"I366+(I375-I365)/10","v":3.3666667461395265},{"$f":"IFERROR(ROUND((ROUNDDOWN(I367,0)*12)+IFERROR(VLOOKUP(ROUND(I367-(ROUNDDOWN(I367,0)),1),_Esperanzas!$R$5:$S$18,2,TRUE),0),0),12)","v":40},99.566666746139532,{"$f":"L366+(L375-L365)/10","v":3.9333333492279055},{"$f":"IFERROR(ROUND((ROUNDDOWN(L367,0)*12)+IFERROR(VLOOKUP(ROUND(L367-(ROUNDDOWN(L367,0)),1),_Esperanzas!$R$5:$S$18,2,TRUE),0),0),12)","v":46},100.13333334922791,null,null,null,null,null,null,null,null,null,null,null,null,null,null,96.2,{"$f":"AD366+(AD375-AD365)/10","v":2.5499999523162842},{"$f":"IFERROR(ROUND((ROUNDDOWN(AD367,0)*12)+IFERROR(VLOOKUP(ROUND(AD367-(ROUNDDOWN(AD367,0)),1),_Esperanzas!$R$5:$S$18,2,TRUE),0),0),12)","v":30},98.749999952316287,{"$f":"AG366+(AG375-AG365)/10","v":3.0333332538604738},{"$f":"IFERROR(ROUND((ROUNDDOWN(AG367,0)*12)+IFERROR(VLOOKUP(ROUND(AG367-(ROUNDDOWN(AG367,0)),1),_Esperanzas!$R$5:$S$18,2,TRUE),0),0),12)","v":36},99.233333253860479]
[null,null,null,null,null,null,null,96.3,{"$f":"I367+(I375-I365)/10","v":3.3416667461395266},{"$f":"IFERROR(ROUND((ROUNDDOWN(I368,0)*12)+IFERROR(VLOOKUP(ROUND(I368-(ROUNDDOWN(I368,0)),1),_Esperanzas!$R$5:$S$18,2,TRUE),0),0),12)","v":39},99.641666746139521,{"$f":"L367+(L375-L365)/10","v":3.9000000238418582},{"$f":"IFERROR(ROUND((ROUNDDOWN(L368,0)*12)+IFERROR(VLOOKUP(ROUND(L368-(ROUNDDOWN(L368,0)),1),_Esperanzas!$R$5:$S$18,2,TRUE),0),0),12)","v":46},100.20000002384185,null,null,null,null,null,null,null,null,null,null,null,null,null,null,96.3,{"$f":"AD367+(AD375-AD365)/10","v":2.5333333015441895},{"$f":"IFERROR(ROUND((ROUNDDOWN(AD368,0)*12)+IFERROR(VLOOKUP(ROUND(AD368-(ROUNDDOWN(AD368,0)),1),_Esperanzas!$R$5:$S$18,2,TRUE),0),0),12)","v":30},98.833333301544187,{"$f":"AG367+(AG375-AG365)/10","v":3.0083332538604739},{"$f":"IFERROR(ROUND((ROUNDDOWN(AG368,0)*12)+IFERROR(VLOOKUP(ROUND(AG368-(ROUNDDOWN(AG368,0)),1),_Esperanzas!$R$5:$S$18,2,TRUE),0),0),12)","v":36},99.308333253860468]
[null,null,null,null,null,null,null,96.4,{"$f":"I368+(I375-I365)/10","v":3.3166667461395267},{"$f":"IFERROR(ROUND((ROUNDDOWN(I369,0)*12)+IFERROR(VLOOKUP(ROUND(I369-(ROUNDDOWN(I369,0)),1),_Esperanzas!$R$5:$S$18,2,TRUE),0),0),12)","v":39},99.716666746139538,{"$f":"L368+(L375-L365)/10","v":3.8666666984558109},{"$f":"IFERROR(ROUND((ROUNDDOWN(L369,0)*12)+IFERROR(VLOOKUP(ROUND(L369-(ROUNDDOWN(L369,0)),1),_Esperanzas!$R$5:$S$18,2,TRUE),0),0),12)","v":46},100.26666669845582,null,null,null,null,null,null,null,null,null,null,null,null,null,null,96.4,{"$f":"AD368+(AD375-AD365)/10","v":2.5166666507720947},{"$f":"IFERROR(ROUND((ROUNDDOWN(AD369,0)*12)+IFERROR(VLOOKUP(ROUND(AD369-(ROUNDDOWN(AD369,0)),1),_Esperanzas!$R$5:$S$18,2,TRUE),0),0),12)","v":30},98.9166666507721,{"$f":"AG368+(AG375-AG365)/10","v":2.983333253860474},{"$f":"IFERROR(ROUND((ROUNDDOWN(AG369,0)*12)+IFERROR(VLOOKUP(ROUND(AG369-(ROUNDDOWN(AG369,0)),1),_Esperanzas!$R$5:$S$18,2,TRUE),0),0),12)","v":36},99.383333253860485]
[null,null,null,null,null,null,null,96.5,{"$f":"I369+(I375-I365)/10","v":3.2916667461395268},{"$f":"IFERROR(ROUND((ROUNDDOWN(I370,0)*12)+IFERROR(VLOOKUP(ROUND(I370-(ROUNDDOWN(I370,0)),1),_Esperanzas!$R$5:$S$18,2,TRUE),0),0),12)","v":39},99.791666746139526,{"$f":"L369+(L375-L365)/10","v":3.8333333730697636},{"$f":"IFERROR(ROUND((ROUNDDOWN(L370,0)*12)+IFERROR(VLOOKUP(ROUND(L370-(ROUNDDOWN(L370,0)),1),_Esperanzas!$R$5:$S$18,2,TRUE),0),0),12)","v":45},100.33333337306976,null,null,null,null,null,null,null,null,null,null,null,null,null,null,96.5,{"$f":"AD369+(AD375-AD365)/10","v":2.5},{"$f":"IFERROR(ROUND((ROUNDDOWN(AD370,0)*12)+IFERROR(VLOOKUP(ROUND(AD370-(ROUNDDOWN(AD370,0)),1),_Esperanzas!$R$5:$S$18,2,TRUE),0),0),12)","v":30},99,{"$f":"AG369+(AG375-AG365)/10","v":2.9583332538604741},{"$f":"IFERROR(ROUND((ROUNDDOWN(AG370,0)*12)+IFERROR(VLOOKUP(ROUND(AG370-(ROUNDDOWN(AG370,0)),1),_Esperanzas!$R$5:$S$18,2,TRUE),0),0),12)","v":36},99.458333253860474]
[null,null,null,null,null,null,null,96.6,{"$f":"I370+(I375-I365)/10","v":3.2666667461395269},{"$f":"IFERROR(ROUND((ROUNDDOWN(I371,0)*12)+IFERROR(VLOOKUP(ROUND(I371-(ROUNDDOWN(I371,0)),1),_Esperanzas!$R$5:$S$18,2,TRUE),0),0),12)","v":39},99.866666746139515,{"$f":"L370+(L375-L365)/10","v":3.8000000476837164},{"$f":"IFERROR(ROUND((ROUNDDOWN(L371,0)*12)+IFERROR(VLOOKUP(ROUND(L371-(ROUNDDOWN(L371,0)),1),_Esperanzas!$R$5:$S$18,2,TRUE),0),0),12)","v":45},100.4000000476837,null,null,null,null,null,null,null,null,null,null,null,null,null,null,96.6,{"$f":"AD370+(AD375-AD365)/10","v":2.4833333492279053},{"$f":"IFERROR(ROUND((ROUNDDOWN(AD371,0)*12)+IFERROR(VLOOKUP(ROUND(AD371-(ROUNDDOWN(AD371,0)),1),_Esperanzas!$R$5:$S$18,2,TRUE),0),0),12)","v":30},99.0833333492279,{"$f":"AG370+(AG375-AG365)/10","v":2.9333332538604742},{"$f":"IFERROR(ROUND((ROUNDDOWN(AG371,0)*12)+IFERROR(VLOOKUP(ROUND(AG371-(ROUNDDOWN(AG371,0)),1),_Esperanzas!$R$5:$S$18,2,TRUE),0),0),12)","v":34},99.533333253860462]
[null,null,null,null,null,null,null,96.7,{"$f":"I371+(I375-I365)/10","v":3.241666746139527},{"$f":"IFERROR(ROUND((ROUNDDOWN(I372,0)*12)+IFERROR(VLOOKUP(ROUND(I372-(ROUNDDOWN(I372,0)),1),_Esperanzas!$R$5:$S$18,2,TRUE),0),0),12)","v":38},99.941666746139532,{"$f":"L371+(L375-L365)/10","v":3.7666667222976691},{"$f":"IFERROR(ROUND((ROUNDDOWN(L372,0)*12)+IFERROR(VLOOKUP(ROUND(L372-(ROUNDDOWN(L372,0)),1),_Esperanzas!$R$5:$S$18,2,TRUE),0),0),12)","v":45},100.46666672229767,null,null,null,null,null,null,null,null,null,null,null,null,null,null,96.7,{"$f":"AD371+(AD375-AD365)/10","v":2.4666666984558105},{"$f":"IFERROR(ROUND((ROUNDDOWN(AD372,0)*12)+IFERROR(VLOOKUP(ROUND(AD372-(ROUNDDOWN(AD372,0)),1),_Esperanzas!$R$5:$S$18,2,TRUE),0),0),12)","v":30},99.166666698455813,{"$f":"AG371+(AG375-AG365)/10","v":2.9083332538604743},{"$f":"IFERROR(ROUND((ROUNDDOWN(AG372,0)*12)+IFERROR(VLOOKUP(ROUND(AG372-(ROUNDDOWN(AG372,0)),1),_Esperanzas!$R$5:$S$18,2,TRUE),0),0),12)","v":34},99.608333253860479]
[null,null,null,null,null,null,null,96.8,{"$f":"I372+(I375-I365)/10","v":3.2166667461395271},{"$f":"IFERROR(ROUND((ROUNDDOWN(I373,0)*12)+IFERROR(VLOOKUP(ROUND(I373-(ROUNDDOWN(I373,0)),1),_Esperanzas!$R$5:$S$18,2,TRUE),0),0),12)","v":38},100.01666674613952,{"$f":"L372+(L375-L365)/10","v":3.7333333969116218},{"$f":"IFERROR(ROUND((ROUNDDOWN(L373,0)*12)+IFERROR(VLOOKUP(ROUND(L373-(ROUNDDOWN(L373,0)),1),_Esperanzas!$R$5:$S$18,2,TRUE),0),0),12)","v":44},100.53333339691162,null,null,null,null,null,null,null,null,null,null,null,null,null,null,96.8,{"$f":"AD372+(AD375-AD365)/10","v":2.4500000476837158},{"$f":"IFERROR(ROUND((ROUNDDOWN(AD373,0)*12)+IFERROR(VLOOKUP(ROUND(AD373-(ROUNDDOWN(AD373,0)),1),_Esperanzas!$R$5:$S$18,2,TRUE),0),0),12)","v":30},99.250000047683713,{"$f":"AG372+(AG375-AG365)/10","v":2.8833332538604743},{"$f":"IFERROR(ROUND((ROUNDDOWN(AG373,0)*12)+IFERROR(VLOOKUP(ROUND(AG373-(ROUNDDOWN(AG373,0)),1),_Esperanzas!$R$5:$S$18,2,TRUE),0),0),12)","v":34},99.683333253860468]
[null,null,null,null,null,null,null,96.9,{"$f":"I373+(I375-I365)/10","v":3.1916667461395272},{"$f":"IFERROR(ROUND((ROUNDDOWN(I374,0)*12)+IFERROR(VLOOKUP(ROUND(I374-(ROUNDDOWN(I374,0)),1),_Esperanzas!$R$5:$S$18,2,TRUE),0),0),12)","v":38},100.09166674613954,{"$f":"L373+(L375-L365)/10","v":3.7000000715255745},{"$f":"IFERROR(ROUND((ROUNDDOWN(L374,0)*12)+IFERROR(VLOOKUP(ROUND(L374-(ROUNDDOWN(L374,0)),1),_Esperanzas!$R$5:$S$18,2,TRUE),0),0),12)","v":44},100.60000007152559,null,null,null,null,null,null,null,null,null,null,null,null,null,null,96.9,{"$f":"AD373+(AD375-AD365)/10","v":2.4333333969116211},{"$f":"IFERROR(ROUND((ROUNDDOWN(AD374,0)*12)+IFERROR(VLOOKUP(ROUND(AD374-(ROUNDDOWN(AD374,0)),1),_Esperanzas!$R$5:$S$18,2,TRUE),0),0),12)","v":28},99.333333396911627,{"$f":"AG373+(AG375-AG365)/10","v":2.8583332538604744},{"$f":"IFERROR(ROUND((ROUNDDOWN(AG374,0)*12)+IFERROR(VLOOKUP(ROUND(AG374-(ROUNDDOWN(AG374,0)),1),_Esperanzas!$R$5:$S$18,2,TRUE),0),0),12)","v":34},99.758333253860485]
[null,null,null,null,null,null,null,97,{"$f":"VLOOKUP($H375,$B$5:$F$55,2,0)","v":3.1666667461395264},{"$f":"IFERROR(ROUND((ROUNDDOWN(I375,0)*12)+IFERROR(VLOOKUP(ROUND(I375-(ROUNDDOWN(I375,0)),1),_Esperanzas!$R$5:$S$18,2,TRUE),0),0),12)","v":38},100.16666674613953,{"$f":"VLOOKUP($H375,$B$5:$F$55,4,0)","v":3.6666667461395264},{"$f":"IFERROR(ROUND((ROUNDDOWN(L375,0)*12)+IFERROR(VLOOKUP(ROUND(L375-(ROUNDDOWN(L375,0)),1),_Esperanzas!$R$5:$S$18,2,TRUE),0),0),12)","v":44},100.66666674613953,null,null,null,null,null,null,null,null,null,null,null,null,null,null,97,{"$f":"VLOOKUP($AC375,$W$5:$AA$55,2,0)","v":2.4166667461395264},{"$f":"IFERROR(ROUND((ROUNDDOWN(AD375,0)*12)+IFERROR(VLOOKUP(ROUND(AD375-(ROUNDDOWN(AD375,0)),1),_Esperanzas!$R$5:$S$18,2,TRUE),0),0),12)","v":28},99.416666746139526,{"$f":"VLOOKUP($AC375,$W$5:$AA$55,4,0)","v":2.8333332538604736},{"$f":"IFERROR(ROUND((ROUNDDOWN(AG375,0)*12)+IFERROR(VLOOKUP(ROUND(AG375-(ROUNDDOWN(AG375,0)),1),_Esperanzas!$R$5:$S$18,2,TRUE),0),0),12)","v":33},99.833333253860474]
[null,null,null,null,null,null,null,97.1,{"$f":"I375+(I385-I375)/10","v":3.1416667461395265},{"$f":"IFERROR(ROUND((ROUNDDOWN(I376,0)*12)+IFERROR(VLOOKUP(ROUND(I376-(ROUNDDOWN(I376,0)),1),_Esperanzas!$R$5:$S$18,2,TRUE),0),0),12)","v":37},100.24166674613951,{"$f":"L375+(L385-L375)/10","v":3.6416667461395265},{"$f":"IFERROR(ROUND((ROUNDDOWN(L376,0)*12)+IFERROR(VLOOKUP(ROUND(L376-(ROUNDDOWN(L376,0)),1),_Esperanzas!$R$5:$S$18,2,TRUE),0),0),12)","v":43},100.74166674613951,null,null,null,null,null,null,null,null,null,null,null,null,null,null,97.1,{"$f":"AD375+(AD385-AD375)/10","v":2.4000000715255738},{"$f":"IFERROR(ROUND((ROUNDDOWN(AD376,0)*12)+IFERROR(VLOOKUP(ROUND(AD376-(ROUNDDOWN(AD376,0)),1),_Esperanzas!$R$5:$S$18,2,TRUE),0),0),12)","v":28},99.500000071525562,{"$f":"AG375+(AG385-AG375)/10","v":2.8083332538604737},{"$f":"IFERROR(ROUND((ROUNDDOWN(AG376,0)*12)+IFERROR(VLOOKUP(ROUND(AG376-(ROUNDDOWN(AG376,0)),1),_Esperanzas!$R$5:$S$18,2,TRUE),0),0),12)","v":33},99.908333253860462]
[null,null,null,null,null,null,null,97.2,{"$f":"I376+(I385-I375)/10","v":3.1166667461395265},{"$f":"IFERROR(ROUND((ROUNDDOWN(I377,0)*12)+IFERROR(VLOOKUP(ROUND(I377-(ROUNDDOWN(I377,0)),1),_Esperanzas!$R$5:$S$18,2,TRUE),0),0),12)","v":37},100.31666674613953,{"$f":"L376+(L385-L375)/10","v":3.6166667461395265},{"$f":"IFERROR(ROUND((ROUNDDOWN(L377,0)*12)+IFERROR(VLOOKUP(ROUND(L377-(ROUNDDOWN(L377,0)),1),_Esperanzas!$R$5:$S$18,2,TRUE),0),0),12)","v":43},100.81666674613953,null,null,null,null,null,null,null,null,null,null,null,null,null,null,97.2,{"$f":"AD376+(AD385-AD375)/10","v":2.3833333969116213},{"$f":"IFERROR(ROUND((ROUNDDOWN(AD377,0)*12)+IFERROR(VLOOKUP(ROUND(AD377-(ROUNDDOWN(AD377,0)),1),_Esperanzas!$R$5:$S$18,2,TRUE),0),0),12)","v":28},99.583333396911627,{"$f":"AG376+(AG385-AG375)/10","v":2.7833332538604738},{"$f":"IFERROR(ROUND((ROUNDDOWN(AG377,0)*12)+IFERROR(VLOOKUP(ROUND(AG377-(ROUNDDOWN(AG377,0)),1),_Esperanzas!$R$5:$S$18,2,TRUE),0),0),12)","v":33},99.983333253860479]
[null,null,null,null,null,null,null,97.3,{"$f":"I377+(I385-I375)/10","v":3.0916667461395266},{"$f":"IFERROR(ROUND((ROUNDDOWN(I378,0)*12)+IFERROR(VLOOKUP(ROUND(I378-(ROUNDDOWN(I378,0)),1),_Esperanzas!$R$5:$S$18,2,TRUE),0),0),12)","v":37},100.39166674613952,{"$f":"L377+(L385-L375)/10","v":3.5916667461395266},{"$f":"IFERROR(ROUND((ROUNDDOWN(L378,0)*12)+IFERROR(VLOOKUP(ROUND(L378-(ROUNDDOWN(L378,0)),1),_Esperanzas!$R$5:$S$18,2,TRUE),0),0),12)","v":43},100.89166674613952,null,null,null,null,null,null,null,null,null,null,null,null,null,null,97.3,{"$f":"AD377+(AD385-AD375)/10","v":2.3666667222976687},{"$f":"IFERROR(ROUND((ROUNDDOWN(AD378,0)*12)+IFERROR(VLOOKUP(ROUND(AD378-(ROUNDDOWN(AD378,0)),1),_Esperanzas!$R$5:$S$18,2,TRUE),0),0),12)","v":28},99.666666722297663,{"$f":"AG377+(AG385-AG375)/10","v":2.7583332538604739},{"$f":"IFERROR(ROUND((ROUNDDOWN(AG378,0)*12)+IFERROR(VLOOKUP(ROUND(AG378-(ROUNDDOWN(AG378,0)),1),_Esperanzas!$R$5:$S$18,2,TRUE),0),0),12)","v":33},100.05833325386047]
[null,null,null,null,null,null,null,97.4,{"$f":"I378+(I385-I375)/10","v":3.0666667461395267},{"$f":"IFERROR(ROUND((ROUNDDOWN(I379,0)*12)+IFERROR(VLOOKUP(ROUND(I379-(ROUNDDOWN(I379,0)),1),_Esperanzas!$R$5:$S$18,2,TRUE),0),0),12)","v":37},100.46666674613954,{"$f":"L378+(L385-L375)/10","v":3.5666667461395267},{"$f":"IFERROR(ROUND((ROUNDDOWN(L379,0)*12)+IFERROR(VLOOKUP(ROUND(L379-(ROUNDDOWN(L379,0)),1),_Esperanzas!$R$5:$S$18,2,TRUE),0),0),12)","v":43},100.96666674613954,null,null,null,null,null,null,null,null,null,null,null,null,null,null,97.4,{"$f":"AD378+(AD385-AD375)/10","v":2.3500000476837162},{"$f":"IFERROR(ROUND((ROUNDDOWN(AD379,0)*12)+IFERROR(VLOOKUP(ROUND(AD379-(ROUNDDOWN(AD379,0)),1),_Esperanzas!$R$5:$S$18,2,TRUE),0),0),12)","v":28},99.750000047683727,{"$f":"AG378+(AG385-AG375)/10","v":2.733333253860474},{"$f":"IFERROR(ROUND((ROUNDDOWN(AG379,0)*12)+IFERROR(VLOOKUP(ROUND(AG379-(ROUNDDOWN(AG379,0)),1),_Esperanzas!$R$5:$S$18,2,TRUE),0),0),12)","v":32},100.13333325386049]
[null,null,null,null,null,null,null,97.5,{"$f":"I379+(I385-I375)/10","v":3.0416667461395268},{"$f":"IFERROR(ROUND((ROUNDDOWN(I380,0)*12)+IFERROR(VLOOKUP(ROUND(I380-(ROUNDDOWN(I380,0)),1),_Esperanzas!$R$5:$S$18,2,TRUE),0),0),12)","v":36},100.54166674613953,{"$f":"L379+(L385-L375)/10","v":3.5416667461395268},{"$f":"IFERROR(ROUND((ROUNDDOWN(L380,0)*12)+IFERROR(VLOOKUP(ROUND(L380-(ROUNDDOWN(L380,0)),1),_Esperanzas!$R$5:$S$18,2,TRUE),0),0),12)","v":42},101.04166674613953,null,null,null,null,null,null,null,null,null,null,null,null,null,null,97.5,{"$f":"AD379+(AD385-AD375)/10","v":2.3333333730697636},{"$f":"IFERROR(ROUND((ROUNDDOWN(AD380,0)*12)+IFERROR(VLOOKUP(ROUND(AD380-(ROUNDDOWN(AD380,0)),1),_Esperanzas!$R$5:$S$18,2,TRUE),0),0),12)","v":27},99.833333373069763,{"$f":"AG379+(AG385-AG375)/10","v":2.7083332538604741},{"$f":"IFERROR(ROUND((ROUNDDOWN(AG380,0)*12)+IFERROR(VLOOKUP(ROUND(AG380-(ROUNDDOWN(AG380,0)),1),_Esperanzas!$R$5:$S$18,2,TRUE),0),0),12)","v":32},100.20833325386047]
[null,null,null,null,null,null,null,97.6,{"$f":"I380+(I385-I375)/10","v":3.0166667461395269},{"$f":"IFERROR(ROUND((ROUNDDOWN(I381,0)*12)+IFERROR(VLOOKUP(ROUND(I381-(ROUNDDOWN(I381,0)),1),_Esperanzas!$R$5:$S$18,2,TRUE),0),0),12)","v":36},100.61666674613951,{"$f":"L380+(L385-L375)/10","v":3.5166667461395269},{"$f":"IFERROR(ROUND((ROUNDDOWN(L381,0)*12)+IFERROR(VLOOKUP(ROUND(L381-(ROUNDDOWN(L381,0)),1),_Esperanzas!$R$5:$S$18,2,TRUE),0),0),12)","v":42},101.11666674613951,null,null,null,null,null,null,null,null,null,null,null,null,null,null,97.6,{"$f":"AD380+(AD385-AD375)/10","v":2.3166666984558111},{"$f":"IFERROR(ROUND((ROUNDDOWN(AD381,0)*12)+IFERROR(VLOOKUP(ROUND(AD381-(ROUNDDOWN(AD381,0)),1),_Esperanzas!$R$5:$S$18,2,TRUE),0),0),12)","v":27},99.916666698455799,{"$f":"AG380+(AG385-AG375)/10","v":2.6833332538604742},{"$f":"IFERROR(ROUND((ROUNDDOWN(AG381,0)*12)+IFERROR(VLOOKUP(ROUND(AG381-(ROUNDDOWN(AG381,0)),1),_Esperanzas!$R$5:$S$18,2,TRUE),0),0),12)","v":32},100.28333325386046]
[null,null,null,null,null,null,null,97.7,{"$f":"I381+(I385-I375)/10","v":2.991666746139527},{"$f":"IFERROR(ROUND((ROUNDDOWN(I382,0)*12)+IFERROR(VLOOKUP(ROUND(I382-(ROUNDDOWN(I382,0)),1),_Esperanzas!$R$5:$S$18,2,TRUE),0),0),12)","v":36},100.69166674613953,{"$f":"L381+(L385-L375)/10","v":3.491666746139527},{"$f":"IFERROR(ROUND((ROUNDDOWN(L382,0)*12)+IFERROR(VLOOKUP(ROUND(L382-(ROUNDDOWN(L382,0)),1),_Esperanzas!$R$5:$S$18,2,TRUE),0),0),12)","v":42},101.19166674613953,null,null,null,null,null,null,null,null,null,null,null,null,null,null,97.7,{"$f":"AD381+(AD385-AD375)/10","v":2.3000000238418585},{"$f":"IFERROR(ROUND((ROUNDDOWN(AD382,0)*12)+IFERROR(VLOOKUP(ROUND(AD382-(ROUNDDOWN(AD382,0)),1),_Esperanzas!$R$5:$S$18,2,TRUE),0),0),12)","v":27},100.00000002384186,{"$f":"AG381+(AG385-AG375)/10","v":2.6583332538604743},{"$f":"IFERROR(ROUND((ROUNDDOWN(AG382,0)*12)+IFERROR(VLOOKUP(ROUND(AG382-(ROUNDDOWN(AG382,0)),1),_Esperanzas!$R$5:$S$18,2,TRUE),0),0),12)","v":32},100.35833325386048]
[null,null,null,null,null,null,null,97.8,{"$f":"I382+(I385-I375)/10","v":2.9666667461395271},{"$f":"IFERROR(ROUND((ROUNDDOWN(I383,0)*12)+IFERROR(VLOOKUP(ROUND(I383-(ROUNDDOWN(I383,0)),1),_Esperanzas!$R$5:$S$18,2,TRUE),0),0),12)","v":36},100.76666674613952,{"$f":"L382+(L385-L375)/10","v":3.4666667461395271},{"$f":"IFERROR(ROUND((ROUNDDOWN(L383,0)*12)+IFERROR(VLOOKUP(ROUND(L383-(ROUNDDOWN(L383,0)),1),_Esperanzas!$R$5:$S$18,2,TRUE),0),0),12)","v":42},101.26666674613952,null,null,null,null,null,null,null,null,null,null,null,null,null,null,97.8,{"$f":"AD382+(AD385-AD375)/10","v":2.283333349227906},{"$f":"IFERROR(ROUND((ROUNDDOWN(AD383,0)*12)+IFERROR(VLOOKUP(ROUND(AD383-(ROUNDDOWN(AD383,0)),1),_Esperanzas!$R$5:$S$18,2,TRUE),0),0),12)","v":27},100.0833333492279,{"$f":"AG382+(AG385-AG375)/10","v":2.6333332538604743},{"$f":"IFERROR(ROUND((ROUNDDOWN(AG383,0)*12)+IFERROR(VLOOKUP(ROUND(AG383-(ROUNDDOWN(AG383,0)),1),_Esperanzas!$R$5:$S$18,2,TRUE),0),0),12)","v":31},100.43333325386047]
[null,null,null,null,null,null,null,97.9,{"$f":"I383+(I385-I375)/10","v":2.9416667461395272},{"$f":"IFERROR(ROUND((ROUNDDOWN(I384,0)*12)+IFERROR(VLOOKUP(ROUND(I384-(ROUNDDOWN(I384,0)),1),_Esperanzas!$R$5:$S$18,2,TRUE),0),0),12)","v":34},100.84166674613954,{"$f":"L383+(L385-L375)/10","v":3.4416667461395272},{"$f":"IFERROR(ROUND((ROUNDDOWN(L384,0)*12)+IFERROR(VLOOKUP(ROUND(L384-(ROUNDDOWN(L384,0)),1),_Esperanzas!$R$5:$S$18,2,TRUE),0),0),12)","v":40},101.34166674613954,null,null,null,null,null,null,null,null,null,null,null,null,null,null,97.9,{"$f":"AD383+(AD385-AD375)/10","v":2.2666666746139534},{"$f":"IFERROR(ROUND((ROUNDDOWN(AD384,0)*12)+IFERROR(VLOOKUP(ROUND(AD384-(ROUNDDOWN(AD384,0)),1),_Esperanzas!$R$5:$S$18,2,TRUE),0),0),12)","v":27},100.16666667461396,{"$f":"AG383+(AG385-AG375)/10","v":2.6083332538604744},{"$f":"IFERROR(ROUND((ROUNDDOWN(AG384,0)*12)+IFERROR(VLOOKUP(ROUND(AG384-(ROUNDDOWN(AG384,0)),1),_Esperanzas!$R$5:$S$18,2,TRUE),0),0),12)","v":31},100.50833325386049]
[null,null,null,null,null,null,null,98,{"$f":"VLOOKUP($H385,$B$5:$F$55,2,0)","v":2.9166667461395264},{"$f":"IFERROR(ROUND((ROUNDDOWN(I385,0)*12)+IFERROR(VLOOKUP(ROUND(I385-(ROUNDDOWN(I385,0)),1),_Esperanzas!$R$5:$S$18,2,TRUE),0),0),12)","v":34},100.91666674613953,{"$f":"VLOOKUP($H385,$B$5:$F$55,4,0)","v":3.4166667461395264},{"$f":"IFERROR(ROUND((ROUNDDOWN(L385,0)*12)+IFERROR(VLOOKUP(ROUND(L385-(ROUNDDOWN(L385,0)),1),_Esperanzas!$R$5:$S$18,2,TRUE),0),0),12)","v":40},101.41666674613953,null,null,null,null,null,null,null,null,null,null,null,null,null,null,98,{"$f":"VLOOKUP($AC385,$W$5:$AA$55,2,0)","v":2.25},{"$f":"IFERROR(ROUND((ROUNDDOWN(AD385,0)*12)+IFERROR(VLOOKUP(ROUND(AD385-(ROUNDDOWN(AD385,0)),1),_Esperanzas!$R$5:$S$18,2,TRUE),0),0),12)","v":27},100.25,{"$f":"VLOOKUP($AC385,$W$5:$AA$55,4,0)","v":2.5833332538604736},{"$f":"IFERROR(ROUND((ROUNDDOWN(AG385,0)*12)+IFERROR(VLOOKUP(ROUND(AG385-(ROUNDDOWN(AG385,0)),1),_Esperanzas!$R$5:$S$18,2,TRUE),0),0),12)","v":31},100.58333325386047]
[null,null,null,null,null,null,null,98.1,{"$f":"I385+(I395-I385)/10","v":2.8916667461395265},{"$f":"IFERROR(ROUND((ROUNDDOWN(I386,0)*12)+IFERROR(VLOOKUP(ROUND(I386-(ROUNDDOWN(I386,0)),1),_Esperanzas!$R$5:$S$18,2,TRUE),0),0),12)","v":34},100.99166674613951,{"$f":"L385+(L395-L385)/10","v":3.3916667461395265},{"$f":"IFERROR(ROUND((ROUNDDOWN(L386,0)*12)+IFERROR(VLOOKUP(ROUND(L386-(ROUNDDOWN(L386,0)),1),_Esperanzas!$R$5:$S$18,2,TRUE),0),0),12)","v":40},101.49166674613951,null,null,null,null,null,null,null,null,null,null,null,null,null,null,98.1,{"$f":"AD385+(AD395-AD385)/10","v":2.2333333253860475},{"$f":"IFERROR(ROUND((ROUNDDOWN(AD386,0)*12)+IFERROR(VLOOKUP(ROUND(AD386-(ROUNDDOWN(AD386,0)),1),_Esperanzas!$R$5:$S$18,2,TRUE),0),0),12)","v":26},100.33333332538604,{"$f":"AG385+(AG395-AG385)/10","v":2.5666666030883789},{"$f":"IFERROR(ROUND((ROUNDDOWN(AG386,0)*12)+IFERROR(VLOOKUP(ROUND(AG386-(ROUNDDOWN(AG386,0)),1),_Esperanzas!$R$5:$S$18,2,TRUE),0),0),12)","v":31},100.66666660308837]
[null,null,null,null,null,null,null,98.2,{"$f":"I386+(I395-I385)/10","v":2.8666667461395265},{"$f":"IFERROR(ROUND((ROUNDDOWN(I387,0)*12)+IFERROR(VLOOKUP(ROUND(I387-(ROUNDDOWN(I387,0)),1),_Esperanzas!$R$5:$S$18,2,TRUE),0),0),12)","v":34},101.06666674613953,{"$f":"L386+(L395-L385)/10","v":3.3666667461395265},{"$f":"IFERROR(ROUND((ROUNDDOWN(L387,0)*12)+IFERROR(VLOOKUP(ROUND(L387-(ROUNDDOWN(L387,0)),1),_Esperanzas!$R$5:$S$18,2,TRUE),0),0),12)","v":40},101.56666674613953,null,null,null,null,null,null,null,null,null,null,null,null,null,null,98.2,{"$f":"AD386+(AD395-AD385)/10","v":2.2166666507720949},{"$f":"IFERROR(ROUND((ROUNDDOWN(AD387,0)*12)+IFERROR(VLOOKUP(ROUND(AD387-(ROUNDDOWN(AD387,0)),1),_Esperanzas!$R$5:$S$18,2,TRUE),0),0),12)","v":26},100.4166666507721,{"$f":"AG386+(AG395-AG385)/10","v":2.5499999523162842},{"$f":"IFERROR(ROUND((ROUNDDOWN(AG387,0)*12)+IFERROR(VLOOKUP(ROUND(AG387-(ROUNDDOWN(AG387,0)),1),_Esperanzas!$R$5:$S$18,2,TRUE),0),0),12)","v":30},100.74999995231629]
[null,null,null,null,null,null,null,98.3,{"$f":"I387+(I395-I385)/10","v":2.8416667461395266},{"$f":"IFERROR(ROUND((ROUNDDOWN(I388,0)*12)+IFERROR(VLOOKUP(ROUND(I388-(ROUNDDOWN(I388,0)),1),_Esperanzas!$R$5:$S$18,2,TRUE),0),0),12)","v":33},101.14166674613952,{"$f":"L387+(L395-L385)/10","v":3.3416667461395266},{"$f":"IFERROR(ROUND((ROUNDDOWN(L388,0)*12)+IFERROR(VLOOKUP(ROUND(L388-(ROUNDDOWN(L388,0)),1),_Esperanzas!$R$5:$S$18,2,TRUE),0),0),12)","v":39},101.64166674613952,null,null,null,null,null,null,null,null,null,null,null,null,null,null,98.3,{"$f":"AD387+(AD395-AD385)/10","v":2.1999999761581424},{"$f":"IFERROR(ROUND((ROUNDDOWN(AD388,0)*12)+IFERROR(VLOOKUP(ROUND(AD388-(ROUNDDOWN(AD388,0)),1),_Esperanzas!$R$5:$S$18,2,TRUE),0),0),12)","v":26},100.49999997615814,{"$f":"AG387+(AG395-AG385)/10","v":2.5333333015441895},{"$f":"IFERROR(ROUND((ROUNDDOWN(AG388,0)*12)+IFERROR(VLOOKUP(ROUND(AG388-(ROUNDDOWN(AG388,0)),1),_Esperanzas!$R$5:$S$18,2,TRUE),0),0),12)","v":30},100.83333330154419]
[null,null,null,null,null,null,null,98.4,{"$f":"I388+(I395-I385)/10","v":2.8166667461395267},{"$f":"IFERROR(ROUND((ROUNDDOWN(I389,0)*12)+IFERROR(VLOOKUP(ROUND(I389-(ROUNDDOWN(I389,0)),1),_Esperanzas!$R$5:$S$18,2,TRUE),0),0),12)","v":33},101.21666674613954,{"$f":"L388+(L395-L385)/10","v":3.3166667461395267},{"$f":"IFERROR(ROUND((ROUNDDOWN(L389,0)*12)+IFERROR(VLOOKUP(ROUND(L389-(ROUNDDOWN(L389,0)),1),_Esperanzas!$R$5:$S$18,2,TRUE),0),0),12)","v":39},101.71666674613954,null,null,null,null,null,null,null,null,null,null,null,null,null,null,98.4,{"$f":"AD388+(AD395-AD385)/10","v":2.1833333015441898},{"$f":"IFERROR(ROUND((ROUNDDOWN(AD389,0)*12)+IFERROR(VLOOKUP(ROUND(AD389-(ROUNDDOWN(AD389,0)),1),_Esperanzas!$R$5:$S$18,2,TRUE),0),0),12)","v":26},100.5833333015442,{"$f":"AG388+(AG395-AG385)/10","v":2.5166666507720947},{"$f":"IFERROR(ROUND((ROUNDDOWN(AG389,0)*12)+IFERROR(VLOOKUP(ROUND(AG389-(ROUNDDOWN(AG389,0)),1),_Esperanzas!$R$5:$S$18,2,TRUE),0),0),12)","v":30},100.9166666507721]
[null,null,null,null,null,null,null,98.5,{"$f":"I389+(I395-I385)/10","v":2.7916667461395268},{"$f":"IFERROR(ROUND((ROUNDDOWN(I390,0)*12)+IFERROR(VLOOKUP(ROUND(I390-(ROUNDDOWN(I390,0)),1),_Esperanzas!$R$5:$S$18,2,TRUE),0),0),12)","v":33},101.29166674613953,{"$f":"L389+(L395-L385)/10","v":3.2916667461395268},{"$f":"IFERROR(ROUND((ROUNDDOWN(L390,0)*12)+IFERROR(VLOOKUP(ROUND(L390-(ROUNDDOWN(L390,0)),1),_Esperanzas!$R$5:$S$18,2,TRUE),0),0),12)","v":39},101.79166674613953,null,null,null,null,null,null,null,null,null,null,null,null,null,null,98.5,{"$f":"AD389+(AD395-AD385)/10","v":2.1666666269302373},{"$f":"IFERROR(ROUND((ROUNDDOWN(AD390,0)*12)+IFERROR(VLOOKUP(ROUND(AD390-(ROUNDDOWN(AD390,0)),1),_Esperanzas!$R$5:$S$18,2,TRUE),0),0),12)","v":26},100.66666662693024,{"$f":"AG389+(AG395-AG385)/10","v":2.5},{"$f":"IFERROR(ROUND((ROUNDDOWN(AG390,0)*12)+IFERROR(VLOOKUP(ROUND(AG390-(ROUNDDOWN(AG390,0)),1),_Esperanzas!$R$5:$S$18,2,TRUE),0),0),12)","v":30},101]
[null,null,null,null,null,null,null,{"$f":"ROUND(H390+0.1,1)","v":98.6},{"$f":"I390+(I395-I385)/10","v":2.7666667461395269},{"$f":"IFERROR(ROUND((ROUNDDOWN(I391,0)*12)+IFERROR(VLOOKUP(ROUND(I391-(ROUNDDOWN(I391,0)),1),_Esperanzas!$R$5:$S$18,2,TRUE),0),0),12)","v":33},101.36666674613951,{"$f":"L390+(L395-L385)/10","v":3.2666667461395269},{"$f":"IFERROR(ROUND((ROUNDDOWN(L391,0)*12)+IFERROR(VLOOKUP(ROUND(L391-(ROUNDDOWN(L391,0)),1),_Esperanzas!$R$5:$S$18,2,TRUE),0),0),12)","v":39},101.86666674613951,null,null,null,null,null,null,null,null,null,null,null,null,null,null,{"$f":"ROUND(AC390+0.1,1)","v":98.6},{"$f":"AD390+(AD395-AD385)/10","v":2.1499999523162847},{"$f":"IFERROR(ROUND((ROUNDDOWN(AD391,0)*12)+IFERROR(VLOOKUP(ROUND(AD391-(ROUNDDOWN(AD391,0)),1),_Esperanzas!$R$5:$S$18,2,TRUE),0),0),12)","v":25},100.74999995231627,{"$f":"AG390+(AG395-AG385)/10","v":2.4833333492279053},{"$f":"IFERROR(ROUND((ROUNDDOWN(AG391,0)*12)+IFERROR(VLOOKUP(ROUND(AG391-(ROUNDDOWN(AG391,0)),1),_Esperanzas!$R$5:$S$18,2,TRUE),0),0),12)","v":30},101.0833333492279]
[null,null,null,null,null,null,null,98.7,{"$f":"I391+(I395-I385)/10","v":2.741666746139527},{"$f":"IFERROR(ROUND((ROUNDDOWN(I392,0)*12)+IFERROR(VLOOKUP(ROUND(I392-(ROUNDDOWN(I392,0)),1),_Esperanzas!$R$5:$S$18,2,TRUE),0),0),12)","v":32},101.44166674613953,{"$f":"L391+(L395-L385)/10","v":3.241666746139527},{"$f":"IFERROR(ROUND((ROUNDDOWN(L392,0)*12)+IFERROR(VLOOKUP(ROUND(L392-(ROUNDDOWN(L392,0)),1),_Esperanzas!$R$5:$S$18,2,TRUE),0),0),12)","v":38},101.94166674613953,null,null,null,null,null,null,null,null,null,null,null,null,null,null,98.7,{"$f":"AD391+(AD395-AD385)/10","v":2.1333332777023322},{"$f":"IFERROR(ROUND((ROUNDDOWN(AD392,0)*12)+IFERROR(VLOOKUP(ROUND(AD392-(ROUNDDOWN(AD392,0)),1),_Esperanzas!$R$5:$S$18,2,TRUE),0),0),12)","v":25},100.83333327770234,{"$f":"AG391+(AG395-AG385)/10","v":2.4666666984558105},{"$f":"IFERROR(ROUND((ROUNDDOWN(AG392,0)*12)+IFERROR(VLOOKUP(ROUND(AG392-(ROUNDDOWN(AG392,0)),1),_Esperanzas!$R$5:$S$18,2,TRUE),0),0),12)","v":30},101.16666669845581]
[null,null,null,null,null,null,null,98.8,{"$f":"I392+(I395-I385)/10","v":2.7166667461395271},{"$f":"IFERROR(ROUND((ROUNDDOWN(I393,0)*12)+IFERROR(VLOOKUP(ROUND(I393-(ROUNDDOWN(I393,0)),1),_Esperanzas!$R$5:$S$18,2,TRUE),0),0),12)","v":32},101.51666674613952,{"$f":"L392+(L395-L385)/10","v":3.2166667461395271},{"$f":"IFERROR(ROUND((ROUNDDOWN(L393,0)*12)+IFERROR(VLOOKUP(ROUND(L393-(ROUNDDOWN(L393,0)),1),_Esperanzas!$R$5:$S$18,2,TRUE),0),0),12)","v":38},{"$f":"L393+H393","v":102.01666674613952},null,null,null,null,null,null,null,null,null,null,null,null,null,null,98.8,{"$f":"AD392+(AD395-AD385)/10","v":2.1166666030883796},{"$f":"IFERROR(ROUND((ROUNDDOWN(AD393,0)*12)+IFERROR(VLOOKUP(ROUND(AD393-(ROUNDDOWN(AD393,0)),1),_Esperanzas!$R$5:$S$18,2,TRUE),0),0),12)","v":25},100.91666660308837,{"$f":"AG392+(AG395-AG385)/10","v":2.4500000476837158},{"$f":"IFERROR(ROUND((ROUNDDOWN(AG393,0)*12)+IFERROR(VLOOKUP(ROUND(AG393-(ROUNDDOWN(AG393,0)),1),_Esperanzas!$R$5:$S$18,2,TRUE),0),0),12)","v":30},101.25000004768371]
[null,null,null,null,null,null,null,98.9,{"$f":"I393+(I395-I385)/10","v":2.6916667461395272},{"$f":"IFERROR(ROUND((ROUNDDOWN(I394,0)*12)+IFERROR(VLOOKUP(ROUND(I394-(ROUNDDOWN(I394,0)),1),_Esperanzas!$R$5:$S$18,2,TRUE),0),0),12)","v":32},101.59166674613954,{"$f":"L393+(L395-L385)/10","v":3.1916667461395272},{"$f":"IFERROR(ROUND((ROUNDDOWN(L394,0)*12)+IFERROR(VLOOKUP(ROUND(L394-(ROUNDDOWN(L394,0)),1),_Esperanzas!$R$5:$S$18,2,TRUE),0),0),12)","v":38},102.09166674613954,null,null,null,null,null,null,null,null,null,null,null,null,null,null,98.9,{"$f":"AD393+(AD395-AD385)/10","v":2.0999999284744271},{"$f":"IFERROR(ROUND((ROUNDDOWN(AD394,0)*12)+IFERROR(VLOOKUP(ROUND(AD394-(ROUNDDOWN(AD394,0)),1),_Esperanzas!$R$5:$S$18,2,TRUE),0),0),12)","v":25},100.99999992847444,{"$f":"AG393+(AG395-AG385)/10","v":2.4333333969116211},{"$f":"IFERROR(ROUND((ROUNDDOWN(AG394,0)*12)+IFERROR(VLOOKUP(ROUND(AG394-(ROUNDDOWN(AG394,0)),1),_Esperanzas!$R$5:$S$18,2,TRUE),0),0),12)","v":28},101.33333339691163]
[null,null,null,null,null,null,null,99,{"$f":"VLOOKUP($H395,$B$5:$F$55,2,0)","v":2.6666667461395264},{"$f":"IFERROR(ROUND((ROUNDDOWN(I395,0)*12)+IFERROR(VLOOKUP(ROUND(I395-(ROUNDDOWN(I395,0)),1),_Esperanzas!$R$5:$S$18,2,TRUE),0),0),12)","v":32},101.66666674613953,{"$f":"VLOOKUP($H395,$B$5:$F$55,4,0)","v":3.1666667461395264},{"$f":"IFERROR(ROUND((ROUNDDOWN(L395,0)*12)+IFERROR(VLOOKUP(ROUND(L395-(ROUNDDOWN(L395,0)),1),_Esperanzas!$R$5:$S$18,2,TRUE),0),0),12)","v":38},102.16666674613953,null,null,null,null,null,null,null,null,null,null,null,null,null,null,99,{"$f":"VLOOKUP($AC395,$W$5:$AA$55,2,0)","v":2.0833332538604736},{"$f":"IFERROR(ROUND((ROUNDDOWN(AD395,0)*12)+IFERROR(VLOOKUP(ROUND(AD395-(ROUNDDOWN(AD395,0)),1),_Esperanzas!$R$5:$S$18,2,TRUE),0),0),12)","v":25},101.08333325386047,{"$f":"VLOOKUP($AC395,$W$5:$AA$55,4,0)","v":2.4166667461395264},{"$f":"IFERROR(ROUND((ROUNDDOWN(AG395,0)*12)+IFERROR(VLOOKUP(ROUND(AG395-(ROUNDDOWN(AG395,0)),1),_Esperanzas!$R$5:$S$18,2,TRUE),0),0),12)","v":28},101.41666674613953]
[null,null,null,null,null,null,null,99.1,{"$f":"I395+(I405-I395)/10","v":2.6500000715255738},{"$f":"IFERROR(ROUND((ROUNDDOWN(I396,0)*12)+IFERROR(VLOOKUP(ROUND(I396-(ROUNDDOWN(I396,0)),1),_Esperanzas!$R$5:$S$18,2,TRUE),0),0),12)","v":32},101.75000007152556,{"$f":"L395+(L405-L395)/10","v":3.1416667461395265},{"$f":"IFERROR(ROUND((ROUNDDOWN(L396,0)*12)+IFERROR(VLOOKUP(ROUND(L396-(ROUNDDOWN(L396,0)),1),_Esperanzas!$R$5:$S$18,2,TRUE),0),0),12)","v":37},102.24166674613951,null,null,null,null,null,null,null,null,null,null,null,null,null,null,99.1,{"$f":"AD395+(AD405-AD395)/10","v":2.0666665911674498},{"$f":"IFERROR(ROUND((ROUNDDOWN(AD396,0)*12)+IFERROR(VLOOKUP(ROUND(AD396-(ROUNDDOWN(AD396,0)),1),_Esperanzas!$R$5:$S$18,2,TRUE),0),0),12)","v":25},101.16666659116744,{"$f":"AG395+(AG405-AG395)/10","v":2.3916667461395265},{"$f":"IFERROR(ROUND((ROUNDDOWN(AG396,0)*12)+IFERROR(VLOOKUP(ROUND(AG396-(ROUNDDOWN(AG396,0)),1),_Esperanzas!$R$5:$S$18,2,TRUE),0),0),12)","v":28},101.49166674613951]
[null,null,null,null,null,null,null,99.2,{"$f":"I396+(I405-I395)/10","v":2.6333333969116213},{"$f":"IFERROR(ROUND((ROUNDDOWN(I397,0)*12)+IFERROR(VLOOKUP(ROUND(I397-(ROUNDDOWN(I397,0)),1),_Esperanzas!$R$5:$S$18,2,TRUE),0),0),12)","v":31},101.83333339691163,{"$f":"L396+(L405-L395)/10","v":3.1166667461395265},{"$f":"IFERROR(ROUND((ROUNDDOWN(L397,0)*12)+IFERROR(VLOOKUP(ROUND(L397-(ROUNDDOWN(L397,0)),1),_Esperanzas!$R$5:$S$18,2,TRUE),0),0),12)","v":37},102.31666674613953,null,null,null,null,null,null,null,null,null,null,null,null,null,null,99.2,{"$f":"AD396+(AD405-AD395)/10","v":2.0499999284744259},{"$f":"IFERROR(ROUND((ROUNDDOWN(AD397,0)*12)+IFERROR(VLOOKUP(ROUND(AD397-(ROUNDDOWN(AD397,0)),1),_Esperanzas!$R$5:$S$18,2,TRUE),0),0),12)","v":24},101.24999992847442,{"$f":"AG396+(AG405-AG395)/10","v":2.3666667461395265},{"$f":"IFERROR(ROUND((ROUNDDOWN(AG397,0)*12)+IFERROR(VLOOKUP(ROUND(AG397-(ROUNDDOWN(AG397,0)),1),_Esperanzas!$R$5:$S$18,2,TRUE),0),0),12)","v":28},101.56666674613953]
[null,null,null,null,null,null,null,99.3,{"$f":"I397+(I405-I395)/10","v":2.6166667222976687},{"$f":"IFERROR(ROUND((ROUNDDOWN(I398,0)*12)+IFERROR(VLOOKUP(ROUND(I398-(ROUNDDOWN(I398,0)),1),_Esperanzas!$R$5:$S$18,2,TRUE),0),0),12)","v":31},101.91666672229766,{"$f":"L397+(L405-L395)/10","v":3.0916667461395266},{"$f":"IFERROR(ROUND((ROUNDDOWN(L398,0)*12)+IFERROR(VLOOKUP(ROUND(L398-(ROUNDDOWN(L398,0)),1),_Esperanzas!$R$5:$S$18,2,TRUE),0),0),12)","v":37},102.39166674613952,null,null,null,null,null,null,null,null,null,null,null,null,null,null,99.3,{"$f":"AD397+(AD405-AD395)/10","v":2.0333332657814021},{"$f":"IFERROR(ROUND((ROUNDDOWN(AD398,0)*12)+IFERROR(VLOOKUP(ROUND(AD398-(ROUNDDOWN(AD398,0)),1),_Esperanzas!$R$5:$S$18,2,TRUE),0),0),12)","v":24},101.33333326578141,{"$f":"AG397+(AG405-AG395)/10","v":2.3416667461395266},{"$f":"IFERROR(ROUND((ROUNDDOWN(AG398,0)*12)+IFERROR(VLOOKUP(ROUND(AG398-(ROUNDDOWN(AG398,0)),1),_Esperanzas!$R$5:$S$18,2,TRUE),0),0),12)","v":27},101.64166674613952]
[null,null,null,null,null,null,null,99.4,{"$f":"I398+(I405-I395)/10","v":2.6000000476837162},{"$f":"IFERROR(ROUND((ROUNDDOWN(I399,0)*12)+IFERROR(VLOOKUP(ROUND(I399-(ROUNDDOWN(I399,0)),1),_Esperanzas!$R$5:$S$18,2,TRUE),0),0),12)","v":31},102.00000004768373,{"$f":"L398+(L405-L395)/10","v":3.0666667461395267},{"$f":"IFERROR(ROUND((ROUNDDOWN(L399,0)*12)+IFERROR(VLOOKUP(ROUND(L399-(ROUNDDOWN(L399,0)),1),_Esperanzas!$R$5:$S$18,2,TRUE),0),0),12)","v":37},102.46666674613954,null,null,null,null,null,null,null,null,null,null,null,null,null,null,99.4,{"$f":"AD398+(AD405-AD395)/10","v":2.0166666030883782},{"$f":"IFERROR(ROUND((ROUNDDOWN(AD399,0)*12)+IFERROR(VLOOKUP(ROUND(AD399-(ROUNDDOWN(AD399,0)),1),_Esperanzas!$R$5:$S$18,2,TRUE),0),0),12)","v":24},101.41666660308839,{"$f":"AG398+(AG405-AG395)/10","v":2.3166667461395267},{"$f":"IFERROR(ROUND((ROUNDDOWN(AG399,0)*12)+IFERROR(VLOOKUP(ROUND(AG399-(ROUNDDOWN(AG399,0)),1),_Esperanzas!$R$5:$S$18,2,TRUE),0),0),12)","v":27},101.71666674613954]
[null,null,null,null,null,null,null,99.5,{"$f":"I399+(I405-I395)/10","v":2.5833333730697636},{"$f":"IFERROR(ROUND((ROUNDDOWN(I400,0)*12)+IFERROR(VLOOKUP(ROUND(I400-(ROUNDDOWN(I400,0)),1),_Esperanzas!$R$5:$S$18,2,TRUE),0),0),12)","v":31},102.08333337306976,{"$f":"L399+(L405-L395)/10","v":3.0416667461395268},{"$f":"IFERROR(ROUND((ROUNDDOWN(L400,0)*12)+IFERROR(VLOOKUP(ROUND(L400-(ROUNDDOWN(L400,0)),1),_Esperanzas!$R$5:$S$18,2,TRUE),0),0),12)","v":36},102.54166674613953,null,null,null,null,null,null,null,null,null,null,null,null,null,null,99.5,{"$f":"AD399+(AD405-AD395)/10","v":1.9999999403953546},{"$f":"IFERROR(ROUND((ROUNDDOWN(AD400,0)*12)+IFERROR(VLOOKUP(ROUND(AD400-(ROUNDDOWN(AD400,0)),1),_Esperanzas!$R$5:$S$18,2,TRUE),0),0),12)","v":24},101.49999994039536,{"$f":"AG399+(AG405-AG395)/10","v":2.2916667461395268},{"$f":"IFERROR(ROUND((ROUNDDOWN(AG400,0)*12)+IFERROR(VLOOKUP(ROUND(AG400-(ROUNDDOWN(AG400,0)),1),_Esperanzas!$R$5:$S$18,2,TRUE),0),0),12)","v":27},101.79166674613953]
[null,null,null,null,null,null,null,99.6,{"$f":"I400+(I405-I395)/10","v":2.5666666984558111},{"$f":"IFERROR(ROUND((ROUNDDOWN(I401,0)*12)+IFERROR(VLOOKUP(ROUND(I401-(ROUNDDOWN(I401,0)),1),_Esperanzas!$R$5:$S$18,2,TRUE),0),0),12)","v":31},102.1666666984558,{"$f":"L400+(L405-L395)/10","v":3.0166667461395269},{"$f":"IFERROR(ROUND((ROUNDDOWN(L401,0)*12)+IFERROR(VLOOKUP(ROUND(L401-(ROUNDDOWN(L401,0)),1),_Esperanzas!$R$5:$S$18,2,TRUE),0),0),12)","v":36},102.61666674613951,null,null,null,null,null,null,null,null,null,null,null,null,null,null,99.6,{"$f":"AD400+(AD405-AD395)/10","v":1.9833332777023309},{"$f":"IFERROR(ROUND((ROUNDDOWN(AD401,0)*12)+IFERROR(VLOOKUP(ROUND(AD401-(ROUNDDOWN(AD401,0)),1),_Esperanzas!$R$5:$S$18,2,TRUE),0),0),12)","v":24},101.58333327770232,{"$f":"AG400+(AG405-AG395)/10","v":2.2666667461395269},{"$f":"IFERROR(ROUND((ROUNDDOWN(AG401,0)*12)+IFERROR(VLOOKUP(ROUND(AG401-(ROUNDDOWN(AG401,0)),1),_Esperanzas!$R$5:$S$18,2,TRUE),0),0),12)","v":27},101.86666674613951]
[null,null,null,null,null,null,null,99.7,{"$f":"I401+(I405-I395)/10","v":2.5500000238418585},{"$f":"IFERROR(ROUND((ROUNDDOWN(I402,0)*12)+IFERROR(VLOOKUP(ROUND(I402-(ROUNDDOWN(I402,0)),1),_Esperanzas!$R$5:$S$18,2,TRUE),0),0),12)","v":31},102.25000002384186,{"$f":"L401+(L405-L395)/10","v":2.991666746139527},{"$f":"IFERROR(ROUND((ROUNDDOWN(L402,0)*12)+IFERROR(VLOOKUP(ROUND(L402-(ROUNDDOWN(L402,0)),1),_Esperanzas!$R$5:$S$18,2,TRUE),0),0),12)","v":36},102.69166674613953,null,null,null,null,null,null,null,null,null,null,null,null,null,null,99.7,{"$f":"AD401+(AD405-AD395)/10","v":1.9666666150093073},{"$f":"IFERROR(ROUND((ROUNDDOWN(AD402,0)*12)+IFERROR(VLOOKUP(ROUND(AD402-(ROUNDDOWN(AD402,0)),1),_Esperanzas!$R$5:$S$18,2,TRUE),0),0),12)","v":24},101.66666661500931,{"$f":"AG401+(AG405-AG395)/10","v":2.241666746139527},{"$f":"IFERROR(ROUND((ROUNDDOWN(AG402,0)*12)+IFERROR(VLOOKUP(ROUND(AG402-(ROUNDDOWN(AG402,0)),1),_Esperanzas!$R$5:$S$18,2,TRUE),0),0),12)","v":26},101.94166674613953]
[null,null,null,null,null,null,null,99.8,{"$f":"I402+(I405-I395)/10","v":2.533333349227906},{"$f":"IFERROR(ROUND((ROUNDDOWN(I403,0)*12)+IFERROR(VLOOKUP(ROUND(I403-(ROUNDDOWN(I403,0)),1),_Esperanzas!$R$5:$S$18,2,TRUE),0),0),12)","v":30},{"$f":"I403+H403","v":102.3333333492279},{"$f":"L402+(L405-L395)/10","v":2.9666667461395271},{"$f":"IFERROR(ROUND((ROUNDDOWN(L403,0)*12)+IFERROR(VLOOKUP(ROUND(L403-(ROUNDDOWN(L403,0)),1),_Esperanzas!$R$5:$S$18,2,TRUE),0),0),12)","v":36},102.76666674613952,null,null,null,null,null,null,null,null,null,null,null,null,null,null,99.8,{"$f":"AD402+(AD405-AD395)/10","v":1.9499999523162836},{"$f":"IFERROR(ROUND((ROUNDDOWN(AD403,0)*12)+IFERROR(VLOOKUP(ROUND(AD403-(ROUNDDOWN(AD403,0)),1),_Esperanzas!$R$5:$S$18,2,TRUE),0),0),12)","v":22},{"$f":"AD403+AC403","v":101.74999995231629},{"$f":"AG402+(AG405-AG395)/10","v":2.2166667461395271},{"$f":"IFERROR(ROUND((ROUNDDOWN(AG403,0)*12)+IFERROR(VLOOKUP(ROUND(AG403-(ROUNDDOWN(AG403,0)),1),_Esperanzas!$R$5:$S$18,2,TRUE),0),0),12)","v":26},{"$f":"AG403+AC403","v":102.01666674613952}]
[null,null,null,null,null,null,null,99.9,{"$f":"I403+(I405-I395)/10","v":2.5166666746139534},{"$f":"IFERROR(ROUND((ROUNDDOWN(I404,0)*12)+IFERROR(VLOOKUP(ROUND(I404-(ROUNDDOWN(I404,0)),1),_Esperanzas!$R$5:$S$18,2,TRUE),0),0),12)","v":30},102.41666667461396,{"$f":"L403+(L405-L395)/10","v":2.9416667461395272},{"$f":"IFERROR(ROUND((ROUNDDOWN(L404,0)*12)+IFERROR(VLOOKUP(ROUND(L404-(ROUNDDOWN(L404,0)),1),_Esperanzas!$R$5:$S$18,2,TRUE),0),0),12)","v":34},102.84166674613954,null,null,null,null,null,null,null,null,null,null,null,null,null,null,99.9,{"$f":"AD403+(AD405-AD395)/10","v":1.93333328962326},{"$f":"IFERROR(ROUND((ROUNDDOWN(AD404,0)*12)+IFERROR(VLOOKUP(ROUND(AD404-(ROUNDDOWN(AD404,0)),1),_Esperanzas!$R$5:$S$18,2,TRUE),0),0),12)","v":22},101.83333328962327,{"$f":"AG403+(AG405-AG395)/10","v":2.1916667461395272},{"$f":"IFERROR(ROUND((ROUNDDOWN(AG404,0)*12)+IFERROR(VLOOKUP(ROUND(AG404-(ROUNDDOWN(AG404,0)),1),_Esperanzas!$R$5:$S$18,2,TRUE),0),0),12)","v":26},102.09166674613954]
[null,null,null,null,null,null,null,100,{"$f":"VLOOKUP($H405,$B$5:$F$55,2,0)","v":2.5},{"$f":"IFERROR(ROUND((ROUNDDOWN(I405,0)*12)+IFERROR(VLOOKUP(ROUND(I405-(ROUNDDOWN(I405,0)),1),_Esperanzas!$R$5:$S$18,2,TRUE),0),0),12)","v":30},102.5,{"$f":"VLOOKUP($H405,$B$5:$F$55,4,0)","v":2.9166667461395264},{"$f":"IFERROR(ROUND((ROUNDDOWN(L405,0)*12)+IFERROR(VLOOKUP(ROUND(L405-(ROUNDDOWN(L405,0)),1),_Esperanzas!$R$5:$S$18,2,TRUE),0),0),12)","v":34},102.91666674613953,null,null,null,null,null,null,null,null,null,null,null,null,null,null,100,{"$f":"VLOOKUP($AC405,$W$5:$AA$55,2,0)","v":1.9166666269302368},{"$f":"IFERROR(ROUND((ROUNDDOWN(AD405,0)*12)+IFERROR(VLOOKUP(ROUND(AD405-(ROUNDDOWN(AD405,0)),1),_Esperanzas!$R$5:$S$18,2,TRUE),0),0),12)","v":22},101.91666662693024,{"$f":"VLOOKUP($AC405,$W$5:$AA$55,4,0)","v":2.1666667461395264},{"$f":"IFERROR(ROUND((ROUNDDOWN(AG405,0)*12)+IFERROR(VLOOKUP(ROUND(AG405-(ROUNDDOWN(AG405,0)),1),_Esperanzas!$R$5:$S$18,2,TRUE),0),0),12)","v":26},102.16666674613953]
[null,null,null,null,null,null,null,100.1,{"$f":"I405+(I415-I405)/10","v":2.4750000000000001},{"$f":"IFERROR(ROUND((ROUNDDOWN(I406,0)*12)+IFERROR(VLOOKUP(ROUND(I406-(ROUNDDOWN(I406,0)),1),_Esperanzas!$R$5:$S$18,2,TRUE),0),0),12)","v":30},102.57499999999999,{"$f":"L405+(L415-L405)/10","v":2.8916667461395265},{"$f":"IFERROR(ROUND((ROUNDDOWN(L406,0)*12)+IFERROR(VLOOKUP(ROUND(L406-(ROUNDDOWN(L406,0)),1),_Esperanzas!$R$5:$S$18,2,TRUE),0),0),12)","v":34},102.99166674613951,null,null,null,null,null,null,null,null,null,null,null,null,null,null,100.1,{"$f":"AD405+(AD415-AD405)/10","v":1.8999999642372132},{"$f":"IFERROR(ROUND((ROUNDDOWN(AD406,0)*12)+IFERROR(VLOOKUP(ROUND(AD406-(ROUNDDOWN(AD406,0)),1),_Esperanzas!$R$5:$S$18,2,TRUE),0),0),12)","v":22},101.9999999642372,{"$f":"AG405+(AG415-AG405)/10","v":2.1500000715255738},{"$f":"IFERROR(ROUND((ROUNDDOWN(AG406,0)*12)+IFERROR(VLOOKUP(ROUND(AG406-(ROUNDDOWN(AG406,0)),1),_Esperanzas!$R$5:$S$18,2,TRUE),0),0),12)","v":26},102.25000007152556]
[null,null,null,null,null,null,null,100.2,{"$f":"I406+(I415-I405)/10","v":2.4500000000000002},{"$f":"IFERROR(ROUND((ROUNDDOWN(I407,0)*12)+IFERROR(VLOOKUP(ROUND(I407-(ROUNDDOWN(I407,0)),1),_Esperanzas!$R$5:$S$18,2,TRUE),0),0),12)","v":30},102.65,{"$f":"L406+(L415-L405)/10","v":2.8666667461395265},{"$f":"IFERROR(ROUND((ROUNDDOWN(L407,0)*12)+IFERROR(VLOOKUP(ROUND(L407-(ROUNDDOWN(L407,0)),1),_Esperanzas!$R$5:$S$18,2,TRUE),0),0),12)","v":34},103.06666674613953,null,null,null,null,null,null,null,null,null,null,null,null,null,null,100.2,{"$f":"AD406+(AD415-AD405)/10","v":1.8833333015441895},{"$f":"IFERROR(ROUND((ROUNDDOWN(AD407,0)*12)+IFERROR(VLOOKUP(ROUND(AD407-(ROUNDDOWN(AD407,0)),1),_Esperanzas!$R$5:$S$18,2,TRUE),0),0),12)","v":22},102.08333330154419,{"$f":"AG406+(AG415-AG405)/10","v":2.1333333969116213},{"$f":"IFERROR(ROUND((ROUNDDOWN(AG407,0)*12)+IFERROR(VLOOKUP(ROUND(AG407-(ROUNDDOWN(AG407,0)),1),_Esperanzas!$R$5:$S$18,2,TRUE),0),0),12)","v":25},102.33333339691163]
[null,null,null,null,null,null,null,100.3,{"$f":"I407+(I415-I405)/10","v":2.4250000000000003},{"$f":"IFERROR(ROUND((ROUNDDOWN(I408,0)*12)+IFERROR(VLOOKUP(ROUND(I408-(ROUNDDOWN(I408,0)),1),_Esperanzas!$R$5:$S$18,2,TRUE),0),0),12)","v":28},102.72499999999999,{"$f":"L407+(L415-L405)/10","v":2.8416667461395266},{"$f":"IFERROR(ROUND((ROUNDDOWN(L408,0)*12)+IFERROR(VLOOKUP(ROUND(L408-(ROUNDDOWN(L408,0)),1),_Esperanzas!$R$5:$S$18,2,TRUE),0),0),12)","v":33},103.14166674613952,null,null,null,null,null,null,null,null,null,null,null,null,null,null,100.3,{"$f":"AD407+(AD415-AD405)/10","v":1.8666666388511659},{"$f":"IFERROR(ROUND((ROUNDDOWN(AD408,0)*12)+IFERROR(VLOOKUP(ROUND(AD408-(ROUNDDOWN(AD408,0)),1),_Esperanzas!$R$5:$S$18,2,TRUE),0),0),12)","v":22},102.16666663885117,{"$f":"AG407+(AG415-AG405)/10","v":2.1166667222976687},{"$f":"IFERROR(ROUND((ROUNDDOWN(AG408,0)*12)+IFERROR(VLOOKUP(ROUND(AG408-(ROUNDDOWN(AG408,0)),1),_Esperanzas!$R$5:$S$18,2,TRUE),0),0),12)","v":25},102.41666672229766]
[null,null,null,null,null,null,null,100.4,{"$f":"I408+(I415-I405)/10","v":2.4000000000000004},{"$f":"IFERROR(ROUND((ROUNDDOWN(I409,0)*12)+IFERROR(VLOOKUP(ROUND(I409-(ROUNDDOWN(I409,0)),1),_Esperanzas!$R$5:$S$18,2,TRUE),0),0),12)","v":28},102.80000000000001,{"$f":"L408+(L415-L405)/10","v":2.8166667461395267},{"$f":"IFERROR(ROUND((ROUNDDOWN(L409,0)*12)+IFERROR(VLOOKUP(ROUND(L409-(ROUNDDOWN(L409,0)),1),_Esperanzas!$R$5:$S$18,2,TRUE),0),0),12)","v":33},103.21666674613954,null,null,null,null,null,null,null,null,null,null,null,null,null,null,100.4,{"$f":"AD408+(AD415-AD405)/10","v":1.8499999761581423},{"$f":"IFERROR(ROUND((ROUNDDOWN(AD409,0)*12)+IFERROR(VLOOKUP(ROUND(AD409-(ROUNDDOWN(AD409,0)),1),_Esperanzas!$R$5:$S$18,2,TRUE),0),0),12)","v":21},102.24999997615815,{"$f":"AG408+(AG415-AG405)/10","v":2.1000000476837162},{"$f":"IFERROR(ROUND((ROUNDDOWN(AG409,0)*12)+IFERROR(VLOOKUP(ROUND(AG409-(ROUNDDOWN(AG409,0)),1),_Esperanzas!$R$5:$S$18,2,TRUE),0),0),12)","v":25},102.50000004768373]
[null,null,null,null,null,null,null,100.5,{"$f":"I409+(I415-I405)/10","v":2.3750000000000004},{"$f":"IFERROR(ROUND((ROUNDDOWN(I410,0)*12)+IFERROR(VLOOKUP(ROUND(I410-(ROUNDDOWN(I410,0)),1),_Esperanzas!$R$5:$S$18,2,TRUE),0),0),12)","v":28},102.875,{"$f":"L409+(L415-L405)/10","v":2.7916667461395268},{"$f":"IFERROR(ROUND((ROUNDDOWN(L410,0)*12)+IFERROR(VLOOKUP(ROUND(L410-(ROUNDDOWN(L410,0)),1),_Esperanzas!$R$5:$S$18,2,TRUE),0),0),12)","v":33},103.29166674613953,null,null,null,null,null,null,null,null,null,null,null,null,null,null,100.5,{"$f":"AD409+(AD415-AD405)/10","v":1.8333333134651186},{"$f":"IFERROR(ROUND((ROUNDDOWN(AD410,0)*12)+IFERROR(VLOOKUP(ROUND(AD410-(ROUNDDOWN(AD410,0)),1),_Esperanzas!$R$5:$S$18,2,TRUE),0),0),12)","v":21},102.33333331346512,{"$f":"AG409+(AG415-AG405)/10","v":2.0833333730697636},{"$f":"IFERROR(ROUND((ROUNDDOWN(AG410,0)*12)+IFERROR(VLOOKUP(ROUND(AG410-(ROUNDDOWN(AG410,0)),1),_Esperanzas!$R$5:$S$18,2,TRUE),0),0),12)","v":25},102.58333337306976]
[null,null,null,null,null,null,null,100.6,{"$f":"I410+(I415-I405)/10","v":2.3500000000000005},{"$f":"IFERROR(ROUND((ROUNDDOWN(I411,0)*12)+IFERROR(VLOOKUP(ROUND(I411-(ROUNDDOWN(I411,0)),1),_Esperanzas!$R$5:$S$18,2,TRUE),0),0),12)","v":28},102.94999999999999,{"$f":"L410+(L415-L405)/10","v":2.7666667461395269},{"$f":"IFERROR(ROUND((ROUNDDOWN(L411,0)*12)+IFERROR(VLOOKUP(ROUND(L411-(ROUNDDOWN(L411,0)),1),_Esperanzas!$R$5:$S$18,2,TRUE),0),0),12)","v":33},103.36666674613951,null,null,null,null,null,null,null,null,null,null,null,null,null,null,100.6,{"$f":"AD410+(AD415-AD405)/10","v":1.816666650772095},{"$f":"IFERROR(ROUND((ROUNDDOWN(AD411,0)*12)+IFERROR(VLOOKUP(ROUND(AD411-(ROUNDDOWN(AD411,0)),1),_Esperanzas!$R$5:$S$18,2,TRUE),0),0),12)","v":21},102.41666665077209,{"$f":"AG410+(AG415-AG405)/10","v":2.0666666984558111},{"$f":"IFERROR(ROUND((ROUNDDOWN(AG411,0)*12)+IFERROR(VLOOKUP(ROUND(AG411-(ROUNDDOWN(AG411,0)),1),_Esperanzas!$R$5:$S$18,2,TRUE),0),0),12)","v":25},102.6666666984558]
[null,null,null,null,null,null,null,100.7,{"$f":"I411+(I415-I405)/10","v":2.3250000000000006},{"$f":"IFERROR(ROUND((ROUNDDOWN(I412,0)*12)+IFERROR(VLOOKUP(ROUND(I412-(ROUNDDOWN(I412,0)),1),_Esperanzas!$R$5:$S$18,2,TRUE),0),0),12)","v":27},103.02500000000001,{"$f":"L411+(L415-L405)/10","v":2.741666746139527},{"$f":"IFERROR(ROUND((ROUNDDOWN(L412,0)*12)+IFERROR(VLOOKUP(ROUND(L412-(ROUNDDOWN(L412,0)),1),_Esperanzas!$R$5:$S$18,2,TRUE),0),0),12)","v":32},103.44166674613953,null,null,null,null,null,null,null,null,null,null,null,null,null,null,100.7,{"$f":"AD411+(AD415-AD405)/10","v":1.7999999880790714},{"$f":"IFERROR(ROUND((ROUNDDOWN(AD412,0)*12)+IFERROR(VLOOKUP(ROUND(AD412-(ROUNDDOWN(AD412,0)),1),_Esperanzas!$R$5:$S$18,2,TRUE),0),0),12)","v":21},102.49999998807907,{"$f":"AG411+(AG415-AG405)/10","v":2.0500000238418585},{"$f":"IFERROR(ROUND((ROUNDDOWN(AG412,0)*12)+IFERROR(VLOOKUP(ROUND(AG412-(ROUNDDOWN(AG412,0)),1),_Esperanzas!$R$5:$S$18,2,TRUE),0),0),12)","v":25},102.75000002384186]
[null,null,null,null,null,null,null,100.8,{"$f":"I412+(I415-I405)/10","v":2.3000000000000007},{"$f":"IFERROR(ROUND((ROUNDDOWN(I413,0)*12)+IFERROR(VLOOKUP(ROUND(I413-(ROUNDDOWN(I413,0)),1),_Esperanzas!$R$5:$S$18,2,TRUE),0),0),12)","v":27},103.1,{"$f":"L412+(L415-L405)/10","v":2.7166667461395271},{"$f":"IFERROR(ROUND((ROUNDDOWN(L413,0)*12)+IFERROR(VLOOKUP(ROUND(L413-(ROUNDDOWN(L413,0)),1),_Esperanzas!$R$5:$S$18,2,TRUE),0),0),12)","v":32},103.51666674613952,null,null,null,null,null,null,null,null,null,null,null,null,null,null,100.8,{"$f":"AD412+(AD415-AD405)/10","v":1.7833333253860477},{"$f":"IFERROR(ROUND((ROUNDDOWN(AD413,0)*12)+IFERROR(VLOOKUP(ROUND(AD413-(ROUNDDOWN(AD413,0)),1),_Esperanzas!$R$5:$S$18,2,TRUE),0),0),12)","v":21},102.58333332538605,{"$f":"AG412+(AG415-AG405)/10","v":2.033333349227906},{"$f":"IFERROR(ROUND((ROUNDDOWN(AG413,0)*12)+IFERROR(VLOOKUP(ROUND(AG413-(ROUNDDOWN(AG413,0)),1),_Esperanzas!$R$5:$S$18,2,TRUE),0),0),12)","v":24},102.8333333492279]
[null,null,null,null,null,null,null,100.9,{"$f":"I413+(I415-I405)/10","v":2.2750000000000008},{"$f":"IFERROR(ROUND((ROUNDDOWN(I414,0)*12)+IFERROR(VLOOKUP(ROUND(I414-(ROUNDDOWN(I414,0)),1),_Esperanzas!$R$5:$S$18,2,TRUE),0),0),12)","v":27},103.17500000000001,{"$f":"L413+(L415-L405)/10","v":2.6916667461395272},{"$f":"IFERROR(ROUND((ROUNDDOWN(L414,0)*12)+IFERROR(VLOOKUP(ROUND(L414-(ROUNDDOWN(L414,0)),1),_Esperanzas!$R$5:$S$18,2,TRUE),0),0),12)","v":32},103.59166674613954,null,null,null,null,null,null,null,null,null,null,null,null,null,null,100.9,{"$f":"AD413+(AD415-AD405)/10","v":1.7666666626930241},{"$f":"IFERROR(ROUND((ROUNDDOWN(AD414,0)*12)+IFERROR(VLOOKUP(ROUND(AD414-(ROUNDDOWN(AD414,0)),1),_Esperanzas!$R$5:$S$18,2,TRUE),0),0),12)","v":21},102.66666666269303,{"$f":"AG413+(AG415-AG405)/10","v":2.0166666746139534},{"$f":"IFERROR(ROUND((ROUNDDOWN(AG414,0)*12)+IFERROR(VLOOKUP(ROUND(AG414-(ROUNDDOWN(AG414,0)),1),_Esperanzas!$R$5:$S$18,2,TRUE),0),0),12)","v":24},102.91666667461396]
[null,null,null,null,null,null,null,101,{"$f":"VLOOKUP($H415,$B$5:$F$55,2,0)","v":2.25},{"$f":"IFERROR(ROUND((ROUNDDOWN(I415,0)*12)+IFERROR(VLOOKUP(ROUND(I415-(ROUNDDOWN(I415,0)),1),_Esperanzas!$R$5:$S$18,2,TRUE),0),0),12)","v":27},103.25,{"$f":"VLOOKUP($H415,$B$5:$F$55,4,0)","v":2.6666667461395264},{"$f":"IFERROR(ROUND((ROUNDDOWN(L415,0)*12)+IFERROR(VLOOKUP(ROUND(L415-(ROUNDDOWN(L415,0)),1),_Esperanzas!$R$5:$S$18,2,TRUE),0),0),12)","v":32},103.66666674613953,null,null,null,null,null,null,null,null,null,null,null,null,null,null,101,{"$f":"VLOOKUP($AC415,$W$5:$AA$55,2,0)","v":1.75},{"$f":"IFERROR(ROUND((ROUNDDOWN(AD415,0)*12)+IFERROR(VLOOKUP(ROUND(AD415-(ROUNDDOWN(AD415,0)),1),_Esperanzas!$R$5:$S$18,2,TRUE),0),0),12)","v":21},102.75,{"$f":"VLOOKUP($AC415,$W$5:$AA$55,4,0)","v":2},{"$f":"IFERROR(ROUND((ROUNDDOWN(AG415,0)*12)+IFERROR(VLOOKUP(ROUND(AG415-(ROUNDDOWN(AG415,0)),1),_Esperanzas!$R$5:$S$18,2,TRUE),0),0),12)","v":24},103]
[null,null,null,null,null,null,null,101.1,{"$f":"I415+(I425-I415)/10","v":2.2333333253860475},{"$f":"IFERROR(ROUND((ROUNDDOWN(I416,0)*12)+IFERROR(VLOOKUP(ROUND(I416-(ROUNDDOWN(I416,0)),1),_Esperanzas!$R$5:$S$18,2,TRUE),0),0),12)","v":26},103.33333332538604,{"$f":"L415+(L425-L415)/10","v":2.6416667461395265},{"$f":"IFERROR(ROUND((ROUNDDOWN(L416,0)*12)+IFERROR(VLOOKUP(ROUND(L416-(ROUNDDOWN(L416,0)),1),_Esperanzas!$R$5:$S$18,2,TRUE),0),0),12)","v":31},103.74166674613951,null,null,null,null,null,null,null,null,null,null,null,null,null,null,101.1,{"$f":"AD415+(AD425-AD415)/10","v":1.7333333373069764},{"$f":"IFERROR(ROUND((ROUNDDOWN(AD416,0)*12)+IFERROR(VLOOKUP(ROUND(AD416-(ROUNDDOWN(AD416,0)),1),_Esperanzas!$R$5:$S$18,2,TRUE),0),0),12)","v":20},102.83333333730697,{"$f":"AG415+(AG425-AG415)/10","v":1.9833333373069764},{"$f":"IFERROR(ROUND((ROUNDDOWN(AG416,0)*12)+IFERROR(VLOOKUP(ROUND(AG416-(ROUNDDOWN(AG416,0)),1),_Esperanzas!$R$5:$S$18,2,TRUE),0),0),12)","v":24},103.08333333730697]
[null,null,null,null,null,null,null,101.2,{"$f":"I416+(I425-I415)/10","v":2.2166666507720949},{"$f":"IFERROR(ROUND((ROUNDDOWN(I417,0)*12)+IFERROR(VLOOKUP(ROUND(I417-(ROUNDDOWN(I417,0)),1),_Esperanzas!$R$5:$S$18,2,TRUE),0),0),12)","v":26},103.4166666507721,{"$f":"L416+(L425-L415)/10","v":2.6166667461395265},{"$f":"IFERROR(ROUND((ROUNDDOWN(L417,0)*12)+IFERROR(VLOOKUP(ROUND(L417-(ROUNDDOWN(L417,0)),1),_Esperanzas!$R$5:$S$18,2,TRUE),0),0),12)","v":31},103.81666674613953,null,null,null,null,null,null,null,null,null,null,null,null,null,null,101.2,{"$f":"AD416+(AD425-AD415)/10","v":1.7166666746139527},{"$f":"IFERROR(ROUND((ROUNDDOWN(AD417,0)*12)+IFERROR(VLOOKUP(ROUND(AD417-(ROUNDDOWN(AD417,0)),1),_Esperanzas!$R$5:$S$18,2,TRUE),0),0),12)","v":20},102.91666667461395,{"$f":"AG416+(AG425-AG415)/10","v":1.9666666746139527},{"$f":"IFERROR(ROUND((ROUNDDOWN(AG417,0)*12)+IFERROR(VLOOKUP(ROUND(AG417-(ROUNDDOWN(AG417,0)),1),_Esperanzas!$R$5:$S$18,2,TRUE),0),0),12)","v":24},103.16666667461395]
[null,null,null,null,null,null,null,101.3,{"$f":"I417+(I425-I415)/10","v":2.1999999761581424},{"$f":"IFERROR(ROUND((ROUNDDOWN(I418,0)*12)+IFERROR(VLOOKUP(ROUND(I418-(ROUNDDOWN(I418,0)),1),_Esperanzas!$R$5:$S$18,2,TRUE),0),0),12)","v":26},103.49999997615814,{"$f":"L417+(L425-L415)/10","v":2.5916667461395266},{"$f":"IFERROR(ROUND((ROUNDDOWN(L418,0)*12)+IFERROR(VLOOKUP(ROUND(L418-(ROUNDDOWN(L418,0)),1),_Esperanzas!$R$5:$S$18,2,TRUE),0),0),12)","v":31},103.89166674613952,null,null,null,null,null,null,null,null,null,null,null,null,null,null,101.3,{"$f":"AD417+(AD425-AD415)/10","v":1.7000000119209291},{"$f":"IFERROR(ROUND((ROUNDDOWN(AD418,0)*12)+IFERROR(VLOOKUP(ROUND(AD418-(ROUNDDOWN(AD418,0)),1),_Esperanzas!$R$5:$S$18,2,TRUE),0),0),12)","v":20},103.00000001192093,{"$f":"AG417+(AG425-AG415)/10","v":1.9500000119209291},{"$f":"IFERROR(ROUND((ROUNDDOWN(AG418,0)*12)+IFERROR(VLOOKUP(ROUND(AG418-(ROUNDDOWN(AG418,0)),1),_Esperanzas!$R$5:$S$18,2,TRUE),0),0),12)","v":24},103.25000001192093]
[null,null,null,null,null,null,null,101.4,{"$f":"I418+(I425-I415)/10","v":2.1833333015441898},{"$f":"IFERROR(ROUND((ROUNDDOWN(I419,0)*12)+IFERROR(VLOOKUP(ROUND(I419-(ROUNDDOWN(I419,0)),1),_Esperanzas!$R$5:$S$18,2,TRUE),0),0),12)","v":26},103.5833333015442,{"$f":"L418+(L425-L415)/10","v":2.5666667461395267},{"$f":"IFERROR(ROUND((ROUNDDOWN(L419,0)*12)+IFERROR(VLOOKUP(ROUND(L419-(ROUNDDOWN(L419,0)),1),_Esperanzas!$R$5:$S$18,2,TRUE),0),0),12)","v":31},103.96666674613954,null,null,null,null,null,null,null,null,null,null,null,null,null,null,101.4,{"$f":"AD418+(AD425-AD415)/10","v":1.6833333492279055},{"$f":"IFERROR(ROUND((ROUNDDOWN(AD419,0)*12)+IFERROR(VLOOKUP(ROUND(AD419-(ROUNDDOWN(AD419,0)),1),_Esperanzas!$R$5:$S$18,2,TRUE),0),0),12)","v":20},103.08333334922791,{"$f":"AG418+(AG425-AG415)/10","v":1.9333333492279055},{"$f":"IFERROR(ROUND((ROUNDDOWN(AG419,0)*12)+IFERROR(VLOOKUP(ROUND(AG419-(ROUNDDOWN(AG419,0)),1),_Esperanzas!$R$5:$S$18,2,TRUE),0),0),12)","v":22},103.33333334922791]
[null,null,null,null,null,null,null,101.5,{"$f":"I419+(I425-I415)/10","v":2.1666666269302373},{"$f":"IFERROR(ROUND((ROUNDDOWN(I420,0)*12)+IFERROR(VLOOKUP(ROUND(I420-(ROUNDDOWN(I420,0)),1),_Esperanzas!$R$5:$S$18,2,TRUE),0),0),12)","v":26},103.66666662693024,{"$f":"L419+(L425-L415)/10","v":2.5416667461395268},{"$f":"IFERROR(ROUND((ROUNDDOWN(L420,0)*12)+IFERROR(VLOOKUP(ROUND(L420-(ROUNDDOWN(L420,0)),1),_Esperanzas!$R$5:$S$18,2,TRUE),0),0),12)","v":30},104.04166674613953,null,null,null,null,null,null,null,null,null,null,null,null,null,null,101.5,{"$f":"AD419+(AD425-AD415)/10","v":1.6666666865348818},{"$f":"IFERROR(ROUND((ROUNDDOWN(AD420,0)*12)+IFERROR(VLOOKUP(ROUND(AD420-(ROUNDDOWN(AD420,0)),1),_Esperanzas!$R$5:$S$18,2,TRUE),0),0),12)","v":20},103.16666668653488,{"$f":"AG419+(AG425-AG415)/10","v":1.9166666865348818},{"$f":"IFERROR(ROUND((ROUNDDOWN(AG420,0)*12)+IFERROR(VLOOKUP(ROUND(AG420-(ROUNDDOWN(AG420,0)),1),_Esperanzas!$R$5:$S$18,2,TRUE),0),0),12)","v":22},103.41666668653488]
[null,null,null,null,null,null,null,101.6,{"$f":"I420+(I425-I415)/10","v":2.1499999523162847},{"$f":"IFERROR(ROUND((ROUNDDOWN(I421,0)*12)+IFERROR(VLOOKUP(ROUND(I421-(ROUNDDOWN(I421,0)),1),_Esperanzas!$R$5:$S$18,2,TRUE),0),0),12)","v":25},103.74999995231627,{"$f":"L420+(L425-L415)/10","v":2.5166667461395269},{"$f":"IFERROR(ROUND((ROUNDDOWN(L421,0)*12)+IFERROR(VLOOKUP(ROUND(L421-(ROUNDDOWN(L421,0)),1),_Esperanzas!$R$5:$S$18,2,TRUE),0),0),12)","v":30},104.11666674613951,null,null,null,null,null,null,null,null,null,null,null,null,null,null,101.6,{"$f":"AD420+(AD425-AD415)/10","v":1.6500000238418582},{"$f":"IFERROR(ROUND((ROUNDDOWN(AD421,0)*12)+IFERROR(VLOOKUP(ROUND(AD421-(ROUNDDOWN(AD421,0)),1),_Esperanzas!$R$5:$S$18,2,TRUE),0),0),12)","v":20},103.25000002384185,{"$f":"AG420+(AG425-AG415)/10","v":1.9000000238418582},{"$f":"IFERROR(ROUND((ROUNDDOWN(AG421,0)*12)+IFERROR(VLOOKUP(ROUND(AG421-(ROUNDDOWN(AG421,0)),1),_Esperanzas!$R$5:$S$18,2,TRUE),0),0),12)","v":22},103.50000002384185]
[null,null,null,null,null,null,null,101.7,{"$f":"I421+(I425-I415)/10","v":2.1333332777023322},{"$f":"IFERROR(ROUND((ROUNDDOWN(I422,0)*12)+IFERROR(VLOOKUP(ROUND(I422-(ROUNDDOWN(I422,0)),1),_Esperanzas!$R$5:$S$18,2,TRUE),0),0),12)","v":25},103.83333327770234,{"$f":"L421+(L425-L415)/10","v":2.491666746139527},{"$f":"IFERROR(ROUND((ROUNDDOWN(L422,0)*12)+IFERROR(VLOOKUP(ROUND(L422-(ROUNDDOWN(L422,0)),1),_Esperanzas!$R$5:$S$18,2,TRUE),0),0),12)","v":30},104.19166674613953,null,null,null,null,null,null,null,null,null,null,null,null,null,null,101.7,{"$f":"AD421+(AD425-AD415)/10","v":1.6333333611488345},{"$f":"IFERROR(ROUND((ROUNDDOWN(AD422,0)*12)+IFERROR(VLOOKUP(ROUND(AD422-(ROUNDDOWN(AD422,0)),1),_Esperanzas!$R$5:$S$18,2,TRUE),0),0),12)","v":19},103.33333336114883,{"$f":"AG421+(AG425-AG415)/10","v":1.8833333611488345},{"$f":"IFERROR(ROUND((ROUNDDOWN(AG422,0)*12)+IFERROR(VLOOKUP(ROUND(AG422-(ROUNDDOWN(AG422,0)),1),_Esperanzas!$R$5:$S$18,2,TRUE),0),0),12)","v":22},103.58333336114883]
[null,null,null,null,null,null,null,101.8,{"$f":"I422+(I425-I415)/10","v":2.1166666030883796},{"$f":"IFERROR(ROUND((ROUNDDOWN(I423,0)*12)+IFERROR(VLOOKUP(ROUND(I423-(ROUNDDOWN(I423,0)),1),_Esperanzas!$R$5:$S$18,2,TRUE),0),0),12)","v":25},103.91666660308837,{"$f":"L422+(L425-L415)/10","v":2.4666667461395271},{"$f":"IFERROR(ROUND((ROUNDDOWN(L423,0)*12)+IFERROR(VLOOKUP(ROUND(L423-(ROUNDDOWN(L423,0)),1),_Esperanzas!$R$5:$S$18,2,TRUE),0),0),12)","v":30},104.26666674613952,null,null,null,null,null,null,null,null,null,null,null,null,null,null,101.8,{"$f":"AD422+(AD425-AD415)/10","v":1.6166666984558109},{"$f":"IFERROR(ROUND((ROUNDDOWN(AD423,0)*12)+IFERROR(VLOOKUP(ROUND(AD423-(ROUNDDOWN(AD423,0)),1),_Esperanzas!$R$5:$S$18,2,TRUE),0),0),12)","v":19},103.41666669845581,{"$f":"AG422+(AG425-AG415)/10","v":1.8666666984558109},{"$f":"IFERROR(ROUND((ROUNDDOWN(AG423,0)*12)+IFERROR(VLOOKUP(ROUND(AG423-(ROUNDDOWN(AG423,0)),1),_Esperanzas!$R$5:$S$18,2,TRUE),0),0),12)","v":22},103.66666669845581]
[null,null,null,null,null,null,null,101.9,{"$f":"I423+(I425-I415)/10","v":2.0999999284744271},{"$f":"IFERROR(ROUND((ROUNDDOWN(I424,0)*12)+IFERROR(VLOOKUP(ROUND(I424-(ROUNDDOWN(I424,0)),1),_Esperanzas!$R$5:$S$18,2,TRUE),0),0),12)","v":25},103.99999992847444,{"$f":"L423+(L425-L415)/10","v":2.4416667461395272},{"$f":"IFERROR(ROUND((ROUNDDOWN(L424,0)*12)+IFERROR(VLOOKUP(ROUND(L424-(ROUNDDOWN(L424,0)),1),_Esperanzas!$R$5:$S$18,2,TRUE),0),0),12)","v":28},104.34166674613954,null,null,null,null,null,null,null,null,null,null,null,null,null,null,101.9,{"$f":"AD423+(AD425-AD415)/10","v":1.6000000357627873},{"$f":"IFERROR(ROUND((ROUNDDOWN(AD424,0)*12)+IFERROR(VLOOKUP(ROUND(AD424-(ROUNDDOWN(AD424,0)),1),_Esperanzas!$R$5:$S$18,2,TRUE),0),0),12)","v":19},103.5000000357628,{"$f":"AG423+(AG425-AG415)/10","v":1.8500000357627873},{"$f":"IFERROR(ROUND((ROUNDDOWN(AG424,0)*12)+IFERROR(VLOOKUP(ROUND(AG424-(ROUNDDOWN(AG424,0)),1),_Esperanzas!$R$5:$S$18,2,TRUE),0),0),12)","v":22},103.7500000357628]
[null,null,null,null,null,null,null,102,{"$f":"VLOOKUP($H425,$B$5:$F$55,2,0)","v":2.0833332538604736},{"$f":"IFERROR(ROUND((ROUNDDOWN(I425,0)*12)+IFERROR(VLOOKUP(ROUND(I425-(ROUNDDOWN(I425,0)),1),_Esperanzas!$R$5:$S$18,2,TRUE),0),0),12)","v":25},104.08333325386047,{"$f":"VLOOKUP($H425,$B$5:$F$55,4,0)","v":2.4166667461395264},{"$f":"IFERROR(ROUND((ROUNDDOWN(L425,0)*12)+IFERROR(VLOOKUP(ROUND(L425-(ROUNDDOWN(L425,0)),1),_Esperanzas!$R$5:$S$18,2,TRUE),0),0),12)","v":28},104.41666674613953,null,null,null,null,null,null,null,null,null,null,null,null,null,null,102,{"$f":"VLOOKUP($AC425,$W$5:$AA$55,2,0)","v":1.5833333730697632},{"$f":"IFERROR(ROUND((ROUNDDOWN(AD425,0)*12)+IFERROR(VLOOKUP(ROUND(AD425-(ROUNDDOWN(AD425,0)),1),_Esperanzas!$R$5:$S$18,2,TRUE),0),0),12)","v":19},103.58333337306976,{"$f":"VLOOKUP($AC425,$W$5:$AA$55,4,0)","v":1.8333333730697632},{"$f":"IFERROR(ROUND((ROUNDDOWN(AG425,0)*12)+IFERROR(VLOOKUP(ROUND(AG425-(ROUNDDOWN(AG425,0)),1),_Esperanzas!$R$5:$S$18,2,TRUE),0),0),12)","v":21},103.83333337306976]
[null,null,null,null,null,null,null,102.1,{"$f":"I425+(I435-I425)/10","v":2.0666665911674498},{"$f":"IFERROR(ROUND((ROUNDDOWN(I426,0)*12)+IFERROR(VLOOKUP(ROUND(I426-(ROUNDDOWN(I426,0)),1),_Esperanzas!$R$5:$S$18,2,TRUE),0),0),12)","v":25},104.16666659116744,{"$f":"L425+(L435-L425)/10","v":2.4000000715255738},{"$f":"IFERROR(ROUND((ROUNDDOWN(L426,0)*12)+IFERROR(VLOOKUP(ROUND(L426-(ROUNDDOWN(L426,0)),1),_Esperanzas!$R$5:$S$18,2,TRUE),0),0),12)","v":28},104.50000007152556,null,null,null,null,null,null,null,null,null,null,null,null,null,null,102.1,{"$f":"AD425+(AD435-AD425)/10","v":1.5750000357627869},{"$f":"IFERROR(ROUND((ROUNDDOWN(AD426,0)*12)+IFERROR(VLOOKUP(ROUND(AD426-(ROUNDDOWN(AD426,0)),1),_Esperanzas!$R$5:$S$18,2,TRUE),0),0),12)","v":19},103.67500003576278,{"$f":"AG425+(AG435-AG425)/10","v":1.8166666984558106},{"$f":"IFERROR(ROUND((ROUNDDOWN(AG426,0)*12)+IFERROR(VLOOKUP(ROUND(AG426-(ROUNDDOWN(AG426,0)),1),_Esperanzas!$R$5:$S$18,2,TRUE),0),0),12)","v":21},103.9166666984558]
[null,null,null,null,null,null,null,102.2,{"$f":"I426+(I435-I425)/10","v":2.0499999284744259},{"$f":"IFERROR(ROUND((ROUNDDOWN(I427,0)*12)+IFERROR(VLOOKUP(ROUND(I427-(ROUNDDOWN(I427,0)),1),_Esperanzas!$R$5:$S$18,2,TRUE),0),0),12)","v":24},104.24999992847442,{"$f":"L426+(L435-L425)/10","v":2.3833333969116213},{"$f":"IFERROR(ROUND((ROUNDDOWN(L427,0)*12)+IFERROR(VLOOKUP(ROUND(L427-(ROUNDDOWN(L427,0)),1),_Esperanzas!$R$5:$S$18,2,TRUE),0),0),12)","v":28},104.58333339691163,null,null,null,null,null,null,null,null,null,null,null,null,null,null,102.2,{"$f":"AD426+(AD435-AD425)/10","v":1.5666666984558106},{"$f":"IFERROR(ROUND((ROUNDDOWN(AD427,0)*12)+IFERROR(VLOOKUP(ROUND(AD427-(ROUNDDOWN(AD427,0)),1),_Esperanzas!$R$5:$S$18,2,TRUE),0),0),12)","v":19},103.76666669845581,{"$f":"AG426+(AG435-AG425)/10","v":1.8000000238418581},{"$f":"IFERROR(ROUND((ROUNDDOWN(AG427,0)*12)+IFERROR(VLOOKUP(ROUND(AG427-(ROUNDDOWN(AG427,0)),1),_Esperanzas!$R$5:$S$18,2,TRUE),0),0),12)","v":21},104.00000002384186]
[null,null,null,null,null,null,null,102.3,{"$f":"I427+(I435-I425)/10","v":2.0333332657814021},{"$f":"IFERROR(ROUND((ROUNDDOWN(I428,0)*12)+IFERROR(VLOOKUP(ROUND(I428-(ROUNDDOWN(I428,0)),1),_Esperanzas!$R$5:$S$18,2,TRUE),0),0),12)","v":24},104.33333326578141,{"$f":"L427+(L435-L425)/10","v":2.3666667222976687},{"$f":"IFERROR(ROUND((ROUNDDOWN(L428,0)*12)+IFERROR(VLOOKUP(ROUND(L428-(ROUNDDOWN(L428,0)),1),_Esperanzas!$R$5:$S$18,2,TRUE),0),0),12)","v":28},104.66666672229766,null,null,null,null,null,null,null,null,null,null,null,null,null,null,102.3,{"$f":"AD427+(AD435-AD425)/10","v":1.5583333611488344},{"$f":"IFERROR(ROUND((ROUNDDOWN(AD428,0)*12)+IFERROR(VLOOKUP(ROUND(AD428-(ROUNDDOWN(AD428,0)),1),_Esperanzas!$R$5:$S$18,2,TRUE),0),0),12)","v":19},103.85833336114884,{"$f":"AG427+(AG435-AG425)/10","v":1.7833333492279055},{"$f":"IFERROR(ROUND((ROUNDDOWN(AG428,0)*12)+IFERROR(VLOOKUP(ROUND(AG428-(ROUNDDOWN(AG428,0)),1),_Esperanzas!$R$5:$S$18,2,TRUE),0),0),12)","v":21},104.0833333492279]
[null,null,null,null,null,null,null,102.4,{"$f":"I428+(I435-I425)/10","v":2.0166666030883782},{"$f":"IFERROR(ROUND((ROUNDDOWN(I429,0)*12)+IFERROR(VLOOKUP(ROUND(I429-(ROUNDDOWN(I429,0)),1),_Esperanzas!$R$5:$S$18,2,TRUE),0),0),12)","v":24},104.41666660308839,{"$f":"L428+(L435-L425)/10","v":2.3500000476837162},{"$f":"IFERROR(ROUND((ROUNDDOWN(L429,0)*12)+IFERROR(VLOOKUP(ROUND(L429-(ROUNDDOWN(L429,0)),1),_Esperanzas!$R$5:$S$18,2,TRUE),0),0),12)","v":28},104.75000004768373,null,null,null,null,null,null,null,null,null,null,null,null,null,null,102.4,{"$f":"AD428+(AD435-AD425)/10","v":1.5500000238418581},{"$f":"IFERROR(ROUND((ROUNDDOWN(AD429,0)*12)+IFERROR(VLOOKUP(ROUND(AD429-(ROUNDDOWN(AD429,0)),1),_Esperanzas!$R$5:$S$18,2,TRUE),0),0),12)","v":19},103.95000002384187,{"$f":"AG428+(AG435-AG425)/10","v":1.766666674613953},{"$f":"IFERROR(ROUND((ROUNDDOWN(AG429,0)*12)+IFERROR(VLOOKUP(ROUND(AG429-(ROUNDDOWN(AG429,0)),1),_Esperanzas!$R$5:$S$18,2,TRUE),0),0),12)","v":21},104.16666667461396]
[null,null,null,null,null,null,null,102.5,{"$f":"I429+(I435-I425)/10","v":1.9999999403953546},{"$f":"IFERROR(ROUND((ROUNDDOWN(I430,0)*12)+IFERROR(VLOOKUP(ROUND(I430-(ROUNDDOWN(I430,0)),1),_Esperanzas!$R$5:$S$18,2,TRUE),0),0),12)","v":24},104.49999994039536,{"$f":"L429+(L435-L425)/10","v":2.3333333730697636},{"$f":"IFERROR(ROUND((ROUNDDOWN(L430,0)*12)+IFERROR(VLOOKUP(ROUND(L430-(ROUNDDOWN(L430,0)),1),_Esperanzas!$R$5:$S$18,2,TRUE),0),0),12)","v":27},104.83333337306976,null,null,null,null,null,null,null,null,null,null,null,null,null,null,102.5,{"$f":"AD429+(AD435-AD425)/10","v":1.5416666865348818},{"$f":"IFERROR(ROUND((ROUNDDOWN(AD430,0)*12)+IFERROR(VLOOKUP(ROUND(AD430-(ROUNDDOWN(AD430,0)),1),_Esperanzas!$R$5:$S$18,2,TRUE),0),0),12)","v":18},104.04166668653488,{"$f":"AG429+(AG435-AG425)/10","v":1.7500000000000004},{"$f":"IFERROR(ROUND((ROUNDDOWN(AG430,0)*12)+IFERROR(VLOOKUP(ROUND(AG430-(ROUNDDOWN(AG430,0)),1),_Esperanzas!$R$5:$S$18,2,TRUE),0),0),12)","v":21},104.25]
[null,null,null,null,null,null,null,102.6,{"$f":"I430+(I435-I425)/10","v":1.9833332777023309},{"$f":"IFERROR(ROUND((ROUNDDOWN(I431,0)*12)+IFERROR(VLOOKUP(ROUND(I431-(ROUNDDOWN(I431,0)),1),_Esperanzas!$R$5:$S$18,2,TRUE),0),0),12)","v":24},104.58333327770232,{"$f":"L430+(L435-L425)/10","v":2.3166666984558111},{"$f":"IFERROR(ROUND((ROUNDDOWN(L431,0)*12)+IFERROR(VLOOKUP(ROUND(L431-(ROUNDDOWN(L431,0)),1),_Esperanzas!$R$5:$S$18,2,TRUE),0),0),12)","v":27},104.9166666984558,null,null,null,null,null,null,null,null,null,null,null,null,null,null,102.6,{"$f":"AD430+(AD435-AD425)/10","v":1.5333333492279055},{"$f":"IFERROR(ROUND((ROUNDDOWN(AD431,0)*12)+IFERROR(VLOOKUP(ROUND(AD431-(ROUNDDOWN(AD431,0)),1),_Esperanzas!$R$5:$S$18,2,TRUE),0),0),12)","v":18},104.1333333492279,{"$f":"AG430+(AG435-AG425)/10","v":1.7333333253860479},{"$f":"IFERROR(ROUND((ROUNDDOWN(AG431,0)*12)+IFERROR(VLOOKUP(ROUND(AG431-(ROUNDDOWN(AG431,0)),1),_Esperanzas!$R$5:$S$18,2,TRUE),0),0),12)","v":20},104.33333332538604]
[null,null,null,null,null,null,null,102.7,{"$f":"I431+(I435-I425)/10","v":1.9666666150093073},{"$f":"IFERROR(ROUND((ROUNDDOWN(I432,0)*12)+IFERROR(VLOOKUP(ROUND(I432-(ROUNDDOWN(I432,0)),1),_Esperanzas!$R$5:$S$18,2,TRUE),0),0),12)","v":24},104.66666661500931,{"$f":"L431+(L435-L425)/10","v":2.3000000238418585},{"$f":"IFERROR(ROUND((ROUNDDOWN(L432,0)*12)+IFERROR(VLOOKUP(ROUND(L432-(ROUNDDOWN(L432,0)),1),_Esperanzas!$R$5:$S$18,2,TRUE),0),0),12)","v":27},105.00000002384186,null,null,null,null,null,null,null,null,null,null,null,null,null,null,102.7,{"$f":"AD431+(AD435-AD425)/10","v":1.5250000119209293},{"$f":"IFERROR(ROUND((ROUNDDOWN(AD432,0)*12)+IFERROR(VLOOKUP(ROUND(AD432-(ROUNDDOWN(AD432,0)),1),_Esperanzas!$R$5:$S$18,2,TRUE),0),0),12)","v":18},104.22500001192093,{"$f":"AG431+(AG435-AG425)/10","v":1.7166666507720953},{"$f":"IFERROR(ROUND((ROUNDDOWN(AG432,0)*12)+IFERROR(VLOOKUP(ROUND(AG432-(ROUNDDOWN(AG432,0)),1),_Esperanzas!$R$5:$S$18,2,TRUE),0),0),12)","v":20},104.4166666507721]
[null,null,null,null,null,null,null,102.8,{"$f":"I432+(I435-I425)/10","v":1.9499999523162836},{"$f":"IFERROR(ROUND((ROUNDDOWN(I433,0)*12)+IFERROR(VLOOKUP(ROUND(I433-(ROUNDDOWN(I433,0)),1),_Esperanzas!$R$5:$S$18,2,TRUE),0),0),12)","v":22},104.74999995231629,{"$f":"L432+(L435-L425)/10","v":2.283333349227906},{"$f":"IFERROR(ROUND((ROUNDDOWN(L433,0)*12)+IFERROR(VLOOKUP(ROUND(L433-(ROUNDDOWN(L433,0)),1),_Esperanzas!$R$5:$S$18,2,TRUE),0),0),12)","v":27},105.0833333492279,null,null,null,null,null,null,null,null,null,null,null,null,null,null,102.8,{"$f":"AD432+(AD435-AD425)/10","v":1.516666674613953},{"$f":"IFERROR(ROUND((ROUNDDOWN(AD433,0)*12)+IFERROR(VLOOKUP(ROUND(AD433-(ROUNDDOWN(AD433,0)),1),_Esperanzas!$R$5:$S$18,2,TRUE),0),0),12)","v":18},104.31666667461396,{"$f":"AG432+(AG435-AG425)/10","v":1.6999999761581428},{"$f":"IFERROR(ROUND((ROUNDDOWN(AG433,0)*12)+IFERROR(VLOOKUP(ROUND(AG433-(ROUNDDOWN(AG433,0)),1),_Esperanzas!$R$5:$S$18,2,TRUE),0),0),12)","v":20},104.49999997615814]
[null,null,null,null,null,null,null,102.9,{"$f":"I433+(I435-I425)/10","v":1.93333328962326},{"$f":"IFERROR(ROUND((ROUNDDOWN(I434,0)*12)+IFERROR(VLOOKUP(ROUND(I434-(ROUNDDOWN(I434,0)),1),_Esperanzas!$R$5:$S$18,2,TRUE),0),0),12)","v":22},104.83333328962327,{"$f":"L433+(L435-L425)/10","v":2.2666666746139534},{"$f":"IFERROR(ROUND((ROUNDDOWN(L434,0)*12)+IFERROR(VLOOKUP(ROUND(L434-(ROUNDDOWN(L434,0)),1),_Esperanzas!$R$5:$S$18,2,TRUE),0),0),12)","v":27},105.16666667461396,null,null,null,null,null,null,null,null,null,null,null,null,null,null,102.9,{"$f":"AD433+(AD435-AD425)/10","v":1.5083333373069767},{"$f":"IFERROR(ROUND((ROUNDDOWN(AD434,0)*12)+IFERROR(VLOOKUP(ROUND(AD434-(ROUNDDOWN(AD434,0)),1),_Esperanzas!$R$5:$S$18,2,TRUE),0),0),12)","v":18},104.40833333730698,{"$f":"AG433+(AG435-AG425)/10","v":1.6833333015441903},{"$f":"IFERROR(ROUND((ROUNDDOWN(AG434,0)*12)+IFERROR(VLOOKUP(ROUND(AG434-(ROUNDDOWN(AG434,0)),1),_Esperanzas!$R$5:$S$18,2,TRUE),0),0),12)","v":20},104.5833333015442]
[null,null,null,null,null,null,null,103,{"$f":"VLOOKUP($H435,$B$5:$F$55,2,0)","v":1.9166666269302368},{"$f":"IFERROR(ROUND((ROUNDDOWN(I435,0)*12)+IFERROR(VLOOKUP(ROUND(I435-(ROUNDDOWN(I435,0)),1),_Esperanzas!$R$5:$S$18,2,TRUE),0),0),12)","v":22},104.91666662693024,{"$f":"VLOOKUP($H435,$B$5:$F$55,4,0)","v":2.25},{"$f":"IFERROR(ROUND((ROUNDDOWN(L435,0)*12)+IFERROR(VLOOKUP(ROUND(L435-(ROUNDDOWN(L435,0)),1),_Esperanzas!$R$5:$S$18,2,TRUE),0),0),12)","v":27},105.25,null,null,null,null,null,null,null,null,null,null,null,null,null,null,103,{"$f":"VLOOKUP($AC435,$W$5:$AA$55,2,0)","v":1.5},{"$f":"IFERROR(ROUND((ROUNDDOWN(AD435,0)*12)+IFERROR(VLOOKUP(ROUND(AD435-(ROUNDDOWN(AD435,0)),1),_Esperanzas!$R$5:$S$18,2,TRUE),0),0),12)","v":18},104.5,{"$f":"VLOOKUP($AC435,$W$5:$AA$55,4,0)","v":1.6666666269302368},{"$f":"IFERROR(ROUND((ROUNDDOWN(AG435,0)*12)+IFERROR(VLOOKUP(ROUND(AG435-(ROUNDDOWN(AG435,0)),1),_Esperanzas!$R$5:$S$18,2,TRUE),0),0),12)","v":20},104.66666662693024]
[null,null,null,null,null,null,null,103.1,{"$f":"I435+(I445-I435)/10","v":1.8999999642372132},{"$f":"IFERROR(ROUND((ROUNDDOWN(I436,0)*12)+IFERROR(VLOOKUP(ROUND(I436-(ROUNDDOWN(I436,0)),1),_Esperanzas!$R$5:$S$18,2,TRUE),0),0),12)","v":22},104.9999999642372,{"$f":"L435+(L445-L435)/10","v":2.2333333253860475},{"$f":"IFERROR(ROUND((ROUNDDOWN(L436,0)*12)+IFERROR(VLOOKUP(ROUND(L436-(ROUNDDOWN(L436,0)),1),_Esperanzas!$R$5:$S$18,2,TRUE),0),0),12)","v":26},105.33333332538604,null,null,null,null,null,null,null,null,null,null,null,null,null,null,103.1,{"$f":"AD435+(AD445-AD435)/10","v":1.4833333373069764},{"$f":"IFERROR(ROUND((ROUNDDOWN(AD436,0)*12)+IFERROR(VLOOKUP(ROUND(AD436-(ROUNDDOWN(AD436,0)),1),_Esperanzas!$R$5:$S$18,2,TRUE),0),0),12)","v":18},104.58333333730697,{"$f":"AG435+(AG445-AG435)/10","v":1.6583333015441895},{"$f":"IFERROR(ROUND((ROUNDDOWN(AG436,0)*12)+IFERROR(VLOOKUP(ROUND(AG436-(ROUNDDOWN(AG436,0)),1),_Esperanzas!$R$5:$S$18,2,TRUE),0),0),12)","v":20},104.75833330154418]
[null,null,null,null,null,null,null,103.2,{"$f":"I436+(I445-I435)/10","v":1.8833333015441895},{"$f":"IFERROR(ROUND((ROUNDDOWN(I437,0)*12)+IFERROR(VLOOKUP(ROUND(I437-(ROUNDDOWN(I437,0)),1),_Esperanzas!$R$5:$S$18,2,TRUE),0),0),12)","v":22},105.08333330154419,{"$f":"L436+(L445-L435)/10","v":2.2166666507720949},{"$f":"IFERROR(ROUND((ROUNDDOWN(L437,0)*12)+IFERROR(VLOOKUP(ROUND(L437-(ROUNDDOWN(L437,0)),1),_Esperanzas!$R$5:$S$18,2,TRUE),0),0),12)","v":26},105.4166666507721,null,null,null,null,null,null,null,null,null,null,null,null,null,null,103.2,{"$f":"AD436+(AD445-AD435)/10","v":1.4666666746139527},{"$f":"IFERROR(ROUND((ROUNDDOWN(AD437,0)*12)+IFERROR(VLOOKUP(ROUND(AD437-(ROUNDDOWN(AD437,0)),1),_Esperanzas!$R$5:$S$18,2,TRUE),0),0),12)","v":18},104.66666667461395,{"$f":"AG436+(AG445-AG435)/10","v":1.6499999761581421},{"$f":"IFERROR(ROUND((ROUNDDOWN(AG437,0)*12)+IFERROR(VLOOKUP(ROUND(AG437-(ROUNDDOWN(AG437,0)),1),_Esperanzas!$R$5:$S$18,2,TRUE),0),0),12)","v":19},104.84999997615814]
[null,null,null,null,null,null,null,103.3,{"$f":"I437+(I445-I435)/10","v":1.8666666388511659},{"$f":"IFERROR(ROUND((ROUNDDOWN(I438,0)*12)+IFERROR(VLOOKUP(ROUND(I438-(ROUNDDOWN(I438,0)),1),_Esperanzas!$R$5:$S$18,2,TRUE),0),0),12)","v":22},105.16666663885117,{"$f":"L437+(L445-L435)/10","v":2.1999999761581424},{"$f":"IFERROR(ROUND((ROUNDDOWN(L438,0)*12)+IFERROR(VLOOKUP(ROUND(L438-(ROUNDDOWN(L438,0)),1),_Esperanzas!$R$5:$S$18,2,TRUE),0),0),12)","v":26},105.49999997615814,null,null,null,null,null,null,null,null,null,null,null,null,null,null,103.3,{"$f":"AD437+(AD445-AD435)/10","v":1.4500000119209291},{"$f":"IFERROR(ROUND((ROUNDDOWN(AD438,0)*12)+IFERROR(VLOOKUP(ROUND(AD438-(ROUNDDOWN(AD438,0)),1),_Esperanzas!$R$5:$S$18,2,TRUE),0),0),12)","v":18},104.75000001192093,{"$f":"AG437+(AG445-AG435)/10","v":1.6416666507720947},{"$f":"IFERROR(ROUND((ROUNDDOWN(AG438,0)*12)+IFERROR(VLOOKUP(ROUND(AG438-(ROUNDDOWN(AG438,0)),1),_Esperanzas!$R$5:$S$18,2,TRUE),0),0),12)","v":19},104.94166665077209]
[null,null,null,null,null,null,null,103.4,{"$f":"I438+(I445-I435)/10","v":1.8499999761581423},{"$f":"IFERROR(ROUND((ROUNDDOWN(I439,0)*12)+IFERROR(VLOOKUP(ROUND(I439-(ROUNDDOWN(I439,0)),1),_Esperanzas!$R$5:$S$18,2,TRUE),0),0),12)","v":21},105.24999997615815,{"$f":"L438+(L445-L435)/10","v":2.1833333015441898},{"$f":"IFERROR(ROUND((ROUNDDOWN(L439,0)*12)+IFERROR(VLOOKUP(ROUND(L439-(ROUNDDOWN(L439,0)),1),_Esperanzas!$R$5:$S$18,2,TRUE),0),0),12)","v":26},105.5833333015442,null,null,null,null,null,null,null,null,null,null,null,null,null,null,103.4,{"$f":"AD438+(AD445-AD435)/10","v":1.4333333492279055},{"$f":"IFERROR(ROUND((ROUNDDOWN(AD439,0)*12)+IFERROR(VLOOKUP(ROUND(AD439-(ROUNDDOWN(AD439,0)),1),_Esperanzas!$R$5:$S$18,2,TRUE),0),0),12)","v":16},104.83333334922791,{"$f":"AG438+(AG445-AG435)/10","v":1.6333333253860474},{"$f":"IFERROR(ROUND((ROUNDDOWN(AG439,0)*12)+IFERROR(VLOOKUP(ROUND(AG439-(ROUNDDOWN(AG439,0)),1),_Esperanzas!$R$5:$S$18,2,TRUE),0),0),12)","v":19},105.03333332538605]
[null,null,null,null,null,null,null,103.5,{"$f":"I439+(I445-I435)/10","v":1.8333333134651186},{"$f":"IFERROR(ROUND((ROUNDDOWN(I440,0)*12)+IFERROR(VLOOKUP(ROUND(I440-(ROUNDDOWN(I440,0)),1),_Esperanzas!$R$5:$S$18,2,TRUE),0),0),12)","v":21},105.33333331346512,{"$f":"L439+(L445-L435)/10","v":2.1666666269302373},{"$f":"IFERROR(ROUND((ROUNDDOWN(L440,0)*12)+IFERROR(VLOOKUP(ROUND(L440-(ROUNDDOWN(L440,0)),1),_Esperanzas!$R$5:$S$18,2,TRUE),0),0),12)","v":26},105.66666662693024,null,null,null,null,null,null,null,null,null,null,null,null,null,null,103.5,{"$f":"AD439+(AD445-AD435)/10","v":1.4166666865348818},{"$f":"IFERROR(ROUND((ROUNDDOWN(AD440,0)*12)+IFERROR(VLOOKUP(ROUND(AD440-(ROUNDDOWN(AD440,0)),1),_Esperanzas!$R$5:$S$18,2,TRUE),0),0),12)","v":16},104.91666668653488,{"$f":"AG439+(AG445-AG435)/10","v":1.625},{"$f":"IFERROR(ROUND((ROUNDDOWN(AG440,0)*12)+IFERROR(VLOOKUP(ROUND(AG440-(ROUNDDOWN(AG440,0)),1),_Esperanzas!$R$5:$S$18,2,TRUE),0),0),12)","v":19},105.125]
[null,null,null,null,null,null,null,103.6,{"$f":"I440+(I445-I435)/10","v":1.816666650772095},{"$f":"IFERROR(ROUND((ROUNDDOWN(I441,0)*12)+IFERROR(VLOOKUP(ROUND(I441-(ROUNDDOWN(I441,0)),1),_Esperanzas!$R$5:$S$18,2,TRUE),0),0),12)","v":21},105.41666665077209,{"$f":"L440+(L445-L435)/10","v":2.1499999523162847},{"$f":"IFERROR(ROUND((ROUNDDOWN(L441,0)*12)+IFERROR(VLOOKUP(ROUND(L441-(ROUNDDOWN(L441,0)),1),_Esperanzas!$R$5:$S$18,2,TRUE),0),0),12)","v":25},105.74999995231627,null,null,null,null,null,null,null,null,null,null,null,null,null,null,103.6,{"$f":"AD440+(AD445-AD435)/10","v":1.4000000238418582},{"$f":"IFERROR(ROUND((ROUNDDOWN(AD441,0)*12)+IFERROR(VLOOKUP(ROUND(AD441-(ROUNDDOWN(AD441,0)),1),_Esperanzas!$R$5:$S$18,2,TRUE),0),0),12)","v":16},105.00000002384185,{"$f":"AG440+(AG445-AG435)/10","v":1.6166666746139526},{"$f":"IFERROR(ROUND((ROUNDDOWN(AG441,0)*12)+IFERROR(VLOOKUP(ROUND(AG441-(ROUNDDOWN(AG441,0)),1),_Esperanzas!$R$5:$S$18,2,TRUE),0),0),12)","v":19},105.21666667461395]
[null,null,null,null,null,null,null,103.7,{"$f":"I441+(I445-I435)/10","v":1.7999999880790714},{"$f":"IFERROR(ROUND((ROUNDDOWN(I442,0)*12)+IFERROR(VLOOKUP(ROUND(I442-(ROUNDDOWN(I442,0)),1),_Esperanzas!$R$5:$S$18,2,TRUE),0),0),12)","v":21},105.49999998807907,{"$f":"L441+(L445-L435)/10","v":2.1333332777023322},{"$f":"IFERROR(ROUND((ROUNDDOWN(L442,0)*12)+IFERROR(VLOOKUP(ROUND(L442-(ROUNDDOWN(L442,0)),1),_Esperanzas!$R$5:$S$18,2,TRUE),0),0),12)","v":25},105.83333327770234,null,null,null,null,null,null,null,null,null,null,null,null,null,null,103.7,{"$f":"AD441+(AD445-AD435)/10","v":1.3833333611488345},{"$f":"IFERROR(ROUND((ROUNDDOWN(AD442,0)*12)+IFERROR(VLOOKUP(ROUND(AD442-(ROUNDDOWN(AD442,0)),1),_Esperanzas!$R$5:$S$18,2,TRUE),0),0),12)","v":16},105.08333336114883,{"$f":"AG441+(AG445-AG435)/10","v":1.6083333492279053},{"$f":"IFERROR(ROUND((ROUNDDOWN(AG442,0)*12)+IFERROR(VLOOKUP(ROUND(AG442-(ROUNDDOWN(AG442,0)),1),_Esperanzas!$R$5:$S$18,2,TRUE),0),0),12)","v":19},105.30833334922791]
[null,null,null,null,null,null,null,103.8,{"$f":"I442+(I445-I435)/10","v":1.7833333253860477},{"$f":"IFERROR(ROUND((ROUNDDOWN(I443,0)*12)+IFERROR(VLOOKUP(ROUND(I443-(ROUNDDOWN(I443,0)),1),_Esperanzas!$R$5:$S$18,2,TRUE),0),0),12)","v":21},105.58333332538605,{"$f":"L442+(L445-L435)/10","v":2.1166666030883796},{"$f":"IFERROR(ROUND((ROUNDDOWN(L443,0)*12)+IFERROR(VLOOKUP(ROUND(L443-(ROUNDDOWN(L443,0)),1),_Esperanzas!$R$5:$S$18,2,TRUE),0),0),12)","v":25},105.91666660308837,null,null,null,null,null,null,null,null,null,null,null,null,null,null,103.8,{"$f":"AD442+(AD445-AD435)/10","v":1.3666666984558109},{"$f":"IFERROR(ROUND((ROUNDDOWN(AD443,0)*12)+IFERROR(VLOOKUP(ROUND(AD443-(ROUNDDOWN(AD443,0)),1),_Esperanzas!$R$5:$S$18,2,TRUE),0),0),12)","v":16},105.16666669845581,{"$f":"AG442+(AG445-AG435)/10","v":1.6000000238418579},{"$f":"IFERROR(ROUND((ROUNDDOWN(AG443,0)*12)+IFERROR(VLOOKUP(ROUND(AG443-(ROUNDDOWN(AG443,0)),1),_Esperanzas!$R$5:$S$18,2,TRUE),0),0),12)","v":19},105.40000002384186]
[null,null,null,null,null,null,null,103.9,{"$f":"I443+(I445-I435)/10","v":1.7666666626930241},{"$f":"IFERROR(ROUND((ROUNDDOWN(I444,0)*12)+IFERROR(VLOOKUP(ROUND(I444-(ROUNDDOWN(I444,0)),1),_Esperanzas!$R$5:$S$18,2,TRUE),0),0),12)","v":21},105.66666666269303,{"$f":"L443+(L445-L435)/10","v":2.0999999284744271},{"$f":"IFERROR(ROUND((ROUNDDOWN(L444,0)*12)+IFERROR(VLOOKUP(ROUND(L444-(ROUNDDOWN(L444,0)),1),_Esperanzas!$R$5:$S$18,2,TRUE),0),0),12)","v":25},105.99999992847444,null,null,null,null,null,null,null,null,null,null,null,null,null,null,103.9,{"$f":"AD443+(AD445-AD435)/10","v":1.3500000357627873},{"$f":"IFERROR(ROUND((ROUNDDOWN(AD444,0)*12)+IFERROR(VLOOKUP(ROUND(AD444-(ROUNDDOWN(AD444,0)),1),_Esperanzas!$R$5:$S$18,2,TRUE),0),0),12)","v":16},105.2500000357628,{"$f":"AG443+(AG445-AG435)/10","v":1.5916666984558105},{"$f":"IFERROR(ROUND((ROUNDDOWN(AG444,0)*12)+IFERROR(VLOOKUP(ROUND(AG444-(ROUNDDOWN(AG444,0)),1),_Esperanzas!$R$5:$S$18,2,TRUE),0),0),12)","v":19},105.49166669845582]
[null,null,null,null,null,null,null,104,{"$f":"VLOOKUP($H445,$B$5:$F$55,2,0)","v":1.75},{"$f":"IFERROR(ROUND((ROUNDDOWN(I445,0)*12)+IFERROR(VLOOKUP(ROUND(I445-(ROUNDDOWN(I445,0)),1),_Esperanzas!$R$5:$S$18,2,TRUE),0),0),12)","v":21},105.75,{"$f":"VLOOKUP($H445,$B$5:$F$55,4,0)","v":2.0833332538604736},{"$f":"IFERROR(ROUND((ROUNDDOWN(L445,0)*12)+IFERROR(VLOOKUP(ROUND(L445-(ROUNDDOWN(L445,0)),1),_Esperanzas!$R$5:$S$18,2,TRUE),0),0),12)","v":25},106.08333325386047,null,null,null,null,null,null,null,null,null,null,null,null,null,null,104,{"$f":"VLOOKUP($AC445,$W$5:$AA$55,2,0)","v":1.3333333730697632},{"$f":"IFERROR(ROUND((ROUNDDOWN(AD445,0)*12)+IFERROR(VLOOKUP(ROUND(AD445-(ROUNDDOWN(AD445,0)),1),_Esperanzas!$R$5:$S$18,2,TRUE),0),0),12)","v":15},105.33333337306976,{"$f":"VLOOKUP($AC445,$W$5:$AA$55,4,0)","v":1.5833333730697632},{"$f":"IFERROR(ROUND((ROUNDDOWN(AG445,0)*12)+IFERROR(VLOOKUP(ROUND(AG445-(ROUNDDOWN(AG445,0)),1),_Esperanzas!$R$5:$S$18,2,TRUE),0),0),12)","v":19},105.58333337306976]
[null,null,null,null,null,null,null,104.1,{"$f":"I445+(I455-I445)/10","v":1.7333333373069764},{"$f":"IFERROR(ROUND((ROUNDDOWN(I446,0)*12)+IFERROR(VLOOKUP(ROUND(I446-(ROUNDDOWN(I446,0)),1),_Esperanzas!$R$5:$S$18,2,TRUE),0),0),12)","v":20},105.83333333730697,{"$f":"L445+(L455-L445)/10","v":2.0666665911674498},{"$f":"IFERROR(ROUND((ROUNDDOWN(L446,0)*12)+IFERROR(VLOOKUP(ROUND(L446-(ROUNDDOWN(L446,0)),1),_Esperanzas!$R$5:$S$18,2,TRUE),0),0),12)","v":25},106.16666659116744,null,null,null,null,null,null,null,null,null,null,null,null,null,null,104.1,{"$f":"AD445+(AD455-AD445)/10","v":1.3250000357627869},{"$f":"IFERROR(ROUND((ROUNDDOWN(AD446,0)*12)+IFERROR(VLOOKUP(ROUND(AD446-(ROUNDDOWN(AD446,0)),1),_Esperanzas!$R$5:$S$18,2,TRUE),0),0),12)","v":15},105.42500003576278,{"$f":"AG445+(AG455-AG445)/10","v":1.5666666984558106},{"$f":"IFERROR(ROUND((ROUNDDOWN(AG446,0)*12)+IFERROR(VLOOKUP(ROUND(AG446-(ROUNDDOWN(AG446,0)),1),_Esperanzas!$R$5:$S$18,2,TRUE),0),0),12)","v":19},105.6666666984558]
[null,null,null,null,null,null,null,104.2,{"$f":"I446+(I455-I445)/10","v":1.7166666746139527},{"$f":"IFERROR(ROUND((ROUNDDOWN(I447,0)*12)+IFERROR(VLOOKUP(ROUND(I447-(ROUNDDOWN(I447,0)),1),_Esperanzas!$R$5:$S$18,2,TRUE),0),0),12)","v":20},105.91666667461395,{"$f":"L446+(L455-L445)/10","v":2.0499999284744259},{"$f":"IFERROR(ROUND((ROUNDDOWN(L447,0)*12)+IFERROR(VLOOKUP(ROUND(L447-(ROUNDDOWN(L447,0)),1),_Esperanzas!$R$5:$S$18,2,TRUE),0),0),12)","v":24},106.24999992847442,null,null,null,null,null,null,null,null,null,null,null,null,null,null,104.2,{"$f":"AD446+(AD455-AD445)/10","v":1.3166666984558106},{"$f":"IFERROR(ROUND((ROUNDDOWN(AD447,0)*12)+IFERROR(VLOOKUP(ROUND(AD447-(ROUNDDOWN(AD447,0)),1),_Esperanzas!$R$5:$S$18,2,TRUE),0),0),12)","v":15},105.51666669845581,{"$f":"AG446+(AG455-AG445)/10","v":1.5500000238418581},{"$f":"IFERROR(ROUND((ROUNDDOWN(AG447,0)*12)+IFERROR(VLOOKUP(ROUND(AG447-(ROUNDDOWN(AG447,0)),1),_Esperanzas!$R$5:$S$18,2,TRUE),0),0),12)","v":19},105.75000002384186]
[null,null,null,null,null,null,null,104.3,{"$f":"I447+(I455-I445)/10","v":1.7000000119209291},{"$f":"IFERROR(ROUND((ROUNDDOWN(I448,0)*12)+IFERROR(VLOOKUP(ROUND(I448-(ROUNDDOWN(I448,0)),1),_Esperanzas!$R$5:$S$18,2,TRUE),0),0),12)","v":20},106.00000001192093,{"$f":"L447+(L455-L445)/10","v":2.0333332657814021},{"$f":"IFERROR(ROUND((ROUNDDOWN(L448,0)*12)+IFERROR(VLOOKUP(ROUND(L448-(ROUNDDOWN(L448,0)),1),_Esperanzas!$R$5:$S$18,2,TRUE),0),0),12)","v":24},106.33333326578141,null,null,null,null,null,null,null,null,null,null,null,null,null,null,104.3,{"$f":"AD447+(AD455-AD445)/10","v":1.3083333611488344},{"$f":"IFERROR(ROUND((ROUNDDOWN(AD448,0)*12)+IFERROR(VLOOKUP(ROUND(AD448-(ROUNDDOWN(AD448,0)),1),_Esperanzas!$R$5:$S$18,2,TRUE),0),0),12)","v":15},105.60833336114884,{"$f":"AG447+(AG455-AG445)/10","v":1.5333333492279055},{"$f":"IFERROR(ROUND((ROUNDDOWN(AG448,0)*12)+IFERROR(VLOOKUP(ROUND(AG448-(ROUNDDOWN(AG448,0)),1),_Esperanzas!$R$5:$S$18,2,TRUE),0),0),12)","v":18},105.8333333492279]
[null,null,null,null,null,null,null,104.4,{"$f":"I448+(I455-I445)/10","v":1.6833333492279055},{"$f":"IFERROR(ROUND((ROUNDDOWN(I449,0)*12)+IFERROR(VLOOKUP(ROUND(I449-(ROUNDDOWN(I449,0)),1),_Esperanzas!$R$5:$S$18,2,TRUE),0),0),12)","v":20},106.08333334922791,{"$f":"L448+(L455-L445)/10","v":2.0166666030883782},{"$f":"IFERROR(ROUND((ROUNDDOWN(L449,0)*12)+IFERROR(VLOOKUP(ROUND(L449-(ROUNDDOWN(L449,0)),1),_Esperanzas!$R$5:$S$18,2,TRUE),0),0),12)","v":24},106.41666660308839,null,null,null,null,null,null,null,null,null,null,null,null,null,null,104.4,{"$f":"AD448+(AD455-AD445)/10","v":1.3000000238418581},{"$f":"IFERROR(ROUND((ROUNDDOWN(AD449,0)*12)+IFERROR(VLOOKUP(ROUND(AD449-(ROUNDDOWN(AD449,0)),1),_Esperanzas!$R$5:$S$18,2,TRUE),0),0),12)","v":15},105.70000002384187,{"$f":"AG448+(AG455-AG445)/10","v":1.516666674613953},{"$f":"IFERROR(ROUND((ROUNDDOWN(AG449,0)*12)+IFERROR(VLOOKUP(ROUND(AG449-(ROUNDDOWN(AG449,0)),1),_Esperanzas!$R$5:$S$18,2,TRUE),0),0),12)","v":18},105.91666667461396]
[null,null,null,null,null,null,null,104.5,{"$f":"I449+(I455-I445)/10","v":1.6666666865348818},{"$f":"IFERROR(ROUND((ROUNDDOWN(I450,0)*12)+IFERROR(VLOOKUP(ROUND(I450-(ROUNDDOWN(I450,0)),1),_Esperanzas!$R$5:$S$18,2,TRUE),0),0),12)","v":20},106.16666668653488,{"$f":"L449+(L455-L445)/10","v":1.9999999403953546},{"$f":"IFERROR(ROUND((ROUNDDOWN(L450,0)*12)+IFERROR(VLOOKUP(ROUND(L450-(ROUNDDOWN(L450,0)),1),_Esperanzas!$R$5:$S$18,2,TRUE),0),0),12)","v":24},106.49999994039536,null,null,null,null,null,null,null,null,null,null,null,null,null,null,104.5,{"$f":"AD449+(AD455-AD445)/10","v":1.2916666865348818},{"$f":"IFERROR(ROUND((ROUNDDOWN(AD450,0)*12)+IFERROR(VLOOKUP(ROUND(AD450-(ROUNDDOWN(AD450,0)),1),_Esperanzas!$R$5:$S$18,2,TRUE),0),0),12)","v":15},105.79166668653488,{"$f":"AG449+(AG455-AG445)/10","v":1.5000000000000004},{"$f":"IFERROR(ROUND((ROUNDDOWN(AG450,0)*12)+IFERROR(VLOOKUP(ROUND(AG450-(ROUNDDOWN(AG450,0)),1),_Esperanzas!$R$5:$S$18,2,TRUE),0),0),12)","v":18},106]
[null,null,null,null,null,null,null,104.6,{"$f":"I450+(I455-I445)/10","v":1.6500000238418582},{"$f":"IFERROR(ROUND((ROUNDDOWN(I451,0)*12)+IFERROR(VLOOKUP(ROUND(I451-(ROUNDDOWN(I451,0)),1),_Esperanzas!$R$5:$S$18,2,TRUE),0),0),12)","v":20},106.25000002384185,{"$f":"L450+(L455-L445)/10","v":1.9833332777023309},{"$f":"IFERROR(ROUND((ROUNDDOWN(L451,0)*12)+IFERROR(VLOOKUP(ROUND(L451-(ROUNDDOWN(L451,0)),1),_Esperanzas!$R$5:$S$18,2,TRUE),0),0),12)","v":24},106.58333327770232,null,null,null,null,null,null,null,null,null,null,null,null,null,null,104.6,{"$f":"AD450+(AD455-AD445)/10","v":1.2833333492279055},{"$f":"IFERROR(ROUND((ROUNDDOWN(AD451,0)*12)+IFERROR(VLOOKUP(ROUND(AD451-(ROUNDDOWN(AD451,0)),1),_Esperanzas!$R$5:$S$18,2,TRUE),0),0),12)","v":15},105.8833333492279,{"$f":"AG450+(AG455-AG445)/10","v":1.4833333253860479},{"$f":"IFERROR(ROUND((ROUNDDOWN(AG451,0)*12)+IFERROR(VLOOKUP(ROUND(AG451-(ROUNDDOWN(AG451,0)),1),_Esperanzas!$R$5:$S$18,2,TRUE),0),0),12)","v":18},106.08333332538604]
[null,null,null,null,null,null,null,104.7,{"$f":"I451+(I455-I445)/10","v":1.6333333611488345},{"$f":"IFERROR(ROUND((ROUNDDOWN(I452,0)*12)+IFERROR(VLOOKUP(ROUND(I452-(ROUNDDOWN(I452,0)),1),_Esperanzas!$R$5:$S$18,2,TRUE),0),0),12)","v":19},106.33333336114883,{"$f":"L451+(L455-L445)/10","v":1.9666666150093073},{"$f":"IFERROR(ROUND((ROUNDDOWN(L452,0)*12)+IFERROR(VLOOKUP(ROUND(L452-(ROUNDDOWN(L452,0)),1),_Esperanzas!$R$5:$S$18,2,TRUE),0),0),12)","v":24},106.66666661500931,null,null,null,null,null,null,null,null,null,null,null,null,null,null,104.7,{"$f":"AD451+(AD455-AD445)/10","v":1.2750000119209293},{"$f":"IFERROR(ROUND((ROUNDDOWN(AD452,0)*12)+IFERROR(VLOOKUP(ROUND(AD452-(ROUNDDOWN(AD452,0)),1),_Esperanzas!$R$5:$S$18,2,TRUE),0),0),12)","v":15},105.97500001192093,{"$f":"AG451+(AG455-AG445)/10","v":1.4666666507720953},{"$f":"IFERROR(ROUND((ROUNDDOWN(AG452,0)*12)+IFERROR(VLOOKUP(ROUND(AG452-(ROUNDDOWN(AG452,0)),1),_Esperanzas!$R$5:$S$18,2,TRUE),0),0),12)","v":18},106.1666666507721]
[null,null,null,null,null,null,null,104.8,{"$f":"I452+(I455-I445)/10","v":1.6166666984558109},{"$f":"IFERROR(ROUND((ROUNDDOWN(I453,0)*12)+IFERROR(VLOOKUP(ROUND(I453-(ROUNDDOWN(I453,0)),1),_Esperanzas!$R$5:$S$18,2,TRUE),0),0),12)","v":19},106.41666669845581,{"$f":"L452+(L455-L445)/10","v":1.9499999523162836},{"$f":"IFERROR(ROUND((ROUNDDOWN(L453,0)*12)+IFERROR(VLOOKUP(ROUND(L453-(ROUNDDOWN(L453,0)),1),_Esperanzas!$R$5:$S$18,2,TRUE),0),0),12)","v":22},106.74999995231629,null,null,null,null,null,null,null,null,null,null,null,null,null,null,104.8,{"$f":"AD452+(AD455-AD445)/10","v":1.266666674613953},{"$f":"IFERROR(ROUND((ROUNDDOWN(AD453,0)*12)+IFERROR(VLOOKUP(ROUND(AD453-(ROUNDDOWN(AD453,0)),1),_Esperanzas!$R$5:$S$18,2,TRUE),0),0),12)","v":15},106.06666667461396,{"$f":"AG452+(AG455-AG445)/10","v":1.4499999761581428},{"$f":"IFERROR(ROUND((ROUNDDOWN(AG453,0)*12)+IFERROR(VLOOKUP(ROUND(AG453-(ROUNDDOWN(AG453,0)),1),_Esperanzas!$R$5:$S$18,2,TRUE),0),0),12)","v":16},106.24999997615814]
[null,null,null,null,null,null,null,104.9,{"$f":"I453+(I455-I445)/10","v":1.6000000357627873},{"$f":"IFERROR(ROUND((ROUNDDOWN(I454,0)*12)+IFERROR(VLOOKUP(ROUND(I454-(ROUNDDOWN(I454,0)),1),_Esperanzas!$R$5:$S$18,2,TRUE),0),0),12)","v":19},106.5000000357628,{"$f":"L453+(L455-L445)/10","v":1.93333328962326},{"$f":"IFERROR(ROUND((ROUNDDOWN(L454,0)*12)+IFERROR(VLOOKUP(ROUND(L454-(ROUNDDOWN(L454,0)),1),_Esperanzas!$R$5:$S$18,2,TRUE),0),0),12)","v":22},106.83333328962327,null,null,null,null,null,null,null,null,null,null,null,null,null,null,104.9,{"$f":"AD453+(AD455-AD445)/10","v":1.2583333373069767},{"$f":"IFERROR(ROUND((ROUNDDOWN(AD454,0)*12)+IFERROR(VLOOKUP(ROUND(AD454-(ROUNDDOWN(AD454,0)),1),_Esperanzas!$R$5:$S$18,2,TRUE),0),0),12)","v":15},106.15833333730698,{"$f":"AG453+(AG455-AG445)/10","v":1.4333333015441903},{"$f":"IFERROR(ROUND((ROUNDDOWN(AG454,0)*12)+IFERROR(VLOOKUP(ROUND(AG454-(ROUNDDOWN(AG454,0)),1),_Esperanzas!$R$5:$S$18,2,TRUE),0),0),12)","v":16},106.3333333015442]
[null,null,null,null,null,null,null,{"$f":"ROUND(H454+0.1,1)","v":105},{"$f":"VLOOKUP($H455,$B$5:$F$55,2,0)","v":1.5833333730697632},{"$f":"IFERROR(ROUND((ROUNDDOWN(I455,0)*12)+IFERROR(VLOOKUP(ROUND(I455-(ROUNDDOWN(I455,0)),1),_Esperanzas!$R$5:$S$18,2,TRUE),0),0),12)","v":19},106.58333337306976,{"$f":"VLOOKUP($H455,$B$5:$F$55,4,0)","v":1.9166666269302368},{"$f":"IFERROR(ROUND((ROUNDDOWN(L455,0)*12)+IFERROR(VLOOKUP(ROUND(L455-(ROUNDDOWN(L455,0)),1),_Esperanzas!$R$5:$S$18,2,TRUE),0),0),12)","v":22},106.91666662693024,null,null,null,null,null,null,null,null,null,null,null,null,null,null,{"$f":"ROUND(AC454+0.1,1)","v":105},{"$f":"VLOOKUP($AC455,$W$5:$AA$55,2,0)","v":1.25},{"$f":"IFERROR(ROUND((ROUNDDOWN(AD455,0)*12)+IFERROR(VLOOKUP(ROUND(AD455-(ROUNDDOWN(AD455,0)),1),_Esperanzas!$R$5:$S$18,2,TRUE),0),0),12)","v":15},106.25,{"$f":"VLOOKUP($AC455,$W$5:$AA$55,4,0)","v":1.4166666269302368},{"$f":"IFERROR(ROUND((ROUNDDOWN(AG455,0)*12)+IFERROR(VLOOKUP(ROUND(AG455-(ROUNDDOWN(AG455,0)),1),_Esperanzas!$R$5:$S$18,2,TRUE),0),0),12)","v":16},106.41666662693024]
[null,null,null,null,null,null,null,105.1,{"$f":"I455+(I465-I455)/10","v":1.5666666984558106},{"$f":"IFERROR(ROUND((ROUNDDOWN(I456,0)*12)+IFERROR(VLOOKUP(ROUND(I456-(ROUNDDOWN(I456,0)),1),_Esperanzas!$R$5:$S$18,2,TRUE),0),0),12)","v":19},106.6666666984558,{"$f":"L455+(L465-L455)/10","v":1.8916666269302369},{"$f":"IFERROR(ROUND((ROUNDDOWN(L456,0)*12)+IFERROR(VLOOKUP(ROUND(L456-(ROUNDDOWN(L456,0)),1),_Esperanzas!$R$5:$S$18,2,TRUE),0),0),12)","v":22},106.99166662693023,null,null,null,null,null,null,null,null,null,null,null,null,null,null,105.1,{"$f":"AD455+(AD465-AD455)/10","v":1.2333333373069764},{"$f":"IFERROR(ROUND((ROUNDDOWN(AD456,0)*12)+IFERROR(VLOOKUP(ROUND(AD456-(ROUNDDOWN(AD456,0)),1),_Esperanzas!$R$5:$S$18,2,TRUE),0),0),12)","v":14},106.33333333730697,{"$f":"AG455+(AG465-AG455)/10","v":1.4083333015441895},{"$f":"IFERROR(ROUND((ROUNDDOWN(AG456,0)*12)+IFERROR(VLOOKUP(ROUND(AG456-(ROUNDDOWN(AG456,0)),1),_Esperanzas!$R$5:$S$18,2,TRUE),0),0),12)","v":16},106.50833330154418]
[null,null,null,null,null,null,null,105.2,{"$f":"I456+(I465-I455)/10","v":1.5500000238418581},{"$f":"IFERROR(ROUND((ROUNDDOWN(I457,0)*12)+IFERROR(VLOOKUP(ROUND(I457-(ROUNDDOWN(I457,0)),1),_Esperanzas!$R$5:$S$18,2,TRUE),0),0),12)","v":19},106.75000002384186,{"$f":"L456+(L465-L455)/10","v":1.866666626930237},{"$f":"IFERROR(ROUND((ROUNDDOWN(L457,0)*12)+IFERROR(VLOOKUP(ROUND(L457-(ROUNDDOWN(L457,0)),1),_Esperanzas!$R$5:$S$18,2,TRUE),0),0),12)","v":22},{"$f":"L457+H457","v":107.06666662693024},null,null,null,null,null,null,null,null,null,null,null,null,null,null,105.2,{"$f":"AD456+(AD465-AD455)/10","v":1.2166666746139527},{"$f":"IFERROR(ROUND((ROUNDDOWN(AD457,0)*12)+IFERROR(VLOOKUP(ROUND(AD457-(ROUNDDOWN(AD457,0)),1),_Esperanzas!$R$5:$S$18,2,TRUE),0),0),12)","v":14},106.41666667461395,{"$f":"AG456+(AG465-AG455)/10","v":1.3999999761581421},{"$f":"IFERROR(ROUND((ROUNDDOWN(AG457,0)*12)+IFERROR(VLOOKUP(ROUND(AG457-(ROUNDDOWN(AG457,0)),1),_Esperanzas!$R$5:$S$18,2,TRUE),0),0),12)","v":16},106.59999997615814]
[null,null,null,null,null,null,null,105.3,{"$f":"I457+(I465-I455)/10","v":1.5333333492279055},{"$f":"IFERROR(ROUND((ROUNDDOWN(I458,0)*12)+IFERROR(VLOOKUP(ROUND(I458-(ROUNDDOWN(I458,0)),1),_Esperanzas!$R$5:$S$18,2,TRUE),0),0),12)","v":18},106.8333333492279,{"$f":"L457+(L465-L455)/10","v":1.8416666269302371},{"$f":"IFERROR(ROUND((ROUNDDOWN(L458,0)*12)+IFERROR(VLOOKUP(ROUND(L458-(ROUNDDOWN(L458,0)),1),_Esperanzas!$R$5:$S$18,2,TRUE),0),0),12)","v":21},107.14166662693023,null,null,null,null,null,null,null,null,null,null,null,null,null,null,105.3,{"$f":"AD457+(AD465-AD455)/10","v":1.2000000119209291},{"$f":"IFERROR(ROUND((ROUNDDOWN(AD458,0)*12)+IFERROR(VLOOKUP(ROUND(AD458-(ROUNDDOWN(AD458,0)),1),_Esperanzas!$R$5:$S$18,2,TRUE),0),0),12)","v":14},106.50000001192093,{"$f":"AG457+(AG465-AG455)/10","v":1.3916666507720947},{"$f":"IFERROR(ROUND((ROUNDDOWN(AG458,0)*12)+IFERROR(VLOOKUP(ROUND(AG458-(ROUNDDOWN(AG458,0)),1),_Esperanzas!$R$5:$S$18,2,TRUE),0),0),12)","v":16},106.69166665077209]
[null,null,null,null,null,null,null,105.4,{"$f":"I458+(I465-I455)/10","v":1.516666674613953},{"$f":"IFERROR(ROUND((ROUNDDOWN(I459,0)*12)+IFERROR(VLOOKUP(ROUND(I459-(ROUNDDOWN(I459,0)),1),_Esperanzas!$R$5:$S$18,2,TRUE),0),0),12)","v":18},106.91666667461396,{"$f":"L458+(L465-L455)/10","v":1.8166666269302372},{"$f":"IFERROR(ROUND((ROUNDDOWN(L459,0)*12)+IFERROR(VLOOKUP(ROUND(L459-(ROUNDDOWN(L459,0)),1),_Esperanzas!$R$5:$S$18,2,TRUE),0),0),12)","v":21},107.21666662693025,null,null,null,null,null,null,null,null,null,null,null,null,null,null,105.4,{"$f":"AD458+(AD465-AD455)/10","v":1.1833333492279055},{"$f":"IFERROR(ROUND((ROUNDDOWN(AD459,0)*12)+IFERROR(VLOOKUP(ROUND(AD459-(ROUNDDOWN(AD459,0)),1),_Esperanzas!$R$5:$S$18,2,TRUE),0),0),12)","v":14},106.58333334922791,{"$f":"AG458+(AG465-AG455)/10","v":1.3833333253860474},{"$f":"IFERROR(ROUND((ROUNDDOWN(AG459,0)*12)+IFERROR(VLOOKUP(ROUND(AG459-(ROUNDDOWN(AG459,0)),1),_Esperanzas!$R$5:$S$18,2,TRUE),0),0),12)","v":16},106.78333332538605]
[null,null,null,null,null,null,null,105.5,{"$f":"I459+(I465-I455)/10","v":1.5000000000000004},{"$f":"IFERROR(ROUND((ROUNDDOWN(I460,0)*12)+IFERROR(VLOOKUP(ROUND(I460-(ROUNDDOWN(I460,0)),1),_Esperanzas!$R$5:$S$18,2,TRUE),0),0),12)","v":18},107,{"$f":"L459+(L465-L455)/10","v":1.7916666269302373},{"$f":"IFERROR(ROUND((ROUNDDOWN(L460,0)*12)+IFERROR(VLOOKUP(ROUND(L460-(ROUNDDOWN(L460,0)),1),_Esperanzas!$R$5:$S$18,2,TRUE),0),0),12)","v":21},107.29166662693024,null,null,null,null,null,null,null,null,null,null,null,null,null,null,105.5,{"$f":"AD459+(AD465-AD455)/10","v":1.1666666865348818},{"$f":"IFERROR(ROUND((ROUNDDOWN(AD460,0)*12)+IFERROR(VLOOKUP(ROUND(AD460-(ROUNDDOWN(AD460,0)),1),_Esperanzas!$R$5:$S$18,2,TRUE),0),0),12)","v":14},106.66666668653488,{"$f":"AG459+(AG465-AG455)/10","v":1.375},{"$f":"IFERROR(ROUND((ROUNDDOWN(AG460,0)*12)+IFERROR(VLOOKUP(ROUND(AG460-(ROUNDDOWN(AG460,0)),1),_Esperanzas!$R$5:$S$18,2,TRUE),0),0),12)","v":16},106.875]
[null,null,null,null,null,null,null,105.6,{"$f":"I460+(I465-I455)/10","v":1.4833333253860479},{"$f":"IFERROR(ROUND((ROUNDDOWN(I461,0)*12)+IFERROR(VLOOKUP(ROUND(I461-(ROUNDDOWN(I461,0)),1),_Esperanzas!$R$5:$S$18,2,TRUE),0),0),12)","v":18},107.08333332538604,{"$f":"L460+(L465-L455)/10","v":1.7666666269302373},{"$f":"IFERROR(ROUND((ROUNDDOWN(L461,0)*12)+IFERROR(VLOOKUP(ROUND(L461-(ROUNDDOWN(L461,0)),1),_Esperanzas!$R$5:$S$18,2,TRUE),0),0),12)","v":21},107.36666662693023,null,null,null,null,null,null,null,null,null,null,null,null,null,null,105.6,{"$f":"AD460+(AD465-AD455)/10","v":1.1500000238418582},{"$f":"IFERROR(ROUND((ROUNDDOWN(AD461,0)*12)+IFERROR(VLOOKUP(ROUND(AD461-(ROUNDDOWN(AD461,0)),1),_Esperanzas!$R$5:$S$18,2,TRUE),0),0),12)","v":14},106.75000002384185,{"$f":"AG460+(AG465-AG455)/10","v":1.3666666746139526},{"$f":"IFERROR(ROUND((ROUNDDOWN(AG461,0)*12)+IFERROR(VLOOKUP(ROUND(AG461-(ROUNDDOWN(AG461,0)),1),_Esperanzas!$R$5:$S$18,2,TRUE),0),0),12)","v":16},106.96666667461395]
[null,null,null,null,null,null,null,105.7,{"$f":"I461+(I465-I455)/10","v":1.4666666507720953},{"$f":"IFERROR(ROUND((ROUNDDOWN(I462,0)*12)+IFERROR(VLOOKUP(ROUND(I462-(ROUNDDOWN(I462,0)),1),_Esperanzas!$R$5:$S$18,2,TRUE),0),0),12)","v":18},107.1666666507721,{"$f":"L461+(L465-L455)/10","v":1.7416666269302374},{"$f":"IFERROR(ROUND((ROUNDDOWN(L462,0)*12)+IFERROR(VLOOKUP(ROUND(L462-(ROUNDDOWN(L462,0)),1),_Esperanzas!$R$5:$S$18,2,TRUE),0),0),12)","v":20},107.44166662693024,null,null,null,null,null,null,null,null,null,null,null,null,null,null,105.7,{"$f":"AD461+(AD465-AD455)/10","v":1.1333333611488345},{"$f":"IFERROR(ROUND((ROUNDDOWN(AD462,0)*12)+IFERROR(VLOOKUP(ROUND(AD462-(ROUNDDOWN(AD462,0)),1),_Esperanzas!$R$5:$S$18,2,TRUE),0),0),12)","v":13},106.83333336114883,{"$f":"AG461+(AG465-AG455)/10","v":1.3583333492279053},{"$f":"IFERROR(ROUND((ROUNDDOWN(AG462,0)*12)+IFERROR(VLOOKUP(ROUND(AG462-(ROUNDDOWN(AG462,0)),1),_Esperanzas!$R$5:$S$18,2,TRUE),0),0),12)","v":16},107.05833334922791]
[null,null,null,null,null,null,null,105.8,{"$f":"I462+(I465-I455)/10","v":1.4499999761581428},{"$f":"IFERROR(ROUND((ROUNDDOWN(I463,0)*12)+IFERROR(VLOOKUP(ROUND(I463-(ROUNDDOWN(I463,0)),1),_Esperanzas!$R$5:$S$18,2,TRUE),0),0),12)","v":16},107.24999997615814,{"$f":"L462+(L465-L455)/10","v":1.7166666269302375},{"$f":"IFERROR(ROUND((ROUNDDOWN(L463,0)*12)+IFERROR(VLOOKUP(ROUND(L463-(ROUNDDOWN(L463,0)),1),_Esperanzas!$R$5:$S$18,2,TRUE),0),0),12)","v":20},107.51666662693023,null,null,null,null,null,null,null,null,null,null,null,null,null,null,105.8,{"$f":"AD462+(AD465-AD455)/10","v":1.1166666984558109},{"$f":"IFERROR(ROUND((ROUNDDOWN(AD463,0)*12)+IFERROR(VLOOKUP(ROUND(AD463-(ROUNDDOWN(AD463,0)),1),_Esperanzas!$R$5:$S$18,2,TRUE),0),0),12)","v":13},106.91666669845581,{"$f":"AG462+(AG465-AG455)/10","v":1.3500000238418579},{"$f":"IFERROR(ROUND((ROUNDDOWN(AG463,0)*12)+IFERROR(VLOOKUP(ROUND(AG463-(ROUNDDOWN(AG463,0)),1),_Esperanzas!$R$5:$S$18,2,TRUE),0),0),12)","v":16},107.15000002384186]
[null,null,null,null,null,null,null,105.9,{"$f":"I463+(I465-I455)/10","v":1.4333333015441903},{"$f":"IFERROR(ROUND((ROUNDDOWN(I464,0)*12)+IFERROR(VLOOKUP(ROUND(I464-(ROUNDDOWN(I464,0)),1),_Esperanzas!$R$5:$S$18,2,TRUE),0),0),12)","v":16},107.3333333015442,{"$f":"L463+(L465-L455)/10","v":1.6916666269302376},{"$f":"IFERROR(ROUND((ROUNDDOWN(L464,0)*12)+IFERROR(VLOOKUP(ROUND(L464-(ROUNDDOWN(L464,0)),1),_Esperanzas!$R$5:$S$18,2,TRUE),0),0),12)","v":20},107.59166662693025,null,null,null,null,null,null,null,null,null,null,null,null,null,null,105.9,{"$f":"AD463+(AD465-AD455)/10","v":1.1000000357627873},{"$f":"IFERROR(ROUND((ROUNDDOWN(AD464,0)*12)+IFERROR(VLOOKUP(ROUND(AD464-(ROUNDDOWN(AD464,0)),1),_Esperanzas!$R$5:$S$18,2,TRUE),0),0),12)","v":13},107.0000000357628,{"$f":"AG463+(AG465-AG455)/10","v":1.3416666984558105},{"$f":"IFERROR(ROUND((ROUNDDOWN(AG464,0)*12)+IFERROR(VLOOKUP(ROUND(AG464-(ROUNDDOWN(AG464,0)),1),_Esperanzas!$R$5:$S$18,2,TRUE),0),0),12)","v":15},107.24166669845582]
[null,null,null,null,null,null,null,106,{"$f":"VLOOKUP($H465,$B$5:$F$55,2,0)","v":1.4166666269302368},{"$f":"IFERROR(ROUND((ROUNDDOWN(I465,0)*12)+IFERROR(VLOOKUP(ROUND(I465-(ROUNDDOWN(I465,0)),1),_Esperanzas!$R$5:$S$18,2,TRUE),0),0),12)","v":16},107.41666662693024,{"$f":"VLOOKUP($H465,$B$5:$F$55,4,0)","v":1.6666666269302368},{"$f":"IFERROR(ROUND((ROUNDDOWN(L465,0)*12)+IFERROR(VLOOKUP(ROUND(L465-(ROUNDDOWN(L465,0)),1),_Esperanzas!$R$5:$S$18,2,TRUE),0),0),12)","v":20},107.66666662693024,null,null,null,null,null,null,null,null,null,null,null,null,null,null,106,{"$f":"VLOOKUP($AC465,$W$5:$AA$55,2,0)","v":1.0833333730697632},{"$f":"IFERROR(ROUND((ROUNDDOWN(AD465,0)*12)+IFERROR(VLOOKUP(ROUND(AD465-(ROUNDDOWN(AD465,0)),1),_Esperanzas!$R$5:$S$18,2,TRUE),0),0),12)","v":13},107.08333337306976,{"$f":"VLOOKUP($AC465,$W$5:$AA$55,4,0)","v":1.3333333730697632},{"$f":"IFERROR(ROUND((ROUNDDOWN(AG465,0)*12)+IFERROR(VLOOKUP(ROUND(AG465-(ROUNDDOWN(AG465,0)),1),_Esperanzas!$R$5:$S$18,2,TRUE),0),0),12)","v":15},107.33333337306976]
[null,null,null,null,null,null,null,106.1,{"$f":"I465+(I475-I465)/10","v":1.4083333015441895},{"$f":"IFERROR(ROUND((ROUNDDOWN(I466,0)*12)+IFERROR(VLOOKUP(ROUND(I466-(ROUNDDOWN(I466,0)),1),_Esperanzas!$R$5:$S$18,2,TRUE),0),0),12)","v":16},107.50833330154418,{"$f":"L465+(L475-L465)/10","v":1.6499999642372132},{"$f":"IFERROR(ROUND((ROUNDDOWN(L466,0)*12)+IFERROR(VLOOKUP(ROUND(L466-(ROUNDDOWN(L466,0)),1),_Esperanzas!$R$5:$S$18,2,TRUE),0),0),12)","v":19},107.7499999642372,null,null,null,null,null,null,null,null,null,null,null,null,null,null,106.1,{"$f":"AD465+(AD475-AD465)/10","v":1.0750000357627869},{"$f":"IFERROR(ROUND((ROUNDDOWN(AD466,0)*12)+IFERROR(VLOOKUP(ROUND(AD466-(ROUNDDOWN(AD466,0)),1),_Esperanzas!$R$5:$S$18,2,TRUE),0),0),12)","v":13},107.17500003576278,{"$f":"AG465+(AG475-AG465)/10","v":1.3166666984558106},{"$f":"IFERROR(ROUND((ROUNDDOWN(AG466,0)*12)+IFERROR(VLOOKUP(ROUND(AG466-(ROUNDDOWN(AG466,0)),1),_Esperanzas!$R$5:$S$18,2,TRUE),0),0),12)","v":15},107.4166666984558]
[null,null,null,null,null,null,null,106.2,{"$f":"I466+(I475-I465)/10","v":1.3999999761581421},{"$f":"IFERROR(ROUND((ROUNDDOWN(I467,0)*12)+IFERROR(VLOOKUP(ROUND(I467-(ROUNDDOWN(I467,0)),1),_Esperanzas!$R$5:$S$18,2,TRUE),0),0),12)","v":16},{"$f":"I467+H467","v":107.59999997615814},{"$f":"L466+(L475-L465)/10","v":1.6333333015441895},{"$f":"IFERROR(ROUND((ROUNDDOWN(L467,0)*12)+IFERROR(VLOOKUP(ROUND(L467-(ROUNDDOWN(L467,0)),1),_Esperanzas!$R$5:$S$18,2,TRUE),0),0),12)","v":19},107.83333330154419,null,null,null,null,null,null,null,null,null,null,null,null,null,null,106.2,{"$f":"AD466+(AD475-AD465)/10","v":1.0666666984558106},{"$f":"IFERROR(ROUND((ROUNDDOWN(AD467,0)*12)+IFERROR(VLOOKUP(ROUND(AD467-(ROUNDDOWN(AD467,0)),1),_Esperanzas!$R$5:$S$18,2,TRUE),0),0),12)","v":13},{"$f":"AD467+AC467","v":107.26666669845581},{"$f":"AG466+(AG475-AG465)/10","v":1.3000000238418581},{"$f":"IFERROR(ROUND((ROUNDDOWN(AG467,0)*12)+IFERROR(VLOOKUP(ROUND(AG467-(ROUNDDOWN(AG467,0)),1),_Esperanzas!$R$5:$S$18,2,TRUE),0),0),12)","v":15},{"$f":"AG467+AC467","v":107.50000002384186}]
[null,null,null,null,null,null,null,106.3,{"$f":"I467+(I475-I465)/10","v":1.3916666507720947},{"$f":"IFERROR(ROUND((ROUNDDOWN(I468,0)*12)+IFERROR(VLOOKUP(ROUND(I468-(ROUNDDOWN(I468,0)),1),_Esperanzas!$R$5:$S$18,2,TRUE),0),0),12)","v":16},107.69166665077209,{"$f":"L467+(L475-L465)/10","v":1.6166666388511659},{"$f":"IFERROR(ROUND((ROUNDDOWN(L468,0)*12)+IFERROR(VLOOKUP(ROUND(L468-(ROUNDDOWN(L468,0)),1),_Esperanzas!$R$5:$S$18,2,TRUE),0),0),12)","v":19},107.91666663885117,null,null,null,null,null,null,null,null,null,null,null,null,null,null,106.3,{"$f":"AD467+(AD475-AD465)/10","v":1.0583333611488344},{"$f":"IFERROR(ROUND((ROUNDDOWN(AD468,0)*12)+IFERROR(VLOOKUP(ROUND(AD468-(ROUNDDOWN(AD468,0)),1),_Esperanzas!$R$5:$S$18,2,TRUE),0),0),12)","v":13},107.35833336114884,{"$f":"AG467+(AG475-AG465)/10","v":1.2833333492279055},{"$f":"IFERROR(ROUND((ROUNDDOWN(AG468,0)*12)+IFERROR(VLOOKUP(ROUND(AG468-(ROUNDDOWN(AG468,0)),1),_Esperanzas!$R$5:$S$18,2,TRUE),0),0),12)","v":15},107.5833333492279]
[null,null,null,null,null,null,null,106.4,{"$f":"I468+(I475-I465)/10","v":1.3833333253860474},{"$f":"IFERROR(ROUND((ROUNDDOWN(I469,0)*12)+IFERROR(VLOOKUP(ROUND(I469-(ROUNDDOWN(I469,0)),1),_Esperanzas!$R$5:$S$18,2,TRUE),0),0),12)","v":16},107.78333332538605,{"$f":"L468+(L475-L465)/10","v":1.5999999761581423},{"$f":"IFERROR(ROUND((ROUNDDOWN(L469,0)*12)+IFERROR(VLOOKUP(ROUND(L469-(ROUNDDOWN(L469,0)),1),_Esperanzas!$R$5:$S$18,2,TRUE),0),0),12)","v":19},107.99999997615815,null,null,null,null,null,null,null,null,null,null,null,null,null,null,106.4,{"$f":"AD468+(AD475-AD465)/10","v":1.0500000238418581},{"$f":"IFERROR(ROUND((ROUNDDOWN(AD469,0)*12)+IFERROR(VLOOKUP(ROUND(AD469-(ROUNDDOWN(AD469,0)),1),_Esperanzas!$R$5:$S$18,2,TRUE),0),0),12)","v":13},107.45000002384187,{"$f":"AG468+(AG475-AG465)/10","v":1.266666674613953},{"$f":"IFERROR(ROUND((ROUNDDOWN(AG469,0)*12)+IFERROR(VLOOKUP(ROUND(AG469-(ROUNDDOWN(AG469,0)),1),_Esperanzas!$R$5:$S$18,2,TRUE),0),0),12)","v":15},107.66666667461396]
[null,null,null,null,null,null,null,106.5,{"$f":"I469+(I475-I465)/10","v":1.375},{"$f":"IFERROR(ROUND((ROUNDDOWN(I470,0)*12)+IFERROR(VLOOKUP(ROUND(I470-(ROUNDDOWN(I470,0)),1),_Esperanzas!$R$5:$S$18,2,TRUE),0),0),12)","v":16},107.875,{"$f":"L469+(L475-L465)/10","v":1.5833333134651186},{"$f":"IFERROR(ROUND((ROUNDDOWN(L470,0)*12)+IFERROR(VLOOKUP(ROUND(L470-(ROUNDDOWN(L470,0)),1),_Esperanzas!$R$5:$S$18,2,TRUE),0),0),12)","v":19},108.08333331346512,null,null,null,null,null,null,null,null,null,null,null,null,null,null,106.5,{"$f":"AD469+(AD475-AD465)/10","v":1.0416666865348818},{"$f":"IFERROR(ROUND((ROUNDDOWN(AD470,0)*12)+IFERROR(VLOOKUP(ROUND(AD470-(ROUNDDOWN(AD470,0)),1),_Esperanzas!$R$5:$S$18,2,TRUE),0),0),12)","v":12},107.54166668653488,{"$f":"AG469+(AG475-AG465)/10","v":1.2500000000000004},{"$f":"IFERROR(ROUND((ROUNDDOWN(AG470,0)*12)+IFERROR(VLOOKUP(ROUND(AG470-(ROUNDDOWN(AG470,0)),1),_Esperanzas!$R$5:$S$18,2,TRUE),0),0),12)","v":15},107.75]
[null,null,null,null,null,null,null,106.6,{"$f":"I470+(I475-I465)/10","v":1.3666666746139526},{"$f":"IFERROR(ROUND((ROUNDDOWN(I471,0)*12)+IFERROR(VLOOKUP(ROUND(I471-(ROUNDDOWN(I471,0)),1),_Esperanzas!$R$5:$S$18,2,TRUE),0),0),12)","v":16},107.96666667461395,{"$f":"L470+(L475-L465)/10","v":1.566666650772095},{"$f":"IFERROR(ROUND((ROUNDDOWN(L471,0)*12)+IFERROR(VLOOKUP(ROUND(L471-(ROUNDDOWN(L471,0)),1),_Esperanzas!$R$5:$S$18,2,TRUE),0),0),12)","v":19},108.16666665077209,null,null,null,null,null,null,null,null,null,null,null,null,null,null,106.6,{"$f":"AD470+(AD475-AD465)/10","v":1.0333333492279055},{"$f":"IFERROR(ROUND((ROUNDDOWN(AD471,0)*12)+IFERROR(VLOOKUP(ROUND(AD471-(ROUNDDOWN(AD471,0)),1),_Esperanzas!$R$5:$S$18,2,TRUE),0),0),12)","v":12},107.6333333492279,{"$f":"AG470+(AG475-AG465)/10","v":1.2333333253860479},{"$f":"IFERROR(ROUND((ROUNDDOWN(AG471,0)*12)+IFERROR(VLOOKUP(ROUND(AG471-(ROUNDDOWN(AG471,0)),1),_Esperanzas!$R$5:$S$18,2,TRUE),0),0),12)","v":14},107.83333332538604]
[null,null,null,null,null,null,null,106.7,{"$f":"I471+(I475-I465)/10","v":1.3583333492279053},{"$f":"IFERROR(ROUND((ROUNDDOWN(I472,0)*12)+IFERROR(VLOOKUP(ROUND(I472-(ROUNDDOWN(I472,0)),1),_Esperanzas!$R$5:$S$18,2,TRUE),0),0),12)","v":16},108.05833334922791,{"$f":"L471+(L475-L465)/10","v":1.5499999880790714},{"$f":"IFERROR(ROUND((ROUNDDOWN(L472,0)*12)+IFERROR(VLOOKUP(ROUND(L472-(ROUNDDOWN(L472,0)),1),_Esperanzas!$R$5:$S$18,2,TRUE),0),0),12)","v":18},108.24999998807907,null,null,null,null,null,null,null,null,null,null,null,null,null,null,106.7,{"$f":"AD471+(AD475-AD465)/10","v":1.0250000119209293},{"$f":"IFERROR(ROUND((ROUNDDOWN(AD472,0)*12)+IFERROR(VLOOKUP(ROUND(AD472-(ROUNDDOWN(AD472,0)),1),_Esperanzas!$R$5:$S$18,2,TRUE),0),0),12)","v":12},107.72500001192093,{"$f":"AG471+(AG475-AG465)/10","v":1.2166666507720953},{"$f":"IFERROR(ROUND((ROUNDDOWN(AG472,0)*12)+IFERROR(VLOOKUP(ROUND(AG472-(ROUNDDOWN(AG472,0)),1),_Esperanzas!$R$5:$S$18,2,TRUE),0),0),12)","v":14},107.9166666507721]
[null,null,null,null,null,null,null,106.8,{"$f":"I472+(I475-I465)/10","v":1.3500000238418579},{"$f":"IFERROR(ROUND((ROUNDDOWN(I473,0)*12)+IFERROR(VLOOKUP(ROUND(I473-(ROUNDDOWN(I473,0)),1),_Esperanzas!$R$5:$S$18,2,TRUE),0),0),12)","v":16},108.15000002384186,{"$f":"L472+(L475-L465)/10","v":1.5333333253860477},{"$f":"IFERROR(ROUND((ROUNDDOWN(L473,0)*12)+IFERROR(VLOOKUP(ROUND(L473-(ROUNDDOWN(L473,0)),1),_Esperanzas!$R$5:$S$18,2,TRUE),0),0),12)","v":18},108.33333332538605,null,null,null,null,null,null,null,null,null,null,null,null,null,null,106.8,{"$f":"AD472+(AD475-AD465)/10","v":1.016666674613953},{"$f":"IFERROR(ROUND((ROUNDDOWN(AD473,0)*12)+IFERROR(VLOOKUP(ROUND(AD473-(ROUNDDOWN(AD473,0)),1),_Esperanzas!$R$5:$S$18,2,TRUE),0),0),12)","v":12},107.81666667461396,{"$f":"AG472+(AG475-AG465)/10","v":1.1999999761581428},{"$f":"IFERROR(ROUND((ROUNDDOWN(AG473,0)*12)+IFERROR(VLOOKUP(ROUND(AG473-(ROUNDDOWN(AG473,0)),1),_Esperanzas!$R$5:$S$18,2,TRUE),0),0),12)","v":14},107.99999997615814]
[null,null,null,null,null,null,null,106.9,{"$f":"I473+(I475-I465)/10","v":1.3416666984558105},{"$f":"IFERROR(ROUND((ROUNDDOWN(I474,0)*12)+IFERROR(VLOOKUP(ROUND(I474-(ROUNDDOWN(I474,0)),1),_Esperanzas!$R$5:$S$18,2,TRUE),0),0),12)","v":15},108.24166669845582,{"$f":"L473+(L475-L465)/10","v":1.5166666626930241},{"$f":"IFERROR(ROUND((ROUNDDOWN(L474,0)*12)+IFERROR(VLOOKUP(ROUND(L474-(ROUNDDOWN(L474,0)),1),_Esperanzas!$R$5:$S$18,2,TRUE),0),0),12)","v":18},108.41666666269303,null,null,null,null,null,null,null,null,null,null,null,null,null,null,106.9,{"$f":"AD473+(AD475-AD465)/10","v":1.0083333373069767},{"$f":"IFERROR(ROUND((ROUNDDOWN(AD474,0)*12)+IFERROR(VLOOKUP(ROUND(AD474-(ROUNDDOWN(AD474,0)),1),_Esperanzas!$R$5:$S$18,2,TRUE),0),0),12)","v":12},107.90833333730698,{"$f":"AG473+(AG475-AG465)/10","v":1.1833333015441903},{"$f":"IFERROR(ROUND((ROUNDDOWN(AG474,0)*12)+IFERROR(VLOOKUP(ROUND(AG474-(ROUNDDOWN(AG474,0)),1),_Esperanzas!$R$5:$S$18,2,TRUE),0),0),12)","v":14},108.0833333015442]
[null,null,null,null,null,null,null,107,{"$f":"VLOOKUP($H475,$B$5:$F$55,2,0)","v":1.3333333730697632},{"$f":"IFERROR(ROUND((ROUNDDOWN(I475,0)*12)+IFERROR(VLOOKUP(ROUND(I475-(ROUNDDOWN(I475,0)),1),_Esperanzas!$R$5:$S$18,2,TRUE),0),0),12)","v":15},108.33333337306976,{"$f":"VLOOKUP($H475,$B$5:$F$55,4,0)","v":1.5},{"$f":"IFERROR(ROUND((ROUNDDOWN(L475,0)*12)+IFERROR(VLOOKUP(ROUND(L475-(ROUNDDOWN(L475,0)),1),_Esperanzas!$R$5:$S$18,2,TRUE),0),0),12)","v":18},108.5,null,null,null,null,null,null,null,null,null,null,null,null,null,null,107,{"$f":"VLOOKUP($AC475,$W$5:$AA$55,2,0)","v":1},{"$f":"IFERROR(ROUND((ROUNDDOWN(AD475,0)*12)+IFERROR(VLOOKUP(ROUND(AD475-(ROUNDDOWN(AD475,0)),1),_Esperanzas!$R$5:$S$18,2,TRUE),0),0),12)","v":12},108,{"$f":"VLOOKUP($AC475,$W$5:$AA$55,4,0)","v":1.1666666269302368},{"$f":"IFERROR(ROUND((ROUNDDOWN(AG475,0)*12)+IFERROR(VLOOKUP(ROUND(AG475-(ROUNDDOWN(AG475,0)),1),_Esperanzas!$R$5:$S$18,2,TRUE),0),0),12)","v":14},108.16666662693024]
[null,null,null,null,null,null,null,107.1,{"$f":"I475+(I485-I475)/10","v":1.3166666984558106},{"$f":"IFERROR(ROUND((ROUNDDOWN(I476,0)*12)+IFERROR(VLOOKUP(ROUND(I476-(ROUNDDOWN(I476,0)),1),_Esperanzas!$R$5:$S$18,2,TRUE),0),0),12)","v":15},108.4166666984558,{"$f":"L475+(L485-L475)/10","v":1.4916666626930237},{"$f":"IFERROR(ROUND((ROUNDDOWN(L476,0)*12)+IFERROR(VLOOKUP(ROUND(L476-(ROUNDDOWN(L476,0)),1),_Esperanzas!$R$5:$S$18,2,TRUE),0),0),12)","v":18},108.59166666269302,null,null,null,null,null,null,null,null,null,null,null,null,null,null,107.1,{"$f":"AD475+(AD485-AD475)/10","v":0.99166666865348818},{"$f":"IFERROR(ROUND((ROUNDDOWN(AD476,0)*12)+IFERROR(VLOOKUP(ROUND(AD476-(ROUNDDOWN(AD476,0)),1),_Esperanzas!$R$5:$S$18,2,TRUE),0),0),12)","v":12},108.09166666865349,{"$f":"AG475+(AG485-AG475)/10","v":1.1583333015441895},{"$f":"IFERROR(ROUND((ROUNDDOWN(AG476,0)*12)+IFERROR(VLOOKUP(ROUND(AG476-(ROUNDDOWN(AG476,0)),1),_Esperanzas!$R$5:$S$18,2,TRUE),0),0),12)","v":14},108.25833330154418]
[null,null,null,null,null,null,null,107.2,{"$f":"I476+(I485-I475)/10","v":1.3000000238418581},{"$f":"IFERROR(ROUND((ROUNDDOWN(I477,0)*12)+IFERROR(VLOOKUP(ROUND(I477-(ROUNDDOWN(I477,0)),1),_Esperanzas!$R$5:$S$18,2,TRUE),0),0),12)","v":15},108.50000002384186,{"$f":"L476+(L485-L475)/10","v":1.4833333253860475},{"$f":"IFERROR(ROUND((ROUNDDOWN(L477,0)*12)+IFERROR(VLOOKUP(ROUND(L477-(ROUNDDOWN(L477,0)),1),_Esperanzas!$R$5:$S$18,2,TRUE),0),0),12)","v":18},108.68333332538604,null,null,null,null,null,null,null,null,null,null,null,null,null,null,107.2,{"$f":"AD476+(AD485-AD475)/10","v":0.98333333730697636},{"$f":"IFERROR(ROUND((ROUNDDOWN(AD477,0)*12)+IFERROR(VLOOKUP(ROUND(AD477-(ROUNDDOWN(AD477,0)),1),_Esperanzas!$R$5:$S$18,2,TRUE),0),0),12)","v":12},108.18333333730698,{"$f":"AG476+(AG485-AG475)/10","v":1.1499999761581421},{"$f":"IFERROR(ROUND((ROUNDDOWN(AG477,0)*12)+IFERROR(VLOOKUP(ROUND(AG477-(ROUNDDOWN(AG477,0)),1),_Esperanzas!$R$5:$S$18,2,TRUE),0),0),12)","v":13},108.34999997615814]
[null,null,null,null,null,null,null,107.3,{"$f":"I477+(I485-I475)/10","v":1.2833333492279055},{"$f":"IFERROR(ROUND((ROUNDDOWN(I478,0)*12)+IFERROR(VLOOKUP(ROUND(I478-(ROUNDDOWN(I478,0)),1),_Esperanzas!$R$5:$S$18,2,TRUE),0),0),12)","v":15},108.5833333492279,{"$f":"L477+(L485-L475)/10","v":1.4749999880790712},{"$f":"IFERROR(ROUND((ROUNDDOWN(L478,0)*12)+IFERROR(VLOOKUP(ROUND(L478-(ROUNDDOWN(L478,0)),1),_Esperanzas!$R$5:$S$18,2,TRUE),0),0),12)","v":18},108.77499998807907,null,null,null,null,null,null,null,null,null,null,null,null,null,null,107.3,{"$f":"AD477+(AD485-AD475)/10","v":0.97500000596046454},{"$f":"IFERROR(ROUND((ROUNDDOWN(AD478,0)*12)+IFERROR(VLOOKUP(ROUND(AD478-(ROUNDDOWN(AD478,0)),1),_Esperanzas!$R$5:$S$18,2,TRUE),0),0),12)","v":12},108.27500000596046,{"$f":"AG477+(AG485-AG475)/10","v":1.1416666507720947},{"$f":"IFERROR(ROUND((ROUNDDOWN(AG478,0)*12)+IFERROR(VLOOKUP(ROUND(AG478-(ROUNDDOWN(AG478,0)),1),_Esperanzas!$R$5:$S$18,2,TRUE),0),0),12)","v":13},108.44166665077209]
[null,null,null,null,null,null,null,107.4,{"$f":"I478+(I485-I475)/10","v":1.266666674613953},{"$f":"IFERROR(ROUND((ROUNDDOWN(I479,0)*12)+IFERROR(VLOOKUP(ROUND(I479-(ROUNDDOWN(I479,0)),1),_Esperanzas!$R$5:$S$18,2,TRUE),0),0),12)","v":15},108.66666667461396,{"$f":"L478+(L485-L475)/10","v":1.4666666507720949},{"$f":"IFERROR(ROUND((ROUNDDOWN(L479,0)*12)+IFERROR(VLOOKUP(ROUND(L479-(ROUNDDOWN(L479,0)),1),_Esperanzas!$R$5:$S$18,2,TRUE),0),0),12)","v":18},108.8666666507721,null,null,null,null,null,null,null,null,null,null,null,null,null,null,107.4,{"$f":"AD478+(AD485-AD475)/10","v":0.96666667461395273},{"$f":"IFERROR(ROUND((ROUNDDOWN(AD479,0)*12)+IFERROR(VLOOKUP(ROUND(AD479-(ROUNDDOWN(AD479,0)),1),_Esperanzas!$R$5:$S$18,2,TRUE),0),0),12)","v":12},108.36666667461395,{"$f":"AG478+(AG485-AG475)/10","v":1.1333333253860474},{"$f":"IFERROR(ROUND((ROUNDDOWN(AG479,0)*12)+IFERROR(VLOOKUP(ROUND(AG479-(ROUNDDOWN(AG479,0)),1),_Esperanzas!$R$5:$S$18,2,TRUE),0),0),12)","v":13},108.53333332538605]
[null,null,null,null,null,null,null,107.5,{"$f":"I479+(I485-I475)/10","v":1.2500000000000004},{"$f":"IFERROR(ROUND((ROUNDDOWN(I480,0)*12)+IFERROR(VLOOKUP(ROUND(I480-(ROUNDDOWN(I480,0)),1),_Esperanzas!$R$5:$S$18,2,TRUE),0),0),12)","v":15},108.75,{"$f":"L479+(L485-L475)/10","v":1.4583333134651186},{"$f":"IFERROR(ROUND((ROUNDDOWN(L480,0)*12)+IFERROR(VLOOKUP(ROUND(L480-(ROUNDDOWN(L480,0)),1),_Esperanzas!$R$5:$S$18,2,TRUE),0),0),12)","v":18},108.95833331346512,null,null,null,null,null,null,null,null,null,null,null,null,null,null,107.5,{"$f":"AD479+(AD485-AD475)/10","v":0.95833334326744091},{"$f":"IFERROR(ROUND((ROUNDDOWN(AD480,0)*12)+IFERROR(VLOOKUP(ROUND(AD480-(ROUNDDOWN(AD480,0)),1),_Esperanzas!$R$5:$S$18,2,TRUE),0),0),12)","v":12},108.45833334326744,{"$f":"AG479+(AG485-AG475)/10","v":1.125},{"$f":"IFERROR(ROUND((ROUNDDOWN(AG480,0)*12)+IFERROR(VLOOKUP(ROUND(AG480-(ROUNDDOWN(AG480,0)),1),_Esperanzas!$R$5:$S$18,2,TRUE),0),0),12)","v":13},108.625]
[null,null,null,null,null,null,null,107.6,{"$f":"I480+(I485-I475)/10","v":1.2333333253860479},{"$f":"IFERROR(ROUND((ROUNDDOWN(I481,0)*12)+IFERROR(VLOOKUP(ROUND(I481-(ROUNDDOWN(I481,0)),1),_Esperanzas!$R$5:$S$18,2,TRUE),0),0),12)","v":14},108.83333332538604,{"$f":"L480+(L485-L475)/10","v":1.4499999761581424},{"$f":"IFERROR(ROUND((ROUNDDOWN(L481,0)*12)+IFERROR(VLOOKUP(ROUND(L481-(ROUNDDOWN(L481,0)),1),_Esperanzas!$R$5:$S$18,2,TRUE),0),0),12)","v":16},109.04999997615813,null,null,null,null,null,null,null,null,null,null,null,null,null,null,107.6,{"$f":"AD480+(AD485-AD475)/10","v":0.95000001192092909},{"$f":"IFERROR(ROUND((ROUNDDOWN(AD481,0)*12)+IFERROR(VLOOKUP(ROUND(AD481-(ROUNDDOWN(AD481,0)),1),_Esperanzas!$R$5:$S$18,2,TRUE),0),0),12)","v":12},108.55000001192093,{"$f":"AG480+(AG485-AG475)/10","v":1.1166666746139526},{"$f":"IFERROR(ROUND((ROUNDDOWN(AG481,0)*12)+IFERROR(VLOOKUP(ROUND(AG481-(ROUNDDOWN(AG481,0)),1),_Esperanzas!$R$5:$S$18,2,TRUE),0),0),12)","v":13},108.71666667461395]
[null,null,null,null,null,null,null,107.7,{"$f":"I481+(I485-I475)/10","v":1.2166666507720953},{"$f":"IFERROR(ROUND((ROUNDDOWN(I482,0)*12)+IFERROR(VLOOKUP(ROUND(I482-(ROUNDDOWN(I482,0)),1),_Esperanzas!$R$5:$S$18,2,TRUE),0),0),12)","v":14},108.9166666507721,{"$f":"L481+(L485-L475)/10","v":1.4416666388511661},{"$f":"IFERROR(ROUND((ROUNDDOWN(L482,0)*12)+IFERROR(VLOOKUP(ROUND(L482-(ROUNDDOWN(L482,0)),1),_Esperanzas!$R$5:$S$18,2,TRUE),0),0),12)","v":16},109.14166663885116,null,null,null,null,null,null,null,null,null,null,null,null,null,null,107.7,{"$f":"AD481+(AD485-AD475)/10","v":0.94166668057441727},{"$f":"IFERROR(ROUND((ROUNDDOWN(AD482,0)*12)+IFERROR(VLOOKUP(ROUND(AD482-(ROUNDDOWN(AD482,0)),1),_Esperanzas!$R$5:$S$18,2,TRUE),0),0),12)","v":10},108.64166668057442,{"$f":"AG481+(AG485-AG475)/10","v":1.1083333492279053},{"$f":"IFERROR(ROUND((ROUNDDOWN(AG482,0)*12)+IFERROR(VLOOKUP(ROUND(AG482-(ROUNDDOWN(AG482,0)),1),_Esperanzas!$R$5:$S$18,2,TRUE),0),0),12)","v":13},108.80833334922791]
[null,null,null,null,null,null,null,107.8,{"$f":"I482+(I485-I475)/10","v":1.1999999761581428},{"$f":"IFERROR(ROUND((ROUNDDOWN(I483,0)*12)+IFERROR(VLOOKUP(ROUND(I483-(ROUNDDOWN(I483,0)),1),_Esperanzas!$R$5:$S$18,2,TRUE),0),0),12)","v":14},108.99999997615814,{"$f":"L482+(L485-L475)/10","v":1.4333333015441898},{"$f":"IFERROR(ROUND((ROUNDDOWN(L483,0)*12)+IFERROR(VLOOKUP(ROUND(L483-(ROUNDDOWN(L483,0)),1),_Esperanzas!$R$5:$S$18,2,TRUE),0),0),12)","v":16},109.23333330154419,null,null,null,null,null,null,null,null,null,null,null,null,null,null,107.8,{"$f":"AD482+(AD485-AD475)/10","v":0.93333334922790545},{"$f":"IFERROR(ROUND((ROUNDDOWN(AD483,0)*12)+IFERROR(VLOOKUP(ROUND(AD483-(ROUNDDOWN(AD483,0)),1),_Esperanzas!$R$5:$S$18,2,TRUE),0),0),12)","v":10},108.73333334922791,{"$f":"AG482+(AG485-AG475)/10","v":1.1000000238418579},{"$f":"IFERROR(ROUND((ROUNDDOWN(AG483,0)*12)+IFERROR(VLOOKUP(ROUND(AG483-(ROUNDDOWN(AG483,0)),1),_Esperanzas!$R$5:$S$18,2,TRUE),0),0),12)","v":13},108.90000002384186]
[null,null,null,null,null,null,null,107.9,{"$f":"I483+(I485-I475)/10","v":1.1833333015441903},{"$f":"IFERROR(ROUND((ROUNDDOWN(I484,0)*12)+IFERROR(VLOOKUP(ROUND(I484-(ROUNDDOWN(I484,0)),1),_Esperanzas!$R$5:$S$18,2,TRUE),0),0),12)","v":14},109.0833333015442,{"$f":"L483+(L485-L475)/10","v":1.4249999642372135},{"$f":"IFERROR(ROUND((ROUNDDOWN(L484,0)*12)+IFERROR(VLOOKUP(ROUND(L484-(ROUNDDOWN(L484,0)),1),_Esperanzas!$R$5:$S$18,2,TRUE),0),0),12)","v":16},109.32499996423722,null,null,null,null,null,null,null,null,null,null,null,null,null,null,107.9,{"$f":"AD483+(AD485-AD475)/10","v":0.92500001788139363},{"$f":"IFERROR(ROUND((ROUNDDOWN(AD484,0)*12)+IFERROR(VLOOKUP(ROUND(AD484-(ROUNDDOWN(AD484,0)),1),_Esperanzas!$R$5:$S$18,2,TRUE),0),0),12)","v":10},108.82500001788139,{"$f":"AG483+(AG485-AG475)/10","v":1.0916666984558105},{"$f":"IFERROR(ROUND((ROUNDDOWN(AG484,0)*12)+IFERROR(VLOOKUP(ROUND(AG484-(ROUNDDOWN(AG484,0)),1),_Esperanzas!$R$5:$S$18,2,TRUE),0),0),12)","v":13},108.99166669845582]
[null,null,null,null,null,null,null,108,{"$f":"VLOOKUP($H485,$B$5:$F$55,2,0)","v":1.1666666269302368},{"$f":"IFERROR(ROUND((ROUNDDOWN(I485,0)*12)+IFERROR(VLOOKUP(ROUND(I485-(ROUNDDOWN(I485,0)),1),_Esperanzas!$R$5:$S$18,2,TRUE),0),0),12)","v":14},109.16666662693024,{"$f":"VLOOKUP($H485,$B$5:$F$55,4,0)","v":1.4166666269302368},{"$f":"IFERROR(ROUND((ROUNDDOWN(L485,0)*12)+IFERROR(VLOOKUP(ROUND(L485-(ROUNDDOWN(L485,0)),1),_Esperanzas!$R$5:$S$18,2,TRUE),0),0),12)","v":16},109.41666662693024,null,null,null,null,null,null,null,null,null,null,null,null,null,null,108,{"$f":"VLOOKUP($AC485,$W$5:$AA$55,2,0)","v":0.91666668653488159},{"$f":"IFERROR(ROUND((ROUNDDOWN(AD485,0)*12)+IFERROR(VLOOKUP(ROUND(AD485-(ROUNDDOWN(AD485,0)),1),_Esperanzas!$R$5:$S$18,2,TRUE),0),0),12)","v":10},108.91666668653488,{"$f":"VLOOKUP($AC485,$W$5:$AA$55,4,0)","v":1.0833333730697632},{"$f":"IFERROR(ROUND((ROUNDDOWN(AG485,0)*12)+IFERROR(VLOOKUP(ROUND(AG485-(ROUNDDOWN(AG485,0)),1),_Esperanzas!$R$5:$S$18,2,TRUE),0),0),12)","v":13},109.08333337306976]
[null,null,null,null,null,null,null,108.1,{"$f":"I485+(I495-I485)/10","v":1.1583333015441895},{"$f":"IFERROR(ROUND((ROUNDDOWN(I486,0)*12)+IFERROR(VLOOKUP(ROUND(I486-(ROUNDDOWN(I486,0)),1),_Esperanzas!$R$5:$S$18,2,TRUE),0),0),12)","v":14},109.25833330154418,{"$f":"L485+(L495-L485)/10","v":1.3999999642372132},{"$f":"IFERROR(ROUND((ROUNDDOWN(L486,0)*12)+IFERROR(VLOOKUP(ROUND(L486-(ROUNDDOWN(L486,0)),1),_Esperanzas!$R$5:$S$18,2,TRUE),0),0),12)","v":16},109.4999999642372,null,null,null,null,null,null,null,null,null,null,null,null,null,null,108.1,{"$f":"AD485+(AD495-AD485)/10","v":0.90833334922790532},{"$f":"IFERROR(ROUND((ROUNDDOWN(AD486,0)*12)+IFERROR(VLOOKUP(ROUND(AD486-(ROUNDDOWN(AD486,0)),1),_Esperanzas!$R$5:$S$18,2,TRUE),0),0),12)","v":10},109.0083333492279,{"$f":"AG485+(AG495-AG485)/10","v":1.066666704416275},{"$f":"IFERROR(ROUND((ROUNDDOWN(AG486,0)*12)+IFERROR(VLOOKUP(ROUND(AG486-(ROUNDDOWN(AG486,0)),1),_Esperanzas!$R$5:$S$18,2,TRUE),0),0),12)","v":13},109.16666670441627]
[null,null,null,null,null,null,null,108.2,{"$f":"I486+(I495-I485)/10","v":1.1499999761581421},{"$f":"IFERROR(ROUND((ROUNDDOWN(I487,0)*12)+IFERROR(VLOOKUP(ROUND(I487-(ROUNDDOWN(I487,0)),1),_Esperanzas!$R$5:$S$18,2,TRUE),0),0),12)","v":13},109.34999997615814,{"$f":"L486+(L495-L485)/10","v":1.3833333015441895},{"$f":"IFERROR(ROUND((ROUNDDOWN(L487,0)*12)+IFERROR(VLOOKUP(ROUND(L487-(ROUNDDOWN(L487,0)),1),_Esperanzas!$R$5:$S$18,2,TRUE),0),0),12)","v":16},109.58333330154419,null,null,null,null,null,null,null,null,null,null,null,null,null,null,108.2,{"$f":"AD486+(AD495-AD485)/10","v":0.90000001192092904},{"$f":"IFERROR(ROUND((ROUNDDOWN(AD487,0)*12)+IFERROR(VLOOKUP(ROUND(AD487-(ROUNDDOWN(AD487,0)),1),_Esperanzas!$R$5:$S$18,2,TRUE),0),0),12)","v":10},109.10000001192093,{"$f":"AG486+(AG495-AG485)/10","v":1.0500000357627868},{"$f":"IFERROR(ROUND((ROUNDDOWN(AG487,0)*12)+IFERROR(VLOOKUP(ROUND(AG487-(ROUNDDOWN(AG487,0)),1),_Esperanzas!$R$5:$S$18,2,TRUE),0),0),12)","v":13},109.2500000357628]
[null,null,null,null,null,null,null,108.3,{"$f":"I487+(I495-I485)/10","v":1.1416666507720947},{"$f":"IFERROR(ROUND((ROUNDDOWN(I488,0)*12)+IFERROR(VLOOKUP(ROUND(I488-(ROUNDDOWN(I488,0)),1),_Esperanzas!$R$5:$S$18,2,TRUE),0),0),12)","v":13},109.44166665077209,{"$f":"L487+(L495-L485)/10","v":1.3666666388511659},{"$f":"IFERROR(ROUND((ROUNDDOWN(L488,0)*12)+IFERROR(VLOOKUP(ROUND(L488-(ROUNDDOWN(L488,0)),1),_Esperanzas!$R$5:$S$18,2,TRUE),0),0),12)","v":16},109.66666663885117,null,null,null,null,null,null,null,null,null,null,null,null,null,null,108.3,{"$f":"AD487+(AD495-AD485)/10","v":0.89166667461395277},{"$f":"IFERROR(ROUND((ROUNDDOWN(AD488,0)*12)+IFERROR(VLOOKUP(ROUND(AD488-(ROUNDDOWN(AD488,0)),1),_Esperanzas!$R$5:$S$18,2,TRUE),0),0),12)","v":10},109.19166667461396,{"$f":"AG487+(AG495-AG485)/10","v":1.0333333671092986},{"$f":"IFERROR(ROUND((ROUNDDOWN(AG488,0)*12)+IFERROR(VLOOKUP(ROUND(AG488-(ROUNDDOWN(AG488,0)),1),_Esperanzas!$R$5:$S$18,2,TRUE),0),0),12)","v":12},109.33333336710929]
[null,null,null,null,null,null,null,108.4,{"$f":"I488+(I495-I485)/10","v":1.1333333253860474},{"$f":"IFERROR(ROUND((ROUNDDOWN(I489,0)*12)+IFERROR(VLOOKUP(ROUND(I489-(ROUNDDOWN(I489,0)),1),_Esperanzas!$R$5:$S$18,2,TRUE),0),0),12)","v":13},109.53333332538605,{"$f":"L488+(L495-L485)/10","v":1.3499999761581423},{"$f":"IFERROR(ROUND((ROUNDDOWN(L489,0)*12)+IFERROR(VLOOKUP(ROUND(L489-(ROUNDDOWN(L489,0)),1),_Esperanzas!$R$5:$S$18,2,TRUE),0),0),12)","v":15},109.74999997615815,null,null,null,null,null,null,null,null,null,null,null,null,null,null,108.4,{"$f":"AD488+(AD495-AD485)/10","v":0.8833333373069765},{"$f":"IFERROR(ROUND((ROUNDDOWN(AD489,0)*12)+IFERROR(VLOOKUP(ROUND(AD489-(ROUNDDOWN(AD489,0)),1),_Esperanzas!$R$5:$S$18,2,TRUE),0),0),12)","v":10},109.28333333730698,{"$f":"AG488+(AG495-AG485)/10","v":1.0166666984558104},{"$f":"IFERROR(ROUND((ROUNDDOWN(AG489,0)*12)+IFERROR(VLOOKUP(ROUND(AG489-(ROUNDDOWN(AG489,0)),1),_Esperanzas!$R$5:$S$18,2,TRUE),0),0),12)","v":12},109.41666669845581]
[null,null,null,null,null,null,null,108.5,{"$f":"I489+(I495-I485)/10","v":1.125},{"$f":"IFERROR(ROUND((ROUNDDOWN(I490,0)*12)+IFERROR(VLOOKUP(ROUND(I490-(ROUNDDOWN(I490,0)),1),_Esperanzas!$R$5:$S$18,2,TRUE),0),0),12)","v":13},109.625,{"$f":"L489+(L495-L485)/10","v":1.3333333134651186},{"$f":"IFERROR(ROUND((ROUNDDOWN(L490,0)*12)+IFERROR(VLOOKUP(ROUND(L490-(ROUNDDOWN(L490,0)),1),_Esperanzas!$R$5:$S$18,2,TRUE),0),0),12)","v":15},109.83333331346512,null,null,null,null,null,null,null,null,null,null,null,null,null,null,108.5,{"$f":"AD489+(AD495-AD485)/10","v":0.87500000000000022},{"$f":"IFERROR(ROUND((ROUNDDOWN(AD490,0)*12)+IFERROR(VLOOKUP(ROUND(AD490-(ROUNDDOWN(AD490,0)),1),_Esperanzas!$R$5:$S$18,2,TRUE),0),0),12)","v":10},109.375,{"$f":"AG489+(AG495-AG485)/10","v":1.0000000298023222},{"$f":"IFERROR(ROUND((ROUNDDOWN(AG490,0)*12)+IFERROR(VLOOKUP(ROUND(AG490-(ROUNDDOWN(AG490,0)),1),_Esperanzas!$R$5:$S$18,2,TRUE),0),0),12)","v":12},109.50000002980232]
[null,null,null,null,null,null,null,108.6,{"$f":"I490+(I495-I485)/10","v":1.1166666746139526},{"$f":"IFERROR(ROUND((ROUNDDOWN(I491,0)*12)+IFERROR(VLOOKUP(ROUND(I491-(ROUNDDOWN(I491,0)),1),_Esperanzas!$R$5:$S$18,2,TRUE),0),0),12)","v":13},109.71666667461395,{"$f":"L490+(L495-L485)/10","v":1.316666650772095},{"$f":"IFERROR(ROUND((ROUNDDOWN(L491,0)*12)+IFERROR(VLOOKUP(ROUND(L491-(ROUNDDOWN(L491,0)),1),_Esperanzas!$R$5:$S$18,2,TRUE),0),0),12)","v":15},109.91666665077209,null,null,null,null,null,null,null,null,null,null,null,null,null,null,108.6,{"$f":"AD490+(AD495-AD485)/10","v":0.86666666269302395},{"$f":"IFERROR(ROUND((ROUNDDOWN(AD491,0)*12)+IFERROR(VLOOKUP(ROUND(AD491-(ROUNDDOWN(AD491,0)),1),_Esperanzas!$R$5:$S$18,2,TRUE),0),0),12)","v":10},109.46666666269302,{"$f":"AG490+(AG495-AG485)/10","v":0.98333336114883396},{"$f":"IFERROR(ROUND((ROUNDDOWN(AG491,0)*12)+IFERROR(VLOOKUP(ROUND(AG491-(ROUNDDOWN(AG491,0)),1),_Esperanzas!$R$5:$S$18,2,TRUE),0),0),12)","v":12},109.58333336114883]
[null,null,null,null,null,null,null,108.7,{"$f":"I491+(I495-I485)/10","v":1.1083333492279053},{"$f":"IFERROR(ROUND((ROUNDDOWN(I492,0)*12)+IFERROR(VLOOKUP(ROUND(I492-(ROUNDDOWN(I492,0)),1),_Esperanzas!$R$5:$S$18,2,TRUE),0),0),12)","v":13},109.80833334922791,{"$f":"L491+(L495-L485)/10","v":1.2999999880790714},{"$f":"IFERROR(ROUND((ROUNDDOWN(L492,0)*12)+IFERROR(VLOOKUP(ROUND(L492-(ROUNDDOWN(L492,0)),1),_Esperanzas!$R$5:$S$18,2,TRUE),0),0),12)","v":15},109.99999998807907,null,null,null,null,null,null,null,null,null,null,null,null,null,null,108.7,{"$f":"AD491+(AD495-AD485)/10","v":0.85833332538604767},{"$f":"IFERROR(ROUND((ROUNDDOWN(AD492,0)*12)+IFERROR(VLOOKUP(ROUND(AD492-(ROUNDDOWN(AD492,0)),1),_Esperanzas!$R$5:$S$18,2,TRUE),0),0),12)","v":10},109.55833332538604,{"$f":"AG491+(AG495-AG485)/10","v":0.96666669249534576},{"$f":"IFERROR(ROUND((ROUNDDOWN(AG492,0)*12)+IFERROR(VLOOKUP(ROUND(AG492-(ROUNDDOWN(AG492,0)),1),_Esperanzas!$R$5:$S$18,2,TRUE),0),0),12)","v":12},109.66666669249535]
[null,null,null,null,null,null,null,108.8,{"$f":"I492+(I495-I485)/10","v":1.1000000238418579},{"$f":"IFERROR(ROUND((ROUNDDOWN(I493,0)*12)+IFERROR(VLOOKUP(ROUND(I493-(ROUNDDOWN(I493,0)),1),_Esperanzas!$R$5:$S$18,2,TRUE),0),0),12)","v":13},109.90000002384186,{"$f":"L492+(L495-L485)/10","v":1.2833333253860477},{"$f":"IFERROR(ROUND((ROUNDDOWN(L493,0)*12)+IFERROR(VLOOKUP(ROUND(L493-(ROUNDDOWN(L493,0)),1),_Esperanzas!$R$5:$S$18,2,TRUE),0),0),12)","v":15},110.08333332538605,null,null,null,null,null,null,null,null,null,null,null,null,null,null,108.8,{"$f":"AD492+(AD495-AD485)/10","v":0.8499999880790714},{"$f":"IFERROR(ROUND((ROUNDDOWN(AD493,0)*12)+IFERROR(VLOOKUP(ROUND(AD493-(ROUNDDOWN(AD493,0)),1),_Esperanzas!$R$5:$S$18,2,TRUE),0),0),12)","v":9},109.64999998807907,{"$f":"AG492+(AG495-AG485)/10","v":0.95000002384185755},{"$f":"IFERROR(ROUND((ROUNDDOWN(AG493,0)*12)+IFERROR(VLOOKUP(ROUND(AG493-(ROUNDDOWN(AG493,0)),1),_Esperanzas!$R$5:$S$18,2,TRUE),0),0),12)","v":12},109.75000002384185]
[null,null,null,null,null,null,null,108.9,{"$f":"I493+(I495-I485)/10","v":1.0916666984558105},{"$f":"IFERROR(ROUND((ROUNDDOWN(I494,0)*12)+IFERROR(VLOOKUP(ROUND(I494-(ROUNDDOWN(I494,0)),1),_Esperanzas!$R$5:$S$18,2,TRUE),0),0),12)","v":13},109.99166669845582,{"$f":"L493+(L495-L485)/10","v":1.2666666626930241},{"$f":"IFERROR(ROUND((ROUNDDOWN(L494,0)*12)+IFERROR(VLOOKUP(ROUND(L494-(ROUNDDOWN(L494,0)),1),_Esperanzas!$R$5:$S$18,2,TRUE),0),0),12)","v":15},110.16666666269303,null,null,null,null,null,null,null,null,null,null,null,null,null,null,108.9,{"$f":"AD493+(AD495-AD485)/10","v":0.84166665077209513},{"$f":"IFERROR(ROUND((ROUNDDOWN(AD494,0)*12)+IFERROR(VLOOKUP(ROUND(AD494-(ROUNDDOWN(AD494,0)),1),_Esperanzas!$R$5:$S$18,2,TRUE),0),0),12)","v":9},109.7416666507721,{"$f":"AG493+(AG495-AG485)/10","v":0.93333335518836935},{"$f":"IFERROR(ROUND((ROUNDDOWN(AG494,0)*12)+IFERROR(VLOOKUP(ROUND(AG494-(ROUNDDOWN(AG494,0)),1),_Esperanzas!$R$5:$S$18,2,TRUE),0),0),12)","v":10},109.83333335518837]
[null,null,null,null,null,null,null,109,{"$f":"VLOOKUP($H495,$B$5:$F$55,2,0)","v":1.0833333730697632},{"$f":"IFERROR(ROUND((ROUNDDOWN(I495,0)*12)+IFERROR(VLOOKUP(ROUND(I495-(ROUNDDOWN(I495,0)),1),_Esperanzas!$R$5:$S$18,2,TRUE),0),0),12)","v":13},110.08333337306976,{"$f":"VLOOKUP($H495,$B$5:$F$55,4,0)","v":1.25},{"$f":"IFERROR(ROUND((ROUNDDOWN(L495,0)*12)+IFERROR(VLOOKUP(ROUND(L495-(ROUNDDOWN(L495,0)),1),_Esperanzas!$R$5:$S$18,2,TRUE),0),0),12)","v":15},110.25,null,null,null,null,null,null,null,null,null,null,null,null,null,null,109,{"$f":"VLOOKUP($AC495,$W$5:$AA$55,2,0)","v":0.83333331346511841},{"$f":"IFERROR(ROUND((ROUNDDOWN(AD495,0)*12)+IFERROR(VLOOKUP(ROUND(AD495-(ROUNDDOWN(AD495,0)),1),_Esperanzas!$R$5:$S$18,2,TRUE),0),0),12)","v":9},109.83333331346512,{"$f":"VLOOKUP($AC495,$W$5:$AA$55,4,0)","v":0.91666668653488159},{"$f":"IFERROR(ROUND((ROUNDDOWN(AG495,0)*12)+IFERROR(VLOOKUP(ROUND(AG495-(ROUNDDOWN(AG495,0)),1),_Esperanzas!$R$5:$S$18,2,TRUE),0),0),12)","v":10},109.91666668653488]
[null,null,null,null,null,null,null,109.1,{"$f":"I495+(I505-I495)/10","v":1.0750000357627869},{"$f":"IFERROR(ROUND((ROUNDDOWN(I496,0)*12)+IFERROR(VLOOKUP(ROUND(I496-(ROUNDDOWN(I496,0)),1),_Esperanzas!$R$5:$S$18,2,TRUE),0),0),12)","v":13},110.17500003576278,{"$f":"L495+(L505-L495)/10","v":1.2416666626930237},{"$f":"IFERROR(ROUND((ROUNDDOWN(L496,0)*12)+IFERROR(VLOOKUP(ROUND(L496-(ROUNDDOWN(L496,0)),1),_Esperanzas!$R$5:$S$18,2,TRUE),0),0),12)","v":14},110.34166666269302,null,null,null,null,null,null,null,null,null,null,null,null,null,null,109.1,{"$f":"AD495+(AD505-AD495)/10","v":0.82499998211860659},{"$f":"IFERROR(ROUND((ROUNDDOWN(AD496,0)*12)+IFERROR(VLOOKUP(ROUND(AD496-(ROUNDDOWN(AD496,0)),1),_Esperanzas!$R$5:$S$18,2,TRUE),0),0),12)","v":9},109.92499998211861,{"$f":"AG495+(AG505-AG495)/10","v":0.90833334922790532},{"$f":"IFERROR(ROUND((ROUNDDOWN(AG496,0)*12)+IFERROR(VLOOKUP(ROUND(AG496-(ROUNDDOWN(AG496,0)),1),_Esperanzas!$R$5:$S$18,2,TRUE),0),0),12)","v":10},110.0083333492279]
[null,null,null,null,null,null,null,109.2,{"$f":"I496+(I505-I495)/10","v":1.0666666984558106},{"$f":"IFERROR(ROUND((ROUNDDOWN(I497,0)*12)+IFERROR(VLOOKUP(ROUND(I497-(ROUNDDOWN(I497,0)),1),_Esperanzas!$R$5:$S$18,2,TRUE),0),0),12)","v":13},110.26666669845581,{"$f":"L496+(L505-L495)/10","v":1.2333333253860475},{"$f":"IFERROR(ROUND((ROUNDDOWN(L497,0)*12)+IFERROR(VLOOKUP(ROUND(L497-(ROUNDDOWN(L497,0)),1),_Esperanzas!$R$5:$S$18,2,TRUE),0),0),12)","v":14},110.43333332538604,null,null,null,null,null,null,null,null,null,null,null,null,null,null,109.2,{"$f":"AD496+(AD505-AD495)/10","v":0.81666665077209477},{"$f":"IFERROR(ROUND((ROUNDDOWN(AD497,0)*12)+IFERROR(VLOOKUP(ROUND(AD497-(ROUNDDOWN(AD497,0)),1),_Esperanzas!$R$5:$S$18,2,TRUE),0),0),12)","v":9},110.01666665077209,{"$f":"AG496+(AG505-AG495)/10","v":0.90000001192092904},{"$f":"IFERROR(ROUND((ROUNDDOWN(AG497,0)*12)+IFERROR(VLOOKUP(ROUND(AG497-(ROUNDDOWN(AG497,0)),1),_Esperanzas!$R$5:$S$18,2,TRUE),0),0),12)","v":10},110.10000001192093]
[null,null,null,null,null,null,null,109.3,{"$f":"I497+(I505-I495)/10","v":1.0583333611488344},{"$f":"IFERROR(ROUND((ROUNDDOWN(I498,0)*12)+IFERROR(VLOOKUP(ROUND(I498-(ROUNDDOWN(I498,0)),1),_Esperanzas!$R$5:$S$18,2,TRUE),0),0),12)","v":13},110.35833336114884,{"$f":"L497+(L505-L495)/10","v":1.2249999880790712},{"$f":"IFERROR(ROUND((ROUNDDOWN(L498,0)*12)+IFERROR(VLOOKUP(ROUND(L498-(ROUNDDOWN(L498,0)),1),_Esperanzas!$R$5:$S$18,2,TRUE),0),0),12)","v":14},110.52499998807907,null,null,null,null,null,null,null,null,null,null,null,null,null,null,109.3,{"$f":"AD497+(AD505-AD495)/10","v":0.80833331942558295},{"$f":"IFERROR(ROUND((ROUNDDOWN(AD498,0)*12)+IFERROR(VLOOKUP(ROUND(AD498-(ROUNDDOWN(AD498,0)),1),_Esperanzas!$R$5:$S$18,2,TRUE),0),0),12)","v":9},110.10833331942558,{"$f":"AG497+(AG505-AG495)/10","v":0.89166667461395277},{"$f":"IFERROR(ROUND((ROUNDDOWN(AG498,0)*12)+IFERROR(VLOOKUP(ROUND(AG498-(ROUNDDOWN(AG498,0)),1),_Esperanzas!$R$5:$S$18,2,TRUE),0),0),12)","v":10},110.19166667461396]
[null,null,null,null,null,null,null,109.4,{"$f":"I498+(I505-I495)/10","v":1.0500000238418581},{"$f":"IFERROR(ROUND((ROUNDDOWN(I499,0)*12)+IFERROR(VLOOKUP(ROUND(I499-(ROUNDDOWN(I499,0)),1),_Esperanzas!$R$5:$S$18,2,TRUE),0),0),12)","v":13},110.45000002384187,{"$f":"L498+(L505-L495)/10","v":1.2166666507720949},{"$f":"IFERROR(ROUND((ROUNDDOWN(L499,0)*12)+IFERROR(VLOOKUP(ROUND(L499-(ROUNDDOWN(L499,0)),1),_Esperanzas!$R$5:$S$18,2,TRUE),0),0),12)","v":14},110.6166666507721,null,null,null,null,null,null,null,null,null,null,null,null,null,null,109.4,{"$f":"AD498+(AD505-AD495)/10","v":0.79999998807907113},{"$f":"IFERROR(ROUND((ROUNDDOWN(AD499,0)*12)+IFERROR(VLOOKUP(ROUND(AD499-(ROUNDDOWN(AD499,0)),1),_Esperanzas!$R$5:$S$18,2,TRUE),0),0),12)","v":9},110.19999998807907,{"$f":"AG498+(AG505-AG495)/10","v":0.8833333373069765},{"$f":"IFERROR(ROUND((ROUNDDOWN(AG499,0)*12)+IFERROR(VLOOKUP(ROUND(AG499-(ROUNDDOWN(AG499,0)),1),_Esperanzas!$R$5:$S$18,2,TRUE),0),0),12)","v":10},110.28333333730698]
[null,null,null,null,null,null,null,109.5,{"$f":"I499+(I505-I495)/10","v":1.0416666865348818},{"$f":"IFERROR(ROUND((ROUNDDOWN(I500,0)*12)+IFERROR(VLOOKUP(ROUND(I500-(ROUNDDOWN(I500,0)),1),_Esperanzas!$R$5:$S$18,2,TRUE),0),0),12)","v":12},110.54166668653488,{"$f":"L499+(L505-L495)/10","v":1.2083333134651186},{"$f":"IFERROR(ROUND((ROUNDDOWN(L500,0)*12)+IFERROR(VLOOKUP(ROUND(L500-(ROUNDDOWN(L500,0)),1),_Esperanzas!$R$5:$S$18,2,TRUE),0),0),12)","v":14},110.70833331346512,null,null,null,null,null,null,null,null,null,null,null,null,null,null,109.5,{"$f":"AD499+(AD505-AD495)/10","v":0.79166665673255932},{"$f":"IFERROR(ROUND((ROUNDDOWN(AD500,0)*12)+IFERROR(VLOOKUP(ROUND(AD500-(ROUNDDOWN(AD500,0)),1),_Esperanzas!$R$5:$S$18,2,TRUE),0),0),12)","v":9},110.29166665673256,{"$f":"AG499+(AG505-AG495)/10","v":0.87500000000000022},{"$f":"IFERROR(ROUND((ROUNDDOWN(AG500,0)*12)+IFERROR(VLOOKUP(ROUND(AG500-(ROUNDDOWN(AG500,0)),1),_Esperanzas!$R$5:$S$18,2,TRUE),0),0),12)","v":10},110.375]
[null,null,null,null,null,null,null,109.6,{"$f":"I500+(I505-I495)/10","v":1.0333333492279055},{"$f":"IFERROR(ROUND((ROUNDDOWN(I501,0)*12)+IFERROR(VLOOKUP(ROUND(I501-(ROUNDDOWN(I501,0)),1),_Esperanzas!$R$5:$S$18,2,TRUE),0),0),12)","v":12},110.6333333492279,{"$f":"L500+(L505-L495)/10","v":1.1999999761581424},{"$f":"IFERROR(ROUND((ROUNDDOWN(L501,0)*12)+IFERROR(VLOOKUP(ROUND(L501-(ROUNDDOWN(L501,0)),1),_Esperanzas!$R$5:$S$18,2,TRUE),0),0),12)","v":14},110.79999997615813,null,null,null,null,null,null,null,null,null,null,null,null,null,null,109.6,{"$f":"AD500+(AD505-AD495)/10","v":0.7833333253860475},{"$f":"IFERROR(ROUND((ROUNDDOWN(AD501,0)*12)+IFERROR(VLOOKUP(ROUND(AD501-(ROUNDDOWN(AD501,0)),1),_Esperanzas!$R$5:$S$18,2,TRUE),0),0),12)","v":9},110.38333332538605,{"$f":"AG500+(AG505-AG495)/10","v":0.86666666269302395},{"$f":"IFERROR(ROUND((ROUNDDOWN(AG501,0)*12)+IFERROR(VLOOKUP(ROUND(AG501-(ROUNDDOWN(AG501,0)),1),_Esperanzas!$R$5:$S$18,2,TRUE),0),0),12)","v":10},110.46666666269302]
[null,null,null,null,null,null,null,109.7,{"$f":"I501+(I505-I495)/10","v":1.0250000119209293},{"$f":"IFERROR(ROUND((ROUNDDOWN(I502,0)*12)+IFERROR(VLOOKUP(ROUND(I502-(ROUNDDOWN(I502,0)),1),_Esperanzas!$R$5:$S$18,2,TRUE),0),0),12)","v":12},110.72500001192093,{"$f":"L501+(L505-L495)/10","v":1.1916666388511661},{"$f":"IFERROR(ROUND((ROUNDDOWN(L502,0)*12)+IFERROR(VLOOKUP(ROUND(L502-(ROUNDDOWN(L502,0)),1),_Esperanzas!$R$5:$S$18,2,TRUE),0),0),12)","v":14},110.89166663885116,null,null,null,null,null,null,null,null,null,null,null,null,null,null,109.7,{"$f":"AD501+(AD505-AD495)/10","v":0.77499999403953568},{"$f":"IFERROR(ROUND((ROUNDDOWN(AD502,0)*12)+IFERROR(VLOOKUP(ROUND(AD502-(ROUNDDOWN(AD502,0)),1),_Esperanzas!$R$5:$S$18,2,TRUE),0),0),12)","v":9},110.47499999403954,{"$f":"AG501+(AG505-AG495)/10","v":0.85833332538604767},{"$f":"IFERROR(ROUND((ROUNDDOWN(AG502,0)*12)+IFERROR(VLOOKUP(ROUND(AG502-(ROUNDDOWN(AG502,0)),1),_Esperanzas!$R$5:$S$18,2,TRUE),0),0),12)","v":10},110.55833332538604]
[null,null,null,null,null,null,null,109.8,{"$f":"I502+(I505-I495)/10","v":1.016666674613953},{"$f":"IFERROR(ROUND((ROUNDDOWN(I503,0)*12)+IFERROR(VLOOKUP(ROUND(I503-(ROUNDDOWN(I503,0)),1),_Esperanzas!$R$5:$S$18,2,TRUE),0),0),12)","v":12},110.81666667461396,{"$f":"L502+(L505-L495)/10","v":1.1833333015441898},{"$f":"IFERROR(ROUND((ROUNDDOWN(L503,0)*12)+IFERROR(VLOOKUP(ROUND(L503-(ROUNDDOWN(L503,0)),1),_Esperanzas!$R$5:$S$18,2,TRUE),0),0),12)","v":14},110.98333330154419,null,null,null,null,null,null,null,null,null,null,null,null,null,null,109.8,{"$f":"AD502+(AD505-AD495)/10","v":0.76666666269302386},{"$f":"IFERROR(ROUND((ROUNDDOWN(AD503,0)*12)+IFERROR(VLOOKUP(ROUND(AD503-(ROUNDDOWN(AD503,0)),1),_Esperanzas!$R$5:$S$18,2,TRUE),0),0),12)","v":9},110.56666666269302,{"$f":"AG502+(AG505-AG495)/10","v":0.8499999880790714},{"$f":"IFERROR(ROUND((ROUNDDOWN(AG503,0)*12)+IFERROR(VLOOKUP(ROUND(AG503-(ROUNDDOWN(AG503,0)),1),_Esperanzas!$R$5:$S$18,2,TRUE),0),0),12)","v":9},110.64999998807907]
[null,null,null,null,null,null,null,109.9,{"$f":"I503+(I505-I495)/10","v":1.0083333373069767},{"$f":"IFERROR(ROUND((ROUNDDOWN(I504,0)*12)+IFERROR(VLOOKUP(ROUND(I504-(ROUNDDOWN(I504,0)),1),_Esperanzas!$R$5:$S$18,2,TRUE),0),0),12)","v":12},110.90833333730698,{"$f":"L503+(L505-L495)/10","v":1.1749999642372135},{"$f":"IFERROR(ROUND((ROUNDDOWN(L504,0)*12)+IFERROR(VLOOKUP(ROUND(L504-(ROUNDDOWN(L504,0)),1),_Esperanzas!$R$5:$S$18,2,TRUE),0),0),12)","v":14},111.07499996423722,null,null,null,null,null,null,null,null,null,null,null,null,null,null,109.9,{"$f":"AD503+(AD505-AD495)/10","v":0.75833333134651204},{"$f":"IFERROR(ROUND((ROUNDDOWN(AD504,0)*12)+IFERROR(VLOOKUP(ROUND(AD504-(ROUNDDOWN(AD504,0)),1),_Esperanzas!$R$5:$S$18,2,TRUE),0),0),12)","v":9},110.65833333134651,{"$f":"AG503+(AG505-AG495)/10","v":0.84166665077209513},{"$f":"IFERROR(ROUND((ROUNDDOWN(AG504,0)*12)+IFERROR(VLOOKUP(ROUND(AG504-(ROUNDDOWN(AG504,0)),1),_Esperanzas!$R$5:$S$18,2,TRUE),0),0),12)","v":9},110.7416666507721]
[null,null,null,null,null,null,null,110,{"$f":"VLOOKUP($H505,$B$5:$F$55,2,0)","v":1},{"$f":"IFERROR(ROUND((ROUNDDOWN(I505,0)*12)+IFERROR(VLOOKUP(ROUND(I505-(ROUNDDOWN(I505,0)),1),_Esperanzas!$R$5:$S$18,2,TRUE),0),0),12)","v":12},111,{"$f":"VLOOKUP($H505,$B$5:$F$55,4,0)","v":1.1666666269302368},{"$f":"IFERROR(ROUND((ROUNDDOWN(L505,0)*12)+IFERROR(VLOOKUP(ROUND(L505-(ROUNDDOWN(L505,0)),1),_Esperanzas!$R$5:$S$18,2,TRUE),0),0),12)","v":14},111.16666662693024,null,null,null,null,null,null,null,null,null,null,null,null,null,null,110,{"$f":"VLOOKUP($AC505,$W$5:$AA$55,2,0)","v":0.75},{"$f":"IFERROR(ROUND((ROUNDDOWN(AD505,0)*12)+IFERROR(VLOOKUP(ROUND(AD505-(ROUNDDOWN(AD505,0)),1),_Esperanzas!$R$5:$S$18,2,TRUE),0),0),12)","v":9},110.75,{"$f":"VLOOKUP($AC505,$W$5:$AA$55,4,0)","v":0.83333331346511841},{"$f":"IFERROR(ROUND((ROUNDDOWN(AG505,0)*12)+IFERROR(VLOOKUP(ROUND(AG505-(ROUNDDOWN(AG505,0)),1),_Esperanzas!$R$5:$S$18,2,TRUE),0),0),12)","v":9},110.83333331346512]

{"sheet":"MODELO","index":1,"n_rows":95,"n_cols":443,"rows_kept":95,"cut":false,"hidden":false,"merged":[]}
["A100",null,null,null,null,null,null,null,null,null,null,null,"Activo",null,null,null,{"$f":"IF(COLUMNS($Q1:Q1)<=$E$61,1,0)","v":1},{"$f":"IF(COLUMNS($Q1:R1)<=$E$61,1,0)","v":1},{"$f":"IF(COLUMNS($Q1:S1)<=$E$61,1,0)","v":1},{"$f":"IF(COLUMNS($Q1:T1)<=$E$61,1,0)","v":1},{"$f":"IF(COLUMNS($Q1:U1)<=$E$61,1,0)","v":1},{"$f":"IF(COLUMNS($Q1:V1)<=$E$61,1,0)","v":1},{"$f":"IF(COLUMNS($Q1:W1)<=$E$61,1,0)","v":1},{"$f":"IF(COLUMNS($Q1:X1)<=$E$61,1,0)","v":1},{"$f":"IF(COLUMNS($Q1:Y1)<=$E$61,1,0)","v":1},{"$f":"IF(COLUMNS($Q1:Z1)<=$E$61,1,0)","v":1},{"$f":"IF(COLUMNS($Q1:AA1)<=$E$61,1,0)","v":1},{"$f":"IF(COLUMNS($Q1:AB1)<=$E$61,1,0)","v":1},{"$f":"IF(COLUMNS($Q1:AC1)<=$E$61,1,0)","v":1},{"$f":"IF(COLUMNS($Q1:AD1)<=$E$61,1,0)","v":1},{"$f":"IF(COLUMNS($Q1:AE1)<=$E$61,1,0)","v":1},{"$f":"IF(COLUMNS($Q1:AF1)<=$E$61,1,0)","v":1},{"$f":"IF(COLUMNS($Q1:AG1)<=$E$61,1,0)","v":1},{"$f":"IF(COLUMNS($Q1:AH1)<=$E$61,1,0)","v":1},{"$f":"IF(COLUMNS($Q1:AI1)<=$E$61,1,0)","v":1},{"$f":"IF(COLUMNS($Q1:AJ1)<=$E$61,1,0)","v":1},{"$f":"IF(COLUMNS($Q1:AK1)<=$E$61,1,0)","v":1},{"$f":"IF(COLUMNS($Q1:AL1)<=$E$61,1,0)","v":1},{"$f":"IF(COLUMNS($Q1:AM1)<=$E$61,1,0)","v":1},{"$f":"IF(COLUMNS($Q1:AN1)<=$E$61,1,0)","v":1},{"$f":"IF(COLUMNS($Q1:AO1)<=$E$61,1,0)","v":1},{"$f":"IF(COLUMNS($Q1:AP1)<=$E$61,1,0)","v":1},{"$f":"IF(COLUMNS($Q1:AQ1)<=$E$61,1,0)","v":1},{"$f":"IF(COLUMNS($Q1:AR1)<=$E$61,1,0)","v":1},{"$f":"IF(COLUMNS($Q1:AS1)<=$E$61,1,0)","v":1},{"$f":"IF(COLUMNS($Q1:AT1)<=$E$61,1,0)","v":1},{"$f":"IF(COLUMNS($Q1:AU1)<=$E$61,1,0)","v":1},{"$f":"IF(COLUMNS($Q1:AV1)<=$E$61,1,0)","v":1},{"$f":"IF(COLUMNS($Q1:AW1)<=$E$61,1,0)","v":1},{"$f":"IF(COLUMNS($Q1:AX1)<=$E$61,1,0)","v":1},{"$f":"IF(COLUMNS($Q1:AY1)<=$E$61,1,0)","v":1},{"$f":"IF(COLUMNS($Q1:AZ1)<=$E$61,1,0)","v":1},{"$f":"IF(COLUMNS($Q1:BA1)<=$E$61,1,0)","v":1},{"$f":"IF(COLUMNS($Q1:BB1)<=$E$61,1,0)","v":1},{"$f":"IF(COLUMNS($Q1:BC1)<=$E$61,1,0)","v":1},{"$f":"IF(COLUMNS($Q1:BD1)<=$E$61,1,0)","v":1},{"$f":"IF(COLUMNS($Q1:BE1)<=$E$61,1,0)","v":1},{"$f":"IF(COLUMNS($Q1:BF1)<=$E$61,1,0)","v":1},{"$f":"IF(COLUMNS($Q1:BG1)<=$E$61,1,0)","v":1},{"$f":"IF(COLUMNS($Q1:BH1)<=$E$61,1,0)","v":1},{"$f":"IF(COLUMNS($Q1:BI1)<=$E$61,1,0)","v":1},{"$f":"IF(COLUMNS($Q1:BJ1)<=$E$61,1,0)","v":1},{"$f":"IF(COLUMNS($Q1:BK1)<=$E$61,1,0)","v":1},{"$f":"IF(COLUMNS($Q1:BL1)<=$E$61,1,0)","v":1},{"$f":"IF(COLUMNS($Q1:BM1)<=$E$61,1,0)","v":1},{"$f":"IF(COLUMNS($Q1:BN1)<=$E$61,1,0)","v":1},{"$f":"IF(COLUMNS($Q1:BO1)<=$E$61,1,0)","v":1},{"$f":"IF(COLUMNS($Q1:BP1)<=$E$61,1,0)","v":1},{"$f":"IF(COLUMNS($Q1:BQ1)<=$E$61,1,0)","v":1},{"$f":"IF(COLUMNS($Q1:BR1)<=$E$61,1,0)","v":1},{"$f":"IF(COLUMNS($Q1:BS1)<=$E$61,1,0)","v":1},{"$f":"IF(COLUMNS($Q1:BT1)<=$E$61,1,0)","v":1},{"$f":"IF(COLUMNS($Q1:BU1)<=$E$61,1,0)","v":1},{"$f":"IF(COLUMNS($Q1:BV1)<=$E$61,1,0)","v":1},{"$f":"IF(COLUMNS($Q1:BW1)<=$E$61,1,0)","v":1},{"$f":"IF(COLUMNS($Q1:BX1)<=$E$61,1,0)","v":1},{"$f":"IF(COLUMNS($Q1:BY1)<=$E$61,1,0)","v":0},{"$f":"IF(COLUMNS($Q1:BZ1)<=$E$61,1,0)","v":0},{"$f":"IF(COLUMNS($Q1:CA1)<=$E$61,1,0)","v":0},{"$f":"IF(COLUMNS($Q1:CB1)<=$E$61,1,0)","v":0},{"$f":"IF(COLUMNS($Q1:CC1)<=$E$61,1,0)","v":0},{"$f":"IF(COLUMNS($Q1:CD1)<=$E$61,1,0)","v":0},{"$f":"IF(COLUMNS($Q1:CE1)<=$E$61,1,0)","v":0},{"$f":"IF(COLUMNS($Q1:CF1)<=$E$61,1,0)","v":0},{"$f":"IF(COLUMNS($Q1:CG1)<=$E$61,1,0)","v":0},{"$f":"IF(COLUMNS($Q1:CH1)<=$E$61,1,0)","v":0},{"$f":"IF(COLUMNS($Q1:CI1)<=$E$61,1,0)","v":0},{"$f":"IF(COLUMNS($Q1:CJ1)<=$E$61,1,0)","v":0},{"$f":"IF(COLUMNS($Q1:CK1)<=$E$61,1,0)","v":0},{"$f":"IF(COLUMNS($Q1:CL1)<=$E$61,1,0)","v":0},{"$f":"IF(COLUMNS($Q1:CM1)<=$E$61,1,0)","v":0},{"$f":"IF(COLUMNS($Q1:CN1)<=$E$61,1,0)","v":0},{"$f":"IF(COLUMNS($Q1:CO1)<=$E$61,1,0)","v":0},{"$f":"IF(COLUMNS($Q1:CP1)<=$E$61,1,0)","v":0},{"$f":"IF(COLUMNS($Q1:CQ1)<=$E$61,1,0)","v":0},{"$f":"IF(COLUMNS($Q1:CR1)<=$E$61,1,0)","v":0},{"$f":"IF(COLUMNS($Q1:CS1)<=$E$61,1,0)","v":0},{"$f":"IF(COLUMNS($Q1:CT1)<=$E$61,1,0)","v":0},{"$f":"IF(COLUMNS($Q1:CU1)<=$E$61,1,0)","v":0},{"$f":"IF(COLUMNS($Q1:CV1)<=$E$61,1,0)","v":0},{"$f":"IF(COLUMNS($Q1:CW1)<=$E$61,1,0)","v":0},{"$f":"IF(COLUMNS($Q1:CX1)<=$E$61,1,0)","v":0},{"$f":"IF(COLUMNS($Q1:CY1)<=$E$61,1,0)","v":0},{"$f":"IF(COLUMNS($Q1:CZ1)<=$E$61,1,0)","v":0},{"$f":"IF(COLUMNS($Q1:DA1)<=$E$61,1,0)","v":0},{"$f":"IF(COLUMNS($Q1:DB1)<=$E$61,1,0)","v":0},{"$f":"IF(COLUMNS($Q1:DC1)<=$E$61,1,0)","v":0},{"$f":"IF(COLUMNS($Q1:DD1)<=$E$61,1,0)","v":0},{"$f":"IF(COLUMNS($Q1:DE1)<=$E$61,1,0)","v":0},{"$f":"IF(COLUMNS($Q1:DF1)<=$E$61,1,0)","v":0},{"$f":"IF(COLUMNS($Q1:DG1)<=$E$61,1,0)","v":0},{"$f":"IF(COLUMNS($Q1:DH1)<=$E$61,1,0)","v":0},{"$f":"IF(COLUMNS($Q1:DI1)<=$E$61,1,0)","v":0},{"$f":"IF(COLUMNS($Q1:DJ1)<=$E$61,1,0)","v":0},{"$f":"IF(COLUMNS($Q1:DK1)<=$E$61,1,0)","v":0},{"$f":"IF(COLUMNS($Q1:DL1)<=$E$61,1,0)","v":0},{"$f":"IF(COLUMNS($Q1:DM1)<=$E$61,1,0)","v":0},{"$f":"IF(COLUMNS($Q1:DN1)<=$E$61,1,0)","v":0},{"$f":"IF(COLUMNS($Q1:DO1)<=$E$61,1,0)","v":0},{"$f":"IF(COLUMNS($Q1:DP1)<=$E$61,1,0)","v":0},{"$f":"IF(COLUMNS($Q1:DQ1)<=$E$61,1,0)","v":0},{"$f":"IF(COLUMNS($Q1:DR1)<=$E$61,1,0)","v":0},{"$f":"IF(COLUMNS($Q1:DS1)<=$E$61,1,0)","v":0},{"$f":"IF(COLUMNS($Q1:DT1)<=$E$61,1,0)","v":0},{"$f":"IF(COLUMNS($Q1:DU1)<=$E$61,1,0)","v":0},{"$f":"IF(COLUMNS($Q1:DV1)<=$E$61,1,0)","v":0},{"$f":"IF(COLUMNS($Q1:DW1)<=$E$61,1,0)","v":0},{"$f":"IF(COLUMNS($Q1:DX1)<=$E$61,1,0)","v":0},{"$f":"IF(COLUMNS($Q1:DY1)<=$E$61,1,0)","v":0},{"$f":"IF(COLUMNS($Q1:DZ1)<=$E$61,1,0)","v":0},{"$f":"IF(COLUMNS($Q1:EA1)<=$E$61,1,0)","v":0},{"$f":"IF(COLUMNS($Q1:EB1)<=$E$61,1,0)","v":0},{"$f":"IF(COLUMNS($Q1:EC1)<=$E$61,1,0)","v":0},{"$f":"IF(COLUMNS($Q1:ED1)<=$E$61,1,0)","v":0},{"$f":"IF(COLUMNS($Q1:EE1)<=$E$61,1,0)","v":0},{"$f":"IF(COLUMNS($Q1:EF1)<=$E$61,1,0)","v":0},{"$f":"IF(COLUMNS($Q1:EG1)<=$E$61,1,0)","v":0},{"$f":"IF(COLUMNS($Q1:EH1)<=$E$61,1,0)","v":0},{"$f":"IF(COLUMNS($Q1:EI1)<=$E$61,1,0)","v":0},{"$f":"IF(COLUMNS($Q1:EJ1)<=$E$61,1,0)","v":0},{"$f":"IF(COLUMNS($Q1:EK1)<=$E$61,1,0)","v":0},{"$f":"IF(COLUMNS($Q1:EL1)<=$E$61,1,0)","v":0},{"$f":"IF(COLUMNS($Q1:EM1)<=$E$61,1,0)","v":0},{"$f":"IF(COLUMNS($Q1:EN1)<=$E$61,1,0)","v":0},{"$f":"IF(COLUMNS($Q1:EO1)<=$E$61,1,0)","v":0},{"$f":"IF(COLUMNS($Q1:EP1)<=$E$61,1,0)","v":0},{"$f":"IF(COLUMNS($Q1:EQ1)<=$E$61,1,0)","v":0},{"$f":"IF(COLUMNS($Q1:ER1)<=$E$61,1,0)","v":0},{"$f":"IF(COLUMNS($Q1:ES1)<=$E$61,1,0)","v":0},{"$f":"IF(COLUMNS($Q1:ET1)<=$E$61,1,0)","v":0},{"$f":"IF(COLUMNS($Q1:EU1)<=$E$61,1,0)","v":0},{"$f":"IF(COLUMNS($Q1:EV1)<=$E$61,1,0)","v":0},{"$f":"IF(COLUMNS($Q1:EW1)<=$E$61,1,0)","v":0},{"$f":"IF(COLUMNS($Q1:EX1)<=$E$61,1,0)","v":0},{"$f":"IF(COLUMNS($Q1:EY1)<=$E$61,1,0)","v":0},{"$f":"IF(COLUMNS($Q1:EZ1)<=$E$61,1,0)","v":0},{"$f":"IF(COLUMNS($Q1:FA1)<=$E$61,1,0)","v":0},{"$f":"IF(COLUMNS($Q1:FB1)<=$E$61,1,0)","v":0},{"$f":"IF(COLUMNS($Q1:FC1)<=$E$61,1,0)","v":0},{"$f":"IF(COLUMNS($Q1:FD1)<=$E$61,1,0)","v":0},{"$f":"IF(COLUMNS($Q1:FE1)<=$E$61,1,0)","v":0},{"$f":"IF(COLUMNS($Q1:FF1)<=$E$61,1,0)","v":0},{"$f":"IF(COLUMNS($Q1:FG1)<=$E$61,1,0)","v":0},{"$f":"IF(COLUMNS($Q1:FH1)<=$E$61,1,0)","v":0},{"$f":"IF(COLUMNS($Q1:FI1)<=$E$61,1,0)","v":0},{"$f":"IF(COLUMNS($Q1:FJ1)<=$E$61,1,0)","v":0},{"$f":"IF(COLUMNS($Q1:FK1)<=$E$61,1,0)","v":0},{"$f":"IF(COLUMNS($Q1:FL1)<=$E$61,1,0)","v":0},{"$f":"IF(COLUMNS($Q1:FM1)<=$E$61,1,0)","v":0},{"$f":"IF(COLUMNS($Q1:FN1)<=$E$61,1,0)","v":0},{"$f":"IF(COLUMNS($Q1:FO1)<=$E$61,1,0)","v":0},{"$f":"IF(COLUMNS($Q1:FP1)<=$E$61,1,0)","v":0},{"$f":"IF(COLUMNS($Q1:FQ1)<=$E$61,1,0)","v":0},{"$f":"IF(COLUMNS($Q1:FR1)<=$E$61,1,0)","v":0},{"$f":"IF(COLUMNS($Q1:FS1)<=$E$61,1,0)","v":0},{"$f":"IF(COLUMNS($Q1:FT1)<=$E$61,1,0)","v":0},{"$f":"IF(COLUMNS($Q1:FU1)<=$E$61,1,0)","v":0},{"$f":"IF(COLUMNS($Q1:FV1)<=$E$61,1,0)","v":0},{"$f":"IF(COLUMNS($Q1:FW1)<=$E$61,1,0)","v":0},{"$f":"IF(COLUMNS($Q1:FX1)<=$E$61,1,0)","v":0},{"$f":"IF(COLUMNS($Q1:FY1)<=$E$61,1,0)","v":0},{"$f":"IF(COLUMNS($Q1:FZ1)<=$E$61,1,0)","v":0},{"$f":"IF(COLUMNS($Q1:GA1)<=$E$61,1,0)","v":0},{"$f":"IF(COLUMNS($Q1:GB1)<=$E$61,1,0)","v":0},{"$f":"IF(COLUMNS($Q1:GC1)<=$E$61,1,0)","v":0},{"$f":"IF(COLUMNS($Q1:GD1)<=$E$61,1,0)","v":0},{"$f":"IF(COLUMNS($Q1:GE1)<=$E$61,1,0)","v":0},{"$f":"IF(COLUMNS($Q1:GF1)<=$E$61,1,0)","v":0},{"$f":"IF(COLUMNS($Q1:GG1)<=$E$61,1,0)","v":0},{"$f":"IF(COLUMNS($Q1:GH1)<=$E$61,1,0)","v":0},{"$f":"IF(COLUMNS($Q1:GI1)<=$E$61,1,0)","v":0},{"$f":"IF(COLUMNS($Q1:GJ1)<=$E$61,1,0)","v":0},{"$f":"IF(COLUMNS($Q1:GK1)<=$E$61,1,0)","v":0},{"$f":"IF(COLUMNS($Q1:GL1)<=$E$61,1,0)","v":0},{"$f":"IF(COLUMNS($Q1:GM1)<=$E$61,1,0)","v":0},{"$f":"IF(COLUMNS($Q1:GN1)<=$E$61,1,0)","v":0},{"$f":"IF(COLUMNS($Q1:GO1)<=$E$61,1,0)","v":0},{"$f":"IF(COLUMNS($Q1:GP1)<=$E$61,1,0)","v":0},{"$f":"IF(COLUMNS($Q1:GQ1)<=$E$61,1,0)","v":0},{"$f":"IF(COLUMNS($Q1:GR1)<=$E$61,1,0)","v":0},{"$f":"IF(COLUMNS($Q1:GS1)<=$E$61,1,0)","v":0},{"$f":"IF(COLUMNS($Q1:GT1)<=$E$61,1,0)","v":0},{"$f":"IF(COLUMNS($Q1:GU1)<=$E$61,1,0)","v":0},{"$f":"IF(COLUMNS($Q1:GV1)<=$E$61,1,0)","v":0},{"$f":"IF(COLUMNS($Q1:GW1)<=$E$61,1,0)","v":0},{"$f":"IF(COLUMNS($Q1:GX1)<=$E$61,1,0)","v":0},{"$f":"IF(COLUMNS($Q1:GY1)<=$E$61,1,0)","v":0},{"$f":"IF(COLUMNS($Q1:GZ1)<=$E$61,1,0)","v":0},{"$f":"IF(COLUMNS($Q1:HA1)<=$E$61,1,0)","v":0},{"$f":"IF(COLUMNS($Q1:HB1)<=$E$61,1,0)","v":0},{"$f":"IF(COLUMNS($Q1:HC1)<=$E$61,1,0)","v":0},{"$f":"IF(COLUMNS($Q1:HD1)<=$E$61,1,0)","v":0},{"$f":"IF(COLUMNS($Q1:HE1)<=$E$61,1,0)","v":0},{"$f":"IF(COLUMNS($Q1:HF1)<=$E$61,1,0)","v":0},{"$f":"IF(COLUMNS($Q1:HG1)<=$E$61,1,0)","v":0},{"$f":"IF(COLUMNS($Q1:HH1)<=$E$61,1,0)","v":0},{"$f":"IF(COLUMNS($Q1:HI1)<=$E$61,1,0)","v":0},{"$f":"IF(COLUMNS($Q1:HJ1)<=$E$61,1,0)","v":0},{"$f":"IF(COLUMNS($Q1:HK1)<=$E$61,1,0)","v":0},{"$f":"IF(COLUMNS($Q1:HL1)<=$E$61,1,0)","v":0},{"$f":"IF(COLUMNS($Q1:HM1)<=$E$61,1,0)","v":0},{"$f":"IF(COLUMNS($Q1:HN1)<=$E$61,1,0)","v":0},{"$f":"IF(COLUMNS($Q1:HO1)<=$E$61,1,0)","v":0},{"$f":"IF(COLUMNS($Q1:HP1)<=$E$61,1,0)","v":0},{"$f":"IF(COLUMNS($Q1:HQ1)<=$E$61,1,0)","v":0},{"$f":"IF(COLUMNS($Q1:HR1)<=$E$61,1,0)","v":0},{"$f":"IF(COLUMNS($Q1:HS1)<=$E$61,1,0)","v":0},{"$f":"IF(COLUMNS($Q1:HT1)<=$E$61,1,0)","v":0},{"$f":"IF(COLUMNS($Q1:HU1)<=$E$61,1,0)","v":0},{"$f":"IF(COLUMNS($Q1:HV1)<=$E$61,1,0)","v":0},{"$f":"IF(COLUMNS($Q1:HW1)<=$E$61,1,0)","v":0},{"$f":"IF(COLUMNS($Q1:HX1)<=$E$61,1,0)","v":0},{"$f":"IF(COLUMNS($Q1:HY1)<=$E$61,1,0)","v":0},{"$f":"IF(COLUMNS($Q1:HZ1)<=$E$61,1,0)","v":0},{"$f":"IF(COLUMNS($Q1:IA1)<=$E$61,1,0)","v":0},{"$f":"IF(COLUMNS($Q1:IB1)<=$E$61,1,0)","v":0},{"$f":"IF(COLUMNS($Q1:IC1)<=$E$61,1,0)","v":0},{"$f":"IF(COLUMNS($Q1:ID1)<=$E$61,1,0)","v":0},{"$f":"IF(COLUMNS($Q1:IE1)<=$E$61,1,0)","v":0},{"$f":"IF(COLUMNS($Q1:IF1)<=$E$61,1,0)","v":0},{"$f":"IF(COLUMNS($Q1:IG1)<=$E$61,1,0)","v":0},{"$f":"IF(COLUMNS($Q1:IH1)<=$E$61,1,0)","v":0},{"$f":"IF(COLUMNS($Q1:II1)<=$E$61,1,0)","v":0},{"$f":"IF(COLUMNS($Q1:IJ1)<=$E$61,1,0)","v":0},{"$f":"IF(COLUMNS($Q1:IK1)<=$E$61,1,0)","v":0},{"$f":"IF(COLUMNS($Q1:IL1)<=$E$61,1,0)","v":0},{"$f":"IF(COLUMNS($Q1:IM1)<=$E$61,1,0)","v":0},{"$f":"IF(COLUMNS($Q1:IN1)<=$E$61,1,0)","v":0},{"$f":"IF(COLUMNS($Q1:IO1)<=$E$61,1,0)","v":0},{"$f":"IF(COLUMNS($Q1:IP1)<=$E$61,1,0)","v":0},{"$f":"IF(COLUMNS($Q1:IQ1)<=$E$61,1,0)","v":0},{"$f":"IF(COLUMNS($Q1:IR1)<=$E$61,1,0)","v":0},{"$f":"IF(COLUMNS($Q1:IS1)<=$E$61,1,0)","v":0},{"$f":"IF(COLUMNS($Q1:IT1)<=$E$61,1,0)","v":0},{"$f":"IF(COLUMNS($Q1:IU1)<=$E$61,1,0)","v":0},{"$f":"IF(COLUMNS($Q1:IV1)<=$E$61,1,0)","v":0},{"$f":"IF(COLUMNS($Q1:IW1)<=$E$61,1,0)","v":0},{"$f":"IF(COLUMNS($Q1:IX1)<=$E$61,1,0)","v":0},{"$f":"IF(COLUMNS($Q1:IY1)<=$E$61,1,0)","v":0},{"$f":"IF(COLUMNS($Q1:IZ1)<=$E$61,1,0)","v":0},{"$f":"IF(COLUMNS($Q1:JA1)<=$E$61,1,0)","v":0},{"$f":"IF(COLUMNS($Q1:JB1)<=$E$61,1,0)","v":0},{"$f":"IF(COLUMNS($Q1:JC1)<=$E$61,1,0)","v":0},{"$f":"IF(COLUMNS($Q1:JD1)<=$E$61,1,0)","v":0},{"$f":"IF(COLUMNS($Q1:JE1)<=$E$61,1,0)","v":0},{"$f":"IF(COLUMNS($Q1:JF1)<=$E$61,1,0)","v":0},{"$f":"IF(COLUMNS($Q1:JG1)<=$E$61,1,0)","v":0},{"$f":"IF(COLUMNS($Q1:JH1)<=$E$61,1,0)","v":0},{"$f":"IF(COLUMNS($Q1:JI1)<=$E$61,1,0)","v":0},{"$f":"IF(COLUMNS($Q1:JJ1)<=$E$61,1,0)","v":0},{"$f":"IF(COLUMNS($Q1:JK1)<=$E$61,1,0)","v":0},{"$f":"IF(COLUMNS($Q1:JL1)<=$E$61,1,0)","v":0},{"$f":"IF(COLUMNS($Q1:JM1)<=$E$61,1,0)","v":0},{"$f":"IF(COLUMNS($Q1:JN1)<=$E$61,1,0)","v":0},{"$f":"IF(COLUMNS($Q1:JO1)<=$E$61,1,0)","v":0},{"$f":"IF(COLUMNS($Q1:JP1)<=$E$61,1,0)","v":0},{"$f":"IF(COLUMNS($Q1:JQ1)<=$E$61,1,0)","v":0},{"$f":"IF(COLUMNS($Q1:JR1)<=$E$61,1,0)","v":0},{"$f":"IF(COLUMNS($Q1:JS1)<=$E$61,1,0)","v":0},{"$f":"IF(COLUMNS($Q1:JT1)<=$E$61,1,0)","v":0},{"$f":"IF(COLUMNS($Q1:JU1)<=$E$61,1,0)","v":0},{"$f":"IF(COLUMNS($Q1:JV1)<=$E$61,1,0)","v":0},{"$f":"IF(COLUMNS($Q1:JW1)<=$E$61,1,0)","v":0},{"$f":"IF(COLUMNS($Q1:JX1)<=$E$61,1,0)","v":0},{"$f":"IF(COLUMNS($Q1:JY1)<=$E$61,1,0)","v":0},{"$f":"IF(COLUMNS($Q1:JZ1)<=$E$61,1,0)","v":0},{"$f":"IF(COLUMNS($Q1:KA1)<=$E$61,1,0)","v":0},{"$f":"IF(COLUMNS($Q1:KB1)<=$E$61,1,0)","v":0},{"$f":"IF(COLUMNS($Q1:KC1)<=$E$61,1,0)","v":0},{"$f":"IF(COLUMNS($Q1:KD1)<=$E$61,1,0)","v":0},{"$f":"IF(COLUMNS($Q1:KE1)<=$E$61,1,0)","v":0},{"$f":"IF(COLUMNS($Q1:KF1)<=$E$61,1,0)","v":0},{"$f":"IF(COLUMNS($Q1:KG1)<=$E$61,1,0)","v":0},{"$f":"IF(COLUMNS($Q1:KH1)<=$E$61,1,0)","v":0},{"$f":"IF(COLUMNS($Q1:KI1)<=$E$61,1,0)","v":0},{"$f":"IF(COLUMNS($Q1:KJ1)<=$E$61,1,0)","v":0},{"$f":"IF(COLUMNS($Q1:KK1)<=$E$61,1,0)","v":0},{"$f":"IF(COLUMNS($Q1:KL1)<=$E$61,1,0)","v":0},{"$f":"IF(COLUMNS($Q1:KM1)<=$E$61,1,0)","v":0},{"$f":"IF(COLUMNS($Q1:KN1)<=$E$61,1,0)","v":0},{"$f":"IF(COLUMNS($Q1:KO1)<=$E$61,1,0)","v":0},{"$f":"IF(COLUMNS($Q1:KP1)<=$E$61,1,0)","v":0},{"$f":"IF(COLUMNS($Q1:KQ1)<=$E$61,1,0)","v":0},{"$f":"IF(COLUMNS($Q1:KR1)<=$E$61,1,0)","v":0},{"$f":"IF(COLUMNS($Q1:KS1)<=$E$61,1,0)","v":0},{"$f":"IF(COLUMNS($Q1:KT1)<=$E$61,1,0)","v":0},{"$f":"IF(COLUMNS($Q1:KU1)<=$E$61,1,0)","v":0},{"$f":"IF(COLUMNS($Q1:KV1)<=$E$61,1,0)","v":0},{"$f":"IF(COLUMNS($Q1:KW1)<=$E$61,1,0)","v":0},{"$f":"IF(COLUMNS($Q1:KX1)<=$E$61,1,0)","v":0},{"$f":"IF(COLUMNS($Q1:KY1)<=$E$61,1,0)","v":0},{"$f":"IF(COLUMNS($Q1:KZ1)<=$E$61,1,0)","v":0},{"$f":"IF(COLUMNS($Q1:LA1)<=$E$61,1,0)","v":0},{"$f":"IF(COLUMNS($Q1:LB1)<=$E$61,1,0)","v":0},{"$f":"IF(COLUMNS($Q1:LC1)<=$E$61,1,0)","v":0},{"$f":"IF(COLUMNS($Q1:LD1)<=$E$61,1,0)","v":0},{"$f":"IF(COLUMNS($Q1:LE1)<=$E$61,1,0)","v":0},{"$f":"IF(COLUMNS($Q1:LF1)<=$E$61,1,0)","v":0},{"$f":"IF(COLUMNS($Q1:LG1)<=$E$61,1,0)","v":0},{"$f":"IF(COLUMNS($Q1:LH1)<=$E$61,1,0)","v":0},{"$f":"IF(COLUMNS($Q1:LI1)<=$E$61,1,0)","v":0},{"$f":"IF(COLUMNS($Q1:LJ1)<=$E$61,1,0)","v":0},{"$f":"IF(COLUMNS($Q1:LK1)<=$E$61,1,0)","v":0},{"$f":"IF(COLUMNS($Q1:LL1)<=$E$61,1,0)","v":0},{"$f":"IF(COLUMNS($Q1:LM1)<=$E$61,1,0)","v":0},{"$f":"IF(COLUMNS($Q1:LN1)<=$E$61,1,0)","v":0},{"$f":"IF(COLUMNS($Q1:LO1)<=$E$61,1,0)","v":0},{"$f":"IF(COLUMNS($Q1:LP1)<=$E$61,1,0)","v":0},{"$f":"IF(COLUMNS($Q1:LQ1)<=$E$61,1,0)","v":0},{"$f":"IF(COLUMNS($Q1:LR1)<=$E$61,1,0)","v":0},{"$f":"IF(COLUMNS($Q1:LS1)<=$E$61,1,0)","v":0},{"$f":"IF(COLUMNS($Q1:LT1)<=$E$61,1,0)","v":0},{"$f":"IF(COLUMNS($Q1:LU1)<=$E$61,1,0)","v":0},{"$f":"IF(COLUMNS($Q1:LV1)<=$E$61,1,0)","v":0},{"$f":"IF(COLUMNS($Q1:LW1)<=$E$61,1,0)","v":0},{"$f":"IF(COLUMNS($Q1:LX1)<=$E$61,1,0)","v":0},{"$f":"IF(COLUMNS($Q1:LY1)<=$E$61,1,0)","v":0},{"$f":"IF(COLUMNS($Q1:LZ1)<=$E$61,1,0)","v":0},{"$f":"IF(COLUMNS($Q1:MA1)<=$E$61,1,0)","v":0},{"$f":"IF(COLUMNS($Q1:MB1)<=$E$61,1,0)","v":0},{"$f":"IF(COLUMNS($Q1:MC1)<=$E$61,1,0)","v":0},{"$f":"IF(COLUMNS($Q1:MD1)<=$E$61,1,0)","v":0},{"$f":"IF(COLUMNS($Q1:ME1)<=$E$61,1,0)","v":0},{"$f":"IF(COLUMNS($Q1:MF1)<=$E$61,1,0)","v":0},{"$f":"IF(COLUMNS($Q1:MG1)<=$E$61,1,0)","v":0},{"$f":"IF(COLUMNS($Q1:MH1)<=$E$61,1,0)","v":0},{"$f":"IF(COLUMNS($Q1:MI1)<=$E$61,1,0)","v":0},{"$f":"IF(COLUMNS($Q1:MJ1)<=$E$61,1,0)","v":0},{"$f":"IF(COLUMNS($Q1:MK1)<=$E$61,1,0)","v":0},{"$f":"IF(COLUMNS($Q1:ML1)<=$E$61,1,0)","v":0},{"$f":"IF(COLUMNS($Q1:MM1)<=$E$61,1,0)","v":0},{"$f":"IF(COLUMNS($Q1:MN1)<=$E$61,1,0)","v":0},{"$f":"IF(COLUMNS($Q1:MO1)<=$E$61,1,0)","v":0},{"$f":"IF(COLUMNS($Q1:MP1)<=$E$61,1,0)","v":0},{"$f":"IF(COLUMNS($Q1:MQ1)<=$E$61,1,0)","v":0},{"$f":"IF(COLUMNS($Q1:MR1)<=$E$61,1,0)","v":0},{"$f":"IF(COLUMNS($Q1:MS1)<=$E$61,1,0)","v":0},{"$f":"IF(COLUMNS($Q1:MT1)<=$E$61,1,0)","v":0},{"$f":"IF(COLUMNS($Q1:MU1)<=$E$61,1,0)","v":0},{"$f":"IF(COLUMNS($Q1:MV1)<=$E$61,1,0)","v":0},{"$f":"IF(COLUMNS($Q1:MW1)<=$E$61,1,0)","v":0},{"$f":"IF(COLUMNS($Q1:MX1)<=$E$61,1,0)","v":0},{"$f":"IF(COLUMNS($Q1:MY1)<=$E$61,1,0)","v":0},{"$f":"IF(COLUMNS($Q1:MZ1)<=$E$61,1,0)","v":0},{"$f":"IF(COLUMNS($Q1:NA1)<=$E$61,1,0)","v":0},{"$f":"IF(COLUMNS($Q1:NB1)<=$E$61,1,0)","v":0},{"$f":"IF(COLUMNS($Q1:NC1)<=$E$61,1,0)","v":0},{"$f":"IF(COLUMNS($Q1:ND1)<=$E$61,1,0)","v":0},{"$f":"IF(COLUMNS($Q1:NE1)<=$E$61,1,0)","v":0},{"$f":"IF(COLUMNS($Q1:NF1)<=$E$61,1,0)","v":0},{"$f":"IF(COLUMNS($Q1:NG1)<=$E$61,1,0)","v":0},{"$f":"IF(COLUMNS($Q1:NH1)<=$E$61,1,0)","v":0},{"$f":"IF(COLUMNS($Q1:NI1)<=$E$61,1,0)","v":0},{"$f":"IF(COLUMNS($Q1:NJ1)<=$E$61,1,0)","v":0},{"$f":"IF(COLUMNS($Q1:NK1)<=$E$61,1,0)","v":0},{"$f":"IF(COLUMNS($Q1:NL1)<=$E$61,1,0)","v":0},{"$f":"IF(COLUMNS($Q1:NM1)<=$E$61,1,0)","v":0},{"$f":"IF(COLUMNS($Q1:NN1)<=$E$61,1,0)","v":0},{"$f":"IF(COLUMNS($Q1:NO1)<=$E$61,1,0)","v":0},{"$f":"IF(COLUMNS($Q1:NP1)<=$E$61,1,0)","v":0},{"$f":"IF(COLUMNS($Q1:NQ1)<=$E$61,1,0)","v":0},{"$f":"IF(COLUMNS($Q1:NR1)<=$E$61,1,0)","v":0},{"$f":"IF(COLUMNS($Q1:NS1)<=$E$61,1,0)","v":0},{"$f":"IF(COLUMNS($Q1:NT1)<=$E$61,1,0)","v":0},{"$f":"IF(COLUMNS($Q1:NU1)<=$E$61,1,0)","v":0},{"$f":"IF(COLUMNS($Q1:NV1)<=$E$61,1,0)","v":0},{"$f":"IF(COLUMNS($Q1:NW1)<=$E$61,1,0)","v":0},{"$f":"IF(COLUMNS($Q1:NX1)<=$E$61,1,0)","v":0},{"$f":"IF(COLUMNS($Q1:NY1)<=$E$61,1,0)","v":0},{"$f":"IF(COLUMNS($Q1:NZ1)<=$E$61,1,0)","v":0},{"$f":"IF(COLUMNS($Q1:OA1)<=$E$61,1,0)","v":0},{"$f":"IF(COLUMNS($Q1:OB1)<=$E$61,1,0)","v":0},{"$f":"IF(COLUMNS($Q1:OC1)<=$E$61,1,0)","v":0},{"$f":"IF(COLUMNS($Q1:OD1)<=$E$61,1,0)","v":0},{"$f":"IF(COLUMNS($Q1:OE1)<=$E$61,1,0)","v":0},{"$f":"IF(COLUMNS($Q1:OF1)<=$E$61,1,0)","v":0},{"$f":"IF(COLUMNS($Q1:OG1)<=$E$61,1,0)","v":0},{"$f":"IF(COLUMNS($Q1:OH1)<=$E$61,1,0)","v":0},{"$f":"IF(COLUMNS($Q1:OI1)<=$E$61,1,0)","v":0},{"$f":"IF(COLUMNS($Q1:OJ1)<=$E$61,1,0)","v":0},{"$f":"IF(COLUMNS($Q1:OK1)<=$E$61,1,0)","v":0},{"$f":"IF(COLUMNS($Q1:OL1)<=$E$61,1,0)","v":0},{"$f":"IF(COLUMNS($Q1:OM1)<=$E$61,1,0)","v":0},{"$f":"IF(COLUMNS($Q1:ON1)<=$E$61,1,0)","v":0},{"$f":"IF(COLUMNS($Q1:OO1)<=$E$61,1,0)","v":0},{"$f":"IF(COLUMNS($Q1:OP1)<=$E$61,1,0)","v":0},{"$f":"IF(COLUMNS($Q1:OQ1)<=$E$61,1,0)","v":0},null,null,"x"]
[null,null,null,null,null,null,null,null,null,null,null,null,"Venta",null,null,null,{"$f":"IF(COLUMNS($Q2:Q2)=$E$61,1,0)","v":0},{"$f":"IF(COLUMNS($Q2:R2)=$E$61,1,0)","v":0},{"$f":"IF(COLUMNS($Q2:S2)=$E$61,1,0)","v":0},{"$f":"IF(COLUMNS($Q2:T2)=$E$61,1,0)","v":0},{"$f":"IF(COLUMNS($Q2:U2)=$E$61,1,0)","v":0},{"$f":"IF(COLUMNS($Q2:V2)=$E$61,1,0)","v":0},{"$f":"IF(COLUMNS($Q2:W2)=$E$61,1,0)","v":0},{"$f":"IF(COLUMNS($Q2:X2)=$E$61,1,0)","v":0},{"$f":"IF(COLUMNS($Q2:Y2)=$E$61,1,0)","v":0},{"$f":"IF(COLUMNS($Q2:Z2)=$E$61,1,0)","v":0},{"$f":"IF(COLUMNS($Q2:AA2)=$E$61,1,0)","v":0},{"$f":"IF(COLUMNS($Q2:AB2)=$E$61,1,0)","v":0},{"$f":"IF(COLUMNS($Q2:AC2)=$E$61,1,0)","v":0},{"$f":"IF(COLUMNS($Q2:AD2)=$E$61,1,0)","v":0},{"$f":"IF(COLUMNS($Q2:AE2)=$E$61,1,0)","v":0},{"$f":"IF(COLUMNS($Q2:AF2)=$E$61,1,0)","v":0},{"$f":"IF(COLUMNS($Q2:AG2)=$E$61,1,0)","v":0},{"$f":"IF(COLUMNS($Q2:AH2)=$E$61,1,0)","v":0},{"$f":"IF(COLUMNS($Q2:AI2)=$E$61,1,0)","v":0},{"$f":"IF(COLUMNS($Q2:AJ2)=$E$61,1,0)","v":0},{"$f":"IF(COLUMNS($Q2:AK2)=$E$61,1,0)","v":0},{"$f":"IF(COLUMNS($Q2:AL2)=$E$61,1,0)","v":0},{"$f":"IF(COLUMNS($Q2:AM2)=$E$61,1,0)","v":0},{"$f":"IF(COLUMNS($Q2:AN2)=$E$61,1,0)","v":0},{"$f":"IF(COLUMNS($Q2:AO2)=$E$61,1,0)","v":0},{"$f":"IF(COLUMNS($Q2:AP2)=$E$61,1,0)","v":0},{"$f":"IF(COLUMNS($Q2:AQ2)=$E$61,1,0)","v":0},{"$f":"IF(COLUMNS($Q2:AR2)=$E$61,1,0)","v":0},{"$f":"IF(COLUMNS($Q2:AS2)=$E$61,1,0)","v":0},{"$f":"IF(COLUMNS($Q2:AT2)=$E$61,1,0)","v":0},{"$f":"IF(COLUMNS($Q2:AU2)=$E$61,1,0)","v":0},{"$f":"IF(COLUMNS($Q2:AV2)=$E$61,1,0)","v":0},{"$f":"IF(COLUMNS($Q2:AW2)=$E$61,1,0)","v":0},{"$f":"IF(COLUMNS($Q2:AX2)=$E$61,1,0)","v":0},{"$f":"IF(COLUMNS($Q2:AY2)=$E$61,1,0)","v":0},{"$f":"IF(COLUMNS($Q2:AZ2)=$E$61,1,0)","v":0},{"$f":"IF(COLUMNS($Q2:BA2)=$E$61,1,0)","v":0},{"$f":"IF(COLUMNS($Q2:BB2)=$E$61,1,0)","v":0},{"$f":"IF(COLUMNS($Q2:BC2)=$E$61,1,0)","v":0},{"$f":"IF(COLUMNS($Q2:BD2)=$E$61,1,0)","v":0},{"$f":"IF(COLUMNS($Q2:BE2)=$E$61,1,0)","v":0},{"$f":"IF(COLUMNS($Q2:BF2)=$E$61,1,0)","v":0},{"$f":"IF(COLUMNS($Q2:BG2)=$E$61,1,0)","v":0},{"$f":"IF(COLUMNS($Q2:BH2)=$E$61,1,0)","v":0},{"$f":"IF(COLUMNS($Q2:BI2)=$E$61,1,0)","v":0},{"$f":"IF(COLUMNS($Q2:BJ2)=$E$61,1,0)","v":0},{"$f":"IF(COLUMNS($Q2:BK2)=$E$61,1,0)","v":0},{"$f":"IF(COLUMNS($Q2:BL2)=$E$61,1,0)","v":0},{"$f":"IF(COLUMNS($Q2:BM2)=$E$61,1,0)","v":0},{"$f":"IF(COLUMNS($Q2:BN2)=$E$61,1,0)","v":0},{"$f":"IF(COLUMNS($Q2:BO2)=$E$61,1,0)","v":0},{"$f":"IF(COLUMNS($Q2:BP2)=$E$61,1,0)","v":0},{"$f":"IF(COLUMNS($Q2:BQ2)=$E$61,1,0)","v":0},{"$f":"IF(COLUMNS($Q2:BR2)=$E$61,1,0)","v":0},{"$f":"IF(COLUMNS($Q2:BS2)=$E$61,1,0)","v":0},{"$f":"IF(COLUMNS($Q2:BT2)=$E$61,1,0)","v":0},{"$f":"IF(COLUMNS($Q2:BU2)=$E$61,1,0)","v":0},{"$f":"IF(COLUMNS($Q2:BV2)=$E$61,1,0)","v":0},{"$f":"IF(COLUMNS($Q2:BW2)=$E$61,1,0)","v":0},{"$f":"IF(COLUMNS($Q2:BX2)=$E$61,1,0)","v":1},{"$f":"IF(COLUMNS($Q2:BY2)=$E$61,1,0)","v":0},{"$f":"IF(COLUMNS($Q2:BZ2)=$E$61,1,0)","v":0},{"$f":"IF(COLUMNS($Q2:CA2)=$E$61,1,0)","v":0},{"$f":"IF(COLUMNS($Q2:CB2)=$E$61,1,0)","v":0},{"$f":"IF(COLUMNS($Q2:CC2)=$E$61,1,0)","v":0},{"$f":"IF(COLUMNS($Q2:CD2)=$E$61,1,0)","v":0},{"$f":"IF(COLUMNS($Q2:CE2)=$E$61,1,0)","v":0},{"$f":"IF(COLUMNS($Q2:CF2)=$E$61,1,0)","v":0},{"$f":"IF(COLUMNS($Q2:CG2)=$E$61,1,0)","v":0},{"$f":"IF(COLUMNS($Q2:CH2)=$E$61,1,0)","v":0},{"$f":"IF(COLUMNS($Q2:CI2)=$E$61,1,0)","v":0},{"$f":"IF(COLUMNS($Q2:CJ2)=$E$61,1,0)","v":0},{"$f":"IF(COLUMNS($Q2:CK2)=$E$61,1,0)","v":0},{"$f":"IF(COLUMNS($Q2:CL2)=$E$61,1,0)","v":0},{"$f":"IF(COLUMNS($Q2:CM2)=$E$61,1,0)","v":0},{"$f":"IF(COLUMNS($Q2:CN2)=$E$61,1,0)","v":0},{"$f":"IF(COLUMNS($Q2:CO2)=$E$61,1,0)","v":0},{"$f":"IF(COLUMNS($Q2:CP2)=$E$61,1,0)","v":0},{"$f":"IF(COLUMNS($Q2:CQ2)=$E$61,1,0)","v":0},{"$f":"IF(COLUMNS($Q2:CR2)=$E$61,1,0)","v":0},{"$f":"IF(COLUMNS($Q2:CS2)=$E$61,1,0)","v":0},{"$f":"IF(COLUMNS($Q2:CT2)=$E$61,1,0)","v":0},{"$f":"IF(COLUMNS($Q2:CU2)=$E$61,1,0)","v":0},{"$f":"IF(COLUMNS($Q2:CV2)=$E$61,1,0)","v":0},{"$f":"IF(COLUMNS($Q2:CW2)=$E$61,1,0)","v":0},{"$f":"IF(COLUMNS($Q2:CX2)=$E$61,1,0)","v":0},{"$f":"IF(COLUMNS($Q2:CY2)=$E$61,1,0)","v":0},{"$f":"IF(COLUMNS($Q2:CZ2)=$E$61,1,0)","v":0},{"$f":"IF(COLUMNS($Q2:DA2)=$E$61,1,0)","v":0},{"$f":"IF(COLUMNS($Q2:DB2)=$E$61,1,0)","v":0},{"$f":"IF(COLUMNS($Q2:DC2)=$E$61,1,0)","v":0},{"$f":"IF(COLUMNS($Q2:DD2)=$E$61,1,0)","v":0},{"$f":"IF(COLUMNS($Q2:DE2)=$E$61,1,0)","v":0},{"$f":"IF(COLUMNS($Q2:DF2)=$E$61,1,0)","v":0},{"$f":"IF(COLUMNS($Q2:DG2)=$E$61,1,0)","v":0},{"$f":"IF(COLUMNS($Q2:DH2)=$E$61,1,0)","v":0},{"$f":"IF(COLUMNS($Q2:DI2)=$E$61,1,0)","v":0},{"$f":"IF(COLUMNS($Q2:DJ2)=$E$61,1,0)","v":0},{"$f":"IF(COLUMNS($Q2:DK2)=$E$61,1,0)","v":0},{"$f":"IF(COLUMNS($Q2:DL2)=$E$61,1,0)","v":0},{"$f":"IF(COLUMNS($Q2:DM2)=$E$61,1,0)","v":0},{"$f":"IF(COLUMNS($Q2:DN2)=$E$61,1,0)","v":0},{"$f":"IF(COLUMNS($Q2:DO2)=$E$61,1,0)","v":0},{"$f":"IF(COLUMNS($Q2:DP2)=$E$61,1,0)","v":0},{"$f":"IF(COLUMNS($Q2:DQ2)=$E$61,1,0)","v":0},{"$f":"IF(COLUMNS($Q2:DR2)=$E$61,1,0)","v":0},{"$f":"IF(COLUMNS($Q2:DS2)=$E$61,1,0)","v":0},{"$f":"IF(COLUMNS($Q2:DT2)=$E$61,1,0)","v":0},{"$f":"IF(COLUMNS($Q2:DU2)=$E$61,1,0)","v":0},{"$f":"IF(COLUMNS($Q2:DV2)=$E$61,1,0)","v":0},{"$f":"IF(COLUMNS($Q2:DW2)=$E$61,1,0)","v":0},{"$f":"IF(COLUMNS($Q2:DX2)=$E$61,1,0)","v":0},{"$f":"IF(COLUMNS($Q2:DY2)=$E$61,1,0)","v":0},{"$f":"IF(COLUMNS($Q2:DZ2)=$E$61,1,0)","v":0},{"$f":"IF(COLUMNS($Q2:EA2)=$E$61,1,0)","v":0},{"$f":"IF(COLUMNS($Q2:EB2)=$E$61,1,0)","v":0},{"$f":"IF(COLUMNS($Q2:EC2)=$E$61,1,0)","v":0},{"$f":"IF(COLUMNS($Q2:ED2)=$E$61,1,0)","v":0},{"$f":"IF(COLUMNS($Q2:EE2)=$E$61,1,0)","v":0},{"$f":"IF(COLUMNS($Q2:EF2)=$E$61,1,0)","v":0},{"$f":"IF(COLUMNS($Q2:EG2)=$E$61,1,0)","v":0},{"$f":"IF(COLUMNS($Q2:EH2)=$E$61,1,0)","v":0},{"$f":"IF(COLUMNS($Q2:EI2)=$E$61,1,0)","v":0},{"$f":"IF(COLUMNS($Q2:EJ2)=$E$61,1,0)","v":0},{"$f":"IF(COLUMNS($Q2:EK2)=$E$61,1,0)","v":0},{"$f":"IF(COLUMNS($Q2:EL2)=$E$61,1,0)","v":0},{"$f":"IF(COLUMNS($Q2:EM2)=$E$61,1,0)","v":0},{"$f":"IF(COLUMNS($Q2:EN2)=$E$61,1,0)","v":0},{"$f":"IF(COLUMNS($Q2:EO2)=$E$61,1,0)","v":0},{"$f":"IF(COLUMNS($Q2:EP2)=$E$61,1,0)","v":0},{"$f":"IF(COLUMNS($Q2:EQ2)=$E$61,1,0)","v":0},{"$f":"IF(COLUMNS($Q2:ER2)=$E$61,1,0)","v":0},{"$f":"IF(COLUMNS($Q2:ES2)=$E$61,1,0)","v":0},{"$f":"IF(COLUMNS($Q2:ET2)=$E$61,1,0)","v":0},{"$f":"IF(COLUMNS($Q2:EU2)=$E$61,1,0)","v":0},{"$f":"IF(COLUMNS($Q2:EV2)=$E$61,1,0)","v":0},{"$f":"IF(COLUMNS($Q2:EW2)=$E$61,1,0)","v":0},{"$f":"IF(COLUMNS($Q2:EX2)=$E$61,1,0)","v":0},{"$f":"IF(COLUMNS($Q2:EY2)=$E$61,1,0)","v":0},{"$f":"IF(COLUMNS($Q2:EZ2)=$E$61,1,0)","v":0},{"$f":"IF(COLUMNS($Q2:FA2)=$E$61,1,0)","v":0},{"$f":"IF(COLUMNS($Q2:FB2)=$E$61,1,0)","v":0},{"$f":"IF(COLUMNS($Q2:FC2)=$E$61,1,0)","v":0},{"$f":"IF(COLUMNS($Q2:FD2)=$E$61,1,0)","v":0},{"$f":"IF(COLUMNS($Q2:FE2)=$E$61,1,0)","v":0},{"$f":"IF(COLUMNS($Q2:FF2)=$E$61,1,0)","v":0},{"$f":"IF(COLUMNS($Q2:FG2)=$E$61,1,0)","v":0},{"$f":"IF(COLUMNS($Q2:FH2)=$E$61,1,0)","v":0},{"$f":"IF(COLUMNS($Q2:FI2)=$E$61,1,0)","v":0},{"$f":"IF(COLUMNS($Q2:FJ2)=$E$61,1,0)","v":0},{"$f":"IF(COLUMNS($Q2:FK2)=$E$61,1,0)","v":0},{"$f":"IF(COLUMNS($Q2:FL2)=$E$61,1,0)","v":0},{"$f":"IF(COLUMNS($Q2:FM2)=$E$61,1,0)","v":0},{"$f":"IF(COLUMNS($Q2:FN2)=$E$61,1,0)","v":0},{"$f":"IF(COLUMNS($Q2:FO2)=$E$61,1,0)","v":0},{"$f":"IF(COLUMNS($Q2:FP2)=$E$61,1,0)","v":0},{"$f":"IF(COLUMNS($Q2:FQ2)=$E$61,1,0)","v":0},{"$f":"IF(COLUMNS($Q2:FR2)=$E$61,1,0)","v":0},{"$f":"IF(COLUMNS($Q2:FS2)=$E$61,1,0)","v":0},{"$f":"IF(COLUMNS($Q2:FT2)=$E$61,1,0)","v":0},{"$f":"IF(COLUMNS($Q2:FU2)=$E$61,1,0)","v":0},{"$f":"IF(COLUMNS($Q2:FV2)=$E$61,1,0)","v":0},{"$f":"IF(COLUMNS($Q2:FW2)=$E$61,1,0)","v":0},{"$f":"IF(COLUMNS($Q2:FX2)=$E$61,1,0)","v":0},{"$f":"IF(COLUMNS($Q2:FY2)=$E$61,1,0)","v":0},{"$f":"IF(COLUMNS($Q2:FZ2)=$E$61,1,0)","v":0},{"$f":"IF(COLUMNS($Q2:GA2)=$E$61,1,0)","v":0},{"$f":"IF(COLUMNS($Q2:GB2)=$E$61,1,0)","v":0},{"$f":"IF(COLUMNS($Q2:GC2)=$E$61,1,0)","v":0},{"$f":"IF(COLUMNS($Q2:GD2)=$E$61,1,0)","v":0},{"$f":"IF(COLUMNS($Q2:GE2)=$E$61,1,0)","v":0},{"$f":"IF(COLUMNS($Q2:GF2)=$E$61,1,0)","v":0},{"$f":"IF(COLUMNS($Q2:GG2)=$E$61,1,0)","v":0},{"$f":"IF(COLUMNS($Q2:GH2)=$E$61,1,0)","v":0},{"$f":"IF(COLUMNS($Q2:GI2)=$E$61,1,0)","v":0},{"$f":"IF(COLUMNS($Q2:GJ2)=$E$61,1,0)","v":0},{"$f":"IF(COLUMNS($Q2:GK2)=$E$61,1,0)","v":0},{"$f":"IF(COLUMNS($Q2:GL2)=$E$61,1,0)","v":0},{"$f":"IF(COLUMNS($Q2:GM2)=$E$61,1,0)","v":0},{"$f":"IF(COLUMNS($Q2:GN2)=$E$61,1,0)","v":0},{"$f":"IF(COLUMNS($Q2:GO2)=$E$61,1,0)","v":0},{"$f":"IF(COLUMNS($Q2:GP2)=$E$61,1,0)","v":0},{"$f":"IF(COLUMNS($Q2:GQ2)=$E$61,1,0)","v":0},{"$f":"IF(COLUMNS($Q2:GR2)=$E$61,1,0)","v":0},{"$f":"IF(COLUMNS($Q2:GS2)=$E$61,1,0)","v":0},{"$f":"IF(COLUMNS($Q2:GT2)=$E$61,1,0)","v":0},{"$f":"IF(COLUMNS($Q2:GU2)=$E$61,1,0)","v":0},{"$f":"IF(COLUMNS($Q2:GV2)=$E$61,1,0)","v":0},{"$f":"IF(COLUMNS($Q2:GW2)=$E$61,1,0)","v":0},{"$f":"IF(COLUMNS($Q2:GX2)=$E$61,1,0)","v":0},{"$f":"IF(COLUMNS($Q2:GY2)=$E$61,1,0)","v":0},{"$f":"IF(COLUMNS($Q2:GZ2)=$E$61,1,0)","v":0},{"$f":"IF(COLUMNS($Q2:HA2)=$E$61,1,0)","v":0},{"$f":"IF(COLUMNS($Q2:HB2)=$E$61,1,0)","v":0},{"$f":"IF(COLUMNS($Q2:HC2)=$E$61,1,0)","v":0},{"$f":"IF(COLUMNS($Q2:HD2)=$E$61,1,0)","v":0},{"$f":"IF(COLUMNS($Q2:HE2)=$E$61,1,0)","v":0},{"$f":"IF(COLUMNS($Q2:HF2)=$E$61,1,0)","v":0},{"$f":"IF(COLUMNS($Q2:HG2)=$E$61,1,0)","v":0},{"$f":"IF(COLUMNS($Q2:HH2)=$E$61,1,0)","v":0},{"$f":"IF(COLUMNS($Q2:HI2)=$E$61,1,0)","v":0},{"$f":"IF(COLUMNS($Q2:HJ2)=$E$61,1,0)","v":0},{"$f":"IF(COLUMNS($Q2:HK2)=$E$61,1,0)","v":0},{"$f":"IF(COLUMNS($Q2:HL2)=$E$61,1,0)","v":0},{"$f":"IF(COLUMNS($Q2:HM2)=$E$61,1,0)","v":0},{"$f":"IF(COLUMNS($Q2:HN2)=$E$61,1,0)","v":0},{"$f":"IF(COLUMNS($Q2:HO2)=$E$61,1,0)","v":0},{"$f":"IF(COLUMNS($Q2:HP2)=$E$61,1,0)","v":0},{"$f":"IF(COLUMNS($Q2:HQ2)=$E$61,1,0)","v":0},{"$f":"IF(COLUMNS($Q2:HR2)=$E$61,1,0)","v":0},{"$f":"IF(COLUMNS($Q2:HS2)=$E$61,1,0)","v":0},{"$f":"IF(COLUMNS($Q2:HT2)=$E$61,1,0)","v":0},{"$f":"IF(COLUMNS($Q2:HU2)=$E$61,1,0)","v":0},{"$f":"IF(COLUMNS($Q2:HV2)=$E$61,1,0)","v":0},{"$f":"IF(COLUMNS($Q2:HW2)=$E$61,1,0)","v":0},{"$f":"IF(COLUMNS($Q2:HX2)=$E$61,1,0)","v":0},{"$f":"IF(COLUMNS($Q2:HY2)=$E$61,1,0)","v":0},{"$f":"IF(COLUMNS($Q2:HZ2)=$E$61,1,0)","v":0},{"$f":"IF(COLUMNS($Q2:IA2)=$E$61,1,0)","v":0},{"$f":"IF(COLUMNS($Q2:IB2)=$E$61,1,0)","v":0},{"$f":"IF(COLUMNS($Q2:IC2)=$E$61,1,0)","v":0},{"$f":"IF(COLUMNS($Q2:ID2)=$E$61,1,0)","v":0},{"$f":"IF(COLUMNS($Q2:IE2)=$E$61,1,0)","v":0},{"$f":"IF(COLUMNS($Q2:IF2)=$E$61,1,0)","v":0},{"$f":"IF(COLUMNS($Q2:IG2)=$E$61,1,0)","v":0},{"$f":"IF(COLUMNS($Q2:IH2)=$E$61,1,0)","v":0},{"$f":"IF(COLUMNS($Q2:II2)=$E$61,1,0)","v":0},{"$f":"IF(COLUMNS($Q2:IJ2)=$E$61,1,0)","v":0},{"$f":"IF(COLUMNS($Q2:IK2)=$E$61,1,0)","v":0},{"$f":"IF(COLUMNS($Q2:IL2)=$E$61,1,0)","v":0},{"$f":"IF(COLUMNS($Q2:IM2)=$E$61,1,0)","v":0},{"$f":"IF(COLUMNS($Q2:IN2)=$E$61,1,0)","v":0},{"$f":"IF(COLUMNS($Q2:IO2)=$E$61,1,0)","v":0},{"$f":"IF(COLUMNS($Q2:IP2)=$E$61,1,0)","v":0},{"$f":"IF(COLUMNS($Q2:IQ2)=$E$61,1,0)","v":0},{"$f":"IF(COLUMNS($Q2:IR2)=$E$61,1,0)","v":0},{"$f":"IF(COLUMNS($Q2:IS2)=$E$61,1,0)","v":0},{"$f":"IF(COLUMNS($Q2:IT2)=$E$61,1,0)","v":0},{"$f":"IF(COLUMNS($Q2:IU2)=$E$61,1,0)","v":0},{"$f":"IF(COLUMNS($Q2:IV2)=$E$61,1,0)","v":0},{"$f":"IF(COLUMNS($Q2:IW2)=$E$61,1,0)","v":0},{"$f":"IF(COLUMNS($Q2:IX2)=$E$61,1,0)","v":0},{"$f":"IF(COLUMNS($Q2:IY2)=$E$61,1,0)","v":0},{"$f":"IF(COLUMNS($Q2:IZ2)=$E$61,1,0)","v":0},{"$f":"IF(COLUMNS($Q2:JA2)=$E$61,1,0)","v":0},{"$f":"IF(COLUMNS($Q2:JB2)=$E$61,1,0)","v":0},{"$f":"IF(COLUMNS($Q2:JC2)=$E$61,1,0)","v":0},{"$f":"IF(COLUMNS($Q2:JD2)=$E$61,1,0)","v":0},{"$f":"IF(COLUMNS($Q2:JE2)=$E$61,1,0)","v":0},{"$f":"IF(COLUMNS($Q2:JF2)=$E$61,1,0)","v":0},{"$f":"IF(COLUMNS($Q2:JG2)=$E$61,1,0)","v":0},{"$f":"IF(COLUMNS($Q2:JH2)=$E$61,1,0)","v":0},{"$f":"IF(COLUMNS($Q2:JI2)=$E$61,1,0)","v":0},{"$f":"IF(COLUMNS($Q2:JJ2)=$E$61,1,0)","v":0},{"$f":"IF(COLUMNS($Q2:JK2)=$E$61,1,0)","v":0},{"$f":"IF(COLUMNS($Q2:JL2)=$E$61,1,0)","v":0},{"$f":"IF(COLUMNS($Q2:JM2)=$E$61,1,0)","v":0},{"$f":"IF(COLUMNS($Q2:JN2)=$E$61,1,0)","v":0},{"$f":"IF(COLUMNS($Q2:JO2)=$E$61,1,0)","v":0},{"$f":"IF(COLUMNS($Q2:JP2)=$E$61,1,0)","v":0},{"$f":"IF(COLUMNS($Q2:JQ2)=$E$61,1,0)","v":0},{"$f":"IF(COLUMNS($Q2:JR2)=$E$61,1,0)","v":0},{"$f":"IF(COLUMNS($Q2:JS2)=$E$61,1,0)","v":0},{"$f":"IF(COLUMNS($Q2:JT2)=$E$61,1,0)","v":0},{"$f":"IF(COLUMNS($Q2:JU2)=$E$61,1,0)","v":0},{"$f":"IF(COLUMNS($Q2:JV2)=$E$61,1,0)","v":0},{"$f":"IF(COLUMNS($Q2:JW2)=$E$61,1,0)","v":0},{"$f":"IF(COLUMNS($Q2:JX2)=$E$61,1,0)","v":0},{"$f":"IF(COLUMNS($Q2:JY2)=$E$61,1,0)","v":0},{"$f":"IF(COLUMNS($Q2:JZ2)=$E$61,1,0)","v":0},{"$f":"IF(COLUMNS($Q2:KA2)=$E$61,1,0)","v":0},{"$f":"IF(COLUMNS($Q2:KB2)=$E$61,1,0)","v":0},{"$f":"IF(COLUMNS($Q2:KC2)=$E$61,1,0)","v":0},{"$f":"IF(COLUMNS($Q2:KD2)=$E$61,1,0)","v":0},{"$f":"IF(COLUMNS($Q2:KE2)=$E$61,1,0)","v":0},{"$f":"IF(COLUMNS($Q2:KF2)=$E$61,1,0)","v":0},{"$f":"IF(COLUMNS($Q2:KG2)=$E$61,1,0)","v":0},{"$f":"IF(COLUMNS($Q2:KH2)=$E$61,1,0)","v":0},{"$f":"IF(COLUMNS($Q2:KI2)=$E$61,1,0)","v":0},{"$f":"IF(COLUMNS($Q2:KJ2)=$E$61,1,0)","v":0},{"$f":"IF(COLUMNS($Q2:KK2)=$E$61,1,0)","v":0},{"$f":"IF(COLUMNS($Q2:KL2)=$E$61,1,0)","v":0},{"$f":"IF(COLUMNS($Q2:KM2)=$E$61,1,0)","v":0},{"$f":"IF(COLUMNS($Q2:KN2)=$E$61,1,0)","v":0},{"$f":"IF(COLUMNS($Q2:KO2)=$E$61,1,0)","v":0},{"$f":"IF(COLUMNS($Q2:KP2)=$E$61,1,0)","v":0},{"$f":"IF(COLUMNS($Q2:KQ2)=$E$61,1,0)","v":0},{"$f":"IF(COLUMNS($Q2:KR2)=$E$61,1,0)","v":0},{"$f":"IF(COLUMNS($Q2:KS2)=$E$61,1,0)","v":0},{"$f":"IF(COLUMNS($Q2:KT2)=$E$61,1,0)","v":0},{"$f":"IF(COLUMNS($Q2:KU2)=$E$61,1,0)","v":0},{"$f":"IF(COLUMNS($Q2:KV2)=$E$61,1,0)","v":0},{"$f":"IF(COLUMNS($Q2:KW2)=$E$61,1,0)","v":0},{"$f":"IF(COLUMNS($Q2:KX2)=$E$61,1,0)","v":0},{"$f":"IF(COLUMNS($Q2:KY2)=$E$61,1,0)","v":0},{"$f":"IF(COLUMNS($Q2:KZ2)=$E$61,1,0)","v":0},{"$f":"IF(COLUMNS($Q2:LA2)=$E$61,1,0)","v":0},{"$f":"IF(COLUMNS($Q2:LB2)=$E$61,1,0)","v":0},{"$f":"IF(COLUMNS($Q2:LC2)=$E$61,1,0)","v":0},{"$f":"IF(COLUMNS($Q2:LD2)=$E$61,1,0)","v":0},{"$f":"IF(COLUMNS($Q2:LE2)=$E$61,1,0)","v":0},{"$f":"IF(COLUMNS($Q2:LF2)=$E$61,1,0)","v":0},{"$f":"IF(COLUMNS($Q2:LG2)=$E$61,1,0)","v":0},{"$f":"IF(COLUMNS($Q2:LH2)=$E$61,1,0)","v":0},{"$f":"IF(COLUMNS($Q2:LI2)=$E$61,1,0)","v":0},{"$f":"IF(COLUMNS($Q2:LJ2)=$E$61,1,0)","v":0},{"$f":"IF(COLUMNS($Q2:LK2)=$E$61,1,0)","v":0},{"$f":"IF(COLUMNS($Q2:LL2)=$E$61,1,0)","v":0},{"$f":"IF(COLUMNS($Q2:LM2)=$E$61,1,0)","v":0},{"$f":"IF(COLUMNS($Q2:LN2)=$E$61,1,0)","v":0},{"$f":"IF(COLUMNS($Q2:LO2)=$E$61,1,0)","v":0},{"$f":"IF(COLUMNS($Q2:LP2)=$E$61,1,0)","v":0},{"$f":"IF(COLUMNS($Q2:LQ2)=$E$61,1,0)","v":0},{"$f":"IF(COLUMNS($Q2:LR2)=$E$61,1,0)","v":0},{"$f":"IF(COLUMNS($Q2:LS2)=$E$61,1,0)","v":0},{"$f":"IF(COLUMNS($Q2:LT2)=$E$61,1,0)","v":0},{"$f":"IF(COLUMNS($Q2:LU2)=$E$61,1,0)","v":0},{"$f":"IF(COLUMNS($Q2:LV2)=$E$61,1,0)","v":0},{"$f":"IF(COLUMNS($Q2:LW2)=$E$61,1,0)","v":0},{"$f":"IF(COLUMNS($Q2:LX2)=$E$61,1,0)","v":0},{"$f":"IF(COLUMNS($Q2:LY2)=$E$61,1,0)","v":0},{"$f":"IF(COLUMNS($Q2:LZ2)=$E$61,1,0)","v":0},{"$f":"IF(COLUMNS($Q2:MA2)=$E$61,1,0)","v":0},{"$f":"IF(COLUMNS($Q2:MB2)=$E$61,1,0)","v":0},{"$f":"IF(COLUMNS($Q2:MC2)=$E$61,1,0)","v":0},{"$f":"IF(COLUMNS($Q2:MD2)=$E$61,1,0)","v":0},{"$f":"IF(COLUMNS($Q2:ME2)=$E$61,1,0)","v":0},{"$f":"IF(COLUMNS($Q2:MF2)=$E$61,1,0)","v":0},{"$f":"IF(COLUMNS($Q2:MG2)=$E$61,1,0)","v":0},{"$f":"IF(COLUMNS($Q2:MH2)=$E$61,1,0)","v":0},{"$f":"IF(COLUMNS($Q2:MI2)=$E$61,1,0)","v":0},{"$f":"IF(COLUMNS($Q2:MJ2)=$E$61,1,0)","v":0},{"$f":"IF(COLUMNS($Q2:MK2)=$E$61,1,0)","v":0},{"$f":"IF(COLUMNS($Q2:ML2)=$E$61,1,0)","v":0},{"$f":"IF(COLUMNS($Q2:MM2)=$E$61,1,0)","v":0},{"$f":"IF(COLUMNS($Q2:MN2)=$E$61,1,0)","v":0},{"$f":"IF(COLUMNS($Q2:MO2)=$E$61,1,0)","v":0},{"$f":"IF(COLUMNS($Q2:MP2)=$E$61,1,0)","v":0},{"$f":"IF(COLUMNS($Q2:MQ2)=$E$61,1,0)","v":0},{"$f":"IF(COLUMNS($Q2:MR2)=$E$61,1,0)","v":0},{"$f":"IF(COLUMNS($Q2:MS2)=$E$61,1,0)","v":0},{"$f":"IF(COLUMNS($Q2:MT2)=$E$61,1,0)","v":0},{"$f":"IF(COLUMNS($Q2:MU2)=$E$61,1,0)","v":0},{"$f":"IF(COLUMNS($Q2:MV2)=$E$61,1,0)","v":0},{"$f":"IF(COLUMNS($Q2:MW2)=$E$61,1,0)","v":0},{"$f":"IF(COLUMNS($Q2:MX2)=$E$61,1,0)","v":0},{"$f":"IF(COLUMNS($Q2:MY2)=$E$61,1,0)","v":0},{"$f":"IF(COLUMNS($Q2:MZ2)=$E$61,1,0)","v":0},{"$f":"IF(COLUMNS($Q2:NA2)=$E$61,1,0)","v":0},{"$f":"IF(COLUMNS($Q2:NB2)=$E$61,1,0)","v":0},{"$f":"IF(COLUMNS($Q2:NC2)=$E$61,1,0)","v":0},{"$f":"IF(COLUMNS($Q2:ND2)=$E$61,1,0)","v":0},{"$f":"IF(COLUMNS($Q2:NE2)=$E$61,1,0)","v":0},{"$f":"IF(COLUMNS($Q2:NF2)=$E$61,1,0)","v":0},{"$f":"IF(COLUMNS($Q2:NG2)=$E$61,1,0)","v":0},{"$f":"IF(COLUMNS($Q2:NH2)=$E$61,1,0)","v":0},{"$f":"IF(COLUMNS($Q2:NI2)=$E$61,1,0)","v":0},{"$f":"IF(COLUMNS($Q2:NJ2)=$E$61,1,0)","v":0},{"$f":"IF(COLUMNS($Q2:NK2)=$E$61,1,0)","v":0},{"$f":"IF(COLUMNS($Q2:NL2)=$E$61,1,0)","v":0},{"$f":"IF(COLUMNS($Q2:NM2)=$E$61,1,0)","v":0},{"$f":"IF(COLUMNS($Q2:NN2)=$E$61,1,0)","v":0},{"$f":"IF(COLUMNS($Q2:NO2)=$E$61,1,0)","v":0},{"$f":"IF(COLUMNS($Q2:NP2)=$E$61,1,0)","v":0},{"$f":"IF(COLUMNS($Q2:NQ2)=$E$61,1,0)","v":0},{"$f":"IF(COLUMNS($Q2:NR2)=$E$61,1,0)","v":0},{"$f":"IF(COLUMNS($Q2:NS2)=$E$61,1,0)","v":0},{"$f":"IF(COLUMNS($Q2:NT2)=$E$61,1,0)","v":0},{"$f":"IF(COLUMNS($Q2:NU2)=$E$61,1,0)","v":0},{"$f":"IF(COLUMNS($Q2:NV2)=$E$61,1,0)","v":0},{"$f":"IF(COLUMNS($Q2:NW2)=$E$61,1,0)","v":0},{"$f":"IF(COLUMNS($Q2:NX2)=$E$61,1,0)","v":0},{"$f":"IF(COLUMNS($Q2:NY2)=$E$61,1,0)","v":0},{"$f":"IF(COLUMNS($Q2:NZ2)=$E$61,1,0)","v":0},{"$f":"IF(COLUMNS($Q2:OA2)=$E$61,1,0)","v":0},{"$f":"IF(COLUMNS($Q2:OB2)=$E$61,1,0)","v":0},{"$f":"IF(COLUMNS($Q2:OC2)=$E$61,1,0)","v":0},{"$f":"IF(COLUMNS($Q2:OD2)=$E$61,1,0)","v":0},{"$f":"IF(COLUMNS($Q2:OE2)=$E$61,1,0)","v":0},{"$f":"IF(COLUMNS($Q2:OF2)=$E$61,1,0)","v":0},{"$f":"IF(COLUMNS($Q2:OG2)=$E$61,1,0)","v":0},{"$f":"IF(COLUMNS($Q2:OH2)=$E$61,1,0)","v":0},{"$f":"IF(COLUMNS($Q2:OI2)=$E$61,1,0)","v":0},{"$f":"IF(COLUMNS($Q2:OJ2)=$E$61,1,0)","v":0},{"$f":"IF(COLUMNS($Q2:OK2)=$E$61,1,0)","v":0},{"$f":"IF(COLUMNS($Q2:OL2)=$E$61,1,0)","v":0},{"$f":"IF(COLUMNS($Q2:OM2)=$E$61,1,0)","v":0},{"$f":"IF(COLUMNS($Q2:ON2)=$E$61,1,0)","v":0},{"$f":"IF(COLUMNS($Q2:OO2)=$E$61,1,0)","v":0},{"$f":"IF(COLUMNS($Q2:OP2)=$E$61,1,0)","v":0},{"$f":"IF(COLUMNS($Q2:OQ2)=$E$61,1,0)","v":0},null,null,"x"]
[null,null,null,null,null,null,null,null,null,null,null,null,"Año",null,null,null,{"$f":"YEAR(Q12)","v":2024},2024,2024,2024,2024,2024,2024,2025,2025,2025,2025,2025,2025,2025,2025,2025,2025,2025,2025,2026,2026,2026,2026,2026,2026,2026,2026,2026,2026,2026,2026,2027,2027,2027,2027,2027,2027,2027,2027,2027,2027,2027,2027,2028,2028,2028,2028,2028,2028,2028,2028,2028,2028,2028,2028,2029,2029,2029,2029,2029,2029,2029,2029,2029,{"$f":"YEAR(CC12)","v":2029},2029,2029,2030,2030,2030,2030,2030,2030,2030,2030,2030,2030,2030,2030,2031,2031,2031,2031,2031,2031,2031,2031,2031,2031,2031,2031,2032,2032,2032,2032,2032,2032,2032,2032,2032,2032,2032,2032,2033,2033,2033,2033,2033,2033,2033,2033,2033,2033,2033,2033,2034,2034,2034,2034,2034,2034,2034,2034,2034,2034,2034,2034,2035,{"$f":"YEAR(EO12)","v":2035},2035,2035,2035,2035,2035,2035,2035,2035,2035,2035,2036,2036,2036,2036,2036,2036,2036,2036,2036,2036,2036,2036,2037,2037,2037,2037,2037,2037,2037,2037,2037,2037,2037,2037,2038,2038,2038,2038,2038,2038,2038,2038,2038,2038,2038,2038,2039,2039,2039,2039,2039,2039,2039,2039,2039,2039,2039,2039,2040,2040,2040,2040,2040,{"$f":"YEAR(HA12)","v":2040},2040,2040,2040,2040,2040,2040,2041,2041,2041,2041,2041,2041,2041,2041,2041,2041,2041,2041,2042,2042,2042,2042,2042,2042,2042,2042,2042,2042,2042,2042,2043,2043,2043,2043,2043,2043,2043,2043,2043,2043,2043,2043,2044,2044,2044,2044,2044,2044,2044,2044,2044,2044,2044,2044,2045,2045,2045,2045,2045,2045,2045,2045,2045,{"$f":"YEAR(JM12)","v":2045},2045,2045,2046,2046,2046,2046,2046,2046,2046,2046,2046,2046,2046,2046,2047,2047,2047,2047,2047,2047,2047,2047,2047,2047,2047,2047,2048,2048,2048,2048,2048,2048,2048,2048,2048,2048,2048,2048,2049,2049,2049,2049,2049,2049,2049,2049,2049,2049,2049,2049,2050,2050,2050,2050,2050,2050,2050,2050,2050,2050,2050,2050,2051,{"$f":"YEAR(LY12)","v":2051},2051,2051,2051,2051,2051,2051,2051,2051,2051,2051,2052,2052,2052,2052,2052,2052,2052,2052,2052,2052,2052,2052,2053,2053,2053,2053,2053,2053,2053,2053,2053,2053,2053,2053,2054,2054,2054,2054,2054,2054,2054,2054,2054,2054,2054,2054,2055,2055,2055,2055,2055,2055,2055,2055,2055,2055,2055,2055,2056,2056,2056,2056,2056,{"$f":"YEAR(OK12)","v":2056},2056,2056,2056,2056,2056,2056,null,null,"x"]
[null,null,null,null,null,null,null,null,null,null,null,null,"12M",null,null,null,0,0,0,0,0,0,0,0,0,0,0,0,{"$f":"Q4+1","v":1},{"$f":"IF(SUM($Q1:AD1)<12,0,1)","v":1},{"$f":"IF(SUM($Q1:AE1)<12,0,1)","v":1},{"$f":"T4+1","v":1},1,1,1,1,1,1,1,1,2,2,2,2,2,2,2,2,2,2,2,2,3,3,3,3,3,3,3,3,3,3,3,3,4,4,4,4,4,4,4,4,4,4,4,4,5,5,5,5,5,5,5,5,5,5,5,5,6,6,6,6,6,6,6,{"$f":"CF4+1","v":6},6,6,6,6,7,7,7,7,7,7,7,7,7,7,7,7,8,8,8,8,8,8,8,8,8,8,8,8,9,9,9,9,9,9,9,9,9,9,9,9,10,10,10,10,10,10,10,10,10,10,10,10,11,11,11,11,11,11,11,11,11,11,11,{"$f":"ER4+1","v":11},12,12,12,12,12,12,12,12,12,12,12,12,13,13,13,13,13,13,13,13,13,13,13,13,14,14,14,14,14,14,14,14,14,14,14,14,15,15,15,15,15,15,15,15,15,15,15,15,16,16,16,16,16,16,16,16,16,16,16,16,17,17,17,{"$f":"HD4+1","v":17},17,17,17,17,17,17,17,17,18,18,18,18,18,18,18,18,18,18,18,18,19,19,19,19,19,19,19,19,19,19,19,19,20,20,20,20,20,20,20,20,20,20,20,20,21,21,21,21,21,21,21,21,21,21,21,21,22,22,22,22,22,22,22,{"$f":"JP4+1","v":22},22,22,22,22,23,23,23,23,23,23,23,23,23,23,23,23,24,24,24,24,24,24,24,24,24,24,24,24,25,25,25,25,25,25,25,25,25,25,25,25,26,26,26,26,26,26,26,26,26,26,26,26,27,27,27,27,27,27,27,27,27,27,27,{"$f":"MB4+1","v":27},28,28,28,28,28,28,28,28,28,28,28,28,29,29,29,29,29,29,29,29,29,29,29,29,30,30,30,30,30,30,30,30,30,30,30,30,31,31,31,31,31,31,31,31,31,31,31,31,32,32,32,32,32,32,32]
[null,null,null,null,null,null,null,null,null,null,null,null,"Rerating (nuevo comprador)",null,null,null,{"$f":"IF(COLUMNS($Q$5:Q5)=#REF!,1,IF(P5=0,0,P5+1))","v":{"$error":"#REF!"}},{"$f":"IF(COLUMNS($Q$5:R5)=#REF!,1,IF(Q5=0,0,Q5+1))","v":{"$error":"#REF!"}},{"$f":"IF(COLUMNS($Q$5:S5)=#REF!,1,IF(R5=0,0,R5+1))","v":{"$error":"#REF!"}},{"$f":"IF(COLUMNS($Q$5:T5)=#REF!,1,IF(S5=0,0,S5+1))","v":{"$error":"#REF!"}},{"$f":"IF(COLUMNS($Q$5:U5)=#REF!,1,IF(T5=0,0,T5+1))","v":{"$error":"#REF!"}},{"$f":"IF(COLUMNS($Q$5:V5)=#REF!,1,IF(U5=0,0,U5+1))","v":{"$error":"#REF!"}},{"$f":"IF(COLUMNS($Q$5:W5)=#REF!,1,IF(V5=0,0,V5+1))","v":{"$error":"#REF!"}},{"$f":"IF(COLUMNS($Q$5:X5)=#REF!,1,IF(W5=0,0,W5+1))","v":{"$error":"#REF!"}},{"$f":"IF(COLUMNS($Q$5:Y5)=#REF!,1,IF(X5=0,0,X5+1))","v":{"$error":"#REF!"}},{"$f":"IF(COLUMNS($Q$5:Z5)=#REF!,1,IF(Y5=0,0,Y5+1))","v":{"$error":"#REF!"}},{"$f":"IF(COLUMNS($Q$5:AA5)=#REF!,1,IF(Z5=0,0,Z5+1))","v":{"$error":"#REF!"}},{"$f":"IF(COLUMNS($Q$5:AB5)=#REF!,1,IF(AA5=0,0,AA5+1))","v":{"$error":"#REF!"}},{"$f":"IF(COLUMNS($Q$5:AC5)=#REF!,1,IF(AB5=0,0,AB5+1))","v":{"$error":"#REF!"}},{"$f":"IF(COLUMNS($Q$5:AD5)=#REF!,1,IF(AC5=0,0,AC5+1))","v":{"$error":"#REF!"}},{"$f":"IF(COLUMNS($Q$5:AE5)=#REF!,1,IF(AD5=0,0,AD5+1))","v":{"$error":"#REF!"}},{"$f":"IF(COLUMNS($Q$5:AF5)=#REF!,1,IF(AE5=0,0,AE5+1))","v":{"$error":"#REF!"}},{"$f":"IF(COLUMNS($Q$5:AG5)=#REF!,1,IF(AF5=0,0,AF5+1))","v":{"$error":"#REF!"}},{"$f":"IF(COLUMNS($Q$5:AH5)=#REF!,1,IF(AG5=0,0,AG5+1))","v":{"$error":"#REF!"}},{"$f":"IF(COLUMNS($Q$5:AI5)=#REF!,1,IF(AH5=0,0,AH5+1))","v":{"$error":"#REF!"}},{"$f":"IF(COLUMNS($Q$5:AJ5)=#REF!,1,IF(AI5=0,0,AI5+1))","v":{"$error":"#REF!"}},{"$f":"IF(COLUMNS($Q$5:AK5)=#REF!,1,IF(AJ5=0,0,AJ5+1))","v":{"$error":"#REF!"}},{"$f":"IF(COLUMNS($Q$5:AL5)=#REF!,1,IF(AK5=0,0,AK5+1))","v":{"$error":"#REF!"}},{"$f":"IF(COLUMNS($Q$5:AM5)=#REF!,1,IF(AL5=0,0,AL5+1))","v":{"$error":"#REF!"}},{"$f":"IF(COLUMNS($Q$5:AN5)=#REF!,1,IF(AM5=0,0,AM5+1))","v":{"$error":"#REF!"}},{"$f":"IF(COLUMNS($Q$5:AO5)=#REF!,1,IF(AN5=0,0,AN5+1))","v":{"$error":"#REF!"}},{"$f":"IF(COLUMNS($Q$5:AP5)=#REF!,1,IF(AO5=0,0,AO5+1))","v":{"$error":"#REF!"}},{"$f":"IF(COLUMNS($Q$5:AQ5)=#REF!,1,IF(AP5=0,0,AP5+1))","v":{"$error":"#REF!"}},{"$f":"IF(COLUMNS($Q$5:AR5)=#REF!,1,IF(AQ5=0,0,AQ5+1))","v":{"$error":"#REF!"}},{"$f":"IF(COLUMNS($Q$5:AS5)=#REF!,1,IF(AR5=0,0,AR5+1))","v":{"$error":"#REF!"}},{"$f":"IF(COLUMNS($Q$5:AT5)=#REF!,1,IF(AS5=0,0,AS5+1))","v":{"$error":"#REF!"}},{"$f":"IF(COLUMNS($Q$5:AU5)=#REF!,1,IF(AT5=0,0,AT5+1))","v":{"$error":"#REF!"}},{"$f":"IF(COLUMNS($Q$5:AV5)=#REF!,1,IF(AU5=0,0,AU5+1))","v":{"$error":"#REF!"}},{"$f":"IF(COLUMNS($Q$5:AW5)=#REF!,1,IF(AV5=0,0,AV5+1))","v":{"$error":"#REF!"}},{"$f":"IF(COLUMNS($Q$5:AX5)=#REF!,1,IF(AW5=0,0,AW5+1))","v":{"$error":"#REF!"}},{"$f":"IF(COLUMNS($Q$5:AY5)=#REF!,1,IF(AX5=0,0,AX5+1))","v":{"$error":"#REF!"}},{"$f":"IF(COLUMNS($Q$5:AZ5)=#REF!,1,IF(AY5=0,0,AY5+1))","v":{"$error":"#REF!"}},{"$f":"IF(COLUMNS($Q$5:BA5)=#REF!,1,IF(AZ5=0,0,AZ5+1))","v":{"$error":"#REF!"}},{"$f":"IF(COLUMNS($Q$5:BB5)=#REF!,1,IF(BA5=0,0,BA5+1))","v":{"$error":"#REF!"}},{"$f":"IF(COLUMNS($Q$5:BC5)=#REF!,1,IF(BB5=0,0,BB5+1))","v":{"$error":"#REF!"}},{"$f":"IF(COLUMNS($Q$5:BD5)=#REF!,1,IF(BC5=0,0,BC5+1))","v":{"$error":"#REF!"}},{"$f":"IF(COLUMNS($Q$5:BE5)=#REF!,1,IF(BD5=0,0,BD5+1))","v":{"$error":"#REF!"}},{"$f":"IF(COLUMNS($Q$5:BF5)=#REF!,1,IF(BE5=0,0,BE5+1))","v":{"$error":"#REF!"}},{"$f":"IF(COLUMNS($Q$5:BG5)=#REF!,1,IF(BF5=0,0,BF5+1))","v":{"$error":"#REF!"}},{"$f":"IF(COLUMNS($Q$5:BH5)=#REF!,1,IF(BG5=0,0,BG5+1))","v":{"$error":"#REF!"}},{"$f":"IF(COLUMNS($Q$5:BI5)=#REF!,1,IF(BH5=0,0,BH5+1))","v":{"$error":"#REF!"}},{"$f":"IF(COLUMNS($Q$5:BJ5)=#REF!,1,IF(BI5=0,0,BI5+1))","v":{"$error":"#REF!"}},{"$f":"IF(COLUMNS($Q$5:BK5)=#REF!,1,IF(BJ5=0,0,BJ5+1))","v":{"$error":"#REF!"}},{"$f":"IF(COLUMNS($Q$5:BL5)=#REF!,1,IF(BK5=0,0,BK5+1))","v":{"$error":"#REF!"}},{"$f":"IF(COLUMNS($Q$5:BM5)=#REF!,1,IF(BL5=0,0,BL5+1))","v":{"$error":"#REF!"}},{"$f":"IF(COLUMNS($Q$5:BN5)=#REF!,1,IF(BM5=0,0,BM5+1))","v":{"$error":"#REF!"}},{"$f":"IF(COLUMNS($Q$5:BO5)=#REF!,1,IF(BN5=0,0,BN5+1))","v":{"$error":"#REF!"}},{"$f":"IF(COLUMNS($Q$5:BP5)=#REF!,1,IF(BO5=0,0,BO5+1))","v":{"$error":"#REF!"}},{"$f":"IF(COLUMNS($Q$5:BQ5)=#REF!,1,IF(BP5=0,0,BP5+1))","v":{"$error":"#REF!"}},{"$f":"IF(COLUMNS($Q$5:BR5)=#REF!,1,IF(BQ5=0,0,BQ5+1))","v":{"$error":"#REF!"}},{"$f":"IF(COLUMNS($Q$5:BS5)=#REF!,1,IF(BR5=0,0,BR5+1))","v":{"$error":"#REF!"}},{"$f":"IF(COLUMNS($Q$5:BT5)=#REF!,1,IF(BS5=0,0,BS5+1))","v":{"$error":"#REF!"}},{"$f":"IF(COLUMNS($Q$5:BU5)=#REF!,1,IF(BT5=0,0,BT5+1))","v":{"$error":"#REF!"}},{"$f":"IF(COLUMNS($Q$5:BV5)=#REF!,1,IF(BU5=0,0,BU5+1))","v":{"$error":"#REF!"}},{"$f":"IF(COLUMNS($Q$5:BW5)=#REF!,1,IF(BV5=0,0,BV5+1))","v":{"$error":"#REF!"}},{"$f":"IF(COLUMNS($Q$5:BX5)=#REF!,1,IF(BW5=0,0,BW5+1))","v":{"$error":"#REF!"}},{"$f":"IF(COLUMNS($Q$5:BY5)=#REF!,1,IF(BX5=0,0,BX5+1))","v":{"$error":"#REF!"}},{"$f":"IF(COLUMNS($Q$5:BZ5)=#REF!,1,IF(BY5=0,0,BY5+1))","v":{"$error":"#REF!"}},{"$f":"IF(COLUMNS($Q$5:CA5)=#REF!,1,IF(BZ5=0,0,BZ5+1))","v":{"$error":"#REF!"}},{"$f":"IF(COLUMNS($Q$5:CB5)=#REF!,1,IF(CA5=0,0,CA5+1))","v":{"$error":"#REF!"}},{"$f":"IF(COLUMNS($Q$5:CC5)=#REF!,1,IF(CB5=0,0,CB5+1))","v":{"$error":"#REF!"}},{"$f":"IF(COLUMNS($Q$5:CD5)=#REF!,1,IF(CC5=0,0,CC5+1))","v":{"$error":"#REF!"}},{"$f":"IF(COLUMNS($Q$5:CE5)=#REF!,1,IF(CD5=0,0,CD5+1))","v":{"$error":"#REF!"}},{"$f":"IF(COLUMNS($Q$5:CF5)=#REF!,1,IF(CE5=0,0,CE5+1))","v":{"$error":"#REF!"}},{"$f":"IF(COLUMNS($Q$5:CG5)=#REF!,1,IF(CF5=0,0,CF5+1))","v":{"$error":"#REF!"}},{"$f":"IF(COLUMNS($Q$5:CH5)=#REF!,1,IF(CG5=0,0,CG5+1))","v":{"$error":"#REF!"}},{"$f":"IF(COLUMNS($Q$5:CI5)=#REF!,1,IF(CH5=0,0,CH5+1))","v":{"$error":"#REF!"}},{"$f":"IF(COLUMNS($Q$5:CJ5)=#REF!,1,IF(CI5=0,0,CI5+1))","v":{"$error":"#REF!"}},{"$f":"IF(COLUMNS($Q$5:CK5)=#REF!,1,IF(CJ5=0,0,CJ5+1))","v":{"$error":"#REF!"}},{"$f":"IF(COLUMNS($Q$5:CL5)=#REF!,1,IF(CK5=0,0,CK5+1))","v":{"$error":"#REF!"}},{"$f":"IF(COLUMNS($Q$5:CM5)=#REF!,1,IF(CL5=0,0,CL5+1))","v":{"$error":"#REF!"}},{"$f":"IF(COLUMNS($Q$5:CN5)=#REF!,1,IF(CM5=0,0,CM5+1))","v":{"$error":"#REF!"}},{"$f":"IF(COLUMNS($Q$5:CO5)=#REF!,1,IF(CN5=0,0,CN5+1))","v":{"$error":"#REF!"}},{"$f":"IF(COLUMNS($Q$5:CP5)=#REF!,1,IF(CO5=0,0,CO5+1))","v":{"$error":"#REF!"}},{"$f":"IF(COLUMNS($Q$5:CQ5)=#REF!,1,IF(CP5=0,0,CP5+1))","v":{"$error":"#REF!"}},{"$f":"IF(COLUMNS($Q$5:CR5)=#REF!,1,IF(CQ5=0,0,CQ5+1))","v":{"$error":"#REF!"}},{"$f":"IF(COLUMNS($Q$5:CS5)=#REF!,1,IF(CR5=0,0,CR5+1))","v":{"$error":"#REF!"}},{"$f":"IF(COLUMNS($Q$5:CT5)=#REF!,1,IF(CS5=0,0,CS5+1))","v":{"$error":"#REF!"}},{"$f":"IF(COLUMNS($Q$5:CU5)=#REF!,1,IF(CT5=0,0,CT5+1))","v":{"$error":"#REF!"}},{"$f":"IF(COLUMNS($Q$5:CV5)=#REF!,1,IF(CU5=0,0,CU5+1))","v":{"$error":"#REF!"}},{"$f":"IF(COLUMNS($Q$5:CW5)=#REF!,1,IF(CV5=0,0,CV5+1))","v":{"$error":"#REF!"}},{"$f":"IF(COLUMNS($Q$5:CX5)=#REF!,1,IF(CW5=0,0,CW5+1))","v":{"$error":"#REF!"}},{"$f":"IF(COLUMNS($Q$5:CY5)=#REF!,1,IF(CX5=0,0,CX5+1))","v":{"$error":"#REF!"}},{"$f":"IF(COLUMNS($Q$5:CZ5)=#REF!,1,IF(CY5=0,0,CY5+1))","v":{"$error":"#REF!"}},{"$f":"IF(COLUMNS($Q$5:DA5)=#REF!,1,IF(CZ5=0,0,CZ5+1))","v":{"$error":"#REF!"}},{"$f":"IF(COLUMNS($Q$5:DB5)=#REF!,1,IF(DA5=0,0,DA5+1))","v":{"$error":"#REF!"}},{"$f":"IF(COLUMNS($Q$5:DC5)=#REF!,1,IF(DB5=0,0,DB5+1))","v":{"$error":"#REF!"}},{"$f":"IF(COLUMNS($Q$5:DD5)=#REF!,1,IF(DC5=0,0,DC5+1))","v":{"$error":"#REF!"}},{"$f":"IF(COLUMNS($Q$5:DE5)=#REF!,1,IF(DD5=0,0,DD5+1))","v":{"$error":"#REF!"}},{"$f":"IF(COLUMNS($Q$5:DF5)=#REF!,1,IF(DE5=0,0,DE5+1))","v":{"$error":"#REF!"}},{"$f":"IF(COLUMNS($Q$5:DG5)=#REF!,1,IF(DF5=0,0,DF5+1))","v":{"$error":"#REF!"}},{"$f":"IF(COLUMNS($Q$5:DH5)=#REF!,1,IF(DG5=0,0,DG5+1))","v":{"$error":"#REF!"}},{"$f":"IF(COLUMNS($Q$5:DI5)=#REF!,1,IF(DH5=0,0,DH5+1))","v":{"$error":"#REF!"}},{"$f":"IF(COLUMNS($Q$5:DJ5)=#REF!,1,IF(DI5=0,0,DI5+1))","v":{"$error":"#REF!"}},{"$f":"IF(COLUMNS($Q$5:DK5)=#REF!,1,IF(DJ5=0,0,DJ5+1))","v":{"$error":"#REF!"}},{"$f":"IF(COLUMNS($Q$5:DL5)=#REF!,1,IF(DK5=0,0,DK5+1))","v":{"$error":"#REF!"}},{"$f":"IF(COLUMNS($Q$5:DM5)=#REF!,1,IF(DL5=0,0,DL5+1))","v":{"$error":"#REF!"}},{"$f":"IF(COLUMNS($Q$5:DN5)=#REF!,1,IF(DM5=0,0,DM5+1))","v":{"$error":"#REF!"}},{"$f":"IF(COLUMNS($Q$5:DO5)=#REF!,1,IF(DN5=0,0,DN5+1))","v":{"$error":"#REF!"}},{"$f":"IF(COLUMNS($Q$5:DP5)=#REF!,1,IF(DO5=0,0,DO5+1))","v":{"$error":"#REF!"}},{"$f":"IF(COLUMNS($Q$5:DQ5)=#REF!,1,IF(DP5=0,0,DP5+1))","v":{"$error":"#REF!"}},{"$f":"IF(COLUMNS($Q$5:DR5)=#REF!,1,IF(DQ5=0,0,DQ5+1))","v":{"$error":"#REF!"}},{"$f":"IF(COLUMNS($Q$5:DS5)=#REF!,1,IF(DR5=0,0,DR5+1))","v":{"$error":"#REF!"}},{"$f":"IF(COLUMNS($Q$5:DT5)=#REF!,1,IF(DS5=0,0,DS5+1))","v":{"$error":"#REF!"}},{"$f":"IF(COLUMNS($Q$5:DU5)=#REF!,1,IF(DT5=0,0,DT5+1))","v":{"$error":"#REF!"}},{"$f":"IF(COLUMNS($Q$5:DV5)=#REF!,1,IF(DU5=0,0,DU5+1))","v":{"$error":"#REF!"}},{"$f":"IF(COLUMNS($Q$5:DW5)=#REF!,1,IF(DV5=0,0,DV5+1))","v":{"$error":"#REF!"}},{"$f":"IF(COLUMNS($Q$5:DX5)=#REF!,1,IF(DW5=0,0,DW5+1))","v":{"$error":"#REF!"}},{"$f":"IF(COLUMNS($Q$5:DY5)=#REF!,1,IF(DX5=0,0,DX5+1))","v":{"$error":"#REF!"}},{"$f":"IF(COLUMNS($Q$5:DZ5)=#REF!,1,IF(DY5=0,0,DY5+1))","v":{"$error":"#REF!"}},{"$f":"IF(COLUMNS($Q$5:EA5)=#REF!,1,IF(DZ5=0,0,DZ5+1))","v":{"$error":"#REF!"}},{"$f":"IF(COLUMNS($Q$5:EB5)=#REF!,1,IF(EA5=0,0,EA5+1))","v":{"$error":"#REF!"}},{"$f":"IF(COLUMNS($Q$5:EC5)=#REF!,1,IF(EB5=0,0,EB5+1))","v":{"$error":"#REF!"}},{"$f":"IF(COLUMNS($Q$5:ED5)=#REF!,1,IF(EC5=0,0,EC5+1))","v":{"$error":"#REF!"}},{"$f":"IF(COLUMNS($Q$5:EE5)=#REF!,1,IF(ED5=0,0,ED5+1))","v":{"$error":"#REF!"}},{"$f":"IF(COLUMNS($Q$5:EF5)=#REF!,1,IF(EE5=0,0,EE5+1))","v":{"$error":"#REF!"}},{"$f":"IF(COLUMNS($Q$5:EG5)=#REF!,1,IF(EF5=0,0,EF5+1))","v":{"$error":"#REF!"}},{"$f":"IF(COLUMNS($Q$5:EH5)=#REF!,1,IF(EG5=0,0,EG5+1))","v":{"$error":"#REF!"}},{"$f":"IF(COLUMNS($Q$5:EI5)=#REF!,1,IF(EH5=0,0,EH5+1))","v":{"$error":"#REF!"}},{"$f":"IF(COLUMNS($Q$5:EJ5)=#REF!,1,IF(EI5=0,0,EI5+1))","v":{"$error":"#REF!"}},{"$f":"IF(COLUMNS($Q$5:EK5)=#REF!,1,IF(EJ5=0,0,EJ5+1))","v":{"$error":"#REF!"}},{"$f":"IF(COLUMNS($Q$5:EL5)=#REF!,1,IF(EK5=0,0,EK5+1))","v":{"$error":"#REF!"}},{"$f":"IF(COLUMNS($Q$5:EM5)=#REF!,1,IF(EL5=0,0,EL5+1))","v":{"$error":"#REF!"}},{"$f":"IF(COLUMNS($Q$5:EN5)=#REF!,1,IF(EM5=0,0,EM5+1))","v":{"$error":"#REF!"}},{"$f":"IF(COLUMNS($Q$5:EO5)=#REF!,1,IF(EN5=0,0,EN5+1))","v":{"$error":"#REF!"}},{"$f":"IF(COLUMNS($Q$5:EP5)=#REF!,1,IF(EO5=0,0,EO5+1))","v":{"$error":"#REF!"}},{"$f":"IF(COLUMNS($Q$5:EQ5)=#REF!,1,IF(EP5=0,0,EP5+1))","v":{"$error":"#REF!"}},{"$f":"IF(COLUMNS($Q$5:ER5)=#REF!,1,IF(EQ5=0,0,EQ5+1))","v":{"$error":"#REF!"}},{"$f":"IF(COLUMNS($Q$5:ES5)=#REF!,1,IF(ER5=0,0,ER5+1))","v":{"$error":"#REF!"}},{"$f":"IF(COLUMNS($Q$5:ET5)=#REF!,1,IF(ES5=0,0,ES5+1))","v":{"$error":"#REF!"}},{"$f":"IF(COLUMNS($Q$5:EU5)=#REF!,1,IF(ET5=0,0,ET5+1))","v":{"$error":"#REF!"}},{"$f":"IF(COLUMNS($Q$5:EV5)=#REF!,1,IF(EU5=0,0,EU5+1))","v":{"$error":"#REF!"}},{"$f":"IF(COLUMNS($Q$5:EW5)=#REF!,1,IF(EV5=0,0,EV5+1))","v":{"$error":"#REF!"}},{"$f":"IF(COLUMNS($Q$5:EX5)=#REF!,1,IF(EW5=0,0,EW5+1))","v":{"$error":"#REF!"}},{"$f":"IF(COLUMNS($Q$5:EY5)=#REF!,1,IF(EX5=0,0,EX5+1))","v":{"$error":"#REF!"}},{"$f":"IF(COLUMNS($Q$5:EZ5)=#REF!,1,IF(EY5=0,0,EY5+1))","v":{"$error":"#REF!"}},{"$f":"IF(COLUMNS($Q$5:FA5)=#REF!,1,IF(EZ5=0,0,EZ5+1))","v":{"$error":"#REF!"}},{"$f":"IF(COLUMNS($Q$5:FB5)=#REF!,1,IF(FA5=0,0,FA5+1))","v":{"$error":"#REF!"}},{"$f":"IF(COLUMNS($Q$5:FC5)=#REF!,1,IF(FB5=0,0,FB5+1))","v":{"$error":"#REF!"}},{"$f":"IF(COLUMNS($Q$5:FD5)=#REF!,1,IF(FC5=0,0,FC5+1))","v":{"$error":"#REF!"}},{"$f":"IF(COLUMNS($Q$5:FE5)=#REF!,1,IF(FD5=0,0,FD5+1))","v":{"$error":"#REF!"}},{"$f":"IF(COLUMNS($Q$5:FF5)=#REF!,1,IF(FE5=0,0,FE5+1))","v":{"$error":"#REF!"}},{"$f":"IF(COLUMNS($Q$5:FG5)=#REF!,1,IF(FF5=0,0,FF5+1))","v":{"$error":"#REF!"}},{"$f":"IF(COLUMNS($Q$5:FH5)=#REF!,1,IF(FG5=0,0,FG5+1))","v":{"$error":"#REF!"}},{"$f":"IF(COLUMNS($Q$5:FI5)=#REF!,1,IF(FH5=0,0,FH5+1))","v":{"$error":"#REF!"}},{"$f":"IF(COLUMNS($Q$5:FJ5)=#REF!,1,IF(FI5=0,0,FI5+1))","v":{"$error":"#REF!"}},{"$f":"IF(COLUMNS($Q$5:FK5)=#REF!,1,IF(FJ5=0,0,FJ5+1))","v":{"$error":"#REF!"}},{"$f":"IF(COLUMNS($Q$5:FL5)=#REF!,1,IF(FK5=0,0,FK5+1))","v":{"$error":"#REF!"}},{"$f":"IF(COLUMNS($Q$5:FM5)=#REF!,1,IF(FL5=0,0,FL5+1))","v":{"$error":"#REF!"}},{"$f":"IF(COLUMNS($Q$5:FN5)=#REF!,1,IF(FM5=0,0,FM5+1))","v":{"$error":"#REF!"}},{"$f":"IF(COLUMNS($Q$5:FO5)=#REF!,1,IF(FN5=0,0,FN5+1))","v":{"$error":"#REF!"}},{"$f":"IF(COLUMNS($Q$5:FP5)=#REF!,1,IF(FO5=0,0,FO5+1))","v":{"$error":"#REF!"}},{"$f":"IF(COLUMNS($Q$5:FQ5)=#REF!,1,IF(FP5=0,0,FP5+1))","v":{"$error":"#REF!"}},{"$f":"IF(COLUMNS($Q$5:FR5)=#REF!,1,IF(FQ5=0,0,FQ5+1))","v":{"$error":"#REF!"}},{"$f":"IF(COLUMNS($Q$5:FS5)=#REF!,1,IF(FR5=0,0,FR5+1))","v":{"$error":"#REF!"}},{"$f":"IF(COLUMNS($Q$5:FT5)=#REF!,1,IF(FS5=0,0,FS5+1))","v":{"$error":"#REF!"}},{"$f":"IF(COLUMNS($Q$5:FU5)=#REF!,1,IF(FT5=0,0,FT5+1))","v":{"$error":"#REF!"}},{"$f":"IF(COLUMNS($Q$5:FV5)=#REF!,1,IF(FU5=0,0,FU5+1))","v":{"$error":"#REF!"}},{"$f":"IF(COLUMNS($Q$5:FW5)=#REF!,1,IF(FV5=0,0,FV5+1))","v":{"$error":"#REF!"}},{"$f":"IF(COLUMNS($Q$5:FX5)=#REF!,1,IF(FW5=0,0,FW5+1))","v":{"$error":"#REF!"}},{"$f":"IF(COLUMNS($Q$5:FY5)=#REF!,1,IF(FX5=0,0,FX5+1))","v":{"$error":"#REF!"}},{"$f":"IF(COLUMNS($Q$5:FZ5)=#REF!,1,IF(FY5=0,0,FY5+1))","v":{"$error":"#REF!"}},{"$f":"IF(COLUMNS($Q$5:GA5)=#REF!,1,IF(FZ5=0,0,FZ5+1))","v":{"$error":"#REF!"}},{"$f":"IF(COLUMNS($Q$5:GB5)=#REF!,1,IF(GA5=0,0,GA5+1))","v":{"$error":"#REF!"}},{"$f":"IF(COLUMNS($Q$5:GC5)=#REF!,1,IF(GB5=0,0,GB5+1))","v":{"$error":"#REF!"}},{"$f":"IF(COLUMNS($Q$5:GD5)=#REF!,1,IF(GC5=0,0,GC5+1))","v":{"$error":"#REF!"}},{"$f":"IF(COLUMNS($Q$5:GE5)=#REF!,1,IF(GD5=0,0,GD5+1))","v":{"$error":"#REF!"}},{"$f":"IF(COLUMNS($Q$5:GF5)=#REF!,1,IF(GE5=0,0,GE5+1))","v":{"$error":"#REF!"}},{"$f":"IF(COLUMNS($Q$5:GG5)=#REF!,1,IF(GF5=0,0,GF5+1))","v":{"$error":"#REF!"}},{"$f":"IF(COLUMNS($Q$5:GH5)=#REF!,1,IF(GG5=0,0,GG5+1))","v":{"$error":"#REF!"}},{"$f":"IF(COLUMNS($Q$5:GI5)=#REF!,1,IF(GH5=0,0,GH5+1))","v":{"$error":"#REF!"}},{"$f":"IF(COLUMNS($Q$5:GJ5)=#REF!,1,IF(GI5=0,0,GI5+1))","v":{"$error":"#REF!"}},{"$f":"IF(COLUMNS($Q$5:GK5)=#REF!,1,IF(GJ5=0,0,GJ5+1))","v":{"$error":"#REF!"}},{"$f":"IF(COLUMNS($Q$5:GL5)=#REF!,1,IF(GK5=0,0,GK5+1))","v":{"$error":"#REF!"}},{"$f":"IF(COLUMNS($Q$5:GM5)=#REF!,1,IF(GL5=0,0,GL5+1))","v":{"$error":"#REF!"}},{"$f":"IF(COLUMNS($Q$5:GN5)=#REF!,1,IF(GM5=0,0,GM5+1))","v":{"$error":"#REF!"}},{"$f":"IF(COLUMNS($Q$5:GO5)=#REF!,1,IF(GN5=0,0,GN5+1))","v":{"$error":"#REF!"}},{"$f":"IF(COLUMNS($Q$5:GP5)=#REF!,1,IF(GO5=0,0,GO5+1))","v":{"$error":"#REF!"}},{"$f":"IF(COLUMNS($Q$5:GQ5)=#REF!,1,IF(GP5=0,0,GP5+1))","v":{"$error":"#REF!"}},{"$f":"IF(COLUMNS($Q$5:GR5)=#REF!,1,IF(GQ5=0,0,GQ5+1))","v":{"$error":"#REF!"}},{"$f":"IF(COLUMNS($Q$5:GS5)=#REF!,1,IF(GR5=0,0,GR5+1))","v":{"$error":"#REF!"}},{"$f":"IF(COLUMNS($Q$5:GT5)=#REF!,1,IF(GS5=0,0,GS5+1))","v":{"$error":"#REF!"}},{"$f":"IF(COLUMNS($Q$5:GU5)=#REF!,1,IF(GT5=0,0,GT5+1))","v":{"$error":"#REF!"}},{"$f":"IF(COLUMNS($Q$5:GV5)=#REF!,1,IF(GU5=0,0,GU5+1))","v":{"$error":"#REF!"}},{"$f":"IF(COLUMNS($Q$5:GW5)=#REF!,1,IF(GV5=0,0,GV5+1))","v":{"$error":"#REF!"}},{"$f":"IF(COLUMNS($Q$5:GX5)=#REF!,1,IF(GW5=0,0,GW5+1))","v":{"$error":"#REF!"}},{"$f":"IF(COLUMNS($Q$5:GY5)=#REF!,1,IF(GX5=0,0,GX5+1))","v":{"$error":"#REF!"}},{"$f":"IF(COLUMNS($Q$5:GZ5)=#REF!,1,IF(GY5=0,0,GY5+1))","v":{"$error":"#REF!"}},{"$f":"IF(COLUMNS($Q$5:HA5)=#REF!,1,IF(GZ5=0,0,GZ5+1))","v":{"$error":"#REF!"}},{"$f":"IF(COLUMNS($Q$5:HB5)=#REF!,1,IF(HA5=0,0,HA5+1))","v":{"$error":"#REF!"}},{"$f":"IF(COLUMNS($Q$5:HC5)=#REF!,1,IF(HB5=0,0,HB5+1))","v":{"$error":"#REF!"}},{"$f":"IF(COLUMNS($Q$5:HD5)=#REF!,1,IF(HC5=0,0,HC5+1))","v":{"$error":"#REF!"}},{"$f":"IF(COLUMNS($Q$5:HE5)=#REF!,1,IF(HD5=0,0,HD5+1))","v":{"$error":"#REF!"}},{"$f":"IF(COLUMNS($Q$5:HF5)=#REF!,1,IF(HE5=0,0,HE5+1))","v":{"$error":"#REF!"}},{"$f":"IF(COLUMNS($Q$5:HG5)=#REF!,1,IF(HF5=0,0,HF5+1))","v":{"$error":"#REF!"}},{"$f":"IF(COLUMNS($Q$5:HH5)=#REF!,1,IF(HG5=0,0,HG5+1))","v":{"$error":"#REF!"}},{"$f":"IF(COLUMNS($Q$5:HI5)=#REF!,1,IF(HH5=0,0,HH5+1))","v":{"$error":"#REF!"}},{"$f":"IF(COLUMNS($Q$5:HJ5)=#REF!,1,IF(HI5=0,0,HI5+1))","v":{"$error":"#REF!"}},{"$f":"IF(COLUMNS($Q$5:HK5)=#REF!,1,IF(HJ5=0,0,HJ5+1))","v":{"$error":"#REF!"}},{"$f":"IF(COLUMNS($Q$5:HL5)=#REF!,1,IF(HK5=0,0,HK5+1))","v":{"$error":"#REF!"}},{"$f":"IF(COLUMNS($Q$5:HM5)=#REF!,1,IF(HL5=0,0,HL5+1))","v":{"$error":"#REF!"}},{"$f":"IF(COLUMNS($Q$5:HN5)=#REF!,1,IF(HM5=0,0,HM5+1))","v":{"$error":"#REF!"}},{"$f":"IF(COLUMNS($Q$5:HO5)=#REF!,1,IF(HN5=0,0,HN5+1))","v":{"$error":"#REF!"}},{"$f":"IF(COLUMNS($Q$5:HP5)=#REF!,1,IF(HO5=0,0,HO5+1))","v":{"$error":"#REF!"}},{"$f":"IF(COLUMNS($Q$5:HQ5)=#REF!,1,IF(HP5=0,0,HP5+1))","v":{"$error":"#REF!"}},{"$f":"IF(COLUMNS($Q$5:HR5)=#REF!,1,IF(HQ5=0,0,HQ5+1))","v":{"$error":"#REF!"}},{"$f":"IF(COLUMNS($Q$5:HS5)=#REF!,1,IF(HR5=0,0,HR5+1))","v":{"$error":"#REF!"}},{"$f":"IF(COLUMNS($Q$5:HT5)=#REF!,1,IF(HS5=0,0,HS5+1))","v":{"$error":"#REF!"}},{"$f":"IF(COLUMNS($Q$5:HU5)=#REF!,1,IF(HT5=0,0,HT5+1))","v":{"$error":"#REF!"}},{"$f":"IF(COLUMNS($Q$5:HV5)=#REF!,1,IF(HU5=0,0,HU5+1))","v":{"$error":"#REF!"}},{"$f":"IF(COLUMNS($Q$5:HW5)=#REF!,1,IF(HV5=0,0,HV5+1))","v":{"$error":"#REF!"}},{"$f":"IF(COLUMNS($Q$5:HX5)=#REF!,1,IF(HW5=0,0,HW5+1))","v":{"$error":"#REF!"}},{"$f":"IF(COLUMNS($Q$5:HY5)=#REF!,1,IF(HX5=0,0,HX5+1))","v":{"$error":"#REF!"}},{"$f":"IF(COLUMNS($Q$5:HZ5)=#REF!,1,IF(HY5=0,0,HY5+1))","v":{"$error":"#REF!"}},{"$f":"IF(COLUMNS($Q$5:IA5)=#REF!,1,IF(HZ5=0,0,HZ5+1))","v":{"$error":"#REF!"}},{"$f":"IF(COLUMNS($Q$5:IB5)=#REF!,1,IF(IA5=0,0,IA5+1))","v":{"$error":"#REF!"}},{"$f":"IF(COLUMNS($Q$5:IC5)=#REF!,1,IF(IB5=0,0,IB5+1))","v":{"$error":"#REF!"}},{"$f":"IF(COLUMNS($Q$5:ID5)=#REF!,1,IF(IC5=0,0,IC5+1))","v":{"$error":"#REF!"}},{"$f":"IF(COLUMNS($Q$5:IE5)=#REF!,1,IF(ID5=0,0,ID5+1))","v":{"$error":"#REF!"}},{"$f":"IF(COLUMNS($Q$5:IF5)=#REF!,1,IF(IE5=0,0,IE5+1))","v":{"$error":"#REF!"}},{"$f":"IF(COLUMNS($Q$5:IG5)=#REF!,1,IF(IF5=0,0,IF5+1))","v":{"$error":"#REF!"}},{"$f":"IF(COLUMNS($Q$5:IH5)=#REF!,1,IF(IG5=0,0,IG5+1))","v":{"$error":"#REF!"}},{"$f":"IF(COLUMNS($Q$5:II5)=#REF!,1,IF(IH5=0,0,IH5+1))","v":{"$error":"#REF!"}},{"$f":"IF(COLUMNS($Q$5:IJ5)=#REF!,1,IF(II5=0,0,II5+1))","v":{"$error":"#REF!"}},{"$f":"IF(COLUMNS($Q$5:IK5)=#REF!,1,IF(IJ5=0,0,IJ5+1))","v":{"$error":"#REF!"}},{"$f":"IF(COLUMNS($Q$5:IL5)=#REF!,1,IF(IK5=0,0,IK5+1))","v":{"$error":"#REF!"}},{"$f":"IF(COLUMNS($Q$5:IM5)=#REF!,1,IF(IL5=0,0,IL5+1))","v":{"$error":"#REF!"}},{"$f":"IF(COLUMNS($Q$5:IN5)=#REF!,1,IF(IM5=0,0,IM5+1))","v":{"$error":"#REF!"}},{"$f":"IF(COLUMNS($Q$5:IO5)=#REF!,1,IF(IN5=0,0,IN5+1))","v":{"$error":"#REF!"}},{"$f":"IF(COLUMNS($Q$5:IP5)=#REF!,1,IF(IO5=0,0,IO5+1))","v":{"$error":"#REF!"}},{"$f":"IF(COLUMNS($Q$5:IQ5)=#REF!,1,IF(IP5=0,0,IP5+1))","v":{"$error":"#REF!"}},{"$f":"IF(COLUMNS($Q$5:IR5)=#REF!,1,IF(IQ5=0,0,IQ5+1))","v":{"$error":"#REF!"}},{"$f":"IF(COLUMNS($Q$5:IS5)=#REF!,1,IF(IR5=0,0,IR5+1))","v":{"$error":"#REF!"}},{"$f":"IF(COLUMNS($Q$5:IT5)=#REF!,1,IF(IS5=0,0,IS5+1))","v":{"$error":"#REF!"}},{"$f":"IF(COLUMNS($Q$5:IU5)=#REF!,1,IF(IT5=0,0,IT5+1))","v":{"$error":"#REF!"}},{"$f":"IF(COLUMNS($Q$5:IV5)=#REF!,1,IF(IU5=0,0,IU5+1))","v":{"$error":"#REF!"}},{"$f":"IF(COLUMNS($Q$5:IW5)=#REF!,1,IF(IV5=0,0,IV5+1))","v":{"$error":"#REF!"}},{"$f":"IF(COLUMNS($Q$5:IX5)=#REF!,1,IF(IW5=0,0,IW5+1))","v":{"$error":"#REF!"}},{"$f":"IF(COLUMNS($Q$5:IY5)=#REF!,1,IF(IX5=0,0,IX5+1))","v":{"$error":"#REF!"}},{"$f":"IF(COLUMNS($Q$5:IZ5)=#REF!,1,IF(IY5=0,0,IY5+1))","v":{"$error":"#REF!"}},{"$f":"IF(COLUMNS($Q$5:JA5)=#REF!,1,IF(IZ5=0,0,IZ5+1))","v":{"$error":"#REF!"}},{"$f":"IF(COLUMNS($Q$5:JB5)=#REF!,1,IF(JA5=0,0,JA5+1))","v":{"$error":"#REF!"}},{"$f":"IF(COLUMNS($Q$5:JC5)=#REF!,1,IF(JB5=0,0,JB5+1))","v":{"$error":"#REF!"}},{"$f":"IF(COLUMNS($Q$5:JD5)=#REF!,1,IF(JC5=0,0,JC5+1))","v":{"$error":"#REF!"}},{"$f":"IF(COLUMNS($Q$5:JE5)=#REF!,1,IF(JD5=0,0,JD5+1))","v":{"$error":"#REF!"}},{"$f":"IF(COLUMNS($Q$5:JF5)=#REF!,1,IF(JE5=0,0,JE5+1))","v":{"$error":"#REF!"}},{"$f":"IF(COLUMNS($Q$5:JG5)=#REF!,1,IF(JF5=0,0,JF5+1))","v":{"$error":"#REF!"}},{"$f":"IF(COLUMNS($Q$5:JH5)=#REF!,1,IF(JG5=0,0,JG5+1))","v":{"$error":"#REF!"}},{"$f":"IF(COLUMNS($Q$5:JI5)=#REF!,1,IF(JH5=0,0,JH5+1))","v":{"$error":"#REF!"}},{"$f":"IF(COLUMNS($Q$5:JJ5)=#REF!,1,IF(JI5=0,0,JI5+1))","v":{"$error":"#REF!"}},{"$f":"IF(COLUMNS($Q$5:JK5)=#REF!,1,IF(JJ5=0,0,JJ5+1))","v":{"$error":"#REF!"}},{"$f":"IF(COLUMNS($Q$5:JL5)=#REF!,1,IF(JK5=0,0,JK5+1))","v":{"$error":"#REF!"}},{"$f":"IF(COLUMNS($Q$5:JM5)=#REF!,1,IF(JL5=0,0,JL5+1))","v":{"$error":"#REF!"}},{"$f":"IF(COLUMNS($Q$5:JN5)=#REF!,1,IF(JM5=0,0,JM5+1))","v":{"$error":"#REF!"}},{"$f":"IF(COLUMNS($Q$5:JO5)=#REF!,1,IF(JN5=0,0,JN5+1))","v":{"$error":"#REF!"}},{"$f":"IF(COLUMNS($Q$5:JP5)=#REF!,1,IF(JO5=0,0,JO5+1))","v":{"$error":"#REF!"}},{"$f":"IF(COLUMNS($Q$5:JQ5)=#REF!,1,IF(JP5=0,0,JP5+1))","v":{"$error":"#REF!"}},{"$f":"IF(COLUMNS($Q$5:JR5)=#REF!,1,IF(JQ5=0,0,JQ5+1))","v":{"$error":"#REF!"}},{"$f":"IF(COLUMNS($Q$5:JS5)=#REF!,1,IF(JR5=0,0,JR5+1))","v":{"$error":"#REF!"}},{"$f":"IF(COLUMNS($Q$5:JT5)=#REF!,1,IF(JS5=0,0,JS5+1))","v":{"$error":"#REF!"}},{"$f":"IF(COLUMNS($Q$5:JU5)=#REF!,1,IF(JT5=0,0,JT5+1))","v":{"$error":"#REF!"}},{"$f":"IF(COLUMNS($Q$5:JV5)=#REF!,1,IF(JU5=0,0,JU5+1))","v":{"$error":"#REF!"}},{"$f":"IF(COLUMNS($Q$5:JW5)=#REF!,1,IF(JV5=0,0,JV5+1))","v":{"$error":"#REF!"}},{"$f":"IF(COLUMNS($Q$5:JX5)=#REF!,1,IF(JW5=0,0,JW5+1))","v":{"$error":"#REF!"}},{"$f":"IF(COLUMNS($Q$5:JY5)=#REF!,1,IF(JX5=0,0,JX5+1))","v":{"$error":"#REF!"}},{"$f":"IF(COLUMNS($Q$5:JZ5)=#REF!,1,IF(JY5=0,0,JY5+1))","v":{"$error":"#REF!"}},{"$f":"IF(COLUMNS($Q$5:KA5)=#REF!,1,IF(JZ5=0,0,JZ5+1))","v":{"$error":"#REF!"}},{"$f":"IF(COLUMNS($Q$5:KB5)=#REF!,1,IF(KA5=0,0,KA5+1))","v":{"$error":"#REF!"}},{"$f":"IF(COLUMNS($Q$5:KC5)=#REF!,1,IF(KB5=0,0,KB5+1))","v":{"$error":"#REF!"}},{"$f":"IF(COLUMNS($Q$5:KD5)=#REF!,1,IF(KC5=0,0,KC5+1))","v":{"$error":"#REF!"}},{"$f":"IF(COLUMNS($Q$5:KE5)=#REF!,1,IF(KD5=0,0,KD5+1))","v":{"$error":"#REF!"}},{"$f":"IF(COLUMNS($Q$5:KF5)=#REF!,1,IF(KE5=0,0,KE5+1))","v":{"$error":"#REF!"}},{"$f":"IF(COLUMNS($Q$5:KG5)=#REF!,1,IF(KF5=0,0,KF5+1))","v":{"$error":"#REF!"}},{"$f":"IF(COLUMNS($Q$5:KH5)=#REF!,1,IF(KG5=0,0,KG5+1))","v":{"$error":"#REF!"}},{"$f":"IF(COLUMNS($Q$5:KI5)=#REF!,1,IF(KH5=0,0,KH5+1))","v":{"$error":"#REF!"}},{"$f":"IF(COLUMNS($Q$5:KJ5)=#REF!,1,IF(KI5=0,0,KI5+1))","v":{"$error":"#REF!"}},{"$f":"IF(COLUMNS($Q$5:KK5)=#REF!,1,IF(KJ5=0,0,KJ5+1))","v":{"$error":"#REF!"}},{"$f":"IF(COLUMNS($Q$5:KL5)=#REF!,1,IF(KK5=0,0,KK5+1))","v":{"$error":"#REF!"}},{"$f":"IF(COLUMNS($Q$5:KM5)=#REF!,1,IF(KL5=0,0,KL5+1))","v":{"$error":"#REF!"}},{"$f":"IF(COLUMNS($Q$5:KN5)=#REF!,1,IF(KM5=0,0,KM5+1))","v":{"$error":"#REF!"}},{"$f":"IF(COLUMNS($Q$5:KO5)=#REF!,1,IF(KN5=0,0,KN5+1))","v":{"$error":"#REF!"}},{"$f":"IF(COLUMNS($Q$5:KP5)=#REF!,1,IF(KO5=0,0,KO5+1))","v":{"$error":"#REF!"}},{"$f":"IF(COLUMNS($Q$5:KQ5)=#REF!,1,IF(KP5=0,0,KP5+1))","v":{"$error":"#REF!"}},{"$f":"IF(COLUMNS($Q$5:KR5)=#REF!,1,IF(KQ5=0,0,KQ5+1))","v":{"$error":"#REF!"}},{"$f":"IF(COLUMNS($Q$5:KS5)=#REF!,1,IF(KR5=0,0,KR5+1))","v":{"$error":"#REF!"}},{"$f":"IF(COLUMNS($Q$5:KT5)=#REF!,1,IF(KS5=0,0,KS5+1))","v":{"$error":"#REF!"}},{"$f":"IF(COLUMNS($Q$5:KU5)=#REF!,1,IF(KT5=0,0,KT5+1))","v":{"$error":"#REF!"}},{"$f":"IF(COLUMNS($Q$5:KV5)=#REF!,1,IF(KU5=0,0,KU5+1))","v":{"$error":"#REF!"}},{"$f":"IF(COLUMNS($Q$5:KW5)=#REF!,1,IF(KV5=0,0,KV5+1))","v":{"$error":"#REF!"}},{"$f":"IF(COLUMNS($Q$5:KX5)=#REF!,1,IF(KW5=0,0,KW5+1))","v":{"$error":"#REF!"}},{"$f":"IF(COLUMNS($Q$5:KY5)=#REF!,1,IF(KX5=0,0,KX5+1))","v":{"$error":"#REF!"}},{"$f":"IF(COLUMNS($Q$5:KZ5)=#REF!,1,IF(KY5=0,0,KY5+1))","v":{"$error":"#REF!"}},{"$f":"IF(COLUMNS($Q$5:LA5)=#REF!,1,IF(KZ5=0,0,KZ5+1))","v":{"$error":"#REF!"}},{"$f":"IF(COLUMNS($Q$5:LB5)=#REF!,1,IF(LA5=0,0,LA5+1))","v":{"$error":"#REF!"}},{"$f":"IF(COLUMNS($Q$5:LC5)=#REF!,1,IF(LB5=0,0,LB5+1))","v":{"$error":"#REF!"}},{"$f":"IF(COLUMNS($Q$5:LD5)=#REF!,1,IF(LC5=0,0,LC5+1))","v":{"$error":"#REF!"}},{"$f":"IF(COLUMNS($Q$5:LE5)=#REF!,1,IF(LD5=0,0,LD5+1))","v":{"$error":"#REF!"}},{"$f":"IF(COLUMNS($Q$5:LF5)=#REF!,1,IF(LE5=0,0,LE5+1))","v":{"$error":"#REF!"}},{"$f":"IF(COLUMNS($Q$5:LG5)=#REF!,1,IF(LF5=0,0,LF5+1))","v":{"$error":"#REF!"}},{"$f":"IF(COLUMNS($Q$5:LH5)=#REF!,1,IF(LG5=0,0,LG5+1))","v":{"$error":"#REF!"}},{"$f":"IF(COLUMNS($Q$5:LI5)=#REF!,1,IF(LH5=0,0,LH5+1))","v":{"$error":"#REF!"}},{"$f":"IF(COLUMNS($Q$5:LJ5)=#REF!,1,IF(LI5=0,0,LI5+1))","v":{"$error":"#REF!"}},{"$f":"IF(COLUMNS($Q$5:LK5)=#REF!,1,IF(LJ5=0,0,LJ5+1))","v":{"$error":"#REF!"}},{"$f":"IF(COLUMNS($Q$5:LL5)=#REF!,1,IF(LK5=0,0,LK5+1))","v":{"$error":"#REF!"}},{"$f":"IF(COLUMNS($Q$5:LM5)=#REF!,1,IF(LL5=0,0,LL5+1))","v":{"$error":"#REF!"}},{"$f":"IF(COLUMNS($Q$5:LN5)=#REF!,1,IF(LM5=0,0,LM5+1))","v":{"$error":"#REF!"}},{"$f":"IF(COLUMNS($Q$5:LO5)=#REF!,1,IF(LN5=0,0,LN5+1))","v":{"$error":"#REF!"}},{"$f":"IF(COLUMNS($Q$5:LP5)=#REF!,1,IF(LO5=0,0,LO5+1))","v":{"$error":"#REF!"}},{"$f":"IF(COLUMNS($Q$5:LQ5)=#REF!,1,IF(LP5=0,0,LP5+1))","v":{"$error":"#REF!"}},{"$f":"IF(COLUMNS($Q$5:LR5)=#REF!,1,IF(LQ5=0,0,LQ5+1))","v":{"$error":"#REF!"}},{"$f":"IF(COLUMNS($Q$5:LS5)=#REF!,1,IF(LR5=0,0,LR5+1))","v":{"$error":"#REF!"}},{"$f":"IF(COLUMNS($Q$5:LT5)=#REF!,1,IF(LS5=0,0,LS5+1))","v":{"$error":"#REF!"}},{"$f":"IF(COLUMNS($Q$5:LU5)=#REF!,1,IF(LT5=0,0,LT5+1))","v":{"$error":"#REF!"}},{"$f":"IF(COLUMNS($Q$5:LV5)=#REF!,1,IF(LU5=0,0,LU5+1))","v":{"$error":"#REF!"}},{"$f":"IF(COLUMNS($Q$5:LW5)=#REF!,1,IF(LV5=0,0,LV5+1))","v":{"$error":"#REF!"}},{"$f":"IF(COLUMNS($Q$5:LX5)=#REF!,1,IF(LW5=0,0,LW5+1))","v":{"$error":"#REF!"}},{"$f":"IF(COLUMNS($Q$5:LY5)=#REF!,1,IF(LX5=0,0,LX5+1))","v":{"$error":"#REF!"}},{"$f":"IF(COLUMNS($Q$5:LZ5)=#REF!,1,IF(LY5=0,0,LY5+1))","v":{"$error":"#REF!"}},{"$f":"IF(COLUMNS($Q$5:MA5)=#REF!,1,IF(LZ5=0,0,LZ5+1))","v":{"$error":"#REF!"}},{"$f":"IF(COLUMNS($Q$5:MB5)=#REF!,1,IF(MA5=0,0,MA5+1))","v":{"$error":"#REF!"}},{"$f":"IF(COLUMNS($Q$5:MC5)=#REF!,1,IF(MB5=0,0,MB5+1))","v":{"$error":"#REF!"}},{"$f":"IF(COLUMNS($Q$5:MD5)=#REF!,1,IF(MC5=0,0,MC5+1))","v":{"$error":"#REF!"}},{"$f":"IF(COLUMNS($Q$5:ME5)=#REF!,1,IF(MD5=0,0,MD5+1))","v":{"$error":"#REF!"}},{"$f":"IF(COLUMNS($Q$5:MF5)=#REF!,1,IF(ME5=0,0,ME5+1))","v":{"$error":"#REF!"}},{"$f":"IF(COLUMNS($Q$5:MG5)=#REF!,1,IF(MF5=0,0,MF5+1))","v":{"$error":"#REF!"}},{"$f":"IF(COLUMNS($Q$5:MH5)=#REF!,1,IF(MG5=0,0,MG5+1))","v":{"$error":"#REF!"}},{"$f":"IF(COLUMNS($Q$5:MI5)=#REF!,1,IF(MH5=0,0,MH5+1))","v":{"$error":"#REF!"}},{"$f":"IF(COLUMNS($Q$5:MJ5)=#REF!,1,IF(MI5=0,0,MI5+1))","v":{"$error":"#REF!"}},{"$f":"IF(COLUMNS($Q$5:MK5)=#REF!,1,IF(MJ5=0,0,MJ5+1))","v":{"$error":"#REF!"}},{"$f":"IF(COLUMNS($Q$5:ML5)=#REF!,1,IF(MK5=0,0,MK5+1))","v":{"$error":"#REF!"}},{"$f":"IF(COLUMNS($Q$5:MM5)=#REF!,1,IF(ML5=0,0,ML5+1))","v":{"$error":"#REF!"}},{"$f":"IF(COLUMNS($Q$5:MN5)=#REF!,1,IF(MM5=0,0,MM5+1))","v":{"$error":"#REF!"}},{"$f":"IF(COLUMNS($Q$5:MO5)=#REF!,1,IF(MN5=0,0,MN5+1))","v":{"$error":"#REF!"}},{"$f":"IF(COLUMNS($Q$5:MP5)=#REF!,1,IF(MO5=0,0,MO5+1))","v":{"$error":"#REF!"}},{"$f":"IF(COLUMNS($Q$5:MQ5)=#REF!,1,IF(MP5=0,0,MP5+1))","v":{"$error":"#REF!"}},{"$f":"IF(COLUMNS($Q$5:MR5)=#REF!,1,IF(MQ5=0,0,MQ5+1))","v":{"$error":"#REF!"}},{"$f":"IF(COLUMNS($Q$5:MS5)=#REF!,1,IF(MR5=0,0,MR5+1))","v":{"$error":"#REF!"}},{"$f":"IF(COLUMNS($Q$5:MT5)=#REF!,1,IF(MS5=0,0,MS5+1))","v":{"$error":"#REF!"}},{"$f":"IF(COLUMNS($Q$5:MU5)=#REF!,1,IF(MT5=0,0,MT5+1))","v":{"$error":"#REF!"}},{"$f":"IF(COLUMNS($Q$5:MV5)=#REF!,1,IF(MU5=0,0,MU5+1))","v":{"$error":"#REF!"}},{"$f":"IF(COLUMNS($Q$5:MW5)=#REF!,1,IF(MV5=0,0,MV5+1))","v":{"$error":"#REF!"}},{"$f":"IF(COLUMNS($Q$5:MX5)=#REF!,1,IF(MW5=0,0,MW5+1))","v":{"$error":"#REF!"}},{"$f":"IF(COLUMNS($Q$5:MY5)=#REF!,1,IF(MX5=0,0,MX5+1))","v":{"$error":"#REF!"}},{"$f":"IF(COLUMNS($Q$5:MZ5)=#REF!,1,IF(MY5=0,0,MY5+1))","v":{"$error":"#REF!"}},{"$f":"IF(COLUMNS($Q$5:NA5)=#REF!,1,IF(MZ5=0,0,MZ5+1))","v":{"$error":"#REF!"}},{"$f":"IF(COLUMNS($Q$5:NB5)=#REF!,1,IF(NA5=0,0,NA5+1))","v":{"$error":"#REF!"}},{"$f":"IF(COLUMNS($Q$5:NC5)=#REF!,1,IF(NB5=0,0,NB5+1))","v":{"$error":"#REF!"}},{"$f":"IF(COLUMNS($Q$5:ND5)=#REF!,1,IF(NC5=0,0,NC5+1))","v":{"$error":"#REF!"}},{"$f":"IF(COLUMNS($Q$5:NE5)=#REF!,1,IF(ND5=0,0,ND5+1))","v":{"$error":"#REF!"}},{"$f":"IF(COLUMNS($Q$5:NF5)=#REF!,1,IF(NE5=0,0,NE5+1))","v":{"$error":"#REF!"}},{"$f":"IF(COLUMNS($Q$5:NG5)=#REF!,1,IF(NF5=0,0,NF5+1))","v":{"$error":"#REF!"}},{"$f":"IF(COLUMNS($Q$5:NH5)=#REF!,1,IF(NG5=0,0,NG5+1))","v":{"$error":"#REF!"}},{"$f":"IF(COLUMNS($Q$5:NI5)=#REF!,1,IF(NH5=0,0,NH5+1))","v":{"$error":"#REF!"}},{"$f":"IF(COLUMNS($Q$5:NJ5)=#REF!,1,IF(NI5=0,0,NI5+1))","v":{"$error":"#REF!"}},{"$f":"IF(COLUMNS($Q$5:NK5)=#REF!,1,IF(NJ5=0,0,NJ5+1))","v":{"$error":"#REF!"}},{"$f":"IF(COLUMNS($Q$5:NL5)=#REF!,1,IF(NK5=0,0,NK5+1))","v":{"$error":"#REF!"}},{"$f":"IF(COLUMNS($Q$5:NM5)=#REF!,1,IF(NL5=0,0,NL5+1))","v":{"$error":"#REF!"}},{"$f":"IF(COLUMNS($Q$5:NN5)=#REF!,1,IF(NM5=0,0,NM5+1))","v":{"$error":"#REF!"}},{"$f":"IF(COLUMNS($Q$5:NO5)=#REF!,1,IF(NN5=0,0,NN5+1))","v":{"$error":"#REF!"}},{"$f":"IF(COLUMNS($Q$5:NP5)=#REF!,1,IF(NO5=0,0,NO5+1))","v":{"$error":"#REF!"}},{"$f":"IF(COLUMNS($Q$5:NQ5)=#REF!,1,IF(NP5=0,0,NP5+1))","v":{"$error":"#REF!"}},{"$f":"IF(COLUMNS($Q$5:NR5)=#REF!,1,IF(NQ5=0,0,NQ5+1))","v":{"$error":"#REF!"}},{"$f":"IF(COLUMNS($Q$5:NS5)=#REF!,1,IF(NR5=0,0,NR5+1))","v":{"$error":"#REF!"}},{"$f":"IF(COLUMNS($Q$5:NT5)=#REF!,1,IF(NS5=0,0,NS5+1))","v":{"$error":"#REF!"}},{"$f":"IF(COLUMNS($Q$5:NU5)=#REF!,1,IF(NT5=0,0,NT5+1))","v":{"$error":"#REF!"}},{"$f":"IF(COLUMNS($Q$5:NV5)=#REF!,1,IF(NU5=0,0,NU5+1))","v":{"$error":"#REF!"}},{"$f":"IF(COLUMNS($Q$5:NW5)=#REF!,1,IF(NV5=0,0,NV5+1))","v":{"$error":"#REF!"}},{"$f":"IF(COLUMNS($Q$5:NX5)=#REF!,1,IF(NW5=0,0,NW5+1))","v":{"$error":"#REF!"}},{"$f":"IF(COLUMNS($Q$5:NY5)=#REF!,1,IF(NX5=0,0,NX5+1))","v":{"$error":"#REF!"}},{"$f":"IF(COLUMNS($Q$5:NZ5)=#REF!,1,IF(NY5=0,0,NY5+1))","v":{"$error":"#REF!"}},{"$f":"IF(COLUMNS($Q$5:OA5)=#REF!,1,IF(NZ5=0,0,NZ5+1))","v":{"$error":"#REF!"}},{"$f":"IF(COLUMNS($Q$5:OB5)=#REF!,1,IF(OA5=0,0,OA5+1))","v":{"$error":"#REF!"}},{"$f":"IF(COLUMNS($Q$5:OC5)=#REF!,1,IF(OB5=0,0,OB5+1))","v":{"$error":"#REF!"}},{"$f":"IF(COLUMNS($Q$5:OD5)=#REF!,1,IF(OC5=0,0,OC5+1))","v":{"$error":"#REF!"}},{"$f":"IF(COLUMNS($Q$5:OE5)=#REF!,1,IF(OD5=0,0,OD5+1))","v":{"$error":"#REF!"}},{"$f":"IF(COLUMNS($Q$5:OF5)=#REF!,1,IF(OE5=0,0,OE5+1))","v":{"$error":"#REF!"}},{"$f":"IF(COLUMNS($Q$5:OG5)=#REF!,1,IF(OF5=0,0,OF5+1))","v":{"$error":"#REF!"}},{"$f":"IF(COLUMNS($Q$5:OH5)=#REF!,1,IF(OG5=0,0,OG5+1))","v":{"$error":"#REF!"}},{"$f":"IF(COLUMNS($Q$5:OI5)=#REF!,1,IF(OH5=0,0,OH5+1))","v":{"$error":"#REF!"}},{"$f":"IF(COLUMNS($Q$5:OJ5)=#REF!,1,IF(OI5=0,0,OI5+1))","v":{"$error":"#REF!"}},{"$f":"IF(COLUMNS($Q$5:OK5)=#REF!,1,IF(OJ5=0,0,OJ5+1))","v":{"$error":"#REF!"}},{"$f":"IF(COLUMNS($Q$5:OL5)=#REF!,1,IF(OK5=0,0,OK5+1))","v":{"$error":"#REF!"}},{"$f":"IF(COLUMNS($Q$5:OM5)=#REF!,1,IF(OL5=0,0,OL5+1))","v":{"$error":"#REF!"}},{"$f":"IF(COLUMNS($Q$5:ON5)=#REF!,1,IF(OM5=0,0,OM5+1))","v":{"$error":"#REF!"}},{"$f":"IF(COLUMNS($Q$5:OO5)=#REF!,1,IF(ON5=0,0,ON5+1))","v":{"$error":"#REF!"}},{"$f":"IF(COLUMNS($Q$5:OP5)=#REF!,1,IF(OO5=0,0,OO5+1))","v":{"$error":"#REF!"}},{"$f":"IF(COLUMNS($Q$5:OQ5)=#REF!,1,IF(OP5=0,0,OP5+1))","v":{"$error":"#REF!"}}]
[null,null,null,null,null,null,null,null,null,null,null,null,"Rerating (comprador original)",null,null,null,{"$f":"+IF(SUM($Q$7:Q7)=0,1,0)","v":{"$error":"#REF!"}},{"$f":"+IF(SUM($Q$7:R7)=0,1,0)","v":{"$error":"#REF!"}},{"$f":"+IF(SUM($Q$7:S7)=0,1,0)","v":{"$error":"#REF!"}},{"$f":"+IF(SUM($Q$7:T7)=0,1,0)","v":{"$error":"#REF!"}},{"$f":"+IF(SUM($Q$7:U7)=0,1,0)","v":{"$error":"#REF!"}},{"$f":"+IF(SUM($Q$7:V7)=0,1,0)","v":{"$error":"#REF!"}},{"$f":"+IF(SUM($Q$7:W7)=0,1,0)","v":{"$error":"#REF!"}},{"$f":"+IF(SUM($Q$7:X7)=0,1,0)","v":{"$error":"#REF!"}},{"$f":"+IF(SUM($Q$7:Y7)=0,1,0)","v":{"$error":"#REF!"}},{"$f":"+IF(SUM($Q$7:Z7)=0,1,0)","v":{"$error":"#REF!"}},{"$f":"+IF(SUM($Q$7:AA7)=0,1,0)","v":{"$error":"#REF!"}},{"$f":"+IF(SUM($Q$7:AB7)=0,1,0)","v":{"$error":"#REF!"}},{"$f":"+IF(SUM($Q$7:AC7)=0,1,0)","v":{"$error":"#REF!"}},{"$f":"+IF(SUM($Q$7:AD7)=0,1,0)","v":{"$error":"#REF!"}},{"$f":"+IF(SUM($Q$7:AE7)=0,1,0)","v":{"$error":"#REF!"}},{"$f":"+IF(SUM($Q$7:AF7)=0,1,0)","v":{"$error":"#REF!"}},{"$f":"+IF(SUM($Q$7:AG7)=0,1,0)","v":{"$error":"#REF!"}},{"$f":"+IF(SUM($Q$7:AH7)=0,1,0)","v":{"$error":"#REF!"}},{"$f":"+IF(SUM($Q$7:AI7)=0,1,0)","v":{"$error":"#REF!"}},{"$f":"+IF(SUM($Q$7:AJ7)=0,1,0)","v":{"$error":"#REF!"}},{"$f":"+IF(SUM($Q$7:AK7)=0,1,0)","v":{"$error":"#REF!"}},{"$f":"+IF(SUM($Q$7:AL7)=0,1,0)","v":{"$error":"#REF!"}},{"$f":"+IF(SUM($Q$7:AM7)=0,1,0)","v":{"$error":"#REF!"}},{"$f":"+IF(SUM($Q$7:AN7)=0,1,0)","v":{"$error":"#REF!"}},{"$f":"+IF(SUM($Q$7:AO7)=0,1,0)","v":{"$error":"#REF!"}},{"$f":"+IF(SUM($Q$7:AP7)=0,1,0)","v":{"$error":"#REF!"}},{"$f":"+IF(SUM($Q$7:AQ7)=0,1,0)","v":{"$error":"#REF!"}},{"$f":"+IF(SUM($Q$7:AR7)=0,1,0)","v":{"$error":"#REF!"}},{"$f":"+IF(SUM($Q$7:AS7)=0,1,0)","v":{"$error":"#REF!"}},{"$f":"+IF(SUM($Q$7:AT7)=0,1,0)","v":{"$error":"#REF!"}},{"$f":"+IF(SUM($Q$7:AU7)=0,1,0)","v":{"$error":"#REF!"}},{"$f":"+IF(SUM($Q$7:AV7)=0,1,0)","v":{"$error":"#REF!"}},{"$f":"+IF(SUM($Q$7:AW7)=0,1,0)","v":{"$error":"#REF!"}},{"$f":"+IF(SUM($Q$7:AX7)=0,1,0)","v":{"$error":"#REF!"}},{"$f":"+IF(SUM($Q$7:AY7)=0,1,0)","v":{"$error":"#REF!"}},{"$f":"+IF(SUM($Q$7:AZ7)=0,1,0)","v":{"$error":"#REF!"}},{"$f":"+IF(SUM($Q$7:BA7)=0,1,0)","v":{"$error":"#REF!"}},{"$f":"+IF(SUM($Q$7:BB7)=0,1,0)","v":{"$error":"#REF!"}},{"$f":"+IF(SUM($Q$7:BC7)=0,1,0)","v":{"$error":"#REF!"}},{"$f":"+IF(SUM($Q$7:BD7)=0,1,0)","v":{"$error":"#REF!"}},{"$f":"+IF(SUM($Q$7:BE7)=0,1,0)","v":{"$error":"#REF!"}},{"$f":"+IF(SUM($Q$7:BF7)=0,1,0)","v":{"$error":"#REF!"}},{"$f":"+IF(SUM($Q$7:BG7)=0,1,0)","v":{"$error":"#REF!"}},{"$f":"+IF(SUM($Q$7:BH7)=0,1,0)","v":{"$error":"#REF!"}},{"$f":"+IF(SUM($Q$7:BI7)=0,1,0)","v":{"$error":"#REF!"}},{"$f":"+IF(SUM($Q$7:BJ7)=0,1,0)","v":{"$error":"#REF!"}},{"$f":"+IF(SUM($Q$7:BK7)=0,1,0)","v":{"$error":"#REF!"}},{"$f":"+IF(SUM($Q$7:BL7)=0,1,0)","v":{"$error":"#REF!"}},{"$f":"+IF(SUM($Q$7:BM7)=0,1,0)","v":{"$error":"#REF!"}},{"$f":"+IF(SUM($Q$7:BN7)=0,1,0)","v":{"$error":"#REF!"}},{"$f":"+IF(SUM($Q$7:BO7)=0,1,0)","v":{"$error":"#REF!"}},{"$f":"+IF(SUM($Q$7:BP7)=0,1,0)","v":{"$error":"#REF!"}},{"$f":"+IF(SUM($Q$7:BQ7)=0,1,0)","v":{"$error":"#REF!"}},{"$f":"+IF(SUM($Q$7:BR7)=0,1,0)","v":{"$error":"#REF!"}},{"$f":"+IF(SUM($Q$7:BS7)=0,1,0)","v":{"$error":"#REF!"}},{"$f":"+IF(SUM($Q$7:BT7)=0,1,0)","v":{"$error":"#REF!"}},{"$f":"+IF(SUM($Q$7:BU7)=0,1,0)","v":{"$error":"#REF!"}},{"$f":"+IF(SUM($Q$7:BV7)=0,1,0)","v":{"$error":"#REF!"}},{"$f":"+IF(SUM($Q$7:BW7)=0,1,0)","v":{"$error":"#REF!"}},{"$f":"+IF(SUM($Q$7:BX7)=0,1,0)","v":{"$error":"#REF!"}},{"$f":"+IF(SUM($Q$7:BY7)=0,1,0)","v":{"$error":"#REF!"}},{"$f":"+IF(SUM($Q$7:BZ7)=0,1,0)","v":{"$error":"#REF!"}},{"$f":"+IF(SUM($Q$7:CA7)=0,1,0)","v":{"$error":"#REF!"}},{"$f":"+IF(SUM($Q$7:CB7)=0,1,0)","v":{"$error":"#REF!"}},{"$f":"+IF(SUM($Q$7:CC7)=0,1,0)","v":{"$error":"#REF!"}},{"$f":"+IF(SUM($Q$7:CD7)=0,1,0)","v":{"$error":"#REF!"}},{"$f":"+IF(SUM($Q$7:CE7)=0,1,0)","v":{"$error":"#REF!"}},{"$f":"+IF(SUM($Q$7:CF7)=0,1,0)","v":{"$error":"#REF!"}},{"$f":"+IF(SUM($Q$7:CG7)=0,1,0)","v":{"$error":"#REF!"}},{"$f":"+IF(SUM($Q$7:CH7)=0,1,0)","v":{"$error":"#REF!"}},{"$f":"+IF(SUM($Q$7:CI7)=0,1,0)","v":{"$error":"#REF!"}},{"$f":"+IF(SUM($Q$7:CJ7)=0,1,0)","v":{"$error":"#REF!"}},{"$f":"+IF(SUM($Q$7:CK7)=0,1,0)","v":{"$error":"#REF!"}},{"$f":"+IF(SUM($Q$7:CL7)=0,1,0)","v":{"$error":"#REF!"}},{"$f":"+IF(SUM($Q$7:CM7)=0,1,0)","v":{"$error":"#REF!"}},{"$f":"+IF(SUM($Q$7:CN7)=0,1,0)","v":{"$error":"#REF!"}},{"$f":"+IF(SUM($Q$7:CO7)=0,1,0)","v":{"$error":"#REF!"}},{"$f":"+IF(SUM($Q$7:CP7)=0,1,0)","v":{"$error":"#REF!"}},{"$f":"+IF(SUM($Q$7:CQ7)=0,1,0)","v":{"$error":"#REF!"}},{"$f":"+IF(SUM($Q$7:CR7)=0,1,0)","v":{"$error":"#REF!"}},{"$f":"+IF(SUM($Q$7:CS7)=0,1,0)","v":{"$error":"#REF!"}},{"$f":"+IF(SUM($Q$7:CT7)=0,1,0)","v":{"$error":"#REF!"}},{"$f":"+IF(SUM($Q$7:CU7)=0,1,0)","v":{"$error":"#REF!"}},{"$f":"+IF(SUM($Q$7:CV7)=0,1,0)","v":{"$error":"#REF!"}},{"$f":"+IF(SUM($Q$7:CW7)=0,1,0)","v":{"$error":"#REF!"}},{"$f":"+IF(SUM($Q$7:CX7)=0,1,0)","v":{"$error":"#REF!"}},{"$f":"+IF(SUM($Q$7:CY7)=0,1,0)","v":{"$error":"#REF!"}},{"$f":"+IF(SUM($Q$7:CZ7)=0,1,0)","v":{"$error":"#REF!"}},{"$f":"+IF(SUM($Q$7:DA7)=0,1,0)","v":{"$error":"#REF!"}},{"$f":"+IF(SUM($Q$7:DB7)=0,1,0)","v":{"$error":"#REF!"}},{"$f":"+IF(SUM($Q$7:DC7)=0,1,0)","v":{"$error":"#REF!"}},{"$f":"+IF(SUM($Q$7:DD7)=0,1,0)","v":{"$error":"#REF!"}},{"$f":"+IF(SUM($Q$7:DE7)=0,1,0)","v":{"$error":"#REF!"}},{"$f":"+IF(SUM($Q$7:DF7)=0,1,0)","v":{"$error":"#REF!"}},{"$f":"+IF(SUM($Q$7:DG7)=0,1,0)","v":{"$error":"#REF!"}},{"$f":"+IF(SUM($Q$7:DH7)=0,1,0)","v":{"$error":"#REF!"}},{"$f":"+IF(SUM($Q$7:DI7)=0,1,0)","v":{"$error":"#REF!"}},{"$f":"+IF(SUM($Q$7:DJ7)=0,1,0)","v":{"$error":"#REF!"}},{"$f":"+IF(SUM($Q$7:DK7)=0,1,0)","v":{"$error":"#REF!"}},{"$f":"+IF(SUM($Q$7:DL7)=0,1,0)","v":{"$error":"#REF!"}},{"$f":"+IF(SUM($Q$7:DM7)=0,1,0)","v":{"$error":"#REF!"}},{"$f":"+IF(SUM($Q$7:DN7)=0,1,0)","v":{"$error":"#REF!"}},{"$f":"+IF(SUM($Q$7:DO7)=0,1,0)","v":{"$error":"#REF!"}},{"$f":"+IF(SUM($Q$7:DP7)=0,1,0)","v":{"$error":"#REF!"}},{"$f":"+IF(SUM($Q$7:DQ7)=0,1,0)","v":{"$error":"#REF!"}},{"$f":"+IF(SUM($Q$7:DR7)=0,1,0)","v":{"$error":"#REF!"}},{"$f":"+IF(SUM($Q$7:DS7)=0,1,0)","v":{"$error":"#REF!"}},{"$f":"+IF(SUM($Q$7:DT7)=0,1,0)","v":{"$error":"#REF!"}},{"$f":"+IF(SUM($Q$7:DU7)=0,1,0)","v":{"$error":"#REF!"}},{"$f":"+IF(SUM($Q$7:DV7)=0,1,0)","v":{"$error":"#REF!"}},{"$f":"+IF(SUM($Q$7:DW7)=0,1,0)","v":{"$error":"#REF!"}},{"$f":"+IF(SUM($Q$7:DX7)=0,1,0)","v":{"$error":"#REF!"}},{"$f":"+IF(SUM($Q$7:DY7)=0,1,0)","v":{"$error":"#REF!"}},{"$f":"+IF(SUM($Q$7:DZ7)=0,1,0)","v":{"$error":"#REF!"}},{"$f":"+IF(SUM($Q$7:EA7)=0,1,0)","v":{"$error":"#REF!"}},{"$f":"+IF(SUM($Q$7:EB7)=0,1,0)","v":{"$error":"#REF!"}},{"$f":"+IF(SUM($Q$7:EC7)=0,1,0)","v":{"$error":"#REF!"}},{"$f":"+IF(SUM($Q$7:ED7)=0,1,0)","v":{"$error":"#REF!"}},{"$f":"+IF(SUM($Q$7:EE7)=0,1,0)","v":{"$error":"#REF!"}},{"$f":"+IF(SUM($Q$7:EF7)=0,1,0)","v":{"$error":"#REF!"}},{"$f":"+IF(SUM($Q$7:EG7)=0,1,0)","v":{"$error":"#REF!"}},{"$f":"+IF(SUM($Q$7:EH7)=0,1,0)","v":{"$error":"#REF!"}},{"$f":"+IF(SUM($Q$7:EI7)=0,1,0)","v":{"$error":"#REF!"}},{"$f":"+IF(SUM($Q$7:EJ7)=0,1,0)","v":{"$error":"#REF!"}},{"$f":"+IF(SUM($Q$7:EK7)=0,1,0)","v":{"$error":"#REF!"}},{"$f":"+IF(SUM($Q$7:EL7)=0,1,0)","v":{"$error":"#REF!"}},{"$f":"+IF(SUM($Q$7:EM7)=0,1,0)","v":{"$error":"#REF!"}},{"$f":"+IF(SUM($Q$7:EN7)=0,1,0)","v":{"$error":"#REF!"}},{"$f":"+IF(SUM($Q$7:EO7)=0,1,0)","v":{"$error":"#REF!"}},{"$f":"+IF(SUM($Q$7:EP7)=0,1,0)","v":{"$error":"#REF!"}},{"$f":"+IF(SUM($Q$7:EQ7)=0,1,0)","v":{"$error":"#REF!"}},{"$f":"+IF(SUM($Q$7:ER7)=0,1,0)","v":{"$error":"#REF!"}},{"$f":"+IF(SUM($Q$7:ES7)=0,1,0)","v":{"$error":"#REF!"}},{"$f":"+IF(SUM($Q$7:ET7)=0,1,0)","v":{"$error":"#REF!"}},{"$f":"+IF(SUM($Q$7:EU7)=0,1,0)","v":{"$error":"#REF!"}},{"$f":"+IF(SUM($Q$7:EV7)=0,1,0)","v":{"$error":"#REF!"}},{"$f":"+IF(SUM($Q$7:EW7)=0,1,0)","v":{"$error":"#REF!"}},{"$f":"+IF(SUM($Q$7:EX7)=0,1,0)","v":{"$error":"#REF!"}},{"$f":"+IF(SUM($Q$7:EY7)=0,1,0)","v":{"$error":"#REF!"}},{"$f":"+IF(SUM($Q$7:EZ7)=0,1,0)","v":{"$error":"#REF!"}},{"$f":"+IF(SUM($Q$7:FA7)=0,1,0)","v":{"$error":"#REF!"}},{"$f":"+IF(SUM($Q$7:FB7)=0,1,0)","v":{"$error":"#REF!"}},{"$f":"+IF(SUM($Q$7:FC7)=0,1,0)","v":{"$error":"#REF!"}},{"$f":"+IF(SUM($Q$7:FD7)=0,1,0)","v":{"$error":"#REF!"}},{"$f":"+IF(SUM($Q$7:FE7)=0,1,0)","v":{"$error":"#REF!"}},{"$f":"+IF(SUM($Q$7:FF7)=0,1,0)","v":{"$error":"#REF!"}},{"$f":"+IF(SUM($Q$7:FG7)=0,1,0)","v":{"$error":"#REF!"}},{"$f":"+IF(SUM($Q$7:FH7)=0,1,0)","v":{"$error":"#REF!"}},{"$f":"+IF(SUM($Q$7:FI7)=0,1,0)","v":{"$error":"#REF!"}},{"$f":"+IF(SUM($Q$7:FJ7)=0,1,0)","v":{"$error":"#REF!"}},{"$f":"+IF(SUM($Q$7:FK7)=0,1,0)","v":{"$error":"#REF!"}},{"$f":"+IF(SUM($Q$7:FL7)=0,1,0)","v":{"$error":"#REF!"}},{"$f":"+IF(SUM($Q$7:FM7)=0,1,0)","v":{"$error":"#REF!"}},{"$f":"+IF(SUM($Q$7:FN7)=0,1,0)","v":{"$error":"#REF!"}},{"$f":"+IF(SUM($Q$7:FO7)=0,1,0)","v":{"$error":"#REF!"}},{"$f":"+IF(SUM($Q$7:FP7)=0,1,0)","v":{"$error":"#REF!"}},{"$f":"+IF(SUM($Q$7:FQ7)=0,1,0)","v":{"$error":"#REF!"}},{"$f":"+IF(SUM($Q$7:FR7)=0,1,0)","v":{"$error":"#REF!"}},{"$f":"+IF(SUM($Q$7:FS7)=0,1,0)","v":{"$error":"#REF!"}},{"$f":"+IF(SUM($Q$7:FT7)=0,1,0)","v":{"$error":"#REF!"}},{"$f":"+IF(SUM($Q$7:FU7)=0,1,0)","v":{"$error":"#REF!"}},{"$f":"+IF(SUM($Q$7:FV7)=0,1,0)","v":{"$error":"#REF!"}},{"$f":"+IF(SUM($Q$7:FW7)=0,1,0)","v":{"$error":"#REF!"}},{"$f":"+IF(SUM($Q$7:FX7)=0,1,0)","v":{"$error":"#REF!"}},{"$f":"+IF(SUM($Q$7:FY7)=0,1,0)","v":{"$error":"#REF!"}},{"$f":"+IF(SUM($Q$7:FZ7)=0,1,0)","v":{"$error":"#REF!"}},{"$f":"+IF(SUM($Q$7:GA7)=0,1,0)","v":{"$error":"#REF!"}},{"$f":"+IF(SUM($Q$7:GB7)=0,1,0)","v":{"$error":"#REF!"}},{"$f":"+IF(SUM($Q$7:GC7)=0,1,0)","v":{"$error":"#REF!"}},{"$f":"+IF(SUM($Q$7:GD7)=0,1,0)","v":{"$error":"#REF!"}},{"$f":"+IF(SUM($Q$7:GE7)=0,1,0)","v":{"$error":"#REF!"}},{"$f":"+IF(SUM($Q$7:GF7)=0,1,0)","v":{"$error":"#REF!"}},{"$f":"+IF(SUM($Q$7:GG7)=0,1,0)","v":{"$error":"#REF!"}},{"$f":"+IF(SUM($Q$7:GH7)=0,1,0)","v":{"$error":"#REF!"}},{"$f":"+IF(SUM($Q$7:GI7)=0,1,0)","v":{"$error":"#REF!"}},{"$f":"+IF(SUM($Q$7:GJ7)=0,1,0)","v":{"$error":"#REF!"}},{"$f":"+IF(SUM($Q$7:GK7)=0,1,0)","v":{"$error":"#REF!"}},{"$f":"+IF(SUM($Q$7:GL7)=0,1,0)","v":{"$error":"#REF!"}},{"$f":"+IF(SUM($Q$7:GM7)=0,1,0)","v":{"$error":"#REF!"}},{"$f":"+IF(SUM($Q$7:GN7)=0,1,0)","v":{"$error":"#REF!"}},{"$f":"+IF(SUM($Q$7:GO7)=0,1,0)","v":{"$error":"#REF!"}},{"$f":"+IF(SUM($Q$7:GP7)=0,1,0)","v":{"$error":"#REF!"}},{"$f":"+IF(SUM($Q$7:GQ7)=0,1,0)","v":{"$error":"#REF!"}},{"$f":"+IF(SUM($Q$7:GR7)=0,1,0)","v":{"$error":"#REF!"}},{"$f":"+IF(SUM($Q$7:GS7)=0,1,0)","v":{"$error":"#REF!"}},{"$f":"+IF(SUM($Q$7:GT7)=0,1,0)","v":{"$error":"#REF!"}},{"$f":"+IF(SUM($Q$7:GU7)=0,1,0)","v":{"$error":"#REF!"}},{"$f":"+IF(SUM($Q$7:GV7)=0,1,0)","v":{"$error":"#REF!"}},{"$f":"+IF(SUM($Q$7:GW7)=0,1,0)","v":{"$error":"#REF!"}},{"$f":"+IF(SUM($Q$7:GX7)=0,1,0)","v":{"$error":"#REF!"}},{"$f":"+IF(SUM($Q$7:GY7)=0,1,0)","v":{"$error":"#REF!"}},{"$f":"+IF(SUM($Q$7:GZ7)=0,1,0)","v":{"$error":"#REF!"}},{"$f":"+IF(SUM($Q$7:HA7)=0,1,0)","v":{"$error":"#REF!"}},{"$f":"+IF(SUM($Q$7:HB7)=0,1,0)","v":{"$error":"#REF!"}},{"$f":"+IF(SUM($Q$7:HC7)=0,1,0)","v":{"$error":"#REF!"}},{"$f":"+IF(SUM($Q$7:HD7)=0,1,0)","v":{"$error":"#REF!"}},{"$f":"+IF(SUM($Q$7:HE7)=0,1,0)","v":{"$error":"#REF!"}},{"$f":"+IF(SUM($Q$7:HF7)=0,1,0)","v":{"$error":"#REF!"}},{"$f":"+IF(SUM($Q$7:HG7)=0,1,0)","v":{"$error":"#REF!"}},{"$f":"+IF(SUM($Q$7:HH7)=0,1,0)","v":{"$error":"#REF!"}},{"$f":"+IF(SUM($Q$7:HI7)=0,1,0)","v":{"$error":"#REF!"}},{"$f":"+IF(SUM($Q$7:HJ7)=0,1,0)","v":{"$error":"#REF!"}},{"$f":"+IF(SUM($Q$7:HK7)=0,1,0)","v":{"$error":"#REF!"}},{"$f":"+IF(SUM($Q$7:HL7)=0,1,0)","v":{"$error":"#REF!"}},{"$f":"+IF(SUM($Q$7:HM7)=0,1,0)","v":{"$error":"#REF!"}},{"$f":"+IF(SUM($Q$7:HN7)=0,1,0)","v":{"$error":"#REF!"}},{"$f":"+IF(SUM($Q$7:HO7)=0,1,0)","v":{"$error":"#REF!"}},{"$f":"+IF(SUM($Q$7:HP7)=0,1,0)","v":{"$error":"#REF!"}},{"$f":"+IF(SUM($Q$7:HQ7)=0,1,0)","v":{"$error":"#REF!"}},{"$f":"+IF(SUM($Q$7:HR7)=0,1,0)","v":{"$error":"#REF!"}},{"$f":"+IF(SUM($Q$7:HS7)=0,1,0)","v":{"$error":"#REF!"}},{"$f":"+IF(SUM($Q$7:HT7)=0,1,0)","v":{"$error":"#REF!"}},{"$f":"+IF(SUM($Q$7:HU7)=0,1,0)","v":{"$error":"#REF!"}},{"$f":"+IF(SUM($Q$7:HV7)=0,1,0)","v":{"$error":"#REF!"}},{"$f":"+IF(SUM($Q$7:HW7)=0,1,0)","v":{"$error":"#REF!"}},{"$f":"+IF(SUM($Q$7:HX7)=0,1,0)","v":{"$error":"#REF!"}},{"$f":"+IF(SUM($Q$7:HY7)=0,1,0)","v":{"$error":"#REF!"}},{"$f":"+IF(SUM($Q$7:HZ7)=0,1,0)","v":{"$error":"#REF!"}},{"$f":"+IF(SUM($Q$7:IA7)=0,1,0)","v":{"$error":"#REF!"}},{"$f":"+IF(SUM($Q$7:IB7)=0,1,0)","v":{"$error":"#REF!"}},{"$f":"+IF(SUM($Q$7:IC7)=0,1,0)","v":{"$error":"#REF!"}},{"$f":"+IF(SUM($Q$7:ID7)=0,1,0)","v":{"$error":"#REF!"}},{"$f":"+IF(SUM($Q$7:IE7)=0,1,0)","v":{"$error":"#REF!"}},{"$f":"+IF(SUM($Q$7:IF7)=0,1,0)","v":{"$error":"#REF!"}},{"$f":"+IF(SUM($Q$7:IG7)=0,1,0)","v":{"$error":"#REF!"}},{"$f":"+IF(SUM($Q$7:IH7)=0,1,0)","v":{"$error":"#REF!"}},{"$f":"+IF(SUM($Q$7:II7)=0,1,0)","v":{"$error":"#REF!"}},{"$f":"+IF(SUM($Q$7:IJ7)=0,1,0)","v":{"$error":"#REF!"}},{"$f":"+IF(SUM($Q$7:IK7)=0,1,0)","v":{"$error":"#REF!"}},{"$f":"+IF(SUM($Q$7:IL7)=0,1,0)","v":{"$error":"#REF!"}},{"$f":"+IF(SUM($Q$7:IM7)=0,1,0)","v":{"$error":"#REF!"}},{"$f":"+IF(SUM($Q$7:IN7)=0,1,0)","v":{"$error":"#REF!"}},{"$f":"+IF(SUM($Q$7:IO7)=0,1,0)","v":{"$error":"#REF!"}},{"$f":"+IF(SUM($Q$7:IP7)=0,1,0)","v":{"$error":"#REF!"}},{"$f":"+IF(SUM($Q$7:IQ7)=0,1,0)","v":{"$error":"#REF!"}},{"$f":"+IF(SUM($Q$7:IR7)=0,1,0)","v":{"$error":"#REF!"}},{"$f":"+IF(SUM($Q$7:IS7)=0,1,0)","v":{"$error":"#REF!"}},{"$f":"+IF(SUM($Q$7:IT7)=0,1,0)","v":{"$error":"#REF!"}},{"$f":"+IF(SUM($Q$7:IU7)=0,1,0)","v":{"$error":"#REF!"}},{"$f":"+IF(SUM($Q$7:IV7)=0,1,0)","v":{"$error":"#REF!"}},{"$f":"+IF(SUM($Q$7:IW7)=0,1,0)","v":{"$error":"#REF!"}},{"$f":"+IF(SUM($Q$7:IX7)=0,1,0)","v":{"$error":"#REF!"}},{"$f":"+IF(SUM($Q$7:IY7)=0,1,0)","v":{"$error":"#REF!"}},{"$f":"+IF(SUM($Q$7:IZ7)=0,1,0)","v":{"$error":"#REF!"}},{"$f":"+IF(SUM($Q$7:JA7)=0,1,0)","v":{"$error":"#REF!"}},{"$f":"+IF(SUM($Q$7:JB7)=0,1,0)","v":{"$error":"#REF!"}},{"$f":"+IF(SUM($Q$7:JC7)=0,1,0)","v":{"$error":"#REF!"}},{"$f":"+IF(SUM($Q$7:JD7)=0,1,0)","v":{"$error":"#REF!"}},{"$f":"+IF(SUM($Q$7:JE7)=0,1,0)","v":{"$error":"#REF!"}},{"$f":"+IF(SUM($Q$7:JF7)=0,1,0)","v":{"$error":"#REF!"}},{"$f":"+IF(SUM($Q$7:JG7)=0,1,0)","v":{"$error":"#REF!"}},{"$f":"+IF(SUM($Q$7:JH7)=0,1,0)","v":{"$error":"#REF!"}},{"$f":"+IF(SUM($Q$7:JI7)=0,1,0)","v":{"$error":"#REF!"}},{"$f":"+IF(SUM($Q$7:JJ7)=0,1,0)","v":{"$error":"#REF!"}},{"$f":"+IF(SUM($Q$7:JK7)=0,1,0)","v":{"$error":"#REF!"}},{"$f":"+IF(SUM($Q$7:JL7)=0,1,0)","v":{"$error":"#REF!"}},{"$f":"+IF(SUM($Q$7:JM7)=0,1,0)","v":{"$error":"#REF!"}},{"$f":"+IF(SUM($Q$7:JN7)=0,1,0)","v":{"$error":"#REF!"}},{"$f":"+IF(SUM($Q$7:JO7)=0,1,0)","v":{"$error":"#REF!"}},{"$f":"+IF(SUM($Q$7:JP7)=0,1,0)","v":{"$error":"#REF!"}},{"$f":"+IF(SUM($Q$7:JQ7)=0,1,0)","v":{"$error":"#REF!"}},{"$f":"+IF(SUM($Q$7:JR7)=0,1,0)","v":{"$error":"#REF!"}},{"$f":"+IF(SUM($Q$7:JS7)=0,1,0)","v":{"$error":"#REF!"}},{"$f":"+IF(SUM($Q$7:JT7)=0,1,0)","v":{"$error":"#REF!"}},{"$f":"+IF(SUM($Q$7:JU7)=0,1,0)","v":{"$error":"#REF!"}},{"$f":"+IF(SUM($Q$7:JV7)=0,1,0)","v":{"$error":"#REF!"}},{"$f":"+IF(SUM($Q$7:JW7)=0,1,0)","v":{"$error":"#REF!"}},{"$f":"+IF(SUM($Q$7:JX7)=0,1,0)","v":{"$error":"#REF!"}},{"$f":"+IF(SUM($Q$7:JY7)=0,1,0)","v":{"$error":"#REF!"}},{"$f":"+IF(SUM($Q$7:JZ7)=0,1,0)","v":{"$error":"#REF!"}},{"$f":"+IF(SUM($Q$7:KA7)=0,1,0)","v":{"$error":"#REF!"}},{"$f":"+IF(SUM($Q$7:KB7)=0,1,0)","v":{"$error":"#REF!"}},{"$f":"+IF(SUM($Q$7:KC7)=0,1,0)","v":{"$error":"#REF!"}},{"$f":"+IF(SUM($Q$7:KD7)=0,1,0)","v":{"$error":"#REF!"}},{"$f":"+IF(SUM($Q$7:KE7)=0,1,0)","v":{"$error":"#REF!"}},{"$f":"+IF(SUM($Q$7:KF7)=0,1,0)","v":{"$error":"#REF!"}},{"$f":"+IF(SUM($Q$7:KG7)=0,1,0)","v":{"$error":"#REF!"}},{"$f":"+IF(SUM($Q$7:KH7)=0,1,0)","v":{"$error":"#REF!"}},{"$f":"+IF(SUM($Q$7:KI7)=0,1,0)","v":{"$error":"#REF!"}},{"$f":"+IF(SUM($Q$7:KJ7)=0,1,0)","v":{"$error":"#REF!"}},{"$f":"+IF(SUM($Q$7:KK7)=0,1,0)","v":{"$error":"#REF!"}},{"$f":"+IF(SUM($Q$7:KL7)=0,1,0)","v":{"$error":"#REF!"}},{"$f":"+IF(SUM($Q$7:KM7)=0,1,0)","v":{"$error":"#REF!"}},{"$f":"+IF(SUM($Q$7:KN7)=0,1,0)","v":{"$error":"#REF!"}},{"$f":"+IF(SUM($Q$7:KO7)=0,1,0)","v":{"$error":"#REF!"}},{"$f":"+IF(SUM($Q$7:KP7)=0,1,0)","v":{"$error":"#REF!"}},{"$f":"+IF(SUM($Q$7:KQ7)=0,1,0)","v":{"$error":"#REF!"}},{"$f":"+IF(SUM($Q$7:KR7)=0,1,0)","v":{"$error":"#REF!"}},{"$f":"+IF(SUM($Q$7:KS7)=0,1,0)","v":{"$error":"#REF!"}},{"$f":"+IF(SUM($Q$7:KT7)=0,1,0)","v":{"$error":"#REF!"}},{"$f":"+IF(SUM($Q$7:KU7)=0,1,0)","v":{"$error":"#REF!"}},{"$f":"+IF(SUM($Q$7:KV7)=0,1,0)","v":{"$error":"#REF!"}},{"$f":"+IF(SUM($Q$7:KW7)=0,1,0)","v":{"$error":"#REF!"}},{"$f":"+IF(SUM($Q$7:KX7)=0,1,0)","v":{"$error":"#REF!"}},{"$f":"+IF(SUM($Q$7:KY7)=0,1,0)","v":{"$error":"#REF!"}},{"$f":"+IF(SUM($Q$7:KZ7)=0,1,0)","v":{"$error":"#REF!"}},{"$f":"+IF(SUM($Q$7:LA7)=0,1,0)","v":{"$error":"#REF!"}},{"$f":"+IF(SUM($Q$7:LB7)=0,1,0)","v":{"$error":"#REF!"}},{"$f":"+IF(SUM($Q$7:LC7)=0,1,0)","v":{"$error":"#REF!"}},{"$f":"+IF(SUM($Q$7:LD7)=0,1,0)","v":{"$error":"#REF!"}},{"$f":"+IF(SUM($Q$7:LE7)=0,1,0)","v":{"$error":"#REF!"}},{"$f":"+IF(SUM($Q$7:LF7)=0,1,0)","v":{"$error":"#REF!"}},{"$f":"+IF(SUM($Q$7:LG7)=0,1,0)","v":{"$error":"#REF!"}},{"$f":"+IF(SUM($Q$7:LH7)=0,1,0)","v":{"$error":"#REF!"}},{"$f":"+IF(SUM($Q$7:LI7)=0,1,0)","v":{"$error":"#REF!"}},{"$f":"+IF(SUM($Q$7:LJ7)=0,1,0)","v":{"$error":"#REF!"}},{"$f":"+IF(SUM($Q$7:LK7)=0,1,0)","v":{"$error":"#REF!"}},{"$f":"+IF(SUM($Q$7:LL7)=0,1,0)","v":{"$error":"#REF!"}},{"$f":"+IF(SUM($Q$7:LM7)=0,1,0)","v":{"$error":"#REF!"}},{"$f":"+IF(SUM($Q$7:LN7)=0,1,0)","v":{"$error":"#REF!"}},{"$f":"+IF(SUM($Q$7:LO7)=0,1,0)","v":{"$error":"#REF!"}},{"$f":"+IF(SUM($Q$7:LP7)=0,1,0)","v":{"$error":"#REF!"}},{"$f":"+IF(SUM($Q$7:LQ7)=0,1,0)","v":{"$error":"#REF!"}},{"$f":"+IF(SUM($Q$7:LR7)=0,1,0)","v":{"$error":"#REF!"}},{"$f":"+IF(SUM($Q$7:LS7)=0,1,0)","v":{"$error":"#REF!"}},{"$f":"+IF(SUM($Q$7:LT7)=0,1,0)","v":{"$error":"#REF!"}},{"$f":"+IF(SUM($Q$7:LU7)=0,1,0)","v":{"$error":"#REF!"}},{"$f":"+IF(SUM($Q$7:LV7)=0,1,0)","v":{"$error":"#REF!"}},{"$f":"+IF(SUM($Q$7:LW7)=0,1,0)","v":{"$error":"#REF!"}},{"$f":"+IF(SUM($Q$7:LX7)=0,1,0)","v":{"$error":"#REF!"}},{"$f":"+IF(SUM($Q$7:LY7)=0,1,0)","v":{"$error":"#REF!"}},{"$f":"+IF(SUM($Q$7:LZ7)=0,1,0)","v":{"$error":"#REF!"}},{"$f":"+IF(SUM($Q$7:MA7)=0,1,0)","v":{"$error":"#REF!"}},{"$f":"+IF(SUM($Q$7:MB7)=0,1,0)","v":{"$error":"#REF!"}},{"$f":"+IF(SUM($Q$7:MC7)=0,1,0)","v":{"$error":"#REF!"}},{"$f":"+IF(SUM($Q$7:MD7)=0,1,0)","v":{"$error":"#REF!"}},{"$f":"+IF(SUM($Q$7:ME7)=0,1,0)","v":{"$error":"#REF!"}},{"$f":"+IF(SUM($Q$7:MF7)=0,1,0)","v":{"$error":"#REF!"}},{"$f":"+IF(SUM($Q$7:MG7)=0,1,0)","v":{"$error":"#REF!"}},{"$f":"+IF(SUM($Q$7:MH7)=0,1,0)","v":{"$error":"#REF!"}},{"$f":"+IF(SUM($Q$7:MI7)=0,1,0)","v":{"$error":"#REF!"}},{"$f":"+IF(SUM($Q$7:MJ7)=0,1,0)","v":{"$error":"#REF!"}},{"$f":"+IF(SUM($Q$7:MK7)=0,1,0)","v":{"$error":"#REF!"}},{"$f":"+IF(SUM($Q$7:ML7)=0,1,0)","v":{"$error":"#REF!"}},{"$f":"+IF(SUM($Q$7:MM7)=0,1,0)","v":{"$error":"#REF!"}},{"$f":"+IF(SUM($Q$7:MN7)=0,1,0)","v":{"$error":"#REF!"}},{"$f":"+IF(SUM($Q$7:MO7)=0,1,0)","v":{"$error":"#REF!"}},{"$f":"+IF(SUM($Q$7:MP7)=0,1,0)","v":{"$error":"#REF!"}},{"$f":"+IF(SUM($Q$7:MQ7)=0,1,0)","v":{"$error":"#REF!"}},{"$f":"+IF(SUM($Q$7:MR7)=0,1,0)","v":{"$error":"#REF!"}},{"$f":"+IF(SUM($Q$7:MS7)=0,1,0)","v":{"$error":"#REF!"}},{"$f":"+IF(SUM($Q$7:MT7)=0,1,0)","v":{"$error":"#REF!"}},{"$f":"+IF(SUM($Q$7:MU7)=0,1,0)","v":{"$error":"#REF!"}},{"$f":"+IF(SUM($Q$7:MV7)=0,1,0)","v":{"$error":"#REF!"}},{"$f":"+IF(SUM($Q$7:MW7)=0,1,0)","v":{"$error":"#REF!"}},{"$f":"+IF(SUM($Q$7:MX7)=0,1,0)","v":{"$error":"#REF!"}},{"$f":"+IF(SUM($Q$7:MY7)=0,1,0)","v":{"$error":"#REF!"}},{"$f":"+IF(SUM($Q$7:MZ7)=0,1,0)","v":{"$error":"#REF!"}},{"$f":"+IF(SUM($Q$7:NA7)=0,1,0)","v":{"$error":"#REF!"}},{"$f":"+IF(SUM($Q$7:NB7)=0,1,0)","v":{"$error":"#REF!"}},{"$f":"+IF(SUM($Q$7:NC7)=0,1,0)","v":{"$error":"#REF!"}},{"$f":"+IF(SUM($Q$7:ND7)=0,1,0)","v":{"$error":"#REF!"}},{"$f":"+IF(SUM($Q$7:NE7)=0,1,0)","v":{"$error":"#REF!"}},{"$f":"+IF(SUM($Q$7:NF7)=0,1,0)","v":{"$error":"#REF!"}},{"$f":"+IF(SUM($Q$7:NG7)=0,1,0)","v":{"$error":"#REF!"}},{"$f":"+IF(SUM($Q$7:NH7)=0,1,0)","v":{"$error":"#REF!"}},{"$f":"+IF(SUM($Q$7:NI7)=0,1,0)","v":{"$error":"#REF!"}},{"$f":"+IF(SUM($Q$7:NJ7)=0,1,0)","v":{"$error":"#REF!"}},{"$f":"+IF(SUM($Q$7:NK7)=0,1,0)","v":{"$error":"#REF!"}},{"$f":"+IF(SUM($Q$7:NL7)=0,1,0)","v":{"$error":"#REF!"}},{"$f":"+IF(SUM($Q$7:NM7)=0,1,0)","v":{"$error":"#REF!"}},{"$f":"+IF(SUM($Q$7:NN7)=0,1,0)","v":{"$error":"#REF!"}},{"$f":"+IF(SUM($Q$7:NO7)=0,1,0)","v":{"$error":"#REF!"}},{"$f":"+IF(SUM($Q$7:NP7)=0,1,0)","v":{"$error":"#REF!"}},{"$f":"+IF(SUM($Q$7:NQ7)=0,1,0)","v":{"$error":"#REF!"}},{"$f":"+IF(SUM($Q$7:NR7)=0,1,0)","v":{"$error":"#REF!"}},{"$f":"+IF(SUM($Q$7:NS7)=0,1,0)","v":{"$error":"#REF!"}},{"$f":"+IF(SUM($Q$7:NT7)=0,1,0)","v":{"$error":"#REF!"}},{"$f":"+IF(SUM($Q$7:NU7)=0,1,0)","v":{"$error":"#REF!"}},{"$f":"+IF(SUM($Q$7:NV7)=0,1,0)","v":{"$error":"#REF!"}},{"$f":"+IF(SUM($Q$7:NW7)=0,1,0)","v":{"$error":"#REF!"}},{"$f":"+IF(SUM($Q$7:NX7)=0,1,0)","v":{"$error":"#REF!"}},{"$f":"+IF(SUM($Q$7:NY7)=0,1,0)","v":{"$error":"#REF!"}},{"$f":"+IF(SUM($Q$7:NZ7)=0,1,0)","v":{"$error":"#REF!"}},{"$f":"+IF(SUM($Q$7:OA7)=0,1,0)","v":{"$error":"#REF!"}},{"$f":"+IF(SUM($Q$7:OB7)=0,1,0)","v":{"$error":"#REF!"}},{"$f":"+IF(SUM($Q$7:OC7)=0,1,0)","v":{"$error":"#REF!"}},{"$f":"+IF(SUM($Q$7:OD7)=0,1,0)","v":{"$error":"#REF!"}},{"$f":"+IF(SUM($Q$7:OE7)=0,1,0)","v":{"$error":"#REF!"}},{"$f":"+IF(SUM($Q$7:OF7)=0,1,0)","v":{"$error":"#REF!"}},{"$f":"+IF(SUM($Q$7:OG7)=0,1,0)","v":{"$error":"#REF!"}},{"$f":"+IF(SUM($Q$7:OH7)=0,1,0)","v":{"$error":"#REF!"}},{"$f":"+IF(SUM($Q$7:OI7)=0,1,0)","v":{"$error":"#REF!"}},{"$f":"+IF(SUM($Q$7:OJ7)=0,1,0)","v":{"$error":"#REF!"}},{"$f":"+IF(SUM($Q$7:OK7)=0,1,0)","v":{"$error":"#REF!"}},{"$f":"+IF(SUM($Q$7:OL7)=0,1,0)","v":{"$error":"#REF!"}},{"$f":"+IF(SUM($Q$7:OM7)=0,1,0)","v":{"$error":"#REF!"}},{"$f":"+IF(SUM($Q$7:ON7)=0,1,0)","v":{"$error":"#REF!"}},{"$f":"+IF(SUM($Q$7:OO7)=0,1,0)","v":{"$error":"#REF!"}},{"$f":"+IF(SUM($Q$7:OP7)=0,1,0)","v":{"$error":"#REF!"}},{"$f":"+IF(SUM($Q$7:OQ7)=0,1,0)","v":{"$error":"#REF!"}}]
[null,null,null,null,null,null,null,null,null,null,null,null,"Salida Rerating",null,null,null,{"$f":"IF(COLUMNS($Q7:Q7)=#REF!,1,0)","v":{"$error":"#REF!"}},{"$f":"IF(COLUMNS($Q7:R7)=#REF!,1,0)","v":{"$error":"#REF!"}},{"$f":"IF(COLUMNS($Q7:S7)=#REF!,1,0)","v":{"$error":"#REF!"}},{"$f":"IF(COLUMNS($Q7:T7)=#REF!,1,0)","v":{"$error":"#REF!"}},{"$f":"IF(COLUMNS($Q7:U7)=#REF!,1,0)","v":{"$error":"#REF!"}},{"$f":"IF(COLUMNS($Q7:V7)=#REF!,1,0)","v":{"$error":"#REF!"}},{"$f":"IF(COLUMNS($Q7:W7)=#REF!,1,0)","v":{"$error":"#REF!"}},{"$f":"IF(COLUMNS($Q7:X7)=#REF!,1,0)","v":{"$error":"#REF!"}},{"$f":"IF(COLUMNS($Q7:Y7)=#REF!,1,0)","v":{"$error":"#REF!"}},{"$f":"IF(COLUMNS($Q7:Z7)=#REF!,1,0)","v":{"$error":"#REF!"}},{"$f":"IF(COLUMNS($Q7:AA7)=#REF!,1,0)","v":{"$error":"#REF!"}},{"$f":"IF(COLUMNS($Q7:AB7)=#REF!,1,0)","v":{"$error":"#REF!"}},{"$f":"IF(COLUMNS($Q7:AC7)=#REF!,1,0)","v":{"$error":"#REF!"}},{"$f":"IF(COLUMNS($Q7:AD7)=#REF!,1,0)","v":{"$error":"#REF!"}},{"$f":"IF(COLUMNS($Q7:AE7)=#REF!,1,0)","v":{"$error":"#REF!"}},{"$f":"IF(COLUMNS($Q7:AF7)=#REF!,1,0)","v":{"$error":"#REF!"}},{"$f":"IF(COLUMNS($Q7:AG7)=#REF!,1,0)","v":{"$error":"#REF!"}},{"$f":"IF(COLUMNS($Q7:AH7)=#REF!,1,0)","v":{"$error":"#REF!"}},{"$f":"IF(COLUMNS($Q7:AI7)=#REF!,1,0)","v":{"$error":"#REF!"}},{"$f":"IF(COLUMNS($Q7:AJ7)=#REF!,1,0)","v":{"$error":"#REF!"}},{"$f":"IF(COLUMNS($Q7:AK7)=#REF!,1,0)","v":{"$error":"#REF!"}},{"$f":"IF(COLUMNS($Q7:AL7)=#REF!,1,0)","v":{"$error":"#REF!"}},{"$f":"IF(COLUMNS($Q7:AM7)=#REF!,1,0)","v":{"$error":"#REF!"}},{"$f":"IF(COLUMNS($Q7:AN7)=#REF!,1,0)","v":{"$error":"#REF!"}},{"$f":"IF(COLUMNS($Q7:AO7)=#REF!,1,0)","v":{"$error":"#REF!"}},{"$f":"IF(COLUMNS($Q7:AP7)=#REF!,1,0)","v":{"$error":"#REF!"}},{"$f":"IF(COLUMNS($Q7:AQ7)=#REF!,1,0)","v":{"$error":"#REF!"}},{"$f":"IF(COLUMNS($Q7:AR7)=#REF!,1,0)","v":{"$error":"#REF!"}},{"$f":"IF(COLUMNS($Q7:AS7)=#REF!,1,0)","v":{"$error":"#REF!"}},{"$f":"IF(COLUMNS($Q7:AT7)=#REF!,1,0)","v":{"$error":"#REF!"}},{"$f":"IF(COLUMNS($Q7:AU7)=#REF!,1,0)","v":{"$error":"#REF!"}},{"$f":"IF(COLUMNS($Q7:AV7)=#REF!,1,0)","v":{"$error":"#REF!"}},{"$f":"IF(COLUMNS($Q7:AW7)=#REF!,1,0)","v":{"$error":"#REF!"}},{"$f":"IF(COLUMNS($Q7:AX7)=#REF!,1,0)","v":{"$error":"#REF!"}},{"$f":"IF(COLUMNS($Q7:AY7)=#REF!,1,0)","v":{"$error":"#REF!"}},{"$f":"IF(COLUMNS($Q7:AZ7)=#REF!,1,0)","v":{"$error":"#REF!"}},{"$f":"IF(COLUMNS($Q7:BA7)=#REF!,1,0)","v":{"$error":"#REF!"}},{"$f":"IF(COLUMNS($Q7:BB7)=#REF!,1,0)","v":{"$error":"#REF!"}},{"$f":"IF(COLUMNS($Q7:BC7)=#REF!,1,0)","v":{"$error":"#REF!"}},{"$f":"IF(COLUMNS($Q7:BD7)=#REF!,1,0)","v":{"$error":"#REF!"}},{"$f":"IF(COLUMNS($Q7:BE7)=#REF!,1,0)","v":{"$error":"#REF!"}},{"$f":"IF(COLUMNS($Q7:BF7)=#REF!,1,0)","v":{"$error":"#REF!"}},{"$f":"IF(COLUMNS($Q7:BG7)=#REF!,1,0)","v":{"$error":"#REF!"}},{"$f":"IF(COLUMNS($Q7:BH7)=#REF!,1,0)","v":{"$error":"#REF!"}},{"$f":"IF(COLUMNS($Q7:BI7)=#REF!,1,0)","v":{"$error":"#REF!"}},{"$f":"IF(COLUMNS($Q7:BJ7)=#REF!,1,0)","v":{"$error":"#REF!"}},{"$f":"IF(COLUMNS($Q7:BK7)=#REF!,1,0)","v":{"$error":"#REF!"}},{"$f":"IF(COLUMNS($Q7:BL7)=#REF!,1,0)","v":{"$error":"#REF!"}},{"$f":"IF(COLUMNS($Q7:BM7)=#REF!,1,0)","v":{"$error":"#REF!"}},{"$f":"IF(COLUMNS($Q7:BN7)=#REF!,1,0)","v":{"$error":"#REF!"}},{"$f":"IF(COLUMNS($Q7:BO7)=#REF!,1,0)","v":{"$error":"#REF!"}},{"$f":"IF(COLUMNS($Q7:BP7)=#REF!,1,0)","v":{"$error":"#REF!"}},{"$f":"IF(COLUMNS($Q7:BQ7)=#REF!,1,0)","v":{"$error":"#REF!"}},{"$f":"IF(COLUMNS($Q7:BR7)=#REF!,1,0)","v":{"$error":"#REF!"}},{"$f":"IF(COLUMNS($Q7:BS7)=#REF!,1,0)","v":{"$error":"#REF!"}},{"$f":"IF(COLUMNS($Q7:BT7)=#REF!,1,0)","v":{"$error":"#REF!"}},{"$f":"IF(COLUMNS($Q7:BU7)=#REF!,1,0)","v":{"$error":"#REF!"}},{"$f":"IF(COLUMNS($Q7:BV7)=#REF!,1,0)","v":{"$error":"#REF!"}},{"$f":"IF(COLUMNS($Q7:BW7)=#REF!,1,0)","v":{"$error":"#REF!"}},{"$f":"IF(COLUMNS($Q7:BX7)=#REF!,1,0)","v":{"$error":"#REF!"}},{"$f":"IF(COLUMNS($Q7:BY7)=#REF!,1,0)","v":{"$error":"#REF!"}},{"$f":"IF(COLUMNS($Q7:BZ7)=#REF!,1,0)","v":{"$error":"#REF!"}},{"$f":"IF(COLUMNS($Q7:CA7)=#REF!,1,0)","v":{"$error":"#REF!"}},{"$f":"IF(COLUMNS($Q7:CB7)=#REF!,1,0)","v":{"$error":"#REF!"}},{"$f":"IF(COLUMNS($Q7:CC7)=#REF!,1,0)","v":{"$error":"#REF!"}},{"$f":"IF(COLUMNS($Q7:CD7)=#REF!,1,0)","v":{"$error":"#REF!"}},{"$f":"IF(COLUMNS($Q7:CE7)=#REF!,1,0)","v":{"$error":"#REF!"}},{"$f":"IF(COLUMNS($Q7:CF7)=#REF!,1,0)","v":{"$error":"#REF!"}},{"$f":"IF(COLUMNS($Q7:CG7)=#REF!,1,0)","v":{"$error":"#REF!"}},{"$f":"IF(COLUMNS($Q7:CH7)=#REF!,1,0)","v":{"$error":"#REF!"}},{"$f":"IF(COLUMNS($Q7:CI7)=#REF!,1,0)","v":{"$error":"#REF!"}},{"$f":"IF(COLUMNS($Q7:CJ7)=#REF!,1,0)","v":{"$error":"#REF!"}},{"$f":"IF(COLUMNS($Q7:CK7)=#REF!,1,0)","v":{"$error":"#REF!"}},{"$f":"IF(COLUMNS($Q7:CL7)=#REF!,1,0)","v":{"$error":"#REF!"}},{"$f":"IF(COLUMNS($Q7:CM7)=#REF!,1,0)","v":{"$error":"#REF!"}},{"$f":"IF(COLUMNS($Q7:CN7)=#REF!,1,0)","v":{"$error":"#REF!"}},{"$f":"IF(COLUMNS($Q7:CO7)=#REF!,1,0)","v":{"$error":"#REF!"}},{"$f":"IF(COLUMNS($Q7:CP7)=#REF!,1,0)","v":{"$error":"#REF!"}},{"$f":"IF(COLUMNS($Q7:CQ7)=#REF!,1,0)","v":{"$error":"#REF!"}},{"$f":"IF(COLUMNS($Q7:CR7)=#REF!,1,0)","v":{"$error":"#REF!"}},{"$f":"IF(COLUMNS($Q7:CS7)=#REF!,1,0)","v":{"$error":"#REF!"}},{"$f":"IF(COLUMNS($Q7:CT7)=#REF!,1,0)","v":{"$error":"#REF!"}},{"$f":"IF(COLUMNS($Q7:CU7)=#REF!,1,0)","v":{"$error":"#REF!"}},{"$f":"IF(COLUMNS($Q7:CV7)=#REF!,1,0)","v":{"$error":"#REF!"}},{"$f":"IF(COLUMNS($Q7:CW7)=#REF!,1,0)","v":{"$error":"#REF!"}},{"$f":"IF(COLUMNS($Q7:CX7)=#REF!,1,0)","v":{"$error":"#REF!"}},{"$f":"IF(COLUMNS($Q7:CY7)=#REF!,1,0)","v":{"$error":"#REF!"}},{"$f":"IF(COLUMNS($Q7:CZ7)=#REF!,1,0)","v":{"$error":"#REF!"}},{"$f":"IF(COLUMNS($Q7:DA7)=#REF!,1,0)","v":{"$error":"#REF!"}},{"$f":"IF(COLUMNS($Q7:DB7)=#REF!,1,0)","v":{"$error":"#REF!"}},{"$f":"IF(COLUMNS($Q7:DC7)=#REF!,1,0)","v":{"$error":"#REF!"}},{"$f":"IF(COLUMNS($Q7:DD7)=#REF!,1,0)","v":{"$error":"#REF!"}},{"$f":"IF(COLUMNS($Q7:DE7)=#REF!,1,0)","v":{"$error":"#REF!"}},{"$f":"IF(COLUMNS($Q7:DF7)=#REF!,1,0)","v":{"$error":"#REF!"}},{"$f":"IF(COLUMNS($Q7:DG7)=#REF!,1,0)","v":{"$error":"#REF!"}},{"$f":"IF(COLUMNS($Q7:DH7)=#REF!,1,0)","v":{"$error":"#REF!"}},{"$f":"IF(COLUMNS($Q7:DI7)=#REF!,1,0)","v":{"$error":"#REF!"}},{"$f":"IF(COLUMNS($Q7:DJ7)=#REF!,1,0)","v":{"$error":"#REF!"}},{"$f":"IF(COLUMNS($Q7:DK7)=#REF!,1,0)","v":{"$error":"#REF!"}},{"$f":"IF(COLUMNS($Q7:DL7)=#REF!,1,0)","v":{"$error":"#REF!"}},{"$f":"IF(COLUMNS($Q7:DM7)=#REF!,1,0)","v":{"$error":"#REF!"}},{"$f":"IF(COLUMNS($Q7:DN7)=#REF!,1,0)","v":{"$error":"#REF!"}},{"$f":"IF(COLUMNS($Q7:DO7)=#REF!,1,0)","v":{"$error":"#REF!"}},{"$f":"IF(COLUMNS($Q7:DP7)=#REF!,1,0)","v":{"$error":"#REF!"}},{"$f":"IF(COLUMNS($Q7:DQ7)=#REF!,1,0)","v":{"$error":"#REF!"}},{"$f":"IF(COLUMNS($Q7:DR7)=#REF!,1,0)","v":{"$error":"#REF!"}},{"$f":"IF(COLUMNS($Q7:DS7)=#REF!,1,0)","v":{"$error":"#REF!"}},{"$f":"IF(COLUMNS($Q7:DT7)=#REF!,1,0)","v":{"$error":"#REF!"}},{"$f":"IF(COLUMNS($Q7:DU7)=#REF!,1,0)","v":{"$error":"#REF!"}},{"$f":"IF(COLUMNS($Q7:DV7)=#REF!,1,0)","v":{"$error":"#REF!"}},{"$f":"IF(COLUMNS($Q7:DW7)=#REF!,1,0)","v":{"$error":"#REF!"}},{"$f":"IF(COLUMNS($Q7:DX7)=#REF!,1,0)","v":{"$error":"#REF!"}},{"$f":"IF(COLUMNS($Q7:DY7)=#REF!,1,0)","v":{"$error":"#REF!"}},{"$f":"IF(COLUMNS($Q7:DZ7)=#REF!,1,0)","v":{"$error":"#REF!"}},{"$f":"IF(COLUMNS($Q7:EA7)=#REF!,1,0)","v":{"$error":"#REF!"}},{"$f":"IF(COLUMNS($Q7:EB7)=#REF!,1,0)","v":{"$error":"#REF!"}},{"$f":"IF(COLUMNS($Q7:EC7)=#REF!,1,0)","v":{"$error":"#REF!"}},{"$f":"IF(COLUMNS($Q7:ED7)=#REF!,1,0)","v":{"$error":"#REF!"}},{"$f":"IF(COLUMNS($Q7:EE7)=#REF!,1,0)","v":{"$error":"#REF!"}},{"$f":"IF(COLUMNS($Q7:EF7)=#REF!,1,0)","v":{"$error":"#REF!"}},{"$f":"IF(COLUMNS($Q7:EG7)=#REF!,1,0)","v":{"$error":"#REF!"}},{"$f":"IF(COLUMNS($Q7:EH7)=#REF!,1,0)","v":{"$error":"#REF!"}},{"$f":"IF(COLUMNS($Q7:EI7)=#REF!,1,0)","v":{"$error":"#REF!"}},{"$f":"IF(COLUMNS($Q7:EJ7)=#REF!,1,0)","v":{"$error":"#REF!"}},{"$f":"IF(COLUMNS($Q7:EK7)=#REF!,1,0)","v":{"$error":"#REF!"}},{"$f":"IF(COLUMNS($Q7:EL7)=#REF!,1,0)","v":{"$error":"#REF!"}},{"$f":"IF(COLUMNS($Q7:EM7)=#REF!,1,0)","v":{"$error":"#REF!"}},{"$f":"IF(COLUMNS($Q7:EN7)=#REF!,1,0)","v":{"$error":"#REF!"}},{"$f":"IF(COLUMNS($Q7:EO7)=#REF!,1,0)","v":{"$error":"#REF!"}},{"$f":"IF(COLUMNS($Q7:EP7)=#REF!,1,0)","v":{"$error":"#REF!"}},{"$f":"IF(COLUMNS($Q7:EQ7)=#REF!,1,0)","v":{"$error":"#REF!"}},{"$f":"IF(COLUMNS($Q7:ER7)=#REF!,1,0)","v":{"$error":"#REF!"}},{"$f":"IF(COLUMNS($Q7:ES7)=#REF!,1,0)","v":{"$error":"#REF!"}},{"$f":"IF(COLUMNS($Q7:ET7)=#REF!,1,0)","v":{"$error":"#REF!"}},{"$f":"IF(COLUMNS($Q7:EU7)=#REF!,1,0)","v":{"$error":"#REF!"}},{"$f":"IF(COLUMNS($Q7:EV7)=#REF!,1,0)","v":{"$error":"#REF!"}},{"$f":"IF(COLUMNS($Q7:EW7)=#REF!,1,0)","v":{"$error":"#REF!"}},{"$f":"IF(COLUMNS($Q7:EX7)=#REF!,1,0)","v":{"$error":"#REF!"}},{"$f":"IF(COLUMNS($Q7:EY7)=#REF!,1,0)","v":{"$error":"#REF!"}},{"$f":"IF(COLUMNS($Q7:EZ7)=#REF!,1,0)","v":{"$error":"#REF!"}},{"$f":"IF(COLUMNS($Q7:FA7)=#REF!,1,0)","v":{"$error":"#REF!"}},{"$f":"IF(COLUMNS($Q7:FB7)=#REF!,1,0)","v":{"$error":"#REF!"}},{"$f":"IF(COLUMNS($Q7:FC7)=#REF!,1,0)","v":{"$error":"#REF!"}},{"$f":"IF(COLUMNS($Q7:FD7)=#REF!,1,0)","v":{"$error":"#REF!"}},{"$f":"IF(COLUMNS($Q7:FE7)=#REF!,1,0)","v":{"$error":"#REF!"}},{"$f":"IF(COLUMNS($Q7:FF7)=#REF!,1,0)","v":{"$error":"#REF!"}},{"$f":"IF(COLUMNS($Q7:FG7)=#REF!,1,0)","v":{"$error":"#REF!"}},{"$f":"IF(COLUMNS($Q7:FH7)=#REF!,1,0)","v":{"$error":"#REF!"}},{"$f":"IF(COLUMNS($Q7:FI7)=#REF!,1,0)","v":{"$error":"#REF!"}},{"$f":"IF(COLUMNS($Q7:FJ7)=#REF!,1,0)","v":{"$error":"#REF!"}},{"$f":"IF(COLUMNS($Q7:FK7)=#REF!,1,0)","v":{"$error":"#REF!"}},{"$f":"IF(COLUMNS($Q7:FL7)=#REF!,1,0)","v":{"$error":"#REF!"}},{"$f":"IF(COLUMNS($Q7:FM7)=#REF!,1,0)","v":{"$error":"#REF!"}},{"$f":"IF(COLUMNS($Q7:FN7)=#REF!,1,0)","v":{"$error":"#REF!"}},{"$f":"IF(COLUMNS($Q7:FO7)=#REF!,1,0)","v":{"$error":"#REF!"}},{"$f":"IF(COLUMNS($Q7:FP7)=#REF!,1,0)","v":{"$error":"#REF!"}},{"$f":"IF(COLUMNS($Q7:FQ7)=#REF!,1,0)","v":{"$error":"#REF!"}},{"$f":"IF(COLUMNS($Q7:FR7)=#REF!,1,0)","v":{"$error":"#REF!"}},{"$f":"IF(COLUMNS($Q7:FS7)=#REF!,1,0)","v":{"$error":"#REF!"}},{"$f":"IF(COLUMNS($Q7:FT7)=#REF!,1,0)","v":{"$error":"#REF!"}},{"$f":"IF(COLUMNS($Q7:FU7)=#REF!,1,0)","v":{"$error":"#REF!"}},{"$f":"IF(COLUMNS($Q7:FV7)=#REF!,1,0)","v":{"$error":"#REF!"}},{"$f":"IF(COLUMNS($Q7:FW7)=#REF!,1,0)","v":{"$error":"#REF!"}},{"$f":"IF(COLUMNS($Q7:FX7)=#REF!,1,0)","v":{"$error":"#REF!"}},{"$f":"IF(COLUMNS($Q7:FY7)=#REF!,1,0)","v":{"$error":"#REF!"}},{"$f":"IF(COLUMNS($Q7:FZ7)=#REF!,1,0)","v":{"$error":"#REF!"}},{"$f":"IF(COLUMNS($Q7:GA7)=#REF!,1,0)","v":{"$error":"#REF!"}},{"$f":"IF(COLUMNS($Q7:GB7)=#REF!,1,0)","v":{"$error":"#REF!"}},{"$f":"IF(COLUMNS($Q7:GC7)=#REF!,1,0)","v":{"$error":"#REF!"}},{"$f":"IF(COLUMNS($Q7:GD7)=#REF!,1,0)","v":{"$error":"#REF!"}},{"$f":"IF(COLUMNS($Q7:GE7)=#REF!,1,0)","v":{"$error":"#REF!"}},{"$f":"IF(COLUMNS($Q7:GF7)=#REF!,1,0)","v":{"$error":"#REF!"}},{"$f":"IF(COLUMNS($Q7:GG7)=#REF!,1,0)","v":{"$error":"#REF!"}},{"$f":"IF(COLUMNS($Q7:GH7)=#REF!,1,0)","v":{"$error":"#REF!"}},{"$f":"IF(COLUMNS($Q7:GI7)=#REF!,1,0)","v":{"$error":"#REF!"}},{"$f":"IF(COLUMNS($Q7:GJ7)=#REF!,1,0)","v":{"$error":"#REF!"}},{"$f":"IF(COLUMNS($Q7:GK7)=#REF!,1,0)","v":{"$error":"#REF!"}},{"$f":"IF(COLUMNS($Q7:GL7)=#REF!,1,0)","v":{"$error":"#REF!"}},{"$f":"IF(COLUMNS($Q7:GM7)=#REF!,1,0)","v":{"$error":"#REF!"}},{"$f":"IF(COLUMNS($Q7:GN7)=#REF!,1,0)","v":{"$error":"#REF!"}},{"$f":"IF(COLUMNS($Q7:GO7)=#REF!,1,0)","v":{"$error":"#REF!"}},{"$f":"IF(COLUMNS($Q7:GP7)=#REF!,1,0)","v":{"$error":"#REF!"}},{"$f":"IF(COLUMNS($Q7:GQ7)=#REF!,1,0)","v":{"$error":"#REF!"}},{"$f":"IF(COLUMNS($Q7:GR7)=#REF!,1,0)","v":{"$error":"#REF!"}},{"$f":"IF(COLUMNS($Q7:GS7)=#REF!,1,0)","v":{"$error":"#REF!"}},{"$f":"IF(COLUMNS($Q7:GT7)=#REF!,1,0)","v":{"$error":"#REF!"}},{"$f":"IF(COLUMNS($Q7:GU7)=#REF!,1,0)","v":{"$error":"#REF!"}},{"$f":"IF(COLUMNS($Q7:GV7)=#REF!,1,0)","v":{"$error":"#REF!"}},{"$f":"IF(COLUMNS($Q7:GW7)=#REF!,1,0)","v":{"$error":"#REF!"}},{"$f":"IF(COLUMNS($Q7:GX7)=#REF!,1,0)","v":{"$error":"#REF!"}},{"$f":"IF(COLUMNS($Q7:GY7)=#REF!,1,0)","v":{"$error":"#REF!"}},{"$f":"IF(COLUMNS($Q7:GZ7)=#REF!,1,0)","v":{"$error":"#REF!"}},{"$f":"IF(COLUMNS($Q7:HA7)=#REF!,1,0)","v":{"$error":"#REF!"}},{"$f":"IF(COLUMNS($Q7:HB7)=#REF!,1,0)","v":{"$error":"#REF!"}},{"$f":"IF(COLUMNS($Q7:HC7)=#REF!,1,0)","v":{"$error":"#REF!"}},{"$f":"IF(COLUMNS($Q7:HD7)=#REF!,1,0)","v":{"$error":"#REF!"}},{"$f":"IF(COLUMNS($Q7:HE7)=#REF!,1,0)","v":{"$error":"#REF!"}},{"$f":"IF(COLUMNS($Q7:HF7)=#REF!,1,0)","v":{"$error":"#REF!"}},{"$f":"IF(COLUMNS($Q7:HG7)=#REF!,1,0)","v":{"$error":"#REF!"}},{"$f":"IF(COLUMNS($Q7:HH7)=#REF!,1,0)","v":{"$error":"#REF!"}},{"$f":"IF(COLUMNS($Q7:HI7)=#REF!,1,0)","v":{"$error":"#REF!"}},{"$f":"IF(COLUMNS($Q7:HJ7)=#REF!,1,0)","v":{"$error":"#REF!"}},{"$f":"IF(COLUMNS($Q7:HK7)=#REF!,1,0)","v":{"$error":"#REF!"}},{"$f":"IF(COLUMNS($Q7:HL7)=#REF!,1,0)","v":{"$error":"#REF!"}},{"$f":"IF(COLUMNS($Q7:HM7)=#REF!,1,0)","v":{"$error":"#REF!"}},{"$f":"IF(COLUMNS($Q7:HN7)=#REF!,1,0)","v":{"$error":"#REF!"}},{"$f":"IF(COLUMNS($Q7:HO7)=#REF!,1,0)","v":{"$error":"#REF!"}},{"$f":"IF(COLUMNS($Q7:HP7)=#REF!,1,0)","v":{"$error":"#REF!"}},{"$f":"IF(COLUMNS($Q7:HQ7)=#REF!,1,0)","v":{"$error":"#REF!"}},{"$f":"IF(COLUMNS($Q7:HR7)=#REF!,1,0)","v":{"$error":"#REF!"}},{"$f":"IF(COLUMNS($Q7:HS7)=#REF!,1,0)","v":{"$error":"#REF!"}},{"$f":"IF(COLUMNS($Q7:HT7)=#REF!,1,0)","v":{"$error":"#REF!"}},{"$f":"IF(COLUMNS($Q7:HU7)=#REF!,1,0)","v":{"$error":"#REF!"}},{"$f":"IF(COLUMNS($Q7:HV7)=#REF!,1,0)","v":{"$error":"#REF!"}},{"$f":"IF(COLUMNS($Q7:HW7)=#REF!,1,0)","v":{"$error":"#REF!"}},{"$f":"IF(COLUMNS($Q7:HX7)=#REF!,1,0)","v":{"$error":"#REF!"}},{"$f":"IF(COLUMNS($Q7:HY7)=#REF!,1,0)","v":{"$error":"#REF!"}},{"$f":"IF(COLUMNS($Q7:HZ7)=#REF!,1,0)","v":{"$error":"#REF!"}},{"$f":"IF(COLUMNS($Q7:IA7)=#REF!,1,0)","v":{"$error":"#REF!"}},{"$f":"IF(COLUMNS($Q7:IB7)=#REF!,1,0)","v":{"$error":"#REF!"}},{"$f":"IF(COLUMNS($Q7:IC7)=#REF!,1,0)","v":{"$error":"#REF!"}},{"$f":"IF(COLUMNS($Q7:ID7)=#REF!,1,0)","v":{"$error":"#REF!"}},{"$f":"IF(COLUMNS($Q7:IE7)=#REF!,1,0)","v":{"$error":"#REF!"}},{"$f":"IF(COLUMNS($Q7:IF7)=#REF!,1,0)","v":{"$error":"#REF!"}},{"$f":"IF(COLUMNS($Q7:IG7)=#REF!,1,0)","v":{"$error":"#REF!"}},{"$f":"IF(COLUMNS($Q7:IH7)=#REF!,1,0)","v":{"$error":"#REF!"}},{"$f":"IF(COLUMNS($Q7:II7)=#REF!,1,0)","v":{"$error":"#REF!"}},{"$f":"IF(COLUMNS($Q7:IJ7)=#REF!,1,0)","v":{"$error":"#REF!"}},{"$f":"IF(COLUMNS($Q7:IK7)=#REF!,1,0)","v":{"$error":"#REF!"}},{"$f":"IF(COLUMNS($Q7:IL7)=#REF!,1,0)","v":{"$error":"#REF!"}},{"$f":"IF(COLUMNS($Q7:IM7)=#REF!,1,0)","v":{"$error":"#REF!"}},{"$f":"IF(COLUMNS($Q7:IN7)=#REF!,1,0)","v":{"$error":"#REF!"}},{"$f":"IF(COLUMNS($Q7:IO7)=#REF!,1,0)","v":{"$error":"#REF!"}},{"$f":"IF(COLUMNS($Q7:IP7)=#REF!,1,0)","v":{"$error":"#REF!"}},{"$f":"IF(COLUMNS($Q7:IQ7)=#REF!,1,0)","v":{"$error":"#REF!"}},{"$f":"IF(COLUMNS($Q7:IR7)=#REF!,1,0)","v":{"$error":"#REF!"}},{"$f":"IF(COLUMNS($Q7:IS7)=#REF!,1,0)","v":{"$error":"#REF!"}},{"$f":"IF(COLUMNS($Q7:IT7)=#REF!,1,0)","v":{"$error":"#REF!"}},{"$f":"IF(COLUMNS($Q7:IU7)=#REF!,1,0)","v":{"$error":"#REF!"}},{"$f":"IF(COLUMNS($Q7:IV7)=#REF!,1,0)","v":{"$error":"#REF!"}},{"$f":"IF(COLUMNS($Q7:IW7)=#REF!,1,0)","v":{"$error":"#REF!"}},{"$f":"IF(COLUMNS($Q7:IX7)=#REF!,1,0)","v":{"$error":"#REF!"}},{"$f":"IF(COLUMNS($Q7:IY7)=#REF!,1,0)","v":{"$error":"#REF!"}},{"$f":"IF(COLUMNS($Q7:IZ7)=#REF!,1,0)","v":{"$error":"#REF!"}},{"$f":"IF(COLUMNS($Q7:JA7)=#REF!,1,0)","v":{"$error":"#REF!"}},{"$f":"IF(COLUMNS($Q7:JB7)=#REF!,1,0)","v":{"$error":"#REF!"}},{"$f":"IF(COLUMNS($Q7:JC7)=#REF!,1,0)","v":{"$error":"#REF!"}},{"$f":"IF(COLUMNS($Q7:JD7)=#REF!,1,0)","v":{"$error":"#REF!"}},{"$f":"IF(COLUMNS($Q7:JE7)=#REF!,1,0)","v":{"$error":"#REF!"}},{"$f":"IF(COLUMNS($Q7:JF7)=#REF!,1,0)","v":{"$error":"#REF!"}},{"$f":"IF(COLUMNS($Q7:JG7)=#REF!,1,0)","v":{"$error":"#REF!"}},{"$f":"IF(COLUMNS($Q7:JH7)=#REF!,1,0)","v":{"$error":"#REF!"}},{"$f":"IF(COLUMNS($Q7:JI7)=#REF!,1,0)","v":{"$error":"#REF!"}},{"$f":"IF(COLUMNS($Q7:JJ7)=#REF!,1,0)","v":{"$error":"#REF!"}},{"$f":"IF(COLUMNS($Q7:JK7)=#REF!,1,0)","v":{"$error":"#REF!"}},{"$f":"IF(COLUMNS($Q7:JL7)=#REF!,1,0)","v":{"$error":"#REF!"}},{"$f":"IF(COLUMNS($Q7:JM7)=#REF!,1,0)","v":{"$error":"#REF!"}},{"$f":"IF(COLUMNS($Q7:JN7)=#REF!,1,0)","v":{"$error":"#REF!"}},{"$f":"IF(COLUMNS($Q7:JO7)=#REF!,1,0)","v":{"$error":"#REF!"}},{"$f":"IF(COLUMNS($Q7:JP7)=#REF!,1,0)","v":{"$error":"#REF!"}},{"$f":"IF(COLUMNS($Q7:JQ7)=#REF!,1,0)","v":{"$error":"#REF!"}},{"$f":"IF(COLUMNS($Q7:JR7)=#REF!,1,0)","v":{"$error":"#REF!"}},{"$f":"IF(COLUMNS($Q7:JS7)=#REF!,1,0)","v":{"$error":"#REF!"}},{"$f":"IF(COLUMNS($Q7:JT7)=#REF!,1,0)","v":{"$error":"#REF!"}},{"$f":"IF(COLUMNS($Q7:JU7)=#REF!,1,0)","v":{"$error":"#REF!"}},{"$f":"IF(COLUMNS($Q7:JV7)=#REF!,1,0)","v":{"$error":"#REF!"}},{"$f":"IF(COLUMNS($Q7:JW7)=#REF!,1,0)","v":{"$error":"#REF!"}},{"$f":"IF(COLUMNS($Q7:JX7)=#REF!,1,0)","v":{"$error":"#REF!"}},{"$f":"IF(COLUMNS($Q7:JY7)=#REF!,1,0)","v":{"$error":"#REF!"}},{"$f":"IF(COLUMNS($Q7:JZ7)=#REF!,1,0)","v":{"$error":"#REF!"}},{"$f":"IF(COLUMNS($Q7:KA7)=#REF!,1,0)","v":{"$error":"#REF!"}},{"$f":"IF(COLUMNS($Q7:KB7)=#REF!,1,0)","v":{"$error":"#REF!"}},{"$f":"IF(COLUMNS($Q7:KC7)=#REF!,1,0)","v":{"$error":"#REF!"}},{"$f":"IF(COLUMNS($Q7:KD7)=#REF!,1,0)","v":{"$error":"#REF!"}},{"$f":"IF(COLUMNS($Q7:KE7)=#REF!,1,0)","v":{"$error":"#REF!"}},{"$f":"IF(COLUMNS($Q7:KF7)=#REF!,1,0)","v":{"$error":"#REF!"}},{"$f":"IF(COLUMNS($Q7:KG7)=#REF!,1,0)","v":{"$error":"#REF!"}},{"$f":"IF(COLUMNS($Q7:KH7)=#REF!,1,0)","v":{"$error":"#REF!"}},{"$f":"IF(COLUMNS($Q7:KI7)=#REF!,1,0)","v":{"$error":"#REF!"}},{"$f":"IF(COLUMNS($Q7:KJ7)=#REF!,1,0)","v":{"$error":"#REF!"}},{"$f":"IF(COLUMNS($Q7:KK7)=#REF!,1,0)","v":{"$error":"#REF!"}},{"$f":"IF(COLUMNS($Q7:KL7)=#REF!,1,0)","v":{"$error":"#REF!"}},{"$f":"IF(COLUMNS($Q7:KM7)=#REF!,1,0)","v":{"$error":"#REF!"}},{"$f":"IF(COLUMNS($Q7:KN7)=#REF!,1,0)","v":{"$error":"#REF!"}},{"$f":"IF(COLUMNS($Q7:KO7)=#REF!,1,0)","v":{"$error":"#REF!"}},{"$f":"IF(COLUMNS($Q7:KP7)=#REF!,1,0)","v":{"$error":"#REF!"}},{"$f":"IF(COLUMNS($Q7:KQ7)=#REF!,1,0)","v":{"$error":"#REF!"}},{"$f":"IF(COLUMNS($Q7:KR7)=#REF!,1,0)","v":{"$error":"#REF!"}},{"$f":"IF(COLUMNS($Q7:KS7)=#REF!,1,0)","v":{"$error":"#REF!"}},{"$f":"IF(COLUMNS($Q7:KT7)=#REF!,1,0)","v":{"$error":"#REF!"}},{"$f":"IF(COLUMNS($Q7:KU7)=#REF!,1,0)","v":{"$error":"#REF!"}},{"$f":"IF(COLUMNS($Q7:KV7)=#REF!,1,0)","v":{"$error":"#REF!"}},{"$f":"IF(COLUMNS($Q7:KW7)=#REF!,1,0)","v":{"$error":"#REF!"}},{"$f":"IF(COLUMNS($Q7:KX7)=#REF!,1,0)","v":{"$error":"#REF!"}},{"$f":"IF(COLUMNS($Q7:KY7)=#REF!,1,0)","v":{"$error":"#REF!"}},{"$f":"IF(COLUMNS($Q7:KZ7)=#REF!,1,0)","v":{"$error":"#REF!"}},{"$f":"IF(COLUMNS($Q7:LA7)=#REF!,1,0)","v":{"$error":"#REF!"}},{"$f":"IF(COLUMNS($Q7:LB7)=#REF!,1,0)","v":{"$error":"#REF!"}},{"$f":"IF(COLUMNS($Q7:LC7)=#REF!,1,0)","v":{"$error":"#REF!"}},{"$f":"IF(COLUMNS($Q7:LD7)=#REF!,1,0)","v":{"$error":"#REF!"}},{"$f":"IF(COLUMNS($Q7:LE7)=#REF!,1,0)","v":{"$error":"#REF!"}},{"$f":"IF(COLUMNS($Q7:LF7)=#REF!,1,0)","v":{"$error":"#REF!"}},{"$f":"IF(COLUMNS($Q7:LG7)=#REF!,1,0)","v":{"$error":"#REF!"}},{"$f":"IF(COLUMNS($Q7:LH7)=#REF!,1,0)","v":{"$error":"#REF!"}},{"$f":"IF(COLUMNS($Q7:LI7)=#REF!,1,0)","v":{"$error":"#REF!"}},{"$f":"IF(COLUMNS($Q7:LJ7)=#REF!,1,0)","v":{"$error":"#REF!"}},{"$f":"IF(COLUMNS($Q7:LK7)=#REF!,1,0)","v":{"$error":"#REF!"}},{"$f":"IF(COLUMNS($Q7:LL7)=#REF!,1,0)","v":{"$error":"#REF!"}},{"$f":"IF(COLUMNS($Q7:LM7)=#REF!,1,0)","v":{"$error":"#REF!"}},{"$f":"IF(COLUMNS($Q7:LN7)=#REF!,1,0)","v":{"$error":"#REF!"}},{"$f":"IF(COLUMNS($Q7:LO7)=#REF!,1,0)","v":{"$error":"#REF!"}},{"$f":"IF(COLUMNS($Q7:LP7)=#REF!,1,0)","v":{"$error":"#REF!"}},{"$f":"IF(COLUMNS($Q7:LQ7)=#REF!,1,0)","v":{"$error":"#REF!"}},{"$f":"IF(COLUMNS($Q7:LR7)=#REF!,1,0)","v":{"$error":"#REF!"}},{"$f":"IF(COLUMNS($Q7:LS7)=#REF!,1,0)","v":{"$error":"#REF!"}},{"$f":"IF(COLUMNS($Q7:LT7)=#REF!,1,0)","v":{"$error":"#REF!"}},{"$f":"IF(COLUMNS($Q7:LU7)=#REF!,1,0)","v":{"$error":"#REF!"}},{"$f":"IF(COLUMNS($Q7:LV7)=#REF!,1,0)","v":{"$error":"#REF!"}},{"$f":"IF(COLUMNS($Q7:LW7)=#REF!,1,0)","v":{"$error":"#REF!"}},{"$f":"IF(COLUMNS($Q7:LX7)=#REF!,1,0)","v":{"$error":"#REF!"}},{"$f":"IF(COLUMNS($Q7:LY7)=#REF!,1,0)","v":{"$error":"#REF!"}},{"$f":"IF(COLUMNS($Q7:LZ7)=#REF!,1,0)","v":{"$error":"#REF!"}},{"$f":"IF(COLUMNS($Q7:MA7)=#REF!,1,0)","v":{"$error":"#REF!"}},{"$f":"IF(COLUMNS($Q7:MB7)=#REF!,1,0)","v":{"$error":"#REF!"}},{"$f":"IF(COLUMNS($Q7:MC7)=#REF!,1,0)","v":{"$error":"#REF!"}},{"$f":"IF(COLUMNS($Q7:MD7)=#REF!,1,0)","v":{"$error":"#REF!"}},{"$f":"IF(COLUMNS($Q7:ME7)=#REF!,1,0)","v":{"$error":"#REF!"}},{"$f":"IF(COLUMNS($Q7:MF7)=#REF!,1,0)","v":{"$error":"#REF!"}},{"$f":"IF(COLUMNS($Q7:MG7)=#REF!,1,0)","v":{"$error":"#REF!"}},{"$f":"IF(COLUMNS($Q7:MH7)=#REF!,1,0)","v":{"$error":"#REF!"}},{"$f":"IF(COLUMNS($Q7:MI7)=#REF!,1,0)","v":{"$error":"#REF!"}},{"$f":"IF(COLUMNS($Q7:MJ7)=#REF!,1,0)","v":{"$error":"#REF!"}},{"$f":"IF(COLUMNS($Q7:MK7)=#REF!,1,0)","v":{"$error":"#REF!"}},{"$f":"IF(COLUMNS($Q7:ML7)=#REF!,1,0)","v":{"$error":"#REF!"}},{"$f":"IF(COLUMNS($Q7:MM7)=#REF!,1,0)","v":{"$error":"#REF!"}},{"$f":"IF(COLUMNS($Q7:MN7)=#REF!,1,0)","v":{"$error":"#REF!"}},{"$f":"IF(COLUMNS($Q7:MO7)=#REF!,1,0)","v":{"$error":"#REF!"}},{"$f":"IF(COLUMNS($Q7:MP7)=#REF!,1,0)","v":{"$error":"#REF!"}},{"$f":"IF(COLUMNS($Q7:MQ7)=#REF!,1,0)","v":{"$error":"#REF!"}},{"$f":"IF(COLUMNS($Q7:MR7)=#REF!,1,0)","v":{"$error":"#REF!"}},{"$f":"IF(COLUMNS($Q7:MS7)=#REF!,1,0)","v":{"$error":"#REF!"}},{"$f":"IF(COLUMNS($Q7:MT7)=#REF!,1,0)","v":{"$error":"#REF!"}},{"$f":"IF(COLUMNS($Q7:MU7)=#REF!,1,0)","v":{"$error":"#REF!"}},{"$f":"IF(COLUMNS($Q7:MV7)=#REF!,1,0)","v":{"$error":"#REF!"}},{"$f":"IF(COLUMNS($Q7:MW7)=#REF!,1,0)","v":{"$error":"#REF!"}},{"$f":"IF(COLUMNS($Q7:MX7)=#REF!,1,0)","v":{"$error":"#REF!"}},{"$f":"IF(COLUMNS($Q7:MY7)=#REF!,1,0)","v":{"$error":"#REF!"}},{"$f":"IF(COLUMNS($Q7:MZ7)=#REF!,1,0)","v":{"$error":"#REF!"}},{"$f":"IF(COLUMNS($Q7:NA7)=#REF!,1,0)","v":{"$error":"#REF!"}},{"$f":"IF(COLUMNS($Q7:NB7)=#REF!,1,0)","v":{"$error":"#REF!"}},{"$f":"IF(COLUMNS($Q7:NC7)=#REF!,1,0)","v":{"$error":"#REF!"}},{"$f":"IF(COLUMNS($Q7:ND7)=#REF!,1,0)","v":{"$error":"#REF!"}},{"$f":"IF(COLUMNS($Q7:NE7)=#REF!,1,0)","v":{"$error":"#REF!"}},{"$f":"IF(COLUMNS($Q7:NF7)=#REF!,1,0)","v":{"$error":"#REF!"}},{"$f":"IF(COLUMNS($Q7:NG7)=#REF!,1,0)","v":{"$error":"#REF!"}},{"$f":"IF(COLUMNS($Q7:NH7)=#REF!,1,0)","v":{"$error":"#REF!"}},{"$f":"IF(COLUMNS($Q7:NI7)=#REF!,1,0)","v":{"$error":"#REF!"}},{"$f":"IF(COLUMNS($Q7:NJ7)=#REF!,1,0)","v":{"$error":"#REF!"}},{"$f":"IF(COLUMNS($Q7:NK7)=#REF!,1,0)","v":{"$error":"#REF!"}},{"$f":"IF(COLUMNS($Q7:NL7)=#REF!,1,0)","v":{"$error":"#REF!"}},{"$f":"IF(COLUMNS($Q7:NM7)=#REF!,1,0)","v":{"$error":"#REF!"}},{"$f":"IF(COLUMNS($Q7:NN7)=#REF!,1,0)","v":{"$error":"#REF!"}},{"$f":"IF(COLUMNS($Q7:NO7)=#REF!,1,0)","v":{"$error":"#REF!"}},{"$f":"IF(COLUMNS($Q7:NP7)=#REF!,1,0)","v":{"$error":"#REF!"}},{"$f":"IF(COLUMNS($Q7:NQ7)=#REF!,1,0)","v":{"$error":"#REF!"}},{"$f":"IF(COLUMNS($Q7:NR7)=#REF!,1,0)","v":{"$error":"#REF!"}},{"$f":"IF(COLUMNS($Q7:NS7)=#REF!,1,0)","v":{"$error":"#REF!"}},{"$f":"IF(COLUMNS($Q7:NT7)=#REF!,1,0)","v":{"$error":"#REF!"}},{"$f":"IF(COLUMNS($Q7:NU7)=#REF!,1,0)","v":{"$error":"#REF!"}},{"$f":"IF(COLUMNS($Q7:NV7)=#REF!,1,0)","v":{"$error":"#REF!"}},{"$f":"IF(COLUMNS($Q7:NW7)=#REF!,1,0)","v":{"$error":"#REF!"}},{"$f":"IF(COLUMNS($Q7:NX7)=#REF!,1,0)","v":{"$error":"#REF!"}},{"$f":"IF(COLUMNS($Q7:NY7)=#REF!,1,0)","v":{"$error":"#REF!"}},{"$f":"IF(COLUMNS($Q7:NZ7)=#REF!,1,0)","v":{"$error":"#REF!"}},{"$f":"IF(COLUMNS($Q7:OA7)=#REF!,1,0)","v":{"$error":"#REF!"}},{"$f":"IF(COLUMNS($Q7:OB7)=#REF!,1,0)","v":{"$error":"#REF!"}},{"$f":"IF(COLUMNS($Q7:OC7)=#REF!,1,0)","v":{"$error":"#REF!"}},{"$f":"IF(COLUMNS($Q7:OD7)=#REF!,1,0)","v":{"$error":"#REF!"}},{"$f":"IF(COLUMNS($Q7:OE7)=#REF!,1,0)","v":{"$error":"#REF!"}},{"$f":"IF(COLUMNS($Q7:OF7)=#REF!,1,0)","v":{"$error":"#REF!"}},{"$f":"IF(COLUMNS($Q7:OG7)=#REF!,1,0)","v":{"$error":"#REF!"}},{"$f":"IF(COLUMNS($Q7:OH7)=#REF!,1,0)","v":{"$error":"#REF!"}},{"$f":"IF(COLUMNS($Q7:OI7)=#REF!,1,0)","v":{"$error":"#REF!"}},{"$f":"IF(COLUMNS($Q7:OJ7)=#REF!,1,0)","v":{"$error":"#REF!"}},{"$f":"IF(COLUMNS($Q7:OK7)=#REF!,1,0)","v":{"$error":"#REF!"}},{"$f":"IF(COLUMNS($Q7:OL7)=#REF!,1,0)","v":{"$error":"#REF!"}},{"$f":"IF(COLUMNS($Q7:OM7)=#REF!,1,0)","v":{"$error":"#REF!"}},{"$f":"IF(COLUMNS($Q7:ON7)=#REF!,1,0)","v":{"$error":"#REF!"}},{"$f":"IF(COLUMNS($Q7:OO7)=#REF!,1,0)","v":{"$error":"#REF!"}},{"$f":"IF(COLUMNS($Q7:OP7)=#REF!,1,0)","v":{"$error":"#REF!"}},{"$f":"IF(COLUMNS($Q7:OQ7)=#REF!,1,0)","v":{"$error":"#REF!"}}]
[null,null,null,null,null,null,null,null,null,null,44531,null,"Amortización Caixa",null,null,null,{"$f":"+VLOOKUP(Q12,#REF!,2,1)","v":{"$error":"#REF!"}},{"$f":"+VLOOKUP(R12,#REF!,2,1)","v":{"$error":"#REF!"}},{"$f":"+VLOOKUP(S12,#REF!,2,1)","v":{"$error":"#REF!"}},{"$f":"+VLOOKUP(T12,#REF!,2,1)","v":{"$error":"#REF!"}},{"$f":"+VLOOKUP(U12,#REF!,2,1)","v":{"$error":"#REF!"}},{"$f":"+VLOOKUP(V12,#REF!,2,1)","v":{"$error":"#REF!"}},{"$f":"+VLOOKUP(W12,#REF!,2,1)","v":{"$error":"#REF!"}},{"$f":"+VLOOKUP(X12,#REF!,2,1)","v":{"$error":"#REF!"}},{"$f":"+VLOOKUP(Y12,#REF!,2,1)","v":{"$error":"#REF!"}},{"$f":"+VLOOKUP(Z12,#REF!,2,1)","v":{"$error":"#REF!"}},{"$f":"+VLOOKUP(AA12,#REF!,2,1)","v":{"$error":"#REF!"}},{"$f":"+VLOOKUP(AB12,#REF!,2,1)","v":{"$error":"#REF!"}},{"$f":"+VLOOKUP(AC12,#REF!,2,1)","v":{"$error":"#REF!"}},{"$f":"+VLOOKUP(AD12,#REF!,2,1)","v":{"$error":"#REF!"}},{"$f":"+VLOOKUP(AE12,#REF!,2,1)","v":{"$error":"#REF!"}},{"$f":"+VLOOKUP(AF12,#REF!,2,1)","v":{"$error":"#REF!"}},{"$f":"+VLOOKUP(AG12,#REF!,2,1)","v":{"$error":"#REF!"}},{"$f":"+VLOOKUP(AH12,#REF!,2,1)","v":{"$error":"#REF!"}},{"$f":"+VLOOKUP(AI12,#REF!,2,1)","v":{"$error":"#REF!"}},{"$f":"+VLOOKUP(AJ12,#REF!,2,1)","v":{"$error":"#REF!"}},{"$f":"+VLOOKUP(AK12,#REF!,2,1)","v":{"$error":"#REF!"}},{"$f":"+VLOOKUP(AL12,#REF!,2,1)","v":{"$error":"#REF!"}},{"$f":"+VLOOKUP(AM12,#REF!,2,1)","v":{"$error":"#REF!"}},{"$f":"+VLOOKUP(AN12,#REF!,2,1)","v":{"$error":"#REF!"}},{"$f":"+VLOOKUP(AO12,#REF!,2,1)","v":{"$error":"#REF!"}},{"$f":"+VLOOKUP(AP12,#REF!,2,1)","v":{"$error":"#REF!"}},{"$f":"+VLOOKUP(AQ12,#REF!,2,1)","v":{"$error":"#REF!"}},{"$f":"+VLOOKUP(AR12,#REF!,2,1)","v":{"$error":"#REF!"}},{"$f":"+VLOOKUP(AS12,#REF!,2,1)","v":{"$error":"#REF!"}},{"$f":"+VLOOKUP(AT12,#REF!,2,1)","v":{"$error":"#REF!"}},{"$f":"+VLOOKUP(AU12,#REF!,2,1)","v":{"$error":"#REF!"}},{"$f":"+VLOOKUP(AV12,#REF!,2,1)","v":{"$error":"#REF!"}},{"$f":"+VLOOKUP(AW12,#REF!,2,1)","v":{"$error":"#REF!"}},{"$f":"+VLOOKUP(AX12,#REF!,2,1)","v":{"$error":"#REF!"}},{"$f":"+VLOOKUP(AY12,#REF!,2,1)","v":{"$error":"#REF!"}},{"$f":"+VLOOKUP(AZ12,#REF!,2,1)","v":{"$error":"#REF!"}},{"$f":"+VLOOKUP(BA12,#REF!,2,1)","v":{"$error":"#REF!"}},{"$f":"+VLOOKUP(BB12,#REF!,2,1)","v":{"$error":"#REF!"}},{"$f":"+VLOOKUP(BC12,#REF!,2,1)","v":{"$error":"#REF!"}},{"$f":"+VLOOKUP(BD12,#REF!,2,1)","v":{"$error":"#REF!"}},{"$f":"+VLOOKUP(BE12,#REF!,2,1)","v":{"$error":"#REF!"}},{"$f":"+VLOOKUP(BF12,#REF!,2,1)","v":{"$error":"#REF!"}},{"$f":"+VLOOKUP(BG12,#REF!,2,1)","v":{"$error":"#REF!"}},{"$f":"+VLOOKUP(BH12,#REF!,2,1)","v":{"$error":"#REF!"}},{"$f":"+VLOOKUP(BI12,#REF!,2,1)","v":{"$error":"#REF!"}},{"$f":"+VLOOKUP(BJ12,#REF!,2,1)","v":{"$error":"#REF!"}},{"$f":"+VLOOKUP(BK12,#REF!,2,1)","v":{"$error":"#REF!"}},{"$f":"+VLOOKUP(BL12,#REF!,2,1)","v":{"$error":"#REF!"}},{"$f":"+VLOOKUP(BM12,#REF!,2,1)","v":{"$error":"#REF!"}},{"$f":"+VLOOKUP(BN12,#REF!,2,1)","v":{"$error":"#REF!"}},{"$f":"+VLOOKUP(BO12,#REF!,2,1)","v":{"$error":"#REF!"}},{"$f":"+VLOOKUP(BP12,#REF!,2,1)","v":{"$error":"#REF!"}},{"$f":"+VLOOKUP(BQ12,#REF!,2,1)","v":{"$error":"#REF!"}},{"$f":"+VLOOKUP(BR12,#REF!,2,1)","v":{"$error":"#REF!"}},{"$f":"+VLOOKUP(BS12,#REF!,2,1)","v":{"$error":"#REF!"}},{"$f":"+VLOOKUP(BT12,#REF!,2,1)","v":{"$error":"#REF!"}},{"$f":"+VLOOKUP(BU12,#REF!,2,1)","v":{"$error":"#REF!"}},{"$f":"+VLOOKUP(BV12,#REF!,2,1)","v":{"$error":"#REF!"}},{"$f":"+VLOOKUP(BW12,#REF!,2,1)","v":{"$error":"#REF!"}},{"$f":"+VLOOKUP(BX12,#REF!,2,1)","v":{"$error":"#REF!"}},{"$f":"+VLOOKUP(BY12,#REF!,2,1)","v":{"$error":"#REF!"}},{"$f":"+VLOOKUP(BZ12,#REF!,2,1)","v":{"$error":"#REF!"}},{"$f":"+VLOOKUP(CA12,#REF!,2,1)","v":{"$error":"#REF!"}},{"$f":"+VLOOKUP(CB12,#REF!,2,1)","v":{"$error":"#REF!"}},{"$f":"+VLOOKUP(CC12,#REF!,2,1)","v":{"$error":"#REF!"}},{"$f":"+VLOOKUP(CD12,#REF!,2,1)","v":{"$error":"#REF!"}},{"$f":"+VLOOKUP(CE12,#REF!,2,1)","v":{"$error":"#REF!"}},{"$f":"+VLOOKUP(CF12,#REF!,2,1)","v":{"$error":"#REF!"}},{"$f":"+VLOOKUP(CG12,#REF!,2,1)","v":{"$error":"#REF!"}},{"$f":"+VLOOKUP(CH12,#REF!,2,1)","v":{"$error":"#REF!"}},{"$f":"+VLOOKUP(CI12,#REF!,2,1)","v":{"$error":"#REF!"}},{"$f":"+VLOOKUP(CJ12,#REF!,2,1)","v":{"$error":"#REF!"}},{"$f":"+VLOOKUP(CK12,#REF!,2,1)","v":{"$error":"#REF!"}},{"$f":"+VLOOKUP(CL12,#REF!,2,1)","v":{"$error":"#REF!"}},{"$f":"+VLOOKUP(CM12,#REF!,2,1)","v":{"$error":"#REF!"}},{"$f":"+VLOOKUP(CN12,#REF!,2,1)","v":{"$error":"#REF!"}},{"$f":"+VLOOKUP(CO12,#REF!,2,1)","v":{"$error":"#REF!"}},{"$f":"+VLOOKUP(CP12,#REF!,2,1)","v":{"$error":"#REF!"}},{"$f":"+VLOOKUP(CQ12,#REF!,2,1)","v":{"$error":"#REF!"}},{"$f":"+VLOOKUP(CR12,#REF!,2,1)","v":{"$error":"#REF!"}},{"$f":"+VLOOKUP(CS12,#REF!,2,1)","v":{"$error":"#REF!"}},{"$f":"+VLOOKUP(CT12,#REF!,2,1)","v":{"$error":"#REF!"}},{"$f":"+VLOOKUP(CU12,#REF!,2,1)","v":{"$error":"#REF!"}},{"$f":"+VLOOKUP(CV12,#REF!,2,1)","v":{"$error":"#REF!"}},{"$f":"+VLOOKUP(CW12,#REF!,2,1)","v":{"$error":"#REF!"}},{"$f":"+VLOOKUP(CX12,#REF!,2,1)","v":{"$error":"#REF!"}},{"$f":"+VLOOKUP(CY12,#REF!,2,1)","v":{"$error":"#REF!"}},{"$f":"+VLOOKUP(CZ12,#REF!,2,1)","v":{"$error":"#REF!"}},{"$f":"+VLOOKUP(DA12,#REF!,2,1)","v":{"$error":"#REF!"}},{"$f":"+VLOOKUP(DB12,#REF!,2,1)","v":{"$error":"#REF!"}},{"$f":"+VLOOKUP(DC12,#REF!,2,1)","v":{"$error":"#REF!"}},{"$f":"+VLOOKUP(DD12,#REF!,2,1)","v":{"$error":"#REF!"}},{"$f":"+VLOOKUP(DE12,#REF!,2,1)","v":{"$error":"#REF!"}},{"$f":"+VLOOKUP(DF12,#REF!,2,1)","v":{"$error":"#REF!"}},{"$f":"+VLOOKUP(DG12,#REF!,2,1)","v":{"$error":"#REF!"}},{"$f":"+VLOOKUP(DH12,#REF!,2,1)","v":{"$error":"#REF!"}},{"$f":"+VLOOKUP(DI12,#REF!,2,1)","v":{"$error":"#REF!"}},{"$f":"+VLOOKUP(DJ12,#REF!,2,1)","v":{"$error":"#REF!"}},{"$f":"+VLOOKUP(DK12,#REF!,2,1)","v":{"$error":"#REF!"}},{"$f":"+VLOOKUP(DL12,#REF!,2,1)","v":{"$error":"#REF!"}},{"$f":"+VLOOKUP(DM12,#REF!,2,1)","v":{"$error":"#REF!"}},{"$f":"+VLOOKUP(DN12,#REF!,2,1)","v":{"$error":"#REF!"}},{"$f":"+VLOOKUP(DO12,#REF!,2,1)","v":{"$error":"#REF!"}},{"$f":"+VLOOKUP(DP12,#REF!,2,1)","v":{"$error":"#REF!"}},{"$f":"+VLOOKUP(DQ12,#REF!,2,1)","v":{"$error":"#REF!"}},{"$f":"+VLOOKUP(DR12,#REF!,2,1)","v":{"$error":"#REF!"}},{"$f":"+VLOOKUP(DS12,#REF!,2,1)","v":{"$error":"#REF!"}},{"$f":"+VLOOKUP(DT12,#REF!,2,1)","v":{"$error":"#REF!"}},{"$f":"+VLOOKUP(DU12,#REF!,2,1)","v":{"$error":"#REF!"}},{"$f":"+VLOOKUP(DV12,#REF!,2,1)","v":{"$error":"#REF!"}},{"$f":"+VLOOKUP(DW12,#REF!,2,1)","v":{"$error":"#REF!"}},{"$f":"+VLOOKUP(DX12,#REF!,2,1)","v":{"$error":"#REF!"}},{"$f":"+VLOOKUP(DY12,#REF!,2,1)","v":{"$error":"#REF!"}},{"$f":"+VLOOKUP(DZ12,#REF!,2,1)","v":{"$error":"#REF!"}},{"$f":"+VLOOKUP(EA12,#REF!,2,1)","v":{"$error":"#REF!"}},{"$f":"+VLOOKUP(EB12,#REF!,2,1)","v":{"$error":"#REF!"}},{"$f":"+VLOOKUP(EC12,#REF!,2,1)","v":{"$error":"#REF!"}},{"$f":"+VLOOKUP(ED12,#REF!,2,1)","v":{"$error":"#REF!"}},{"$f":"+VLOOKUP(EE12,#REF!,2,1)","v":{"$error":"#REF!"}},{"$f":"+VLOOKUP(EF12,#REF!,2,1)","v":{"$error":"#REF!"}},{"$f":"+VLOOKUP(EG12,#REF!,2,1)","v":{"$error":"#REF!"}},{"$f":"+VLOOKUP(EH12,#REF!,2,1)","v":{"$error":"#REF!"}},{"$f":"+VLOOKUP(EI12,#REF!,2,1)","v":{"$error":"#REF!"}},{"$f":"+VLOOKUP(EJ12,#REF!,2,1)","v":{"$error":"#REF!"}},{"$f":"+VLOOKUP(EK12,#REF!,2,1)","v":{"$error":"#REF!"}},{"$f":"+VLOOKUP(EL12,#REF!,2,1)","v":{"$error":"#REF!"}},{"$f":"+VLOOKUP(EM12,#REF!,2,1)","v":{"$error":"#REF!"}},{"$f":"+VLOOKUP(EN12,#REF!,2,1)","v":{"$error":"#REF!"}},{"$f":"+VLOOKUP(EO12,#REF!,2,1)","v":{"$error":"#REF!"}},{"$f":"+VLOOKUP(EP12,#REF!,2,1)","v":{"$error":"#REF!"}},{"$f":"+VLOOKUP(EQ12,#REF!,2,1)","v":{"$error":"#REF!"}},{"$f":"+VLOOKUP(ER12,#REF!,2,1)","v":{"$error":"#REF!"}},{"$f":"+VLOOKUP(ES12,#REF!,2,1)","v":{"$error":"#REF!"}},{"$f":"+VLOOKUP(ET12,#REF!,2,1)","v":{"$error":"#REF!"}},{"$f":"+VLOOKUP(EU12,#REF!,2,1)","v":{"$error":"#REF!"}},{"$f":"+VLOOKUP(EV12,#REF!,2,1)","v":{"$error":"#REF!"}},{"$f":"+VLOOKUP(EW12,#REF!,2,1)","v":{"$error":"#REF!"}},{"$f":"+VLOOKUP(EX12,#REF!,2,1)","v":{"$error":"#REF!"}},{"$f":"+VLOOKUP(EY12,#REF!,2,1)","v":{"$error":"#REF!"}},{"$f":"+VLOOKUP(EZ12,#REF!,2,1)","v":{"$error":"#REF!"}},{"$f":"+VLOOKUP(FA12,#REF!,2,1)","v":{"$error":"#REF!"}},{"$f":"+VLOOKUP(FB12,#REF!,2,1)","v":{"$error":"#REF!"}},{"$f":"+VLOOKUP(FC12,#REF!,2,1)","v":{"$error":"#REF!"}},{"$f":"+VLOOKUP(FD12,#REF!,2,1)","v":{"$error":"#REF!"}},{"$f":"+VLOOKUP(FE12,#REF!,2,1)","v":{"$error":"#REF!"}},{"$f":"+VLOOKUP(FF12,#REF!,2,1)","v":{"$error":"#REF!"}},{"$f":"+VLOOKUP(FG12,#REF!,2,1)","v":{"$error":"#REF!"}},{"$f":"+VLOOKUP(FH12,#REF!,2,1)","v":{"$error":"#REF!"}},{"$f":"+VLOOKUP(FI12,#REF!,2,1)","v":{"$error":"#REF!"}},{"$f":"+VLOOKUP(FJ12,#REF!,2,1)","v":{"$error":"#REF!"}},{"$f":"+VLOOKUP(FK12,#REF!,2,1)","v":{"$error":"#REF!"}},{"$f":"+VLOOKUP(FL12,#REF!,2,1)","v":{"$error":"#REF!"}},{"$f":"+VLOOKUP(FM12,#REF!,2,1)","v":{"$error":"#REF!"}},{"$f":"+VLOOKUP(FN12,#REF!,2,1)","v":{"$error":"#REF!"}},{"$f":"+VLOOKUP(FO12,#REF!,2,1)","v":{"$error":"#REF!"}},{"$f":"+VLOOKUP(FP12,#REF!,2,1)","v":{"$error":"#REF!"}},{"$f":"+VLOOKUP(FQ12,#REF!,2,1)","v":{"$error":"#REF!"}},{"$f":"+VLOOKUP(FR12,#REF!,2,1)","v":{"$error":"#REF!"}},{"$f":"+VLOOKUP(FS12,#REF!,2,1)","v":{"$error":"#REF!"}},{"$f":"+VLOOKUP(FT12,#REF!,2,1)","v":{"$error":"#REF!"}},{"$f":"+VLOOKUP(FU12,#REF!,2,1)","v":{"$error":"#REF!"}},{"$f":"+VLOOKUP(FV12,#REF!,2,1)","v":{"$error":"#REF!"}},{"$f":"+VLOOKUP(FW12,#REF!,2,1)","v":{"$error":"#REF!"}},{"$f":"+VLOOKUP(FX12,#REF!,2,1)","v":{"$error":"#REF!"}},{"$f":"+VLOOKUP(FY12,#REF!,2,1)","v":{"$error":"#REF!"}},{"$f":"+VLOOKUP(FZ12,#REF!,2,1)","v":{"$error":"#REF!"}},{"$f":"+VLOOKUP(GA12,#REF!,2,1)","v":{"$error":"#REF!"}},{"$f":"+VLOOKUP(GB12,#REF!,2,1)","v":{"$error":"#REF!"}},{"$f":"+VLOOKUP(GC12,#REF!,2,1)","v":{"$error":"#REF!"}},{"$f":"+VLOOKUP(GD12,#REF!,2,1)","v":{"$error":"#REF!"}},{"$f":"+VLOOKUP(GE12,#REF!,2,1)","v":{"$error":"#REF!"}},{"$f":"+VLOOKUP(GF12,#REF!,2,1)","v":{"$error":"#REF!"}},{"$f":"+VLOOKUP(GG12,#REF!,2,1)","v":{"$error":"#REF!"}},{"$f":"+VLOOKUP(GH12,#REF!,2,1)","v":{"$error":"#REF!"}},{"$f":"+VLOOKUP(GI12,#REF!,2,1)","v":{"$error":"#REF!"}},{"$f":"+VLOOKUP(GJ12,#REF!,2,1)","v":{"$error":"#REF!"}},{"$f":"+VLOOKUP(GK12,#REF!,2,1)","v":{"$error":"#REF!"}},{"$f":"+VLOOKUP(GL12,#REF!,2,1)","v":{"$error":"#REF!"}},{"$f":"+VLOOKUP(GM12,#REF!,2,1)","v":{"$error":"#REF!"}},{"$f":"+VLOOKUP(GN12,#REF!,2,1)","v":{"$error":"#REF!"}},{"$f":"+VLOOKUP(GO12,#REF!,2,1)","v":{"$error":"#REF!"}},{"$f":"+VLOOKUP(GP12,#REF!,2,1)","v":{"$error":"#REF!"}},{"$f":"+VLOOKUP(GQ12,#REF!,2,1)","v":{"$error":"#REF!"}},{"$f":"+VLOOKUP(GR12,#REF!,2,1)","v":{"$error":"#REF!"}},{"$f":"+VLOOKUP(GS12,#REF!,2,1)","v":{"$error":"#REF!"}},{"$f":"+VLOOKUP(GT12,#REF!,2,1)","v":{"$error":"#REF!"}},{"$f":"+VLOOKUP(GU12,#REF!,2,1)","v":{"$error":"#REF!"}},{"$f":"+VLOOKUP(GV12,#REF!,2,1)","v":{"$error":"#REF!"}},{"$f":"+VLOOKUP(GW12,#REF!,2,1)","v":{"$error":"#REF!"}},{"$f":"+VLOOKUP(GX12,#REF!,2,1)","v":{"$error":"#REF!"}},{"$f":"+VLOOKUP(GY12,#REF!,2,1)","v":{"$error":"#REF!"}},{"$f":"+VLOOKUP(GZ12,#REF!,2,1)","v":{"$error":"#REF!"}},{"$f":"+VLOOKUP(HA12,#REF!,2,1)","v":{"$error":"#REF!"}},{"$f":"+VLOOKUP(HB12,#REF!,2,1)","v":{"$error":"#REF!"}},{"$f":"+VLOOKUP(HC12,#REF!,2,1)","v":{"$error":"#REF!"}},{"$f":"+VLOOKUP(HD12,#REF!,2,1)","v":{"$error":"#REF!"}},{"$f":"+VLOOKUP(HE12,#REF!,2,1)","v":{"$error":"#REF!"}},{"$f":"+VLOOKUP(HF12,#REF!,2,1)","v":{"$error":"#REF!"}},{"$f":"+VLOOKUP(HG12,#REF!,2,1)","v":{"$error":"#REF!"}},{"$f":"+VLOOKUP(HH12,#REF!,2,1)","v":{"$error":"#REF!"}},{"$f":"+VLOOKUP(HI12,#REF!,2,1)","v":{"$error":"#REF!"}},{"$f":"+VLOOKUP(HJ12,#REF!,2,1)","v":{"$error":"#REF!"}},{"$f":"+VLOOKUP(HK12,#REF!,2,1)","v":{"$error":"#REF!"}},{"$f":"+VLOOKUP(HL12,#REF!,2,1)","v":{"$error":"#REF!"}},{"$f":"+VLOOKUP(HM12,#REF!,2,1)","v":{"$error":"#REF!"}},{"$f":"+VLOOKUP(HN12,#REF!,2,1)","v":{"$error":"#REF!"}},{"$f":"+VLOOKUP(HO12,#REF!,2,1)","v":{"$error":"#REF!"}},{"$f":"+VLOOKUP(HP12,#REF!,2,1)","v":{"$error":"#REF!"}},{"$f":"+VLOOKUP(HQ12,#REF!,2,1)","v":{"$error":"#REF!"}},{"$f":"+VLOOKUP(HR12,#REF!,2,1)","v":{"$error":"#REF!"}},{"$f":"+VLOOKUP(HS12,#REF!,2,1)","v":{"$error":"#REF!"}},{"$f":"+VLOOKUP(HT12,#REF!,2,1)","v":{"$error":"#REF!"}},{"$f":"+VLOOKUP(HU12,#REF!,2,1)","v":{"$error":"#REF!"}},{"$f":"+VLOOKUP(HV12,#REF!,2,1)","v":{"$error":"#REF!"}},{"$f":"+VLOOKUP(HW12,#REF!,2,1)","v":{"$error":"#REF!"}},{"$f":"+VLOOKUP(HX12,#REF!,2,1)","v":{"$error":"#REF!"}},{"$f":"+VLOOKUP(HY12,#REF!,2,1)","v":{"$error":"#REF!"}},{"$f":"+VLOOKUP(HZ12,#REF!,2,1)","v":{"$error":"#REF!"}},{"$f":"+VLOOKUP(IA12,#REF!,2,1)","v":{"$error":"#REF!"}},{"$f":"+VLOOKUP(IB12,#REF!,2,1)","v":{"$error":"#REF!"}},{"$f":"+VLOOKUP(IC12,#REF!,2,1)","v":{"$error":"#REF!"}},{"$f":"+VLOOKUP(ID12,#REF!,2,1)","v":{"$error":"#REF!"}},{"$f":"+VLOOKUP(IE12,#REF!,2,1)","v":{"$error":"#REF!"}},{"$f":"+VLOOKUP(IF12,#REF!,2,1)","v":{"$error":"#REF!"}},{"$f":"+VLOOKUP(IG12,#REF!,2,1)","v":{"$error":"#REF!"}},{"$f":"+VLOOKUP(IH12,#REF!,2,1)","v":{"$error":"#REF!"}},{"$f":"+VLOOKUP(II12,#REF!,2,1)","v":{"$error":"#REF!"}},{"$f":"+VLOOKUP(IJ12,#REF!,2,1)","v":{"$error":"#REF!"}},{"$f":"+VLOOKUP(IK12,#REF!,2,1)","v":{"$error":"#REF!"}},{"$f":"+VLOOKUP(IL12,#REF!,2,1)","v":{"$error":"#REF!"}},{"$f":"+VLOOKUP(IM12,#REF!,2,1)","v":{"$error":"#REF!"}},{"$f":"+VLOOKUP(IN12,#REF!,2,1)","v":{"$error":"#REF!"}},{"$f":"+VLOOKUP(IO12,#REF!,2,1)","v":{"$error":"#REF!"}},{"$f":"+VLOOKUP(IP12,#REF!,2,1)","v":{"$error":"#REF!"}},{"$f":"+VLOOKUP(IQ12,#REF!,2,1)","v":{"$error":"#REF!"}},{"$f":"+VLOOKUP(IR12,#REF!,2,1)","v":{"$error":"#REF!"}},{"$f":"+VLOOKUP(IS12,#REF!,2,1)","v":{"$error":"#REF!"}},{"$f":"+VLOOKUP(IT12,#REF!,2,1)","v":{"$error":"#REF!"}},{"$f":"+VLOOKUP(IU12,#REF!,2,1)","v":{"$error":"#REF!"}},{"$f":"+VLOOKUP(IV12,#REF!,2,1)","v":{"$error":"#REF!"}},{"$f":"+VLOOKUP(IW12,#REF!,2,1)","v":{"$error":"#REF!"}},{"$f":"+VLOOKUP(IX12,#REF!,2,1)","v":{"$error":"#REF!"}},{"$f":"+VLOOKUP(IY12,#REF!,2,1)","v":{"$error":"#REF!"}},{"$f":"+VLOOKUP(IZ12,#REF!,2,1)","v":{"$error":"#REF!"}},{"$f":"+VLOOKUP(JA12,#REF!,2,1)","v":{"$error":"#REF!"}},{"$f":"+VLOOKUP(JB12,#REF!,2,1)","v":{"$error":"#REF!"}},{"$f":"+VLOOKUP(JC12,#REF!,2,1)","v":{"$error":"#REF!"}},{"$f":"+VLOOKUP(JD12,#REF!,2,1)","v":{"$error":"#REF!"}},{"$f":"+VLOOKUP(JE12,#REF!,2,1)","v":{"$error":"#REF!"}},{"$f":"+VLOOKUP(JF12,#REF!,2,1)","v":{"$error":"#REF!"}},{"$f":"+VLOOKUP(JG12,#REF!,2,1)","v":{"$error":"#REF!"}},{"$f":"+VLOOKUP(JH12,#REF!,2,1)","v":{"$error":"#REF!"}},{"$f":"+VLOOKUP(JI12,#REF!,2,1)","v":{"$error":"#REF!"}},{"$f":"+VLOOKUP(JJ12,#REF!,2,1)","v":{"$error":"#REF!"}},{"$f":"+VLOOKUP(JK12,#REF!,2,1)","v":{"$error":"#REF!"}},{"$f":"+VLOOKUP(JL12,#REF!,2,1)","v":{"$error":"#REF!"}},{"$f":"+VLOOKUP(JM12,#REF!,2,1)","v":{"$error":"#REF!"}},{"$f":"+VLOOKUP(JN12,#REF!,2,1)","v":{"$error":"#REF!"}},{"$f":"+VLOOKUP(JO12,#REF!,2,1)","v":{"$error":"#REF!"}},{"$f":"+VLOOKUP(JP12,#REF!,2,1)","v":{"$error":"#REF!"}},{"$f":"+VLOOKUP(JQ12,#REF!,2,1)","v":{"$error":"#REF!"}},{"$f":"+VLOOKUP(JR12,#REF!,2,1)","v":{"$error":"#REF!"}},{"$f":"+VLOOKUP(JS12,#REF!,2,1)","v":{"$error":"#REF!"}},{"$f":"+VLOOKUP(JT12,#REF!,2,1)","v":{"$error":"#REF!"}},{"$f":"+VLOOKUP(JU12,#REF!,2,1)","v":{"$error":"#REF!"}},{"$f":"+VLOOKUP(JV12,#REF!,2,1)","v":{"$error":"#REF!"}},{"$f":"+VLOOKUP(JW12,#REF!,2,1)","v":{"$error":"#REF!"}},{"$f":"+VLOOKUP(JX12,#REF!,2,1)","v":{"$error":"#REF!"}},{"$f":"+VLOOKUP(JY12,#REF!,2,1)","v":{"$error":"#REF!"}},{"$f":"+VLOOKUP(JZ12,#REF!,2,1)","v":{"$error":"#REF!"}},{"$f":"+VLOOKUP(KA12,#REF!,2,1)","v":{"$error":"#REF!"}},{"$f":"+VLOOKUP(KB12,#REF!,2,1)","v":{"$error":"#REF!"}},{"$f":"+VLOOKUP(KC12,#REF!,2,1)","v":{"$error":"#REF!"}},{"$f":"+VLOOKUP(KD12,#REF!,2,1)","v":{"$error":"#REF!"}},{"$f":"+VLOOKUP(KE12,#REF!,2,1)","v":{"$error":"#REF!"}},{"$f":"+VLOOKUP(KF12,#REF!,2,1)","v":{"$error":"#REF!"}},{"$f":"+VLOOKUP(KG12,#REF!,2,1)","v":{"$error":"#REF!"}},{"$f":"+VLOOKUP(KH12,#REF!,2,1)","v":{"$error":"#REF!"}},{"$f":"+VLOOKUP(KI12,#REF!,2,1)","v":{"$error":"#REF!"}},{"$f":"+VLOOKUP(KJ12,#REF!,2,1)","v":{"$error":"#REF!"}},{"$f":"+VLOOKUP(KK12,#REF!,2,1)","v":{"$error":"#REF!"}},{"$f":"+VLOOKUP(KL12,#REF!,2,1)","v":{"$error":"#REF!"}},{"$f":"+VLOOKUP(KM12,#REF!,2,1)","v":{"$error":"#REF!"}},{"$f":"+VLOOKUP(KN12,#REF!,2,1)","v":{"$error":"#REF!"}},{"$f":"+VLOOKUP(KO12,#REF!,2,1)","v":{"$error":"#REF!"}},{"$f":"+VLOOKUP(KP12,#REF!,2,1)","v":{"$error":"#REF!"}},{"$f":"+VLOOKUP(KQ12,#REF!,2,1)","v":{"$error":"#REF!"}},{"$f":"+VLOOKUP(KR12,#REF!,2,1)","v":{"$error":"#REF!"}},{"$f":"+VLOOKUP(KS12,#REF!,2,1)","v":{"$error":"#REF!"}},{"$f":"+VLOOKUP(KT12,#REF!,2,1)","v":{"$error":"#REF!"}},{"$f":"+VLOOKUP(KU12,#REF!,2,1)","v":{"$error":"#REF!"}},{"$f":"+VLOOKUP(KV12,#REF!,2,1)","v":{"$error":"#REF!"}},{"$f":"+VLOOKUP(KW12,#REF!,2,1)","v":{"$error":"#REF!"}},{"$f":"+VLOOKUP(KX12,#REF!,2,1)","v":{"$error":"#REF!"}},{"$f":"+VLOOKUP(KY12,#REF!,2,1)","v":{"$error":"#REF!"}},{"$f":"+VLOOKUP(KZ12,#REF!,2,1)","v":{"$error":"#REF!"}},{"$f":"+VLOOKUP(LA12,#REF!,2,1)","v":{"$error":"#REF!"}},{"$f":"+VLOOKUP(LB12,#REF!,2,1)","v":{"$error":"#REF!"}},{"$f":"+VLOOKUP(LC12,#REF!,2,1)","v":{"$error":"#REF!"}},{"$f":"+VLOOKUP(LD12,#REF!,2,1)","v":{"$error":"#REF!"}},{"$f":"+VLOOKUP(LE12,#REF!,2,1)","v":{"$error":"#REF!"}},{"$f":"+VLOOKUP(LF12,#REF!,2,1)","v":{"$error":"#REF!"}},{"$f":"+VLOOKUP(LG12,#REF!,2,1)","v":{"$error":"#REF!"}},{"$f":"+VLOOKUP(LH12,#REF!,2,1)","v":{"$error":"#REF!"}},{"$f":"+VLOOKUP(LI12,#REF!,2,1)","v":{"$error":"#REF!"}},{"$f":"+VLOOKUP(LJ12,#REF!,2,1)","v":{"$error":"#REF!"}},{"$f":"+VLOOKUP(LK12,#REF!,2,1)","v":{"$error":"#REF!"}},{"$f":"+VLOOKUP(LL12,#REF!,2,1)","v":{"$error":"#REF!"}},{"$f":"+VLOOKUP(LM12,#REF!,2,1)","v":{"$error":"#REF!"}},{"$f":"+VLOOKUP(LN12,#REF!,2,1)","v":{"$error":"#REF!"}},{"$f":"+VLOOKUP(LO12,#REF!,2,1)","v":{"$error":"#REF!"}},{"$f":"+VLOOKUP(LP12,#REF!,2,1)","v":{"$error":"#REF!"}},{"$f":"+VLOOKUP(LQ12,#REF!,2,1)","v":{"$error":"#REF!"}},{"$f":"+VLOOKUP(LR12,#REF!,2,1)","v":{"$error":"#REF!"}},{"$f":"+VLOOKUP(LS12,#REF!,2,1)","v":{"$error":"#REF!"}},{"$f":"+VLOOKUP(LT12,#REF!,2,1)","v":{"$error":"#REF!"}},{"$f":"+VLOOKUP(LU12,#REF!,2,1)","v":{"$error":"#REF!"}},{"$f":"+VLOOKUP(LV12,#REF!,2,1)","v":{"$error":"#REF!"}},{"$f":"+VLOOKUP(LW12,#REF!,2,1)","v":{"$error":"#REF!"}},{"$f":"+VLOOKUP(LX12,#REF!,2,1)","v":{"$error":"#REF!"}},{"$f":"+VLOOKUP(LY12,#REF!,2,1)","v":{"$error":"#REF!"}},{"$f":"+VLOOKUP(LZ12,#REF!,2,1)","v":{"$error":"#REF!"}},{"$f":"+VLOOKUP(MA12,#REF!,2,1)","v":{"$error":"#REF!"}},{"$f":"+VLOOKUP(MB12,#REF!,2,1)","v":{"$error":"#REF!"}},{"$f":"+VLOOKUP(MC12,#REF!,2,1)","v":{"$error":"#REF!"}},{"$f":"+VLOOKUP(MD12,#REF!,2,1)","v":{"$error":"#REF!"}},{"$f":"+VLOOKUP(ME12,#REF!,2,1)","v":{"$error":"#REF!"}},{"$f":"+VLOOKUP(MF12,#REF!,2,1)","v":{"$error":"#REF!"}},{"$f":"+VLOOKUP(MG12,#REF!,2,1)","v":{"$error":"#REF!"}},{"$f":"+VLOOKUP(MH12,#REF!,2,1)","v":{"$error":"#REF!"}},{"$f":"+VLOOKUP(MI12,#REF!,2,1)","v":{"$error":"#REF!"}},{"$f":"+VLOOKUP(MJ12,#REF!,2,1)","v":{"$error":"#REF!"}},{"$f":"+VLOOKUP(MK12,#REF!,2,1)","v":{"$error":"#REF!"}},{"$f":"+VLOOKUP(ML12,#REF!,2,1)","v":{"$error":"#REF!"}},{"$f":"+VLOOKUP(MM12,#REF!,2,1)","v":{"$error":"#REF!"}},{"$f":"+VLOOKUP(MN12,#REF!,2,1)","v":{"$error":"#REF!"}},{"$f":"+VLOOKUP(MO12,#REF!,2,1)","v":{"$error":"#REF!"}},{"$f":"+VLOOKUP(MP12,#REF!,2,1)","v":{"$error":"#REF!"}},{"$f":"+VLOOKUP(MQ12,#REF!,2,1)","v":{"$error":"#REF!"}},{"$f":"+VLOOKUP(MR12,#REF!,2,1)","v":{"$error":"#REF!"}},{"$f":"+VLOOKUP(MS12,#REF!,2,1)","v":{"$error":"#REF!"}},{"$f":"+VLOOKUP(MT12,#REF!,2,1)","v":{"$error":"#REF!"}},{"$f":"+VLOOKUP(MU12,#REF!,2,1)","v":{"$error":"#REF!"}},{"$f":"+VLOOKUP(MV12,#REF!,2,1)","v":{"$error":"#REF!"}},{"$f":"+VLOOKUP(MW12,#REF!,2,1)","v":{"$error":"#REF!"}},{"$f":"+VLOOKUP(MX12,#REF!,2,1)","v":{"$error":"#REF!"}},{"$f":"+VLOOKUP(MY12,#REF!,2,1)","v":{"$error":"#REF!"}},{"$f":"+VLOOKUP(MZ12,#REF!,2,1)","v":{"$error":"#REF!"}},{"$f":"+VLOOKUP(NA12,#REF!,2,1)","v":{"$error":"#REF!"}},{"$f":"+VLOOKUP(NB12,#REF!,2,1)","v":{"$error":"#REF!"}},{"$f":"+VLOOKUP(NC12,#REF!,2,1)","v":{"$error":"#REF!"}},{"$f":"+VLOOKUP(ND12,#REF!,2,1)","v":{"$error":"#REF!"}},{"$f":"+VLOOKUP(NE12,#REF!,2,1)","v":{"$error":"#REF!"}},{"$f":"+VLOOKUP(NF12,#REF!,2,1)","v":{"$error":"#REF!"}},{"$f":"+VLOOKUP(NG12,#REF!,2,1)","v":{"$error":"#REF!"}},{"$f":"+VLOOKUP(NH12,#REF!,2,1)","v":{"$error":"#REF!"}},{"$f":"+VLOOKUP(NI12,#REF!,2,1)","v":{"$error":"#REF!"}},{"$f":"+VLOOKUP(NJ12,#REF!,2,1)","v":{"$error":"#REF!"}},{"$f":"+VLOOKUP(NK12,#REF!,2,1)","v":{"$error":"#REF!"}},{"$f":"+VLOOKUP(NL12,#REF!,2,1)","v":{"$error":"#REF!"}},{"$f":"+VLOOKUP(NM12,#REF!,2,1)","v":{"$error":"#REF!"}},{"$f":"+VLOOKUP(NN12,#REF!,2,1)","v":{"$error":"#REF!"}},{"$f":"+VLOOKUP(NO12,#REF!,2,1)","v":{"$error":"#REF!"}},{"$f":"+VLOOKUP(NP12,#REF!,2,1)","v":{"$error":"#REF!"}},{"$f":"+VLOOKUP(NQ12,#REF!,2,1)","v":{"$error":"#REF!"}},{"$f":"+VLOOKUP(NR12,#REF!,2,1)","v":{"$error":"#REF!"}},{"$f":"+VLOOKUP(NS12,#REF!,2,1)","v":{"$error":"#REF!"}},{"$f":"+VLOOKUP(NT12,#REF!,2,1)","v":{"$error":"#REF!"}},{"$f":"+VLOOKUP(NU12,#REF!,2,1)","v":{"$error":"#REF!"}},{"$f":"+VLOOKUP(NV12,#REF!,2,1)","v":{"$error":"#REF!"}},{"$f":"+VLOOKUP(NW12,#REF!,2,1)","v":{"$error":"#REF!"}},{"$f":"+VLOOKUP(NX12,#REF!,2,1)","v":{"$error":"#REF!"}},{"$f":"+VLOOKUP(NY12,#REF!,2,1)","v":{"$error":"#REF!"}},{"$f":"+VLOOKUP(NZ12,#REF!,2,1)","v":{"$error":"#REF!"}},{"$f":"+VLOOKUP(OA12,#REF!,2,1)","v":{"$error":"#REF!"}},{"$f":"+VLOOKUP(OB12,#REF!,2,1)","v":{"$error":"#REF!"}},{"$f":"+VLOOKUP(OC12,#REF!,2,1)","v":{"$error":"#REF!"}},{"$f":"+VLOOKUP(OD12,#REF!,2,1)","v":{"$error":"#REF!"}},{"$f":"+VLOOKUP(OE12,#REF!,2,1)","v":{"$error":"#REF!"}},{"$f":"+VLOOKUP(OF12,#REF!,2,1)","v":{"$error":"#REF!"}},{"$f":"+VLOOKUP(OG12,#REF!,2,1)","v":{"$error":"#REF!"}},{"$f":"+VLOOKUP(OH12,#REF!,2,1)","v":{"$error":"#REF!"}},{"$f":"+VLOOKUP(OI12,#REF!,2,1)","v":{"$error":"#REF!"}},{"$f":"+VLOOKUP(OJ12,#REF!,2,1)","v":{"$error":"#REF!"}},{"$f":"+VLOOKUP(OK12,#REF!,2,1)","v":{"$error":"#REF!"}},{"$f":"+VLOOKUP(OL12,#REF!,2,1)","v":{"$error":"#REF!"}},{"$f":"+VLOOKUP(OM12,#REF!,2,1)","v":{"$error":"#REF!"}},{"$f":"+VLOOKUP(ON12,#REF!,2,1)","v":{"$error":"#REF!"}},{"$f":"+VLOOKUP(OO12,#REF!,2,1)","v":{"$error":"#REF!"}},{"$f":"+VLOOKUP(OP12,#REF!,2,1)","v":{"$error":"#REF!"}},{"$f":"+VLOOKUP(OQ12,#REF!,2,1)","v":{"$error":"#REF!"}}]
[null,null,null,null,null,null,null,null,null,null,null,null,"EURIBOR 6M",null,null,null,{"$f":"+VLOOKUP(Q12,#REF!,2,1)","v":{"$error":"#REF!"}},{"$f":"+VLOOKUP(R12,#REF!,2,1)","v":{"$error":"#REF!"}},{"$f":"+VLOOKUP(S12,#REF!,2,1)","v":{"$error":"#REF!"}},{"$f":"+VLOOKUP(T12,#REF!,2,1)","v":{"$error":"#REF!"}},{"$f":"+VLOOKUP(U12,#REF!,2,1)","v":{"$error":"#REF!"}},{"$f":"+VLOOKUP(V12,#REF!,2,1)","v":{"$error":"#REF!"}},{"$f":"+VLOOKUP(W12,#REF!,2,1)","v":{"$error":"#REF!"}},{"$f":"+VLOOKUP(X12,#REF!,2,1)","v":{"$error":"#REF!"}},{"$f":"+VLOOKUP(Y12,#REF!,2,1)","v":{"$error":"#REF!"}},{"$f":"+VLOOKUP(Z12,#REF!,2,1)","v":{"$error":"#REF!"}},{"$f":"+VLOOKUP(AA12,#REF!,2,1)","v":{"$error":"#REF!"}},{"$f":"+VLOOKUP(AB12,#REF!,2,1)","v":{"$error":"#REF!"}},{"$f":"+VLOOKUP(AC12,#REF!,2,1)","v":{"$error":"#REF!"}},{"$f":"+VLOOKUP(AD12,#REF!,2,1)","v":{"$error":"#REF!"}},{"$f":"+VLOOKUP(AE12,#REF!,2,1)","v":{"$error":"#REF!"}},{"$f":"+VLOOKUP(AF12,#REF!,2,1)","v":{"$error":"#REF!"}},{"$f":"+VLOOKUP(AG12,#REF!,2,1)","v":{"$error":"#REF!"}},{"$f":"+VLOOKUP(AH12,#REF!,2,1)","v":{"$error":"#REF!"}},{"$f":"+VLOOKUP(AI12,#REF!,2,1)","v":{"$error":"#REF!"}},{"$f":"+VLOOKUP(AJ12,#REF!,2,1)","v":{"$error":"#REF!"}},{"$f":"+VLOOKUP(AK12,#REF!,2,1)","v":{"$error":"#REF!"}},{"$f":"+VLOOKUP(AL12,#REF!,2,1)","v":{"$error":"#REF!"}},{"$f":"+VLOOKUP(AM12,#REF!,2,1)","v":{"$error":"#REF!"}},{"$f":"+VLOOKUP(AN12,#REF!,2,1)","v":{"$error":"#REF!"}},{"$f":"+VLOOKUP(AO12,#REF!,2,1)","v":{"$error":"#REF!"}},{"$f":"+VLOOKUP(AP12,#REF!,2,1)","v":{"$error":"#REF!"}},{"$f":"+VLOOKUP(AQ12,#REF!,2,1)","v":{"$error":"#REF!"}},{"$f":"+VLOOKUP(AR12,#REF!,2,1)","v":{"$error":"#REF!"}},{"$f":"+VLOOKUP(AS12,#REF!,2,1)","v":{"$error":"#REF!"}},{"$f":"+VLOOKUP(AT12,#REF!,2,1)","v":{"$error":"#REF!"}},{"$f":"+VLOOKUP(AU12,#REF!,2,1)","v":{"$error":"#REF!"}},{"$f":"+VLOOKUP(AV12,#REF!,2,1)","v":{"$error":"#REF!"}},{"$f":"+VLOOKUP(AW12,#REF!,2,1)","v":{"$error":"#REF!"}},{"$f":"+VLOOKUP(AX12,#REF!,2,1)","v":{"$error":"#REF!"}},{"$f":"+VLOOKUP(AY12,#REF!,2,1)","v":{"$error":"#REF!"}},{"$f":"+VLOOKUP(AZ12,#REF!,2,1)","v":{"$error":"#REF!"}},{"$f":"+VLOOKUP(BA12,#REF!,2,1)","v":{"$error":"#REF!"}},{"$f":"+VLOOKUP(BB12,#REF!,2,1)","v":{"$error":"#REF!"}},{"$f":"+VLOOKUP(BC12,#REF!,2,1)","v":{"$error":"#REF!"}},{"$f":"+VLOOKUP(BD12,#REF!,2,1)","v":{"$error":"#REF!"}},{"$f":"+VLOOKUP(BE12,#REF!,2,1)","v":{"$error":"#REF!"}},{"$f":"+VLOOKUP(BF12,#REF!,2,1)","v":{"$error":"#REF!"}},{"$f":"+VLOOKUP(BG12,#REF!,2,1)","v":{"$error":"#REF!"}},{"$f":"+VLOOKUP(BH12,#REF!,2,1)","v":{"$error":"#REF!"}},{"$f":"+VLOOKUP(BI12,#REF!,2,1)","v":{"$error":"#REF!"}},{"$f":"+VLOOKUP(BJ12,#REF!,2,1)","v":{"$error":"#REF!"}},{"$f":"+VLOOKUP(BK12,#REF!,2,1)","v":{"$error":"#REF!"}},{"$f":"+VLOOKUP(BL12,#REF!,2,1)","v":{"$error":"#REF!"}},{"$f":"+VLOOKUP(BM12,#REF!,2,1)","v":{"$error":"#REF!"}},{"$f":"+VLOOKUP(BN12,#REF!,2,1)","v":{"$error":"#REF!"}},{"$f":"+VLOOKUP(BO12,#REF!,2,1)","v":{"$error":"#REF!"}},{"$f":"+VLOOKUP(BP12,#REF!,2,1)","v":{"$error":"#REF!"}},{"$f":"+VLOOKUP(BQ12,#REF!,2,1)","v":{"$error":"#REF!"}},{"$f":"+VLOOKUP(BR12,#REF!,2,1)","v":{"$error":"#REF!"}},{"$f":"+VLOOKUP(BS12,#REF!,2,1)","v":{"$error":"#REF!"}},{"$f":"+VLOOKUP(BT12,#REF!,2,1)","v":{"$error":"#REF!"}},{"$f":"+VLOOKUP(BU12,#REF!,2,1)","v":{"$error":"#REF!"}},{"$f":"+VLOOKUP(BV12,#REF!,2,1)","v":{"$error":"#REF!"}},{"$f":"+VLOOKUP(BW12,#REF!,2,1)","v":{"$error":"#REF!"}},{"$f":"+VLOOKUP(BX12,#REF!,2,1)","v":{"$error":"#REF!"}},{"$f":"+VLOOKUP(BY12,#REF!,2,1)","v":{"$error":"#REF!"}},{"$f":"+VLOOKUP(BZ12,#REF!,2,1)","v":{"$error":"#REF!"}},{"$f":"+VLOOKUP(CA12,#REF!,2,1)","v":{"$error":"#REF!"}},{"$f":"+VLOOKUP(CB12,#REF!,2,1)","v":{"$error":"#REF!"}},{"$f":"+VLOOKUP(CC12,#REF!,2,1)","v":{"$error":"#REF!"}},{"$f":"+VLOOKUP(CD12,#REF!,2,1)","v":{"$error":"#REF!"}},{"$f":"+VLOOKUP(CE12,#REF!,2,1)","v":{"$error":"#REF!"}},{"$f":"+VLOOKUP(CF12,#REF!,2,1)","v":{"$error":"#REF!"}},{"$f":"+VLOOKUP(CG12,#REF!,2,1)","v":{"$error":"#REF!"}},{"$f":"+VLOOKUP(CH12,#REF!,2,1)","v":{"$error":"#REF!"}},{"$f":"+VLOOKUP(CI12,#REF!,2,1)","v":{"$error":"#REF!"}},{"$f":"+VLOOKUP(CJ12,#REF!,2,1)","v":{"$error":"#REF!"}},{"$f":"+VLOOKUP(CK12,#REF!,2,1)","v":{"$error":"#REF!"}},{"$f":"+VLOOKUP(CL12,#REF!,2,1)","v":{"$error":"#REF!"}},{"$f":"+VLOOKUP(CM12,#REF!,2,1)","v":{"$error":"#REF!"}},{"$f":"+VLOOKUP(CN12,#REF!,2,1)","v":{"$error":"#REF!"}},{"$f":"+VLOOKUP(CO12,#REF!,2,1)","v":{"$error":"#REF!"}},{"$f":"+VLOOKUP(CP12,#REF!,2,1)","v":{"$error":"#REF!"}},{"$f":"+VLOOKUP(CQ12,#REF!,2,1)","v":{"$error":"#REF!"}},{"$f":"+VLOOKUP(CR12,#REF!,2,1)","v":{"$error":"#REF!"}},{"$f":"+VLOOKUP(CS12,#REF!,2,1)","v":{"$error":"#REF!"}},{"$f":"+VLOOKUP(CT12,#REF!,2,1)","v":{"$error":"#REF!"}},{"$f":"+VLOOKUP(CU12,#REF!,2,1)","v":{"$error":"#REF!"}},{"$f":"+VLOOKUP(CV12,#REF!,2,1)","v":{"$error":"#REF!"}},{"$f":"+VLOOKUP(CW12,#REF!,2,1)","v":{"$error":"#REF!"}},{"$f":"+VLOOKUP(CX12,#REF!,2,1)","v":{"$error":"#REF!"}},{"$f":"+VLOOKUP(CY12,#REF!,2,1)","v":{"$error":"#REF!"}},{"$f":"+VLOOKUP(CZ12,#REF!,2,1)","v":{"$error":"#REF!"}},{"$f":"+VLOOKUP(DA12,#REF!,2,1)","v":{"$error":"#REF!"}},{"$f":"+VLOOKUP(DB12,#REF!,2,1)","v":{"$error":"#REF!"}},{"$f":"+VLOOKUP(DC12,#REF!,2,1)","v":{"$error":"#REF!"}},{"$f":"+VLOOKUP(DD12,#REF!,2,1)","v":{"$error":"#REF!"}},{"$f":"+VLOOKUP(DE12,#REF!,2,1)","v":{"$error":"#REF!"}},{"$f":"+VLOOKUP(DF12,#REF!,2,1)","v":{"$error":"#REF!"}},{"$f":"+VLOOKUP(DG12,#REF!,2,1)","v":{"$error":"#REF!"}},{"$f":"+VLOOKUP(DH12,#REF!,2,1)","v":{"$error":"#REF!"}},{"$f":"+VLOOKUP(DI12,#REF!,2,1)","v":{"$error":"#REF!"}},{"$f":"+VLOOKUP(DJ12,#REF!,2,1)","v":{"$error":"#REF!"}},{"$f":"+VLOOKUP(DK12,#REF!,2,1)","v":{"$error":"#REF!"}},{"$f":"+VLOOKUP(DL12,#REF!,2,1)","v":{"$error":"#REF!"}},{"$f":"+VLOOKUP(DM12,#REF!,2,1)","v":{"$error":"#REF!"}},{"$f":"+VLOOKUP(DN12,#REF!,2,1)","v":{"$error":"#REF!"}},{"$f":"+VLOOKUP(DO12,#REF!,2,1)","v":{"$error":"#REF!"}},{"$f":"+VLOOKUP(DP12,#REF!,2,1)","v":{"$error":"#REF!"}},{"$f":"+VLOOKUP(DQ12,#REF!,2,1)","v":{"$error":"#REF!"}},{"$f":"+VLOOKUP(DR12,#REF!,2,1)","v":{"$error":"#REF!"}},{"$f":"+VLOOKUP(DS12,#REF!,2,1)","v":{"$error":"#REF!"}},{"$f":"+VLOOKUP(DT12,#REF!,2,1)","v":{"$error":"#REF!"}},{"$f":"+VLOOKUP(DU12,#REF!,2,1)","v":{"$error":"#REF!"}},{"$f":"+VLOOKUP(DV12,#REF!,2,1)","v":{"$error":"#REF!"}},{"$f":"+VLOOKUP(DW12,#REF!,2,1)","v":{"$error":"#REF!"}},{"$f":"+VLOOKUP(DX12,#REF!,2,1)","v":{"$error":"#REF!"}},{"$f":"+VLOOKUP(DY12,#REF!,2,1)","v":{"$error":"#REF!"}},{"$f":"+VLOOKUP(DZ12,#REF!,2,1)","v":{"$error":"#REF!"}},{"$f":"+VLOOKUP(EA12,#REF!,2,1)","v":{"$error":"#REF!"}},{"$f":"+VLOOKUP(EB12,#REF!,2,1)","v":{"$error":"#REF!"}},{"$f":"+VLOOKUP(EC12,#REF!,2,1)","v":{"$error":"#REF!"}},{"$f":"+VLOOKUP(ED12,#REF!,2,1)","v":{"$error":"#REF!"}},{"$f":"+VLOOKUP(EE12,#REF!,2,1)","v":{"$error":"#REF!"}},{"$f":"+VLOOKUP(EF12,#REF!,2,1)","v":{"$error":"#REF!"}},{"$f":"+VLOOKUP(EG12,#REF!,2,1)","v":{"$error":"#REF!"}},{"$f":"+VLOOKUP(EH12,#REF!,2,1)","v":{"$error":"#REF!"}},{"$f":"+VLOOKUP(EI12,#REF!,2,1)","v":{"$error":"#REF!"}},{"$f":"+VLOOKUP(EJ12,#REF!,2,1)","v":{"$error":"#REF!"}},{"$f":"+VLOOKUP(EK12,#REF!,2,1)","v":{"$error":"#REF!"}},{"$f":"+VLOOKUP(EL12,#REF!,2,1)","v":{"$error":"#REF!"}},{"$f":"+VLOOKUP(EM12,#REF!,2,1)","v":{"$error":"#REF!"}},{"$f":"+VLOOKUP(EN12,#REF!,2,1)","v":{"$error":"#REF!"}},{"$f":"+VLOOKUP(EO12,#REF!,2,1)","v":{"$error":"#REF!"}},{"$f":"+VLOOKUP(EP12,#REF!,2,1)","v":{"$error":"#REF!"}},{"$f":"+VLOOKUP(EQ12,#REF!,2,1)","v":{"$error":"#REF!"}},{"$f":"+VLOOKUP(ER12,#REF!,2,1)","v":{"$error":"#REF!"}},{"$f":"+VLOOKUP(ES12,#REF!,2,1)","v":{"$error":"#REF!"}},{"$f":"+VLOOKUP(ET12,#REF!,2,1)","v":{"$error":"#REF!"}},{"$f":"+VLOOKUP(EU12,#REF!,2,1)","v":{"$error":"#REF!"}},{"$f":"+VLOOKUP(EV12,#REF!,2,1)","v":{"$error":"#REF!"}},{"$f":"+VLOOKUP(EW12,#REF!,2,1)","v":{"$error":"#REF!"}},{"$f":"+VLOOKUP(EX12,#REF!,2,1)","v":{"$error":"#REF!"}},{"$f":"+VLOOKUP(EY12,#REF!,2,1)","v":{"$error":"#REF!"}},{"$f":"+VLOOKUP(EZ12,#REF!,2,1)","v":{"$error":"#REF!"}},{"$f":"+VLOOKUP(FA12,#REF!,2,1)","v":{"$error":"#REF!"}},{"$f":"+VLOOKUP(FB12,#REF!,2,1)","v":{"$error":"#REF!"}},{"$f":"+VLOOKUP(FC12,#REF!,2,1)","v":{"$error":"#REF!"}},{"$f":"+VLOOKUP(FD12,#REF!,2,1)","v":{"$error":"#REF!"}},{"$f":"+VLOOKUP(FE12,#REF!,2,1)","v":{"$error":"#REF!"}},{"$f":"+VLOOKUP(FF12,#REF!,2,1)","v":{"$error":"#REF!"}},{"$f":"+VLOOKUP(FG12,#REF!,2,1)","v":{"$error":"#REF!"}},{"$f":"+VLOOKUP(FH12,#REF!,2,1)","v":{"$error":"#REF!"}},{"$f":"+VLOOKUP(FI12,#REF!,2,1)","v":{"$error":"#REF!"}},{"$f":"+VLOOKUP(FJ12,#REF!,2,1)","v":{"$error":"#REF!"}},{"$f":"+VLOOKUP(FK12,#REF!,2,1)","v":{"$error":"#REF!"}},{"$f":"+VLOOKUP(FL12,#REF!,2,1)","v":{"$error":"#REF!"}},{"$f":"+VLOOKUP(FM12,#REF!,2,1)","v":{"$error":"#REF!"}},{"$f":"+VLOOKUP(FN12,#REF!,2,1)","v":{"$error":"#REF!"}},{"$f":"+VLOOKUP(FO12,#REF!,2,1)","v":{"$error":"#REF!"}},{"$f":"+VLOOKUP(FP12,#REF!,2,1)","v":{"$error":"#REF!"}},{"$f":"+VLOOKUP(FQ12,#REF!,2,1)","v":{"$error":"#REF!"}},{"$f":"+VLOOKUP(FR12,#REF!,2,1)","v":{"$error":"#REF!"}},{"$f":"+VLOOKUP(FS12,#REF!,2,1)","v":{"$error":"#REF!"}},{"$f":"+VLOOKUP(FT12,#REF!,2,1)","v":{"$error":"#REF!"}},{"$f":"+VLOOKUP(FU12,#REF!,2,1)","v":{"$error":"#REF!"}},{"$f":"+VLOOKUP(FV12,#REF!,2,1)","v":{"$error":"#REF!"}},{"$f":"+VLOOKUP(FW12,#REF!,2,1)","v":{"$error":"#REF!"}},{"$f":"+VLOOKUP(FX12,#REF!,2,1)","v":{"$error":"#REF!"}},{"$f":"+VLOOKUP(FY12,#REF!,2,1)","v":{"$error":"#REF!"}},{"$f":"+VLOOKUP(FZ12,#REF!,2,1)","v":{"$error":"#REF!"}},{"$f":"+VLOOKUP(GA12,#REF!,2,1)","v":{"$error":"#REF!"}},{"$f":"+VLOOKUP(GB12,#REF!,2,1)","v":{"$error":"#REF!"}},{"$f":"+VLOOKUP(GC12,#REF!,2,1)","v":{"$error":"#REF!"}},{"$f":"+VLOOKUP(GD12,#REF!,2,1)","v":{"$error":"#REF!"}},{"$f":"+VLOOKUP(GE12,#REF!,2,1)","v":{"$error":"#REF!"}},{"$f":"+VLOOKUP(GF12,#REF!,2,1)","v":{"$error":"#REF!"}},{"$f":"+VLOOKUP(GG12,#REF!,2,1)","v":{"$error":"#REF!"}},{"$f":"+VLOOKUP(GH12,#REF!,2,1)","v":{"$error":"#REF!"}},{"$f":"+VLOOKUP(GI12,#REF!,2,1)","v":{"$error":"#REF!"}},{"$f":"+VLOOKUP(GJ12,#REF!,2,1)","v":{"$error":"#REF!"}},{"$f":"+VLOOKUP(GK12,#REF!,2,1)","v":{"$error":"#REF!"}},{"$f":"+VLOOKUP(GL12,#REF!,2,1)","v":{"$error":"#REF!"}},{"$f":"+VLOOKUP(GM12,#REF!,2,1)","v":{"$error":"#REF!"}},{"$f":"+VLOOKUP(GN12,#REF!,2,1)","v":{"$error":"#REF!"}},{"$f":"+VLOOKUP(GO12,#REF!,2,1)","v":{"$error":"#REF!"}},{"$f":"+VLOOKUP(GP12,#REF!,2,1)","v":{"$error":"#REF!"}},{"$f":"+VLOOKUP(GQ12,#REF!,2,1)","v":{"$error":"#REF!"}},{"$f":"+VLOOKUP(GR12,#REF!,2,1)","v":{"$error":"#REF!"}},{"$f":"+VLOOKUP(GS12,#REF!,2,1)","v":{"$error":"#REF!"}},{"$f":"+VLOOKUP(GT12,#REF!,2,1)","v":{"$error":"#REF!"}},{"$f":"+VLOOKUP(GU12,#REF!,2,1)","v":{"$error":"#REF!"}},{"$f":"+VLOOKUP(GV12,#REF!,2,1)","v":{"$error":"#REF!"}},{"$f":"+VLOOKUP(GW12,#REF!,2,1)","v":{"$error":"#REF!"}},{"$f":"+VLOOKUP(GX12,#REF!,2,1)","v":{"$error":"#REF!"}},{"$f":"+VLOOKUP(GY12,#REF!,2,1)","v":{"$error":"#REF!"}},{"$f":"+VLOOKUP(GZ12,#REF!,2,1)","v":{"$error":"#REF!"}},{"$f":"+VLOOKUP(HA12,#REF!,2,1)","v":{"$error":"#REF!"}},{"$f":"+VLOOKUP(HB12,#REF!,2,1)","v":{"$error":"#REF!"}},{"$f":"+VLOOKUP(HC12,#REF!,2,1)","v":{"$error":"#REF!"}},{"$f":"+VLOOKUP(HD12,#REF!,2,1)","v":{"$error":"#REF!"}},{"$f":"+VLOOKUP(HE12,#REF!,2,1)","v":{"$error":"#REF!"}},{"$f":"+VLOOKUP(HF12,#REF!,2,1)","v":{"$error":"#REF!"}},{"$f":"+VLOOKUP(HG12,#REF!,2,1)","v":{"$error":"#REF!"}},{"$f":"+VLOOKUP(HH12,#REF!,2,1)","v":{"$error":"#REF!"}},{"$f":"+VLOOKUP(HI12,#REF!,2,1)","v":{"$error":"#REF!"}},{"$f":"+VLOOKUP(HJ12,#REF!,2,1)","v":{"$error":"#REF!"}},{"$f":"+VLOOKUP(HK12,#REF!,2,1)","v":{"$error":"#REF!"}},{"$f":"+VLOOKUP(HL12,#REF!,2,1)","v":{"$error":"#REF!"}},{"$f":"+VLOOKUP(HM12,#REF!,2,1)","v":{"$error":"#REF!"}},{"$f":"+VLOOKUP(HN12,#REF!,2,1)","v":{"$error":"#REF!"}},{"$f":"+VLOOKUP(HO12,#REF!,2,1)","v":{"$error":"#REF!"}},{"$f":"+VLOOKUP(HP12,#REF!,2,1)","v":{"$error":"#REF!"}},{"$f":"+VLOOKUP(HQ12,#REF!,2,1)","v":{"$error":"#REF!"}},{"$f":"+VLOOKUP(HR12,#REF!,2,1)","v":{"$error":"#REF!"}},{"$f":"+VLOOKUP(HS12,#REF!,2,1)","v":{"$error":"#REF!"}},{"$f":"+VLOOKUP(HT12,#REF!,2,1)","v":{"$error":"#REF!"}},{"$f":"+VLOOKUP(HU12,#REF!,2,1)","v":{"$error":"#REF!"}},{"$f":"+VLOOKUP(HV12,#REF!,2,1)","v":{"$error":"#REF!"}},{"$f":"+VLOOKUP(HW12,#REF!,2,1)","v":{"$error":"#REF!"}},{"$f":"+VLOOKUP(HX12,#REF!,2,1)","v":{"$error":"#REF!"}},{"$f":"+VLOOKUP(HY12,#REF!,2,1)","v":{"$error":"#REF!"}},{"$f":"+VLOOKUP(HZ12,#REF!,2,1)","v":{"$error":"#REF!"}},{"$f":"+VLOOKUP(IA12,#REF!,2,1)","v":{"$error":"#REF!"}},{"$f":"+VLOOKUP(IB12,#REF!,2,1)","v":{"$error":"#REF!"}},{"$f":"+VLOOKUP(IC12,#REF!,2,1)","v":{"$error":"#REF!"}},{"$f":"+VLOOKUP(ID12,#REF!,2,1)","v":{"$error":"#REF!"}},{"$f":"+VLOOKUP(IE12,#REF!,2,1)","v":{"$error":"#REF!"}},{"$f":"+VLOOKUP(IF12,#REF!,2,1)","v":{"$error":"#REF!"}},{"$f":"+VLOOKUP(IG12,#REF!,2,1)","v":{"$error":"#REF!"}},{"$f":"+VLOOKUP(IH12,#REF!,2,1)","v":{"$error":"#REF!"}},{"$f":"+VLOOKUP(II12,#REF!,2,1)","v":{"$error":"#REF!"}},{"$f":"+VLOOKUP(IJ12,#REF!,2,1)","v":{"$error":"#REF!"}},{"$f":"+VLOOKUP(IK12,#REF!,2,1)","v":{"$error":"#REF!"}},{"$f":"+VLOOKUP(IL12,#REF!,2,1)","v":{"$error":"#REF!"}},{"$f":"+VLOOKUP(IM12,#REF!,2,1)","v":{"$error":"#REF!"}},{"$f":"+VLOOKUP(IN12,#REF!,2,1)","v":{"$error":"#REF!"}},{"$f":"+VLOOKUP(IO12,#REF!,2,1)","v":{"$error":"#REF!"}},{"$f":"+VLOOKUP(IP12,#REF!,2,1)","v":{"$error":"#REF!"}},{"$f":"+VLOOKUP(IQ12,#REF!,2,1)","v":{"$error":"#REF!"}},{"$f":"+VLOOKUP(IR12,#REF!,2,1)","v":{"$error":"#REF!"}},{"$f":"+VLOOKUP(IS12,#REF!,2,1)","v":{"$error":"#REF!"}},{"$f":"+VLOOKUP(IT12,#REF!,2,1)","v":{"$error":"#REF!"}},{"$f":"+VLOOKUP(IU12,#REF!,2,1)","v":{"$error":"#REF!"}},{"$f":"+VLOOKUP(IV12,#REF!,2,1)","v":{"$error":"#REF!"}},{"$f":"+VLOOKUP(IW12,#REF!,2,1)","v":{"$error":"#REF!"}},{"$f":"+VLOOKUP(IX12,#REF!,2,1)","v":{"$error":"#REF!"}},{"$f":"+VLOOKUP(IY12,#REF!,2,1)","v":{"$error":"#REF!"}},{"$f":"+VLOOKUP(IZ12,#REF!,2,1)","v":{"$error":"#REF!"}},{"$f":"+VLOOKUP(JA12,#REF!,2,1)","v":{"$error":"#REF!"}},{"$f":"+VLOOKUP(JB12,#REF!,2,1)","v":{"$error":"#REF!"}},{"$f":"+VLOOKUP(JC12,#REF!,2,1)","v":{"$error":"#REF!"}},{"$f":"+VLOOKUP(JD12,#REF!,2,1)","v":{"$error":"#REF!"}},{"$f":"+VLOOKUP(JE12,#REF!,2,1)","v":{"$error":"#REF!"}},{"$f":"+VLOOKUP(JF12,#REF!,2,1)","v":{"$error":"#REF!"}},{"$f":"+VLOOKUP(JG12,#REF!,2,1)","v":{"$error":"#REF!"}},{"$f":"+VLOOKUP(JH12,#REF!,2,1)","v":{"$error":"#REF!"}},{"$f":"+VLOOKUP(JI12,#REF!,2,1)","v":{"$error":"#REF!"}},{"$f":"+VLOOKUP(JJ12,#REF!,2,1)","v":{"$error":"#REF!"}},{"$f":"+VLOOKUP(JK12,#REF!,2,1)","v":{"$error":"#REF!"}},{"$f":"+VLOOKUP(JL12,#REF!,2,1)","v":{"$error":"#REF!"}},{"$f":"+VLOOKUP(JM12,#REF!,2,1)","v":{"$error":"#REF!"}},{"$f":"+VLOOKUP(JN12,#REF!,2,1)","v":{"$error":"#REF!"}},{"$f":"+VLOOKUP(JO12,#REF!,2,1)","v":{"$error":"#REF!"}},{"$f":"+VLOOKUP(JP12,#REF!,2,1)","v":{"$error":"#REF!"}},{"$f":"+VLOOKUP(JQ12,#REF!,2,1)","v":{"$error":"#REF!"}},{"$f":"+VLOOKUP(JR12,#REF!,2,1)","v":{"$error":"#REF!"}},{"$f":"+VLOOKUP(JS12,#REF!,2,1)","v":{"$error":"#REF!"}},{"$f":"+VLOOKUP(JT12,#REF!,2,1)","v":{"$error":"#REF!"}},{"$f":"+VLOOKUP(JU12,#REF!,2,1)","v":{"$error":"#REF!"}},{"$f":"+VLOOKUP(JV12,#REF!,2,1)","v":{"$error":"#REF!"}},{"$f":"+VLOOKUP(JW12,#REF!,2,1)","v":{"$error":"#REF!"}},{"$f":"+VLOOKUP(JX12,#REF!,2,1)","v":{"$error":"#REF!"}},{"$f":"+VLOOKUP(JY12,#REF!,2,1)","v":{"$error":"#REF!"}},{"$f":"+VLOOKUP(JZ12,#REF!,2,1)","v":{"$error":"#REF!"}},{"$f":"+VLOOKUP(KA12,#REF!,2,1)","v":{"$error":"#REF!"}},{"$f":"+VLOOKUP(KB12,#REF!,2,1)","v":{"$error":"#REF!"}},{"$f":"+VLOOKUP(KC12,#REF!,2,1)","v":{"$error":"#REF!"}},{"$f":"+VLOOKUP(KD12,#REF!,2,1)","v":{"$error":"#REF!"}},{"$f":"+VLOOKUP(KE12,#REF!,2,1)","v":{"$error":"#REF!"}},{"$f":"+VLOOKUP(KF12,#REF!,2,1)","v":{"$error":"#REF!"}},{"$f":"+VLOOKUP(KG12,#REF!,2,1)","v":{"$error":"#REF!"}},{"$f":"+VLOOKUP(KH12,#REF!,2,1)","v":{"$error":"#REF!"}},{"$f":"+VLOOKUP(KI12,#REF!,2,1)","v":{"$error":"#REF!"}},{"$f":"+VLOOKUP(KJ12,#REF!,2,1)","v":{"$error":"#REF!"}},{"$f":"+VLOOKUP(KK12,#REF!,2,1)","v":{"$error":"#REF!"}},{"$f":"+VLOOKUP(KL12,#REF!,2,1)","v":{"$error":"#REF!"}},{"$f":"+VLOOKUP(KM12,#REF!,2,1)","v":{"$error":"#REF!"}},{"$f":"+VLOOKUP(KN12,#REF!,2,1)","v":{"$error":"#REF!"}},{"$f":"+VLOOKUP(KO12,#REF!,2,1)","v":{"$error":"#REF!"}},{"$f":"+VLOOKUP(KP12,#REF!,2,1)","v":{"$error":"#REF!"}},{"$f":"+VLOOKUP(KQ12,#REF!,2,1)","v":{"$error":"#REF!"}},{"$f":"+VLOOKUP(KR12,#REF!,2,1)","v":{"$error":"#REF!"}},{"$f":"+VLOOKUP(KS12,#REF!,2,1)","v":{"$error":"#REF!"}},{"$f":"+VLOOKUP(KT12,#REF!,2,1)","v":{"$error":"#REF!"}},{"$f":"+VLOOKUP(KU12,#REF!,2,1)","v":{"$error":"#REF!"}},{"$f":"+VLOOKUP(KV12,#REF!,2,1)","v":{"$error":"#REF!"}},{"$f":"+VLOOKUP(KW12,#REF!,2,1)","v":{"$error":"#REF!"}},{"$f":"+VLOOKUP(KX12,#REF!,2,1)","v":{"$error":"#REF!"}},{"$f":"+VLOOKUP(KY12,#REF!,2,1)","v":{"$error":"#REF!"}},{"$f":"+VLOOKUP(KZ12,#REF!,2,1)","v":{"$error":"#REF!"}},{"$f":"+VLOOKUP(LA12,#REF!,2,1)","v":{"$error":"#REF!"}},{"$f":"+VLOOKUP(LB12,#REF!,2,1)","v":{"$error":"#REF!"}},{"$f":"+VLOOKUP(LC12,#REF!,2,1)","v":{"$error":"#REF!"}},{"$f":"+VLOOKUP(LD12,#REF!,2,1)","v":{"$error":"#REF!"}},{"$f":"+VLOOKUP(LE12,#REF!,2,1)","v":{"$error":"#REF!"}},{"$f":"+VLOOKUP(LF12,#REF!,2,1)","v":{"$error":"#REF!"}},{"$f":"+VLOOKUP(LG12,#REF!,2,1)","v":{"$error":"#REF!"}},{"$f":"+VLOOKUP(LH12,#REF!,2,1)","v":{"$error":"#REF!"}},{"$f":"+VLOOKUP(LI12,#REF!,2,1)","v":{"$error":"#REF!"}},{"$f":"+VLOOKUP(LJ12,#REF!,2,1)","v":{"$error":"#REF!"}},{"$f":"+VLOOKUP(LK12,#REF!,2,1)","v":{"$error":"#REF!"}},{"$f":"+VLOOKUP(LL12,#REF!,2,1)","v":{"$error":"#REF!"}},{"$f":"+VLOOKUP(LM12,#REF!,2,1)","v":{"$error":"#REF!"}},{"$f":"+VLOOKUP(LN12,#REF!,2,1)","v":{"$error":"#REF!"}},{"$f":"+VLOOKUP(LO12,#REF!,2,1)","v":{"$error":"#REF!"}},{"$f":"+VLOOKUP(LP12,#REF!,2,1)","v":{"$error":"#REF!"}},{"$f":"+VLOOKUP(LQ12,#REF!,2,1)","v":{"$error":"#REF!"}},{"$f":"+VLOOKUP(LR12,#REF!,2,1)","v":{"$error":"#REF!"}},{"$f":"+VLOOKUP(LS12,#REF!,2,1)","v":{"$error":"#REF!"}},{"$f":"+VLOOKUP(LT12,#REF!,2,1)","v":{"$error":"#REF!"}},{"$f":"+VLOOKUP(LU12,#REF!,2,1)","v":{"$error":"#REF!"}},{"$f":"+VLOOKUP(LV12,#REF!,2,1)","v":{"$error":"#REF!"}},{"$f":"+VLOOKUP(LW12,#REF!,2,1)","v":{"$error":"#REF!"}},{"$f":"+VLOOKUP(LX12,#REF!,2,1)","v":{"$error":"#REF!"}},{"$f":"+VLOOKUP(LY12,#REF!,2,1)","v":{"$error":"#REF!"}},{"$f":"+VLOOKUP(LZ12,#REF!,2,1)","v":{"$error":"#REF!"}},{"$f":"+VLOOKUP(MA12,#REF!,2,1)","v":{"$error":"#REF!"}},{"$f":"+VLOOKUP(MB12,#REF!,2,1)","v":{"$error":"#REF!"}},{"$f":"+VLOOKUP(MC12,#REF!,2,1)","v":{"$error":"#REF!"}},{"$f":"+VLOOKUP(MD12,#REF!,2,1)","v":{"$error":"#REF!"}},{"$f":"+VLOOKUP(ME12,#REF!,2,1)","v":{"$error":"#REF!"}},{"$f":"+VLOOKUP(MF12,#REF!,2,1)","v":{"$error":"#REF!"}},{"$f":"+VLOOKUP(MG12,#REF!,2,1)","v":{"$error":"#REF!"}},{"$f":"+VLOOKUP(MH12,#REF!,2,1)","v":{"$error":"#REF!"}},{"$f":"+VLOOKUP(MI12,#REF!,2,1)","v":{"$error":"#REF!"}},{"$f":"+VLOOKUP(MJ12,#REF!,2,1)","v":{"$error":"#REF!"}},{"$f":"+VLOOKUP(MK12,#REF!,2,1)","v":{"$error":"#REF!"}},{"$f":"+VLOOKUP(ML12,#REF!,2,1)","v":{"$error":"#REF!"}},{"$f":"+VLOOKUP(MM12,#REF!,2,1)","v":{"$error":"#REF!"}},{"$f":"+VLOOKUP(MN12,#REF!,2,1)","v":{"$error":"#REF!"}},{"$f":"+VLOOKUP(MO12,#REF!,2,1)","v":{"$error":"#REF!"}},{"$f":"+VLOOKUP(MP12,#REF!,2,1)","v":{"$error":"#REF!"}},{"$f":"+VLOOKUP(MQ12,#REF!,2,1)","v":{"$error":"#REF!"}},{"$f":"+VLOOKUP(MR12,#REF!,2,1)","v":{"$error":"#REF!"}},{"$f":"+VLOOKUP(MS12,#REF!,2,1)","v":{"$error":"#REF!"}},{"$f":"+VLOOKUP(MT12,#REF!,2,1)","v":{"$error":"#REF!"}},{"$f":"+VLOOKUP(MU12,#REF!,2,1)","v":{"$error":"#REF!"}},{"$f":"+VLOOKUP(MV12,#REF!,2,1)","v":{"$error":"#REF!"}},{"$f":"+VLOOKUP(MW12,#REF!,2,1)","v":{"$error":"#REF!"}},{"$f":"+VLOOKUP(MX12,#REF!,2,1)","v":{"$error":"#REF!"}},{"$f":"+VLOOKUP(MY12,#REF!,2,1)","v":{"$error":"#REF!"}},{"$f":"+VLOOKUP(MZ12,#REF!,2,1)","v":{"$error":"#REF!"}},{"$f":"+VLOOKUP(NA12,#REF!,2,1)","v":{"$error":"#REF!"}},{"$f":"+VLOOKUP(NB12,#REF!,2,1)","v":{"$error":"#REF!"}},{"$f":"+VLOOKUP(NC12,#REF!,2,1)","v":{"$error":"#REF!"}},{"$f":"+VLOOKUP(ND12,#REF!,2,1)","v":{"$error":"#REF!"}},{"$f":"+VLOOKUP(NE12,#REF!,2,1)","v":{"$error":"#REF!"}},{"$f":"+VLOOKUP(NF12,#REF!,2,1)","v":{"$error":"#REF!"}},{"$f":"+VLOOKUP(NG12,#REF!,2,1)","v":{"$error":"#REF!"}},{"$f":"+VLOOKUP(NH12,#REF!,2,1)","v":{"$error":"#REF!"}},{"$f":"+VLOOKUP(NI12,#REF!,2,1)","v":{"$error":"#REF!"}},{"$f":"+VLOOKUP(NJ12,#REF!,2,1)","v":{"$error":"#REF!"}},{"$f":"+VLOOKUP(NK12,#REF!,2,1)","v":{"$error":"#REF!"}},{"$f":"+VLOOKUP(NL12,#REF!,2,1)","v":{"$error":"#REF!"}},{"$f":"+VLOOKUP(NM12,#REF!,2,1)","v":{"$error":"#REF!"}},{"$f":"+VLOOKUP(NN12,#REF!,2,1)","v":{"$error":"#REF!"}},{"$f":"+VLOOKUP(NO12,#REF!,2,1)","v":{"$error":"#REF!"}},{"$f":"+VLOOKUP(NP12,#REF!,2,1)","v":{"$error":"#REF!"}},{"$f":"+VLOOKUP(NQ12,#REF!,2,1)","v":{"$error":"#REF!"}},{"$f":"+VLOOKUP(NR12,#REF!,2,1)","v":{"$error":"#REF!"}},{"$f":"+VLOOKUP(NS12,#REF!,2,1)","v":{"$error":"#REF!"}},{"$f":"+VLOOKUP(NT12,#REF!,2,1)","v":{"$error":"#REF!"}},{"$f":"+VLOOKUP(NU12,#REF!,2,1)","v":{"$error":"#REF!"}},{"$f":"+VLOOKUP(NV12,#REF!,2,1)","v":{"$error":"#REF!"}},{"$f":"+VLOOKUP(NW12,#REF!,2,1)","v":{"$error":"#REF!"}},{"$f":"+VLOOKUP(NX12,#REF!,2,1)","v":{"$error":"#REF!"}},{"$f":"+VLOOKUP(NY12,#REF!,2,1)","v":{"$error":"#REF!"}},{"$f":"+VLOOKUP(NZ12,#REF!,2,1)","v":{"$error":"#REF!"}},{"$f":"+VLOOKUP(OA12,#REF!,2,1)","v":{"$error":"#REF!"}},{"$f":"+VLOOKUP(OB12,#REF!,2,1)","v":{"$error":"#REF!"}},{"$f":"+VLOOKUP(OC12,#REF!,2,1)","v":{"$error":"#REF!"}},{"$f":"+VLOOKUP(OD12,#REF!,2,1)","v":{"$error":"#REF!"}},{"$f":"+VLOOKUP(OE12,#REF!,2,1)","v":{"$error":"#REF!"}},{"$f":"+VLOOKUP(OF12,#REF!,2,1)","v":{"$error":"#REF!"}},{"$f":"+VLOOKUP(OG12,#REF!,2,1)","v":{"$error":"#REF!"}},{"$f":"+VLOOKUP(OH12,#REF!,2,1)","v":{"$error":"#REF!"}},{"$f":"+VLOOKUP(OI12,#REF!,2,1)","v":{"$error":"#REF!"}},{"$f":"+VLOOKUP(OJ12,#REF!,2,1)","v":{"$error":"#REF!"}},{"$f":"+VLOOKUP(OK12,#REF!,2,1)","v":{"$error":"#REF!"}},{"$f":"+VLOOKUP(OL12,#REF!,2,1)","v":{"$error":"#REF!"}},{"$f":"+VLOOKUP(OM12,#REF!,2,1)","v":{"$error":"#REF!"}},{"$f":"+VLOOKUP(ON12,#REF!,2,1)","v":{"$error":"#REF!"}},{"$f":"+VLOOKUP(OO12,#REF!,2,1)","v":{"$error":"#REF!"}},{"$f":"+VLOOKUP(OP12,#REF!,2,1)","v":{"$error":"#REF!"}},{"$f":"+VLOOKUP(OQ12,#REF!,2,1)","v":{"$error":"#REF!"}}]
[null,"Retorno"]
[null,null,null,null,null,null,null,null,"IRR Neta IPC",{"$f":"D78","v":6.5000000596046478E-2},null,"Cash Flow Analysis",null,null,null,null,null,null,null,null,null,null,null,null,null,null,null,null,null,null,null,null,null,null,null,null,null,null,null,null,null,null,null,null,null,null,null,null,null,null,null,null,null,null,null,null,null,null,null,null,null,null,null,null,null,null,null,null,null,null,null,null,null,null,null,null,null,null,null,null,null,null,null,null,null,null,null,null,null,null,null,null,null,null,null,null,null,null,null,null,null,null,null,null,null,null,null,null,null,null,null,null,null,null,null,null,null,null,null,null,null,null,null,null,null,null,null,null,null,null,null,null,null,null,null,null,null,null,null,null,null,null,null,null,null,null,null,null,null,null,null,null,null,null,null,null,null,null,null,null,null,null,null,null,null,null,null,null,null,null,null,null,null,null,null,null,null,null,null,null,null,null,null,null,null,null,null,null,null,null,null,null,null,null,null,null,null,null,null,null,null,null,null,null,null,null,null,null,null,null,null,null,null,null,null,null,null,null,null,null,null,null,null,null,null,null,null,null,null,null,null,null,null,null,null,null,null,null,null,null,null,null,null,null,null,null,null,null,null,null,null,null,null,null,null,null,null,null,null,null,null,null,null,null,null,null,null,null,null,null,null,null,null,null,null,null,null,null,null,null,null,null,null,null,null,null,null,null,null,null,null,null,null,null,null,null,null,null,null,null,null,null,null,null,null,null,null,null,null,null,null,null,null,null,null,null,null,null,null,null,null,null,null,null,null,null,null,null,null,null,null,null,null,null,null,null,null,null,null,null,null,null,null,null,null,null,null,null,null,null,null,null,null,null,null,null,null,null,null,null,null,null,null,null,null,null,null,null,null,null,null,null,null,null,null,null,null,null,null,null,null,null,null,null,null,null,null,null,null,null,null,null,null,null,null,null,null,null,null,null,null,null,null,null,null,null,null,null," "]
[null,44937,null,{"$f":"datec(B12)","v":"2023-11-01"},{"$f":"hola(10)","v":0},null,null,null,null,null,null,"KPI's SUMMARY",null,null,"Total",null,{"$f":"H15","v":"2024-06-01"},{"$f":"DATE(YEAR(Q12),MONTH(Q12)+1,1)","v":"2024-07-01"},"2024-08-01","2024-09-01","2024-10-01","2024-11-01","2024-12-01","2025-01-01","2025-02-01","2025-03-01","2025-04-01","2025-05-01","2025-06-01","2025-07-01","2025-08-01","2025-09-01","2025-10-01","2025-11-01","2025-12-01","2026-01-01","2026-02-01","2026-03-01","2026-04-01","2026-05-01","2026-06-01","2026-07-01","2026-08-01","2026-09-01","2026-10-01","2026-11-01","2026-12-01","2027-01-01","2027-02-01","2027-03-01","2027-04-01","2027-05-01","2027-06-01","2027-07-01","2027-08-01","2027-09-01","2027-10-01","2027-11-01","2027-12-01","2028-01-01","2028-02-01","2028-03-01","2028-04-01","2028-05-01","2028-06-01","2028-07-01","2028-08-01","2028-09-01","2028-10-01","2028-11-01","2028-12-01","2029-01-01","2029-02-01","2029-03-01","2029-04-01","2029-05-01","2029-06-01","2029-07-01","2029-08-01","2029-09-01","2029-10-01",{"$f":"DATE(YEAR(CC12),MONTH(CC12)+1,1)","v":"2029-11-01"},"2029-12-01","2030-01-01","2030-02-01","2030-03-01","2030-04-01","2030-05-01","2030-06-01","2030-07-01","2030-08-01","2030-09-01","2030-10-01","2030-11-01","2030-12-01","2031-01-01","2031-02-01","2031-03-01","2031-04-01","2031-05-01","2031-06-01","2031-07-01","2031-08-01","2031-09-01","2031-10-01","2031-11-01","2031-12-01","2032-01-01","2032-02-01","2032-03-01","2032-04-01","2032-05-01","2032-06-01","2032-07-01","2032-08-01","2032-09-01","2032-10-01","2032-11-01","2032-12-01","2033-01-01","2033-02-01","2033-03-01","2033-04-01","2033-05-01","2033-06-01","2033-07-01","2033-08-01","2033-09-01","2033-10-01","2033-11-01","2033-12-01","2034-01-01","2034-02-01","2034-03-01","2034-04-01","2034-05-01","2034-06-01","2034-07-01","2034-08-01","2034-09-01","2034-10-01","2034-11-01","2034-12-01","2035-01-01","2035-02-01",{"$f":"DATE(YEAR(EO12),MONTH(EO12)+1,1)","v":"2035-03-01"},"2035-04-01","2035-05-01","2035-06-01","2035-07-01","2035-08-01","2035-09-01","2035-10-01","2035-11-01","2035-12-01","2036-01-01","2036-02-01","2036-03-01","2036-04-01","2036-05-01","2036-06-01","2036-07-01","2036-08-01","2036-09-01","2036-10-01","2036-11-01","2036-12-01","2037-01-01","2037-02-01","2037-03-01","2037-04-01","2037-05-01","2037-06-01","2037-07-01","2037-08-01","2037-09-01","2037-10-01","2037-11-01","2037-12-01","2038-01-01","2038-02-01","2038-03-01","2038-04-01","2038-05-01","2038-06-01","2038-07-01","2038-08-01","2038-09-01","2038-10-01","2038-11-01","2038-12-01","2039-01-01","2039-02-01","2039-03-01","2039-04-01","2039-05-01","2039-06-01","2039-07-01","2039-08-01","2039-09-01","2039-10-01","2039-11-01","2039-12-01","2040-01-01","2040-02-01","2040-03-01","2040-04-01","2040-05-01","2040-06-01",{"$f":"DATE(YEAR(HA12),MONTH(HA12)+1,1)","v":"2040-07-01"},"2040-08-01","2040-09-01","2040-10-01","2040-11-01","2040-12-01","2041-01-01","2041-02-01","2041-03-01","2041-04-01","2041-05-01","2041-06-01","2041-07-01","2041-08-01","2041-09-01","2041-10-01","2041-11-01","2041-12-01","2042-01-01","2042-02-01","2042-03-01","2042-04-01","2042-05-01","2042-06-01","2042-07-01","2042-08-01","2042-09-01","2042-10-01","2042-11-01","2042-12-01","2043-01-01","2043-02-01","2043-03-01","2043-04-01","2043-05-01","2043-06-01","2043-07-01","2043-08-01","2043-09-01","2043-10-01","2043-11-01","2043-12-01","2044-01-01","2044-02-01","2044-03-01","2044-04-01","2044-05-01","2044-06-01","2044-07-01","2044-08-01","2044-09-01","2044-10-01","2044-11-01","2044-12-01","2045-01-01","2045-02-01","2045-03-01","2045-04-01","2045-05-01","2045-06-01","2045-07-01","2045-08-01","2045-09-01","2045-10-01",{"$f":"DATE(YEAR(JM12),MONTH(JM12)+1,1)","v":"2045-11-01"},"2045-12-01","2046-01-01","2046-02-01","2046-03-01","2046-04-01","2046-05-01","2046-06-01","2046-07-01","2046-08-01","2046-09-01","2046-10-01","2046-11-01","2046-12-01","2047-01-01","2047-02-01","2047-03-01","2047-04-01","2047-05-01","2047-06-01","2047-07-01","2047-08-01","2047-09-01","2047-10-01","2047-11-01","2047-12-01","2048-01-01","2048-02-01","2048-03-01","2048-04-01","2048-05-01","2048-06-01","2048-07-01","2048-08-01","2048-09-01","2048-10-01","2048-11-01","2048-12-01","2049-01-01","2049-02-01","2049-03-01","2049-04-01","2049-05-01","2049-06-01","2049-07-01","2049-08-01","2049-09-01","2049-10-01","2049-11-01","2049-12-01","2050-01-01","2050-02-01","2050-03-01","2050-04-01","2050-05-01","2050-06-01","2050-07-01","2050-08-01","2050-09-01","2050-10-01","2050-11-01","2050-12-01","2051-01-01","2051-02-01",{"$f":"DATE(YEAR(LY12),MONTH(LY12)+1,1)","v":"2051-03-01"},"2051-04-01","2051-05-01","2051-06-01","2051-07-01","2051-08-01","2051-09-01","2051-10-01","2051-11-01","2051-12-01","2052-01-01","2052-02-01","2052-03-01","2052-04-01","2052-05-01","2052-06-01","2052-07-01","2052-08-01","2052-09-01","2052-10-01","2052-11-01","2052-12-01","2053-01-01","2053-02-01","2053-03-01","2053-04-01","2053-05-01","2053-06-01","2053-07-01","2053-08-01","2053-09-01","2053-10-01","2053-11-01","2053-12-01","2054-01-01","2054-02-01","2054-03-01","2054-04-01","2054-05-01","2054-06-01","2054-07-01","2054-08-01","2054-09-01","2054-10-01","2054-11-01","2054-12-01","2055-01-01","2055-02-01","2055-03-01","2055-04-01","2055-05-01","2055-06-01","2055-07-01","2055-08-01","2055-09-01","2055-10-01","2055-11-01","2055-12-01","2056-01-01","2056-02-01","2056-03-01","2056-04-01","2056-05-01","2056-06-01",{"$f":"DATE(YEAR(OK12),MONTH(OK12)+1,1)","v":"2056-07-01"},"2056-08-01","2056-09-01","2056-10-01","2056-11-01","2056-12-01",null,null,{"$f":"YEAR(Q12)","v":2024},{"$f":"OT12+1","v":2025},{"$f":"OU12+1","v":2026},2027,2028,2029,2030,2031,2032,2033,2034,2035,2036,2037,2038,2039,2040,2041,2042,2043,2044,2045,2046,2047,2048,2049,2050,2051,2052,2053,2054,2055,2056,2057]
[null,"Vivienda y Equipamiento"]
[null,null,null,null,null,null,null,null,null,null,null,"Compra Vivienda",null,null,{"$f":"SUM(Q14:OQ14)","v":-724805.99765680358},null,{"$f":"SUM(Q15:Q17)","v":-724805.99765680358},0,0,0,0,0,0,0,0,0,0,0,0,0,0,0,0,0,0,0,0,0,0,0,0,0,0,0,0,0,0,0,0,0,0,0,0,0,0,0,0,0,0,0,0,0,0,0,0,0,0,0,0,0,0,0,0,0,0,0,0,0,0,0,{"$f":"SUM(CC15:CC17)","v":0},0,0,0,0,0,0,0,0,0,0,0,0,0,0,0,0,0,0,0,0,0,0,0,0,0,0,0,0,0,0,0,0,0,0,0,0,0,0,0,0,0,0,0,0,0,0,0,0,0,0,0,0,0,0,0,0,0,0,0,0,0,0,0,{"$f":"SUM(EO15:EO17)","v":0},0,0,0,0,0,0,0,0,0,0,0,0,0,0,0,0,0,0,0,0,0,0,0,0,0,0,0,0,0,0,0,0,0,0,0,0,0,0,0,0,0,0,0,0,0,0,0,0,0,0,0,0,0,0,0,0,0,0,0,0,0,0,0,{"$f":"SUM(HA15:HA17)","v":0},0,0,0,0,0,0,0,0,0,0,0,0,0,0,0,0,0,0,0,0,0,0,0,0,0,0,0,0,0,0,0,0,0,0,0,0,0,0,0,0,0,0,0,0,0,0,0,0,0,0,0,0,0,0,0,0,0,0,0,0,0,0,0,{"$f":"SUM(JM15:JM17)","v":0},0,0,0,0,0,0,0,0,0,0,0,0,0,0,0,0,0,0,0,0,0,0,0,0,0,0,0,0,0,0,0,0,0,0,0,0,0,0,0,0,0,0,0,0,0,0,0,0,0,0,0,0,0,0,0,0,0,0,0,0,0,0,0,{"$f":"SUM(LY15:LY17)","v":0},0,0,0,0,0,0,0,0,0,0,0,0,0,0,0,0,0,0,0,0,0,0,0,0,0,0,0,0,0,0,0,0,0,0,0,0,0,0,0,0,0,0,0,0,0,0,0,0,0,0,0,0,0,0,0,0,0,0,0,0,0,0,0,{"$f":"SUM(OK15:OK17)","v":0},0,0,0,0,0,0,null,null,{"$f":"SUMIFS($Q14:$OQ14,$Q$3:$OQ$3,OT$12)","v":-724805.99765680358},{"$f":"SUMIFS($Q14:$OQ14,$Q$3:$OQ$3,OU$12)","v":0},0,0,0,0,0,0,0,0,0,0,0,0,0,0,0,0,0,0,0,0,0,0,0,0,0,0,0,0,0,0,0,0]
[null,"Calle","Velazquez",null,null,"Fecha Compra",null,{"$f":"DATE(YEAR(TODAY()),1+MONTH(TODAY()),1)","v":"2024-06-01"},null,null,null,null,"Desembolso",null,{"$f":"SUM(Q15:OQ15)","v":-724805.99765680358},null,{"$f":"-$I$30","v":-724805.99765680358},0,0,0,0,0,0,0,0,0,0,0,0,0,0,0,0,0,0,0,0,0,0,0,0,0,0,0,0,0,0,0,0,0,0,0,0,0,0,0,0,0,0,0,0,0,0,0,0,0,0,0,0,0,0,0,0,0,0,0,0,0,0,0,0,0,0,0,0,0,0,0,0,0,0,0,0,0,0,0,0,0,0,0,0,0,0,0,0,0,0,0,0,0,0,0,0,0,0,0,0,0,0,0,0,0,0,0,0,0,0,0,0,0,0,0,0,0,0,0,0,0,0,0,0,0,0,0,0,0,0,0,0,0,0,0,0,0,0,0,0,0,0,0,0,0,0,0,0,0,0,0,0,0,0,0,0,0,0,0,0,0,0,0,0,0,0,0,0,0,0,0,0,0,0,0,0,0,0,0,0,0,0,0,0,0,0,0,0,0,0,0,0,0,0,0,0,0,0,0,0,0,0,0,0,0,0,0,0,0,0,0,0,0,0,0,0,0,0,0,0,0,0,0,0,0,0,0,0,0,0,0,0,0,0,0,0,0,0,0,0,0,0,0,0,0,0,0,0,0,0,0,0,0,0,0,0,0,0,0,0,0,0,0,0,0,0,0,0,0,0,0,0,0,0,0,0,0,0,0,0,0,0,0,0,0,0,0,0,0,0,0,0,0,0,0,0,0,0,0,0,0,0,0,0,0,0,0,0,0,0,0,0,0,0,0,0,0,0,0,0,0,0,0,0,0,0,0,0,0,0,0,0,0,0,0,0,0,0,0,0,0,0,0,0,0,0,0,0,0,0,0,0,0,0,0,0,0,0,0,0,0,0,0,0,0,0,0,0,0,0,0,0,0,0,0,0,0,0,0,0,0,0,0,0,0,0,0,0,0,0,null,null,{"$f":"SUMIFS($Q15:$OQ15,$Q$3:$OQ$3,OT$12)","v":-724805.99765680358},0,0,0,0,0,0,0,0,0,0,0,0,0,0,0,0,0,0,0,0,0,0,0,0,0,0,0,0,0,0,0,0,0]
[null,null,null,null,null,null,null,null,null,null,null,null,"Pago Diferido",null,{"$f":"SUM(Q16:OQ16)","v":0},null,{"$f":"-Q20*Q23","v":0},{"$f":"-R20*R23","v":0},0,0,0,0,0,0,0,0,0,0,0,0,0,0,0,0,0,0,0,0,0,0,0,0,0,0,0,0,0,0,0,0,0,0,0,0,0,0,0,0,0,0,0,0,0,0,0,0,0,0,0,0,0,0,0,0,0,0,0,0,0,0,0,{"$f":"-CD20*CD23","v":0},0,0,0,0,0,0,0,0,0,0,0,0,0,0,0,0,0,0,0,0,0,0,0,0,0,0,0,0,0,0,0,0,0,0,0,0,0,0,0,0,0,0,0,0,0,0,0,0,0,0,0,0,0,0,0,0,0,0,0,0,0,0,0,{"$f":"-EP20*EP23","v":0},0,0,0,0,0,0,0,0,0,0,0,0,0,0,0,0,0,0,0,0,0,0,0,0,0,0,0,0,0,0,0,0,0,0,0,0,0,0,0,0,0,0,0,0,0,0,0,0,0,0,0,0,0,0,0,0,0,0,0,0,0,0,0,{"$f":"-HB20*HB23","v":0},0,0,0,0,0,0,0,0,0,0,0,0,0,0,0,0,0,0,0,0,0,0,0,0,0,0,0,0,0,0,0,0,0,0,0,0,0,0,0,0,0,0,0,0,0,0,0,0,0,0,0,0,0,0,0,0,0,0,0,0,0,0,0,{"$f":"-JN20*JN23","v":0},0,0,0,0,0,0,0,0,0,0,0,0,0,0,0,0,0,0,0,0,0,0,0,0,0,0,0,0,0,0,0,0,0,0,0,0,0,0,0,0,0,0,0,0,0,0,0,0,0,0,0,0,0,0,0,0,0,0,0,0,0,0,0,{"$f":"-LZ20*LZ23","v":0},0,0,0,0,0,0,0,0,0,0,0,0,0,0,0,0,0,0,0,0,0,0,0,0,0,0,0,0,0,0,0,0,0,0,0,0,0,0,0,0,0,0,0,0,0,0,0,0,0,0,0,0,0,0,0,0,0,0,0,0,0,0,0,{"$f":"-OL20*OL23","v":0},0,0,0,0,0,null,null,0,0,0,0,0,0,0,0,0,0,0,0,0,0,0,0,0,0,0,0,0,0,0,0,0,0,0,0,0,0,0,0,0,0]
[null,null,null,null,null,"Calificación",null,"A",null,null,null,null,"Otros",null,{"$f":"SUM(Q17:OQ17)","v":0},null,0,0,0,0,0,0,0,0,0,0,0,0,0,0,0,0,0,0,0,0,0,0,0,0,0,0,0,0,0,0,0,0,0,0,0,0,0,0,0,0,0,0,0,0,0,0,0,0,0,0,0,0,0,0,0,0,0,0,0,0,0,0,0,0,0,0,0,0,0,0,0,0,0,0,0,0,0,0,0,0,0,0,0,0,0,0,0,0,0,0,0,0,0,0,0,0,0,0,0,0,0,0,0,0,0,0,0,0,0,0,0,0,0,0,0,0,0,0,0,0,0,0,0,0,0,0,0,0,0,0,0,0,0,0,0,0,0,0,0,0,0,0,0,0,0,0,0,0,0,0,0,0,0,0,0,0,0,0,0,0,0,0,0,0,0,0,0,0,0,0,0,0,0,0,0,0,0,0,0,0,0,0,0,0,0,0,0,0,0,0,0,0,0,0,0,0,0,0,0,0,0,0,0,0,0,0,0,0,0,0,0,0,0,0,0,0,0,0,0,0,0,0,0,0,0,0,0,0,0,0,0,0,0,0,0,0,0,0,0,0,0,0,0,0,0,0,0,0,0,0,0,0,0,0,0,0,0,0,0,0,0,0,0,0,0,0,0,0,0,0,0,0,0,0,0,0,0,0,0,0,0,0,0,0,0,0,0,0,0,0,0,0,0,0,0,0,0,0,0,0,0,0,0,0,0,0,0,0,0,0,0,0,0,0,0,0,0,0,0,0,0,0,0,0,0,0,0,0,0,0,0,0,0,0,0,0,0,0,0,0,0,0,0,0,0,0,0,0,0,0,0,0,0,0,0,0,0,0,0,0,0,0,0,0,0,0,0,0,0,0,0,0,0,0,0,0,0,0,0,0,0,0,0,0,0,0,0,0,0,0,0,null,null,0,0,0,0,0,0,0,0,0,0,0,0,0,0,0,0,0,0,0,0,0,0,0,0,0,0,0,0,0,0,0,0,0,0]
[null,"Inquilinos",null,null,null,null,null,null,null,null,null,null,"E.Vida",null,null,null,{"$f":"IF(COLUMNS($Q1:Q1)<=$E$60,1,0)","v":1},{"$f":"IF(COLUMNS($Q1:R1)<=$E$60,1,0)","v":1},{"$f":"IF(COLUMNS($Q1:S1)<=$E$60,1,0)","v":1},{"$f":"IF(COLUMNS($Q1:T1)<=$E$60,1,0)","v":1},{"$f":"IF(COLUMNS($Q1:U1)<=$E$60,1,0)","v":1},{"$f":"IF(COLUMNS($Q1:V1)<=$E$60,1,0)","v":1},{"$f":"IF(COLUMNS($Q1:W1)<=$E$60,1,0)","v":1},{"$f":"IF(COLUMNS($Q1:X1)<=$E$60,1,0)","v":1},{"$f":"IF(COLUMNS($Q1:Y1)<=$E$60,1,0)","v":1},{"$f":"IF(COLUMNS($Q1:Z1)<=$E$60,1,0)","v":1},{"$f":"IF(COLUMNS($Q1:AA1)<=$E$60,1,0)","v":1},{"$f":"IF(COLUMNS($Q1:AB1)<=$E$60,1,0)","v":1},{"$f":"IF(COLUMNS($Q1:AC1)<=$E$60,1,0)","v":1},{"$f":"IF(COLUMNS($Q1:AD1)<=$E$60,1,0)","v":1},{"$f":"IF(COLUMNS($Q1:AE1)<=$E$60,1,0)","v":1},{"$f":"IF(COLUMNS($Q1:AF1)<=$E$60,1,0)","v":1},{"$f":"IF(COLUMNS($Q1:AG1)<=$E$60,1,0)","v":1},{"$f":"IF(COLUMNS($Q1:AH1)<=$E$60,1,0)","v":1},{"$f":"IF(COLUMNS($Q1:AI1)<=$E$60,1,0)","v":1},{"$f":"IF(COLUMNS($Q1:AJ1)<=$E$60,1,0)","v":1},{"$f":"IF(COLUMNS($Q1:AK1)<=$E$60,1,0)","v":1},{"$f":"IF(COLUMNS($Q1:AL1)<=$E$60,1,0)","v":1},{"$f":"IF(COLUMNS($Q1:AM1)<=$E$60,1,0)","v":1},{"$f":"IF(COLUMNS($Q1:AN1)<=$E$60,1,0)","v":1},{"$f":"IF(COLUMNS($Q1:AO1)<=$E$60,1,0)","v":1},{"$f":"IF(COLUMNS($Q1:AP1)<=$E$60,1,0)","v":1},{"$f":"IF(COLUMNS($Q1:AQ1)<=$E$60,1,0)","v":1},{"$f":"IF(COLUMNS($Q1:AR1)<=$E$60,1,0)","v":1},{"$f":"IF(COLUMNS($Q1:AS1)<=$E$60,1,0)","v":1},{"$f":"IF(COLUMNS($Q1:AT1)<=$E$60,1,0)","v":1},{"$f":"IF(COLUMNS($Q1:AU1)<=$E$60,1,0)","v":1},{"$f":"IF(COLUMNS($Q1:AV1)<=$E$60,1,0)","v":1},{"$f":"IF(COLUMNS($Q1:AW1)<=$E$60,1,0)","v":1},{"$f":"IF(COLUMNS($Q1:AX1)<=$E$60,1,0)","v":1},{"$f":"IF(COLUMNS($Q1:AY1)<=$E$60,1,0)","v":1},{"$f":"IF(COLUMNS($Q1:AZ1)<=$E$60,1,0)","v":1},{"$f":"IF(COLUMNS($Q1:BA1)<=$E$60,1,0)","v":1},{"$f":"IF(COLUMNS($Q1:BB1)<=$E$60,1,0)","v":1},{"$f":"IF(COLUMNS($Q1:BC1)<=$E$60,1,0)","v":1},{"$f":"IF(COLUMNS($Q1:BD1)<=$E$60,1,0)","v":1},{"$f":"IF(COLUMNS($Q1:BE1)<=$E$60,1,0)","v":1},{"$f":"IF(COLUMNS($Q1:BF1)<=$E$60,1,0)","v":1},{"$f":"IF(COLUMNS($Q1:BG1)<=$E$60,1,0)","v":1},{"$f":"IF(COLUMNS($Q1:BH1)<=$E$60,1,0)","v":1},{"$f":"IF(COLUMNS($Q1:BI1)<=$E$60,1,0)","v":1},{"$f":"IF(COLUMNS($Q1:BJ1)<=$E$60,1,0)","v":1},{"$f":"IF(COLUMNS($Q1:BK1)<=$E$60,1,0)","v":1},{"$f":"IF(COLUMNS($Q1:BL1)<=$E$60,1,0)","v":1},{"$f":"IF(COLUMNS($Q1:BM1)<=$E$60,1,0)","v":1},{"$f":"IF(COLUMNS($Q1:BN1)<=$E$60,1,0)","v":1},{"$f":"IF(COLUMNS($Q1:BO1)<=$E$60,1,0)","v":1},{"$f":"IF(COLUMNS($Q1:BP1)<=$E$60,1,0)","v":1},{"$f":"IF(COLUMNS($Q1:BQ1)<=$E$60,1,0)","v":1},{"$f":"IF(COLUMNS($Q1:BR1)<=$E$60,1,0)","v":1},{"$f":"IF(COLUMNS($Q1:BS1)<=$E$60,1,0)","v":1},{"$f":"IF(COLUMNS($Q1:BT1)<=$E$60,1,0)","v":1},{"$f":"IF(COLUMNS($Q1:BU1)<=$E$60,1,0)","v":1},{"$f":"IF(COLUMNS($Q1:BV1)<=$E$60,1,0)","v":1},{"$f":"IF(COLUMNS($Q1:BW1)<=$E$60,1,0)","v":1},{"$f":"IF(COLUMNS($Q1:BX1)<=$E$60,1,0)","v":1},{"$f":"IF(COLUMNS($Q1:BY1)<=$E$60,1,0)","v":0},{"$f":"IF(COLUMNS($Q1:BZ1)<=$E$60,1,0)","v":0},{"$f":"IF(COLUMNS($Q1:CA1)<=$E$60,1,0)","v":0},{"$f":"IF(COLUMNS($Q1:CB1)<=$E$60,1,0)","v":0},{"$f":"IF(COLUMNS($Q1:CC1)<=$E$60,1,0)","v":0},{"$f":"IF(COLUMNS($Q1:CD1)<=$E$60,1,0)","v":0},{"$f":"IF(COLUMNS($Q1:CE1)<=$E$60,1,0)","v":0},{"$f":"IF(COLUMNS($Q1:CF1)<=$E$60,1,0)","v":0},{"$f":"IF(COLUMNS($Q1:CG1)<=$E$60,1,0)","v":0},{"$f":"IF(COLUMNS($Q1:CH1)<=$E$60,1,0)","v":0},{"$f":"IF(COLUMNS($Q1:CI1)<=$E$60,1,0)","v":0},{"$f":"IF(COLUMNS($Q1:CJ1)<=$E$60,1,0)","v":0},{"$f":"IF(COLUMNS($Q1:CK1)<=$E$60,1,0)","v":0},{"$f":"IF(COLUMNS($Q1:CL1)<=$E$60,1,0)","v":0},{"$f":"IF(COLUMNS($Q1:CM1)<=$E$60,1,0)","v":0},{"$f":"IF(COLUMNS($Q1:CN1)<=$E$60,1,0)","v":0},{"$f":"IF(COLUMNS($Q1:CO1)<=$E$60,1,0)","v":0},{"$f":"IF(COLUMNS($Q1:CP1)<=$E$60,1,0)","v":0},{"$f":"IF(COLUMNS($Q1:CQ1)<=$E$60,1,0)","v":0},{"$f":"IF(COLUMNS($Q1:CR1)<=$E$60,1,0)","v":0},{"$f":"IF(COLUMNS($Q1:CS1)<=$E$60,1,0)","v":0},{"$f":"IF(COLUMNS($Q1:CT1)<=$E$60,1,0)","v":0},{"$f":"IF(COLUMNS($Q1:CU1)<=$E$60,1,0)","v":0},{"$f":"IF(COLUMNS($Q1:CV1)<=$E$60,1,0)","v":0},{"$f":"IF(COLUMNS($Q1:CW1)<=$E$60,1,0)","v":0},{"$f":"IF(COLUMNS($Q1:CX1)<=$E$60,1,0)","v":0},{"$f":"IF(COLUMNS($Q1:CY1)<=$E$60,1,0)","v":0},{"$f":"IF(COLUMNS($Q1:CZ1)<=$E$60,1,0)","v":0},{"$f":"IF(COLUMNS($Q1:DA1)<=$E$60,1,0)","v":0},{"$f":"IF(COLUMNS($Q1:DB1)<=$E$60,1,0)","v":0},{"$f":"IF(COLUMNS($Q1:DC1)<=$E$60,1,0)","v":0},{"$f":"IF(COLUMNS($Q1:DD1)<=$E$60,1,0)","v":0},{"$f":"IF(COLUMNS($Q1:DE1)<=$E$60,1,0)","v":0},{"$f":"IF(COLUMNS($Q1:DF1)<=$E$60,1,0)","v":0},{"$f":"IF(COLUMNS($Q1:DG1)<=$E$60,1,0)","v":0},{"$f":"IF(COLUMNS($Q1:DH1)<=$E$60,1,0)","v":0},{"$f":"IF(COLUMNS($Q1:DI1)<=$E$60,1,0)","v":0},{"$f":"IF(COLUMNS($Q1:DJ1)<=$E$60,1,0)","v":0},{"$f":"IF(COLUMNS($Q1:DK1)<=$E$60,1,0)","v":0},{"$f":"IF(COLUMNS($Q1:DL1)<=$E$60,1,0)","v":0},{"$f":"IF(COLUMNS($Q1:DM1)<=$E$60,1,0)","v":0},{"$f":"IF(COLUMNS($Q1:DN1)<=$E$60,1,0)","v":0},{"$f":"IF(COLUMNS($Q1:DO1)<=$E$60,1,0)","v":0},{"$f":"IF(COLUMNS($Q1:DP1)<=$E$60,1,0)","v":0},{"$f":"IF(COLUMNS($Q1:DQ1)<=$E$60,1,0)","v":0},{"$f":"IF(COLUMNS($Q1:DR1)<=$E$60,1,0)","v":0},{"$f":"IF(COLUMNS($Q1:DS1)<=$E$60,1,0)","v":0},{"$f":"IF(COLUMNS($Q1:DT1)<=$E$60,1,0)","v":0},{"$f":"IF(COLUMNS($Q1:DU1)<=$E$60,1,0)","v":0},{"$f":"IF(COLUMNS($Q1:DV1)<=$E$60,1,0)","v":0},{"$f":"IF(COLUMNS($Q1:DW1)<=$E$60,1,0)","v":0},{"$f":"IF(COLUMNS($Q1:DX1)<=$E$60,1,0)","v":0},{"$f":"IF(COLUMNS($Q1:DY1)<=$E$60,1,0)","v":0},{"$f":"IF(COLUMNS($Q1:DZ1)<=$E$60,1,0)","v":0},{"$f":"IF(COLUMNS($Q1:EA1)<=$E$60,1,0)","v":0},{"$f":"IF(COLUMNS($Q1:EB1)<=$E$60,1,0)","v":0},{"$f":"IF(COLUMNS($Q1:EC1)<=$E$60,1,0)","v":0},{"$f":"IF(COLUMNS($Q1:ED1)<=$E$60,1,0)","v":0},{"$f":"IF(COLUMNS($Q1:EE1)<=$E$60,1,0)","v":0},{"$f":"IF(COLUMNS($Q1:EF1)<=$E$60,1,0)","v":0},{"$f":"IF(COLUMNS($Q1:EG1)<=$E$60,1,0)","v":0},{"$f":"IF(COLUMNS($Q1:EH1)<=$E$60,1,0)","v":0},{"$f":"IF(COLUMNS($Q1:EI1)<=$E$60,1,0)","v":0},{"$f":"IF(COLUMNS($Q1:EJ1)<=$E$60,1,0)","v":0},{"$f":"IF(COLUMNS($Q1:EK1)<=$E$60,1,0)","v":0},{"$f":"IF(COLUMNS($Q1:EL1)<=$E$60,1,0)","v":0},{"$f":"IF(COLUMNS($Q1:EM1)<=$E$60,1,0)","v":0},{"$f":"IF(COLUMNS($Q1:EN1)<=$E$60,1,0)","v":0},{"$f":"IF(COLUMNS($Q1:EO1)<=$E$60,1,0)","v":0},{"$f":"IF(COLUMNS($Q1:EP1)<=$E$60,1,0)","v":0},{"$f":"IF(COLUMNS($Q1:EQ1)<=$E$60,1,0)","v":0},{"$f":"IF(COLUMNS($Q1:ER1)<=$E$60,1,0)","v":0},{"$f":"IF(COLUMNS($Q1:ES1)<=$E$60,1,0)","v":0},{"$f":"IF(COLUMNS($Q1:ET1)<=$E$60,1,0)","v":0},{"$f":"IF(COLUMNS($Q1:EU1)<=$E$60,1,0)","v":0},{"$f":"IF(COLUMNS($Q1:EV1)<=$E$60,1,0)","v":0},{"$f":"IF(COLUMNS($Q1:EW1)<=$E$60,1,0)","v":0},{"$f":"IF(COLUMNS($Q1:EX1)<=$E$60,1,0)","v":0},{"$f":"IF(COLUMNS($Q1:EY1)<=$E$60,1,0)","v":0},{"$f":"IF(COLUMNS($Q1:EZ1)<=$E$60,1,0)","v":0},{"$f":"IF(COLUMNS($Q1:FA1)<=$E$60,1,0)","v":0},{"$f":"IF(COLUMNS($Q1:FB1)<=$E$60,1,0)","v":0},{"$f":"IF(COLUMNS($Q1:FC1)<=$E$60,1,0)","v":0},{"$f":"IF(COLUMNS($Q1:FD1)<=$E$60,1,0)","v":0},{"$f":"IF(COLUMNS($Q1:FE1)<=$E$60,1,0)","v":0},{"$f":"IF(COLUMNS($Q1:FF1)<=$E$60,1,0)","v":0},{"$f":"IF(COLUMNS($Q1:FG1)<=$E$60,1,0)","v":0},{"$f":"IF(COLUMNS($Q1:FH1)<=$E$60,1,0)","v":0},{"$f":"IF(COLUMNS($Q1:FI1)<=$E$60,1,0)","v":0},{"$f":"IF(COLUMNS($Q1:FJ1)<=$E$60,1,0)","v":0},{"$f":"IF(COLUMNS($Q1:FK1)<=$E$60,1,0)","v":0},{"$f":"IF(COLUMNS($Q1:FL1)<=$E$60,1,0)","v":0},{"$f":"IF(COLUMNS($Q1:FM1)<=$E$60,1,0)","v":0},{"$f":"IF(COLUMNS($Q1:FN1)<=$E$60,1,0)","v":0},{"$f":"IF(COLUMNS($Q1:FO1)<=$E$60,1,0)","v":0},{"$f":"IF(COLUMNS($Q1:FP1)<=$E$60,1,0)","v":0},{"$f":"IF(COLUMNS($Q1:FQ1)<=$E$60,1,0)","v":0},{"$f":"IF(COLUMNS($Q1:FR1)<=$E$60,1,0)","v":0},{"$f":"IF(COLUMNS($Q1:FS1)<=$E$60,1,0)","v":0},{"$f":"IF(COLUMNS($Q1:FT1)<=$E$60,1,0)","v":0},{"$f":"IF(COLUMNS($Q1:FU1)<=$E$60,1,0)","v":0},{"$f":"IF(COLUMNS($Q1:FV1)<=$E$60,1,0)","v":0},{"$f":"IF(COLUMNS($Q1:FW1)<=$E$60,1,0)","v":0},{"$f":"IF(COLUMNS($Q1:FX1)<=$E$60,1,0)","v":0},{"$f":"IF(COLUMNS($Q1:FY1)<=$E$60,1,0)","v":0},{"$f":"IF(COLUMNS($Q1:FZ1)<=$E$60,1,0)","v":0},{"$f":"IF(COLUMNS($Q1:GA1)<=$E$60,1,0)","v":0},{"$f":"IF(COLUMNS($Q1:GB1)<=$E$60,1,0)","v":0},{"$f":"IF(COLUMNS($Q1:GC1)<=$E$60,1,0)","v":0},{"$f":"IF(COLUMNS($Q1:GD1)<=$E$60,1,0)","v":0},{"$f":"IF(COLUMNS($Q1:GE1)<=$E$60,1,0)","v":0},{"$f":"IF(COLUMNS($Q1:GF1)<=$E$60,1,0)","v":0},{"$f":"IF(COLUMNS($Q1:GG1)<=$E$60,1,0)","v":0},{"$f":"IF(COLUMNS($Q1:GH1)<=$E$60,1,0)","v":0},{"$f":"IF(COLUMNS($Q1:GI1)<=$E$60,1,0)","v":0},{"$f":"IF(COLUMNS($Q1:GJ1)<=$E$60,1,0)","v":0},{"$f":"IF(COLUMNS($Q1:GK1)<=$E$60,1,0)","v":0},{"$f":"IF(COLUMNS($Q1:GL1)<=$E$60,1,0)","v":0},{"$f":"IF(COLUMNS($Q1:GM1)<=$E$60,1,0)","v":0},{"$f":"IF(COLUMNS($Q1:GN1)<=$E$60,1,0)","v":0},{"$f":"IF(COLUMNS($Q1:GO1)<=$E$60,1,0)","v":0},{"$f":"IF(COLUMNS($Q1:GP1)<=$E$60,1,0)","v":0},{"$f":"IF(COLUMNS($Q1:GQ1)<=$E$60,1,0)","v":0},{"$f":"IF(COLUMNS($Q1:GR1)<=$E$60,1,0)","v":0},{"$f":"IF(COLUMNS($Q1:GS1)<=$E$60,1,0)","v":0},{"$f":"IF(COLUMNS($Q1:GT1)<=$E$60,1,0)","v":0},{"$f":"IF(COLUMNS($Q1:GU1)<=$E$60,1,0)","v":0},{"$f":"IF(COLUMNS($Q1:GV1)<=$E$60,1,0)","v":0},{"$f":"IF(COLUMNS($Q1:GW1)<=$E$60,1,0)","v":0},{"$f":"IF(COLUMNS($Q1:GX1)<=$E$60,1,0)","v":0},{"$f":"IF(COLUMNS($Q1:GY1)<=$E$60,1,0)","v":0},{"$f":"IF(COLUMNS($Q1:GZ1)<=$E$60,1,0)","v":0},{"$f":"IF(COLUMNS($Q1:HA1)<=$E$60,1,0)","v":0},{"$f":"IF(COLUMNS($Q1:HB1)<=$E$60,1,0)","v":0},{"$f":"IF(COLUMNS($Q1:HC1)<=$E$60,1,0)","v":0},{"$f":"IF(COLUMNS($Q1:HD1)<=$E$60,1,0)","v":0},{"$f":"IF(COLUMNS($Q1:HE1)<=$E$60,1,0)","v":0},{"$f":"IF(COLUMNS($Q1:HF1)<=$E$60,1,0)","v":0},{"$f":"IF(COLUMNS($Q1:HG1)<=$E$60,1,0)","v":0},{"$f":"IF(COLUMNS($Q1:HH1)<=$E$60,1,0)","v":0},{"$f":"IF(COLUMNS($Q1:HI1)<=$E$60,1,0)","v":0},{"$f":"IF(COLUMNS($Q1:HJ1)<=$E$60,1,0)","v":0},{"$f":"IF(COLUMNS($Q1:HK1)<=$E$60,1,0)","v":0},{"$f":"IF(COLUMNS($Q1:HL1)<=$E$60,1,0)","v":0},{"$f":"IF(COLUMNS($Q1:HM1)<=$E$60,1,0)","v":0},{"$f":"IF(COLUMNS($Q1:HN1)<=$E$60,1,0)","v":0},{"$f":"IF(COLUMNS($Q1:HO1)<=$E$60,1,0)","v":0},{"$f":"IF(COLUMNS($Q1:HP1)<=$E$60,1,0)","v":0},{"$f":"IF(COLUMNS($Q1:HQ1)<=$E$60,1,0)","v":0},{"$f":"IF(COLUMNS($Q1:HR1)<=$E$60,1,0)","v":0},{"$f":"IF(COLUMNS($Q1:HS1)<=$E$60,1,0)","v":0},{"$f":"IF(COLUMNS($Q1:HT1)<=$E$60,1,0)","v":0},{"$f":"IF(COLUMNS($Q1:HU1)<=$E$60,1,0)","v":0},{"$f":"IF(COLUMNS($Q1:HV1)<=$E$60,1,0)","v":0},{"$f":"IF(COLUMNS($Q1:HW1)<=$E$60,1,0)","v":0},{"$f":"IF(COLUMNS($Q1:HX1)<=$E$60,1,0)","v":0},{"$f":"IF(COLUMNS($Q1:HY1)<=$E$60,1,0)","v":0},{"$f":"IF(COLUMNS($Q1:HZ1)<=$E$60,1,0)","v":0},{"$f":"IF(COLUMNS($Q1:IA1)<=$E$60,1,0)","v":0},{"$f":"IF(COLUMNS($Q1:IB1)<=$E$60,1,0)","v":0},{"$f":"IF(COLUMNS($Q1:IC1)<=$E$60,1,0)","v":0},{"$f":"IF(COLUMNS($Q1:ID1)<=$E$60,1,0)","v":0},{"$f":"IF(COLUMNS($Q1:IE1)<=$E$60,1,0)","v":0},{"$f":"IF(COLUMNS($Q1:IF1)<=$E$60,1,0)","v":0},{"$f":"IF(COLUMNS($Q1:IG1)<=$E$60,1,0)","v":0},{"$f":"IF(COLUMNS($Q1:IH1)<=$E$60,1,0)","v":0},{"$f":"IF(COLUMNS($Q1:II1)<=$E$60,1,0)","v":0},{"$f":"IF(COLUMNS($Q1:IJ1)<=$E$60,1,0)","v":0},{"$f":"IF(COLUMNS($Q1:IK1)<=$E$60,1,0)","v":0},{"$f":"IF(COLUMNS($Q1:IL1)<=$E$60,1,0)","v":0},{"$f":"IF(COLUMNS($Q1:IM1)<=$E$60,1,0)","v":0},{"$f":"IF(COLUMNS($Q1:IN1)<=$E$60,1,0)","v":0},{"$f":"IF(COLUMNS($Q1:IO1)<=$E$60,1,0)","v":0},{"$f":"IF(COLUMNS($Q1:IP1)<=$E$60,1,0)","v":0},{"$f":"IF(COLUMNS($Q1:IQ1)<=$E$60,1,0)","v":0},{"$f":"IF(COLUMNS($Q1:IR1)<=$E$60,1,0)","v":0},{"$f":"IF(COLUMNS($Q1:IS1)<=$E$60,1,0)","v":0},{"$f":"IF(COLUMNS($Q1:IT1)<=$E$60,1,0)","v":0},{"$f":"IF(COLUMNS($Q1:IU1)<=$E$60,1,0)","v":0},{"$f":"IF(COLUMNS($Q1:IV1)<=$E$60,1,0)","v":0},{"$f":"IF(COLUMNS($Q1:IW1)<=$E$60,1,0)","v":0},{"$f":"IF(COLUMNS($Q1:IX1)<=$E$60,1,0)","v":0},{"$f":"IF(COLUMNS($Q1:IY1)<=$E$60,1,0)","v":0},{"$f":"IF(COLUMNS($Q1:IZ1)<=$E$60,1,0)","v":0},{"$f":"IF(COLUMNS($Q1:JA1)<=$E$60,1,0)","v":0},{"$f":"IF(COLUMNS($Q1:JB1)<=$E$60,1,0)","v":0},{"$f":"IF(COLUMNS($Q1:JC1)<=$E$60,1,0)","v":0},{"$f":"IF(COLUMNS($Q1:JD1)<=$E$60,1,0)","v":0},{"$f":"IF(COLUMNS($Q1:JE1)<=$E$60,1,0)","v":0},{"$f":"IF(COLUMNS($Q1:JF1)<=$E$60,1,0)","v":0},{"$f":"IF(COLUMNS($Q1:JG1)<=$E$60,1,0)","v":0},{"$f":"IF(COLUMNS($Q1:JH1)<=$E$60,1,0)","v":0},{"$f":"IF(COLUMNS($Q1:JI1)<=$E$60,1,0)","v":0},{"$f":"IF(COLUMNS($Q1:JJ1)<=$E$60,1,0)","v":0},{"$f":"IF(COLUMNS($Q1:JK1)<=$E$60,1,0)","v":0},{"$f":"IF(COLUMNS($Q1:JL1)<=$E$60,1,0)","v":0},{"$f":"IF(COLUMNS($Q1:JM1)<=$E$60,1,0)","v":0},{"$f":"IF(COLUMNS($Q1:JN1)<=$E$60,1,0)","v":0},{"$f":"IF(COLUMNS($Q1:JO1)<=$E$60,1,0)","v":0},{"$f":"IF(COLUMNS($Q1:JP1)<=$E$60,1,0)","v":0},{"$f":"IF(COLUMNS($Q1:JQ1)<=$E$60,1,0)","v":0},{"$f":"IF(COLUMNS($Q1:JR1)<=$E$60,1,0)","v":0},{"$f":"IF(COLUMNS($Q1:JS1)<=$E$60,1,0)","v":0},{"$f":"IF(COLUMNS($Q1:JT1)<=$E$60,1,0)","v":0},{"$f":"IF(COLUMNS($Q1:JU1)<=$E$60,1,0)","v":0},{"$f":"IF(COLUMNS($Q1:JV1)<=$E$60,1,0)","v":0},{"$f":"IF(COLUMNS($Q1:JW1)<=$E$60,1,0)","v":0},{"$f":"IF(COLUMNS($Q1:JX1)<=$E$60,1,0)","v":0},{"$f":"IF(COLUMNS($Q1:JY1)<=$E$60,1,0)","v":0},{"$f":"IF(COLUMNS($Q1:JZ1)<=$E$60,1,0)","v":0},{"$f":"IF(COLUMNS($Q1:KA1)<=$E$60,1,0)","v":0},{"$f":"IF(COLUMNS($Q1:KB1)<=$E$60,1,0)","v":0},{"$f":"IF(COLUMNS($Q1:KC1)<=$E$60,1,0)","v":0},{"$f":"IF(COLUMNS($Q1:KD1)<=$E$60,1,0)","v":0},{"$f":"IF(COLUMNS($Q1:KE1)<=$E$60,1,0)","v":0},{"$f":"IF(COLUMNS($Q1:KF1)<=$E$60,1,0)","v":0},{"$f":"IF(COLUMNS($Q1:KG1)<=$E$60,1,0)","v":0},{"$f":"IF(COLUMNS($Q1:KH1)<=$E$60,1,0)","v":0},{"$f":"IF(COLUMNS($Q1:KI1)<=$E$60,1,0)","v":0},{"$f":"IF(COLUMNS($Q1:KJ1)<=$E$60,1,0)","v":0},{"$f":"IF(COLUMNS($Q1:KK1)<=$E$60,1,0)","v":0},{"$f":"IF(COLUMNS($Q1:KL1)<=$E$60,1,0)","v":0},{"$f":"IF(COLUMNS($Q1:KM1)<=$E$60,1,0)","v":0},{"$f":"IF(COLUMNS($Q1:KN1)<=$E$60,1,0)","v":0},{"$f":"IF(COLUMNS($Q1:KO1)<=$E$60,1,0)","v":0},{"$f":"IF(COLUMNS($Q1:KP1)<=$E$60,1,0)","v":0},{"$f":"IF(COLUMNS($Q1:KQ1)<=$E$60,1,0)","v":0},{"$f":"IF(COLUMNS($Q1:KR1)<=$E$60,1,0)","v":0},{"$f":"IF(COLUMNS($Q1:KS1)<=$E$60,1,0)","v":0},{"$f":"IF(COLUMNS($Q1:KT1)<=$E$60,1,0)","v":0},{"$f":"IF(COLUMNS($Q1:KU1)<=$E$60,1,0)","v":0},{"$f":"IF(COLUMNS($Q1:KV1)<=$E$60,1,0)","v":0},{"$f":"IF(COLUMNS($Q1:KW1)<=$E$60,1,0)","v":0},{"$f":"IF(COLUMNS($Q1:KX1)<=$E$60,1,0)","v":0},{"$f":"IF(COLUMNS($Q1:KY1)<=$E$60,1,0)","v":0},{"$f":"IF(COLUMNS($Q1:KZ1)<=$E$60,1,0)","v":0},{"$f":"IF(COLUMNS($Q1:LA1)<=$E$60,1,0)","v":0},{"$f":"IF(COLUMNS($Q1:LB1)<=$E$60,1,0)","v":0},{"$f":"IF(COLUMNS($Q1:LC1)<=$E$60,1,0)","v":0},{"$f":"IF(COLUMNS($Q1:LD1)<=$E$60,1,0)","v":0},{"$f":"IF(COLUMNS($Q1:LE1)<=$E$60,1,0)","v":0},{"$f":"IF(COLUMNS($Q1:LF1)<=$E$60,1,0)","v":0},{"$f":"IF(COLUMNS($Q1:LG1)<=$E$60,1,0)","v":0},{"$f":"IF(COLUMNS($Q1:LH1)<=$E$60,1,0)","v":0},{"$f":"IF(COLUMNS($Q1:LI1)<=$E$60,1,0)","v":0},{"$f":"IF(COLUMNS($Q1:LJ1)<=$E$60,1,0)","v":0},{"$f":"IF(COLUMNS($Q1:LK1)<=$E$60,1,0)","v":0},{"$f":"IF(COLUMNS($Q1:LL1)<=$E$60,1,0)","v":0},{"$f":"IF(COLUMNS($Q1:LM1)<=$E$60,1,0)","v":0},{"$f":"IF(COLUMNS($Q1:LN1)<=$E$60,1,0)","v":0},{"$f":"IF(COLUMNS($Q1:LO1)<=$E$60,1,0)","v":0},{"$f":"IF(COLUMNS($Q1:LP1)<=$E$60,1,0)","v":0},{"$f":"IF(COLUMNS($Q1:LQ1)<=$E$60,1,0)","v":0},{"$f":"IF(COLUMNS($Q1:LR1)<=$E$60,1,0)","v":0},{"$f":"IF(COLUMNS($Q1:LS1)<=$E$60,1,0)","v":0},{"$f":"IF(COLUMNS($Q1:LT1)<=$E$60,1,0)","v":0},{"$f":"IF(COLUMNS($Q1:LU1)<=$E$60,1,0)","v":0},{"$f":"IF(COLUMNS($Q1:LV1)<=$E$60,1,0)","v":0},{"$f":"IF(COLUMNS($Q1:LW1)<=$E$60,1,0)","v":0},{"$f":"IF(COLUMNS($Q1:LX1)<=$E$60,1,0)","v":0},{"$f":"IF(COLUMNS($Q1:LY1)<=$E$60,1,0)","v":0},{"$f":"IF(COLUMNS($Q1:LZ1)<=$E$60,1,0)","v":0},{"$f":"IF(COLUMNS($Q1:MA1)<=$E$60,1,0)","v":0},{"$f":"IF(COLUMNS($Q1:MB1)<=$E$60,1,0)","v":0},{"$f":"IF(COLUMNS($Q1:MC1)<=$E$60,1,0)","v":0},{"$f":"IF(COLUMNS($Q1:MD1)<=$E$60,1,0)","v":0},{"$f":"IF(COLUMNS($Q1:ME1)<=$E$60,1,0)","v":0},{"$f":"IF(COLUMNS($Q1:MF1)<=$E$60,1,0)","v":0},{"$f":"IF(COLUMNS($Q1:MG1)<=$E$60,1,0)","v":0},{"$f":"IF(COLUMNS($Q1:MH1)<=$E$60,1,0)","v":0},{"$f":"IF(COLUMNS($Q1:MI1)<=$E$60,1,0)","v":0},{"$f":"IF(COLUMNS($Q1:MJ1)<=$E$60,1,0)","v":0},{"$f":"IF(COLUMNS($Q1:MK1)<=$E$60,1,0)","v":0},{"$f":"IF(COLUMNS($Q1:ML1)<=$E$60,1,0)","v":0},{"$f":"IF(COLUMNS($Q1:MM1)<=$E$60,1,0)","v":0},{"$f":"IF(COLUMNS($Q1:MN1)<=$E$60,1,0)","v":0},{"$f":"IF(COLUMNS($Q1:MO1)<=$E$60,1,0)","v":0},{"$f":"IF(COLUMNS($Q1:MP1)<=$E$60,1,0)","v":0},{"$f":"IF(COLUMNS($Q1:MQ1)<=$E$60,1,0)","v":0},{"$f":"IF(COLUMNS($Q1:MR1)<=$E$60,1,0)","v":0},{"$f":"IF(COLUMNS($Q1:MS1)<=$E$60,1,0)","v":0},{"$f":"IF(COLUMNS($Q1:MT1)<=$E$60,1,0)","v":0},{"$f":"IF(COLUMNS($Q1:MU1)<=$E$60,1,0)","v":0},{"$f":"IF(COLUMNS($Q1:MV1)<=$E$60,1,0)","v":0},{"$f":"IF(COLUMNS($Q1:MW1)<=$E$60,1,0)","v":0},{"$f":"IF(COLUMNS($Q1:MX1)<=$E$60,1,0)","v":0},{"$f":"IF(COLUMNS($Q1:MY1)<=$E$60,1,0)","v":0},{"$f":"IF(COLUMNS($Q1:MZ1)<=$E$60,1,0)","v":0},{"$f":"IF(COLUMNS($Q1:NA1)<=$E$60,1,0)","v":0},{"$f":"IF(COLUMNS($Q1:NB1)<=$E$60,1,0)","v":0},{"$f":"IF(COLUMNS($Q1:NC1)<=$E$60,1,0)","v":0},{"$f":"IF(COLUMNS($Q1:ND1)<=$E$60,1,0)","v":0},{"$f":"IF(COLUMNS($Q1:NE1)<=$E$60,1,0)","v":0},{"$f":"IF(COLUMNS($Q1:NF1)<=$E$60,1,0)","v":0},{"$f":"IF(COLUMNS($Q1:NG1)<=$E$60,1,0)","v":0},{"$f":"IF(COLUMNS($Q1:NH1)<=$E$60,1,0)","v":0},{"$f":"IF(COLUMNS($Q1:NI1)<=$E$60,1,0)","v":0},{"$f":"IF(COLUMNS($Q1:NJ1)<=$E$60,1,0)","v":0},{"$f":"IF(COLUMNS($Q1:NK1)<=$E$60,1,0)","v":0},{"$f":"IF(COLUMNS($Q1:NL1)<=$E$60,1,0)","v":0},{"$f":"IF(COLUMNS($Q1:NM1)<=$E$60,1,0)","v":0},{"$f":"IF(COLUMNS($Q1:NN1)<=$E$60,1,0)","v":0},{"$f":"IF(COLUMNS($Q1:NO1)<=$E$60,1,0)","v":0},{"$f":"IF(COLUMNS($Q1:NP1)<=$E$60,1,0)","v":0},{"$f":"IF(COLUMNS($Q1:NQ1)<=$E$60,1,0)","v":0},{"$f":"IF(COLUMNS($Q1:NR1)<=$E$60,1,0)","v":0},{"$f":"IF(COLUMNS($Q1:NS1)<=$E$60,1,0)","v":0},{"$f":"IF(COLUMNS($Q1:NT1)<=$E$60,1,0)","v":0},{"$f":"IF(COLUMNS($Q1:NU1)<=$E$60,1,0)","v":0},{"$f":"IF(COLUMNS($Q1:NV1)<=$E$60,1,0)","v":0},{"$f":"IF(COLUMNS($Q1:NW1)<=$E$60,1,0)","v":0},{"$f":"IF(COLUMNS($Q1:NX1)<=$E$60,1,0)","v":0},{"$f":"IF(COLUMNS($Q1:NY1)<=$E$60,1,0)","v":0},{"$f":"IF(COLUMNS($Q1:NZ1)<=$E$60,1,0)","v":0},{"$f":"IF(COLUMNS($Q1:OA1)<=$E$60,1,0)","v":0},{"$f":"IF(COLUMNS($Q1:OB1)<=$E$60,1,0)","v":0},{"$f":"IF(COLUMNS($Q1:OC1)<=$E$60,1,0)","v":0},{"$f":"IF(COLUMNS($Q1:OD1)<=$E$60,1,0)","v":0},{"$f":"IF(COLUMNS($Q1:OE1)<=$E$60,1,0)","v":0},{"$f":"IF(COLUMNS($Q1:OF1)<=$E$60,1,0)","v":0},{"$f":"IF(COLUMNS($Q1:OG1)<=$E$60,1,0)","v":0},{"$f":"IF(COLUMNS($Q1:OH1)<=$E$60,1,0)","v":0},{"$f":"IF(COLUMNS($Q1:OI1)<=$E$60,1,0)","v":0},{"$f":"IF(COLUMNS($Q1:OJ1)<=$E$60,1,0)","v":0},{"$f":"IF(COLUMNS($Q1:OK1)<=$E$60,1,0)","v":0},{"$f":"IF(COLUMNS($Q1:OL1)<=$E$60,1,0)","v":0},{"$f":"IF(COLUMNS($Q1:OM1)<=$E$60,1,0)","v":0},{"$f":"IF(COLUMNS($Q1:ON1)<=$E$60,1,0)","v":0},{"$f":"IF(COLUMNS($Q1:OO1)<=$E$60,1,0)","v":0},{"$f":"IF(COLUMNS($Q1:OP1)<=$E$60,1,0)","v":0},{"$f":"IF(COLUMNS($Q1:OQ1)<=$E$60,1,0)","v":0},null,null,{"$f":"IF(COLUMNS($OT1:OT1)<=$E$60/12,1,0)","v":1},{"$f":"IF(COLUMNS($OT1:OU1)<=$E$60/12,1,0)","v":1},{"$f":"IF(COLUMNS($OT1:OV1)<=$E$60/12,1,0)","v":1},{"$f":"IF(COLUMNS($OT1:OW1)<=$E$60/12,1,0)","v":1},{"$f":"IF(COLUMNS($OT1:OX1)<=$E$60/12,1,0)","v":1},{"$f":"IF(COLUMNS($OT1:OY1)<=$E$60/12,1,0)","v":0},{"$f":"IF(COLUMNS($OT1:OZ1)<=$E$60/12,1,0)","v":0},{"$f":"IF(COLUMNS($OT1:PA1)<=$E$60/12,1,0)","v":0},{"$f":"IF(COLUMNS($OT1:PB1)<=$E$60/12,1,0)","v":0},{"$f":"IF(COLUMNS($OT1:PC1)<=$E$60/12,1,0)","v":0},{"$f":"IF(COLUMNS($OT1:PD1)<=$E$60/12,1,0)","v":0},{"$f":"IF(COLUMNS($OT1:PE1)<=$E$60/12,1,0)","v":0},{"$f":"IF(COLUMNS($OT1:PF1)<=$E$60/12,1,0)","v":0},{"$f":"IF(COLUMNS($OT1:PG1)<=$E$60/12,1,0)","v":0},{"$f":"IF(COLUMNS($OT1:PH1)<=$E$60/12,1,0)","v":0},{"$f":"IF(COLUMNS($OT1:PI1)<=$E$60/12,1,0)","v":0},{"$f":"IF(COLUMNS($OT1:PJ1)<=$E$60/12,1,0)","v":0},{"$f":"IF(COLUMNS($OT1:PK1)<=$E$60/12,1,0)","v":0},{"$f":"IF(COLUMNS($OT1:PL1)<=$E$60/12,1,0)","v":0},{"$f":"IF(COLUMNS($OT1:PM1)<=$E$60/12,1,0)","v":0},{"$f":"IF(COLUMNS($OT1:PN1)<=$E$60/12,1,0)","v":0},{"$f":"IF(COLUMNS($OT1:PO1)<=$E$60/12,1,0)","v":0},{"$f":"IF(COLUMNS($OT1:PP1)<=$E$60/12,1,0)","v":0},{"$f":"IF(COLUMNS($OT1:PQ1)<=$E$60/12,1,0)","v":0},{"$f":"IF(COLUMNS($OT1:PR1)<=$E$60/12,1,0)","v":0},{"$f":"IF(COLUMNS($OT1:PS1)<=$E$60/12,1,0)","v":0},{"$f":"IF(COLUMNS($OT1:PT1)<=$E$60/12,1,0)","v":0},{"$f":"IF(COLUMNS($OT1:PU1)<=$E$60/12,1,0)","v":0},{"$f":"IF(COLUMNS($OT1:PV1)<=$E$60/12,1,0)","v":0},{"$f":"IF(COLUMNS($OT1:PW1)<=$E$60/12,1,0)","v":0},{"$f":"IF(COLUMNS($OT1:PX1)<=$E$60/12,1,0)","v":0},{"$f":"IF(COLUMNS($OT1:PY1)<=$E$60/12,1,0)","v":0},{"$f":"IF(COLUMNS($OT1:PZ1)<=$E$60/12,1,0)","v":0},{"$f":"IF(COLUMNS($OT1:QA1)<=$E$60/12,1,0)","v":0}]
[]
[null,null,"Fecha nac.",null,"Edad","Manual",null,"Modelo","∑ Vida","∑ Mod",null,null,"Saldo Pago Diferido",null,null,null,{"$f":"I31-I33","v":122585.7939610465},{"$f":"IF(Q20-$I33<0,0,Q20-$I33)","v":119977.58557889657},117369.37719674665,114761.16881459672,112152.96043244679,109544.75205029687,106936.54366814694,104328.33528599702,101720.12690384709,99111.918521697167,96503.710139547242,93895.501757397316,91287.293375247391,88679.084993097465,86070.87661094754,83462.668228797615,80854.459846647689,78246.251464497764,75638.043082347838,73029.834700197913,70421.626318047987,67813.417935898062,65205.209553748136,62597.001171598211,59988.792789448285,57380.58440729836,54772.376025148435,52164.167642998509,49555.959260848584,46947.750878698658,44339.542496548733,41731.334114398807,39123.125732248882,36514.917350098956,33906.708967949031,31298.500585799105,28690.29220364918,26082.083821499255,23473.875439349329,20865.667057199404,18257.458675049478,15649.250292899553,13041.041910749627,10432.833528599702,7824.6251464497764,5216.4167642998509,2608.2083821499255,0,0,0,0,0,0,0,0,0,0,0,0,0,0,0,0,0,0,{"$f":"IF(CC20-$I33<0,0,CC20-$I33)","v":0},0,0,0,0,0,0,0,0,0,0,0,0,0,0,0,0,0,0,0,0,0,0,0,0,0,0,0,0,0,0,0,0,0,0,0,0,0,0,0,0,0,0,0,0,0,0,0,0,0,0,0,0,0,0,0,0,0,0,0,0,0,0,0,{"$f":"IF(EO20-$I33<0,0,EO20-$I33)","v":0},0,0,0,0,0,0,0,0,0,0,0,0,0,0,0,0,0,0,0,0,0,0,0,0,0,0,0,0,0,0,0,0,0,0,0,0,0,0,0,0,0,0,0,0,0,0,0,0,0,0,0,0,0,0,0,0,0,0,0,0,0,0,0,{"$f":"IF(HA20-$I33<0,0,HA20-$I33)","v":0},0,0,0,0,0,0,0,0,0,0,0,0,0,0,0,0,0,0,0,0,0,0,0,0,0,0,0,0,0,0,0,0,0,0,0,0,0,0,0,0,0,0,0,0,0,0,0,0,0,0,0,0,0,0,0,0,0,0,0,0,0,0,0,{"$f":"IF(JM20-$I33<0,0,JM20-$I33)","v":0},0,0,0,0,0,0,0,0,0,0,0,0,0,0,0,0,0,0,0,0,0,0,0,0,0,0,0,0,0,0,0,0,0,0,0,0,0,0,0,0,0,0,0,0,0,0,0,0,0,0,0,0,0,0,0,0,0,0,0,0,0,0,0,{"$f":"IF(LY20-$I33<0,0,LY20-$I33)","v":0},0,0,0,0,0,0,0,0,0,0,0,0,0,0,0,0,0,0,0,0,0,0,0,0,0,0,0,0,0,0,0,0,0,0,0,0,0,0,0,0,0,0,0,0,0,0,0,0,0,0,0,0,0,0,0,0,0,0,0,0,0,0,0,{"$f":"IF(OK20-$I33<0,0,OK20-$I33)","v":0},0,0,0,0,0,null,null,0,0,0,0,0,0,0,0,0,0,0,0,0,0,0,0,0,0,0,0,0,0,0,0,0,0,0,0,0,0,0,0,0,0]
[null,"Mujer",{"$f":"datec(D21)","v":123180},123123,{"$f":"IF(C21=0,\"-\",IFERROR(YEARFRAC(C21,$H$15),\"-\"))","v":212.83611111111111},"No",null,{"$f":"IF(F21=\"No\",E21,F21)","v":212.83611111111111},{"$f":"+VLOOKUP(H21,IF(OR($C$29=\"Vivienda Inversa\",$C$29=\"SLB Vitalicio\"),INDIRECT(OFFSET(_Esperanzas!$Q$23,MATCH($C$32,_Esperanzas!$Q$24:$Q$25,1),MATCH($H$21,_Esperanzas!$R$23:$S$23,1))),INDIRECT(_Esperanzas!R27)),5,TRUE)","v":1.1666666269302368},{"$f":"IFERROR(VLOOKUP(H21,IF(OR($C$29=\"Vivienda Inversa\",$C$29=\"SLB Vitalicio\"),INDIRECT(OFFSET(_Esperanzas!$Q$23,MATCH($C$32,_Esperanzas!$Q$24:$Q$25,1),MATCH($H$21,_Esperanzas!$R$23:$S$23,1))),INDIRECT(_Esperanzas!R27)),6,TRUE),\"-\")","v":14},null,null,"Consumo",null,{"$f":"SUM(Q21:OQ21)","v":125194.00234319642},null,{"$f":"IF(Q22=1,$I$33,0)","v":2608.2083821499255},2608.2083821499255,2608.2083821499255,2608.2083821499255,2608.2083821499255,2608.2083821499255,2608.2083821499255,2608.2083821499255,2608.2083821499255,2608.2083821499255,2608.2083821499255,2608.2083821499255,2608.2083821499255,2608.2083821499255,2608.2083821499255,2608.2083821499255,2608.2083821499255,2608.2083821499255,2608.2083821499255,2608.2083821499255,2608.2083821499255,2608.2083821499255,2608.2083821499255,2608.2083821499255,2608.2083821499255,2608.2083821499255,2608.2083821499255,2608.2083821499255,2608.2083821499255,2608.2083821499255,2608.2083821499255,2608.2083821499255,2608.2083821499255,2608.2083821499255,2608.2083821499255,2608.2083821499255,2608.2083821499255,2608.2083821499255,2608.2083821499255,2608.2083821499255,2608.2083821499255,2608.2083821499255,2608.2083821499255,2608.2083821499255,2608.2083821499255,2608.2083821499255,2608.2083821499255,2608.2083821499255,0,0,0,0,0,0,0,0,0,0,0,0,0,0,0,0,{"$f":"IF(CC22=1,$I$33,0)","v":0},0,0,0,0,0,0,0,0,0,0,0,0,0,0,0,0,0,0,0,0,0,0,0,0,0,0,0,0,0,0,0,0,0,0,0,0,0,0,0,0,0,0,0,0,0,0,0,0,0,0,0,0,0,0,0,0,0,0,0,0,0,0,0,{"$f":"IF(EO22=1,$I$33,0)","v":0},0,0,0,0,0,0,0,0,0,0,0,0,0,0,0,0,0,0,0,0,0,0,0,0,0,0,0,0,0,0,0,0,0,0,0,0,0,0,0,0,0,0,0,0,0,0,0,0,0,0,0,0,0,0,0,0,0,0,0,0,0,0,0,{"$f":"IF(HA22=1,$I$33,0)","v":0},0,0,0,0,0,0,0,0,0,0,0,0,0,0,0,0,0,0,0,0,0,0,0,0,0,0,0,0,0,0,0,0,0,0,0,0,0,0,0,0,0,0,0,0,0,0,0,0,0,0,0,0,0,0,0,0,0,0,0,0,0,0,0,{"$f":"IF(JM22=1,$I$33,0)","v":0},0,0,0,0,0,0,0,0,0,0,0,0,0,0,0,0,0,0,0,0,0,0,0,0,0,0,0,0,0,0,0,0,0,0,0,0,0,0,0,0,0,0,0,0,0,0,0,0,0,0,0,0,0,0,0,0,0,0,0,0,0,0,0,{"$f":"IF(LY22=1,$I$33,0)","v":0},0,0,0,0,0,0,0,0,0,0,0,0,0,0,0,0,0,0,0,0,0,0,0,0,0,0,0,0,0,0,0,0,0,0,0,0,0,0,0,0,0,0,0,0,0,0,0,0,0,0,0,0,0,0,0,0,0,0,0,0,0,0,0,{"$f":"IF(OK22=1,$I$33,0)","v":0},0,0,0,0,0,0,null,null,18257.458675049478,31298.500585799105,31298.500585799105,31298.500585799105,13041.041910749627,0,0,0,0,0,0,0,0,0,0,0,0,0,0,0,0,0,0,0,0,0,0,0,0,0,0,0,0,0]
[null,"Hombre",{"$f":"datec(D22)","v":"1933-03-29"},12142,{"$f":"IF(C22=0,\"-\",IFERROR(YEARFRAC(C22,$H$15),\"-\"))","v":91.172222222222217},"No",null,{"$f":"IF(F22=\"No\",E22,F22)","v":91.172222222222217},{"$f":"IFERROR(VLOOKUP(H22,IF(OR($C$29=\"Vivienda Inversa\",$C$29=\"SLB Vitalicio\"),INDIRECT(OFFSET(_Esperanzas!$Q$23,MATCH($C$32,_Esperanzas!$Q$24:$Q$25,1),MATCH($H$22,_Esperanzas!$R$23:$S$23,1))),INDIRECT(_Esperanzas!R28)),2,TRUE),\"-\")","v":4.9583333492279049},{"$f":"IFERROR(VLOOKUP(H22,IF(OR($C$29=\"Vivienda Inversa\",$C$29=\"SLB Vitalicio\"),INDIRECT(OFFSET(_Esperanzas!$Q$23,MATCH($C$32,_Esperanzas!$Q$24:$Q$25,1),MATCH($H$22,_Esperanzas!$R$23:$S$23,1))),INDIRECT(_Esperanzas!R28)),3,TRUE),\"-\")","v":60},null,null,"Contrato Vigente",null,null,null,{"$f":"IF(SUM($Q1:Q1)<=$I$32,1,0)*Q1","v":1},{"$f":"IF(SUM($Q1:R1)<=$I$32,1,0)*R1","v":1},{"$f":"IF(SUM($Q1:S1)<=$I$32,1,0)*S1","v":1},{"$f":"IF(SUM($Q1:T1)<=$I$32,1,0)*T1","v":1},{"$f":"IF(SUM($Q1:U1)<=$I$32,1,0)*U1","v":1},{"$f":"IF(SUM($Q1:V1)<=$I$32,1,0)*V1","v":1},{"$f":"IF(SUM($Q1:W1)<=$I$32,1,0)*W1","v":1},{"$f":"IF(SUM($Q1:X1)<=$I$32,1,0)*X1","v":1},{"$f":"IF(SUM($Q1:Y1)<=$I$32,1,0)*Y1","v":1},{"$f":"IF(SUM($Q1:Z1)<=$I$32,1,0)*Z1","v":1},{"$f":"IF(SUM($Q1:AA1)<=$I$32,1,0)*AA1","v":1},{"$f":"IF(SUM($Q1:AB1)<=$I$32,1,0)*AB1","v":1},{"$f":"IF(SUM($Q1:AC1)<=$I$32,1,0)*AC1","v":1},{"$f":"IF(SUM($Q1:AD1)<=$I$32,1,0)*AD1","v":1},{"$f":"IF(SUM($Q1:AE1)<=$I$32,1,0)*AE1","v":1},{"$f":"IF(SUM($Q1:AF1)<=$I$32,1,0)*AF1","v":1},{"$f":"IF(SUM($Q1:AG1)<=$I$32,1,0)*AG1","v":1},{"$f":"IF(SUM($Q1:AH1)<=$I$32,1,0)*AH1","v":1},{"$f":"IF(SUM($Q1:AI1)<=$I$32,1,0)*AI1","v":1},{"$f":"IF(SUM($Q1:AJ1)<=$I$32,1,0)*AJ1","v":1},{"$f":"IF(SUM($Q1:AK1)<=$I$32,1,0)*AK1","v":1},{"$f":"IF(SUM($Q1:AL1)<=$I$32,1,0)*AL1","v":1},{"$f":"IF(SUM($Q1:AM1)<=$I$32,1,0)*AM1","v":1},{"$f":"IF(SUM($Q1:AN1)<=$I$32,1,0)*AN1","v":1},{"$f":"IF(SUM($Q1:AO1)<=$I$32,1,0)*AO1","v":1},{"$f":"IF(SUM($Q1:AP1)<=$I$32,1,0)*AP1","v":1},{"$f":"IF(SUM($Q1:AQ1)<=$I$32,1,0)*AQ1","v":1},{"$f":"IF(SUM($Q1:AR1)<=$I$32,1,0)*AR1","v":1},{"$f":"IF(SUM($Q1:AS1)<=$I$32,1,0)*AS1","v":1},{"$f":"IF(SUM($Q1:AT1)<=$I$32,1,0)*AT1","v":1},{"$f":"IF(SUM($Q1:AU1)<=$I$32,1,0)*AU1","v":1},{"$f":"IF(SUM($Q1:AV1)<=$I$32,1,0)*AV1","v":1},{"$f":"IF(SUM($Q1:AW1)<=$I$32,1,0)*AW1","v":1},{"$f":"IF(SUM($Q1:AX1)<=$I$32,1,0)*AX1","v":1},{"$f":"IF(SUM($Q1:AY1)<=$I$32,1,0)*AY1","v":1},{"$f":"IF(SUM($Q1:AZ1)<=$I$32,1,0)*AZ1","v":1},{"$f":"IF(SUM($Q1:BA1)<=$I$32,1,0)*BA1","v":1},{"$f":"IF(SUM($Q1:BB1)<=$I$32,1,0)*BB1","v":1},{"$f":"IF(SUM($Q1:BC1)<=$I$32,1,0)*BC1","v":1},{"$f":"IF(SUM($Q1:BD1)<=$I$32,1,0)*BD1","v":1},{"$f":"IF(SUM($Q1:BE1)<=$I$32,1,0)*BE1","v":1},{"$f":"IF(SUM($Q1:BF1)<=$I$32,1,0)*BF1","v":1},{"$f":"IF(SUM($Q1:BG1)<=$I$32,1,0)*BG1","v":1},{"$f":"IF(SUM($Q1:BH1)<=$I$32,1,0)*BH1","v":1},{"$f":"IF(SUM($Q1:BI1)<=$I$32,1,0)*BI1","v":1},{"$f":"IF(SUM($Q1:BJ1)<=$I$32,1,0)*BJ1","v":1},{"$f":"IF(SUM($Q1:BK1)<=$I$32,1,0)*BK1","v":1},{"$f":"IF(SUM($Q1:BL1)<=$I$32,1,0)*BL1","v":1},{"$f":"IF(SUM($Q1:BM1)<=$I$32,1,0)*BM1","v":0},{"$f":"IF(SUM($Q1:BN1)<=$I$32,1,0)*BN1","v":0},{"$f":"IF(SUM($Q1:BO1)<=$I$32,1,0)*BO1","v":0},{"$f":"IF(SUM($Q1:BP1)<=$I$32,1,0)*BP1","v":0},{"$f":"IF(SUM($Q1:BQ1)<=$I$32,1,0)*BQ1","v":0},{"$f":"IF(SUM($Q1:BR1)<=$I$32,1,0)*BR1","v":0},{"$f":"IF(SUM($Q1:BS1)<=$I$32,1,0)*BS1","v":0},{"$f":"IF(SUM($Q1:BT1)<=$I$32,1,0)*BT1","v":0},{"$f":"IF(SUM($Q1:BU1)<=$I$32,1,0)*BU1","v":0},{"$f":"IF(SUM($Q1:BV1)<=$I$32,1,0)*BV1","v":0},{"$f":"IF(SUM($Q1:BW1)<=$I$32,1,0)*BW1","v":0},{"$f":"IF(SUM($Q1:BX1)<=$I$32,1,0)*BX1","v":0},{"$f":"IF(SUM($Q1:BY1)<=$I$32,1,0)*BY1","v":0},{"$f":"IF(SUM($Q1:BZ1)<=$I$32,1,0)*BZ1","v":0},{"$f":"IF(SUM($Q1:CA1)<=$I$32,1,0)*CA1","v":0},{"$f":"IF(SUM($Q1:CB1)<=$I$32,1,0)*CB1","v":0},{"$f":"IF(SUM($Q1:CC1)<=$I$32,1,0)*CC1","v":0},{"$f":"IF(SUM($Q1:CD1)<=$I$32,1,0)*CD1","v":0},{"$f":"IF(SUM($Q1:CE1)<=$I$32,1,0)*CE1","v":0},{"$f":"IF(SUM($Q1:CF1)<=$I$32,1,0)*CF1","v":0},{"$f":"IF(SUM($Q1:CG1)<=$I$32,1,0)*CG1","v":0},{"$f":"IF(SUM($Q1:CH1)<=$I$32,1,0)*CH1","v":0},{"$f":"IF(SUM($Q1:CI1)<=$I$32,1,0)*CI1","v":0},{"$f":"IF(SUM($Q1:CJ1)<=$I$32,1,0)*CJ1","v":0},{"$f":"IF(SUM($Q1:CK1)<=$I$32,1,0)*CK1","v":0},{"$f":"IF(SUM($Q1:CL1)<=$I$32,1,0)*CL1","v":0},{"$f":"IF(SUM($Q1:CM1)<=$I$32,1,0)*CM1","v":0},{"$f":"IF(SUM($Q1:CN1)<=$I$32,1,0)*CN1","v":0},{"$f":"IF(SUM($Q1:CO1)<=$I$32,1,0)*CO1","v":0},{"$f":"IF(SUM($Q1:CP1)<=$I$32,1,0)*CP1","v":0},{"$f":"IF(SUM($Q1:CQ1)<=$I$32,1,0)*CQ1","v":0},{"$f":"IF(SUM($Q1:CR1)<=$I$32,1,0)*CR1","v":0},{"$f":"IF(SUM($Q1:CS1)<=$I$32,1,0)*CS1","v":0},{"$f":"IF(SUM($Q1:CT1)<=$I$32,1,0)*CT1","v":0},{"$f":"IF(SUM($Q1:CU1)<=$I$32,1,0)*CU1","v":0},{"$f":"IF(SUM($Q1:CV1)<=$I$32,1,0)*CV1","v":0},{"$f":"IF(SUM($Q1:CW1)<=$I$32,1,0)*CW1","v":0},{"$f":"IF(SUM($Q1:CX1)<=$I$32,1,0)*CX1","v":0},{"$f":"IF(SUM($Q1:CY1)<=$I$32,1,0)*CY1","v":0},{"$f":"IF(SUM($Q1:CZ1)<=$I$32,1,0)*CZ1","v":0},{"$f":"IF(SUM($Q1:DA1)<=$I$32,1,0)*DA1","v":0},{"$f":"IF(SUM($Q1:DB1)<=$I$32,1,0)*DB1","v":0},{"$f":"IF(SUM($Q1:DC1)<=$I$32,1,0)*DC1","v":0},{"$f":"IF(SUM($Q1:DD1)<=$I$32,1,0)*DD1","v":0},{"$f":"IF(SUM($Q1:DE1)<=$I$32,1,0)*DE1","v":0},{"$f":"IF(SUM($Q1:DF1)<=$I$32,1,0)*DF1","v":0},{"$f":"IF(SUM($Q1:DG1)<=$I$32,1,0)*DG1","v":0},{"$f":"IF(SUM($Q1:DH1)<=$I$32,1,0)*DH1","v":0},{"$f":"IF(SUM($Q1:DI1)<=$I$32,1,0)*DI1","v":0},{"$f":"IF(SUM($Q1:DJ1)<=$I$32,1,0)*DJ1","v":0},{"$f":"IF(SUM($Q1:DK1)<=$I$32,1,0)*DK1","v":0},{"$f":"IF(SUM($Q1:DL1)<=$I$32,1,0)*DL1","v":0},{"$f":"IF(SUM($Q1:DM1)<=$I$32,1,0)*DM1","v":0},{"$f":"IF(SUM($Q1:DN1)<=$I$32,1,0)*DN1","v":0},{"$f":"IF(SUM($Q1:DO1)<=$I$32,1,0)*DO1","v":0},{"$f":"IF(SUM($Q1:DP1)<=$I$32,1,0)*DP1","v":0},{"$f":"IF(SUM($Q1:DQ1)<=$I$32,1,0)*DQ1","v":0},{"$f":"IF(SUM($Q1:DR1)<=$I$32,1,0)*DR1","v":0},{"$f":"IF(SUM($Q1:DS1)<=$I$32,1,0)*DS1","v":0},{"$f":"IF(SUM($Q1:DT1)<=$I$32,1,0)*DT1","v":0},{"$f":"IF(SUM($Q1:DU1)<=$I$32,1,0)*DU1","v":0},{"$f":"IF(SUM($Q1:DV1)<=$I$32,1,0)*DV1","v":0},{"$f":"IF(SUM($Q1:DW1)<=$I$32,1,0)*DW1","v":0},{"$f":"IF(SUM($Q1:DX1)<=$I$32,1,0)*DX1","v":0},{"$f":"IF(SUM($Q1:DY1)<=$I$32,1,0)*DY1","v":0},{"$f":"IF(SUM($Q1:DZ1)<=$I$32,1,0)*DZ1","v":0},{"$f":"IF(SUM($Q1:EA1)<=$I$32,1,0)*EA1","v":0},{"$f":"IF(SUM($Q1:EB1)<=$I$32,1,0)*EB1","v":0},{"$f":"IF(SUM($Q1:EC1)<=$I$32,1,0)*EC1","v":0},{"$f":"IF(SUM($Q1:ED1)<=$I$32,1,0)*ED1","v":0},{"$f":"IF(SUM($Q1:EE1)<=$I$32,1,0)*EE1","v":0},{"$f":"IF(SUM($Q1:EF1)<=$I$32,1,0)*EF1","v":0},{"$f":"IF(SUM($Q1:EG1)<=$I$32,1,0)*EG1","v":0},{"$f":"IF(SUM($Q1:EH1)<=$I$32,1,0)*EH1","v":0},{"$f":"IF(SUM($Q1:EI1)<=$I$32,1,0)*EI1","v":0},{"$f":"IF(SUM($Q1:EJ1)<=$I$32,1,0)*EJ1","v":0},{"$f":"IF(SUM($Q1:EK1)<=$I$32,1,0)*EK1","v":0},{"$f":"IF(SUM($Q1:EL1)<=$I$32,1,0)*EL1","v":0},{"$f":"IF(SUM($Q1:EM1)<=$I$32,1,0)*EM1","v":0},{"$f":"IF(SUM($Q1:EN1)<=$I$32,1,0)*EN1","v":0},{"$f":"IF(SUM($Q1:EO1)<=$I$32,1,0)*EO1","v":0},{"$f":"IF(SUM($Q1:EP1)<=$I$32,1,0)*EP1","v":0},{"$f":"IF(SUM($Q1:EQ1)<=$I$32,1,0)*EQ1","v":0},{"$f":"IF(SUM($Q1:ER1)<=$I$32,1,0)*ER1","v":0},{"$f":"IF(SUM($Q1:ES1)<=$I$32,1,0)*ES1","v":0},{"$f":"IF(SUM($Q1:ET1)<=$I$32,1,0)*ET1","v":0},{"$f":"IF(SUM($Q1:EU1)<=$I$32,1,0)*EU1","v":0},{"$f":"IF(SUM($Q1:EV1)<=$I$32,1,0)*EV1","v":0},{"$f":"IF(SUM($Q1:EW1)<=$I$32,1,0)*EW1","v":0},{"$f":"IF(SUM($Q1:EX1)<=$I$32,1,0)*EX1","v":0},{"$f":"IF(SUM($Q1:EY1)<=$I$32,1,0)*EY1","v":0},{"$f":"IF(SUM($Q1:EZ1)<=$I$32,1,0)*EZ1","v":0},{"$f":"IF(SUM($Q1:FA1)<=$I$32,1,0)*FA1","v":0},{"$f":"IF(SUM($Q1:FB1)<=$I$32,1,0)*FB1","v":0},{"$f":"IF(SUM($Q1:FC1)<=$I$32,1,0)*FC1","v":0},{"$f":"IF(SUM($Q1:FD1)<=$I$32,1,0)*FD1","v":0},{"$f":"IF(SUM($Q1:FE1)<=$I$32,1,0)*FE1","v":0},{"$f":"IF(SUM($Q1:FF1)<=$I$32,1,0)*FF1","v":0},{"$f":"IF(SUM($Q1:FG1)<=$I$32,1,0)*FG1","v":0},{"$f":"IF(SUM($Q1:FH1)<=$I$32,1,0)*FH1","v":0},{"$f":"IF(SUM($Q1:FI1)<=$I$32,1,0)*FI1","v":0},{"$f":"IF(SUM($Q1:FJ1)<=$I$32,1,0)*FJ1","v":0},{"$f":"IF(SUM($Q1:FK1)<=$I$32,1,0)*FK1","v":0},{"$f":"IF(SUM($Q1:FL1)<=$I$32,1,0)*FL1","v":0},{"$f":"IF(SUM($Q1:FM1)<=$I$32,1,0)*FM1","v":0},{"$f":"IF(SUM($Q1:FN1)<=$I$32,1,0)*FN1","v":0},{"$f":"IF(SUM($Q1:FO1)<=$I$32,1,0)*FO1","v":0},{"$f":"IF(SUM($Q1:FP1)<=$I$32,1,0)*FP1","v":0},{"$f":"IF(SUM($Q1:FQ1)<=$I$32,1,0)*FQ1","v":0},{"$f":"IF(SUM($Q1:FR1)<=$I$32,1,0)*FR1","v":0},{"$f":"IF(SUM($Q1:FS1)<=$I$32,1,0)*FS1","v":0},{"$f":"IF(SUM($Q1:FT1)<=$I$32,1,0)*FT1","v":0},{"$f":"IF(SUM($Q1:FU1)<=$I$32,1,0)*FU1","v":0},{"$f":"IF(SUM($Q1:FV1)<=$I$32,1,0)*FV1","v":0},{"$f":"IF(SUM($Q1:FW1)<=$I$32,1,0)*FW1","v":0},{"$f":"IF(SUM($Q1:FX1)<=$I$32,1,0)*FX1","v":0},{"$f":"IF(SUM($Q1:FY1)<=$I$32,1,0)*FY1","v":0},{"$f":"IF(SUM($Q1:FZ1)<=$I$32,1,0)*FZ1","v":0},{"$f":"IF(SUM($Q1:GA1)<=$I$32,1,0)*GA1","v":0},{"$f":"IF(SUM($Q1:GB1)<=$I$32,1,0)*GB1","v":0},{"$f":"IF(SUM($Q1:GC1)<=$I$32,1,0)*GC1","v":0},{"$f":"IF(SUM($Q1:GD1)<=$I$32,1,0)*GD1","v":0},{"$f":"IF(SUM($Q1:GE1)<=$I$32,1,0)*GE1","v":0},{"$f":"IF(SUM($Q1:GF1)<=$I$32,1,0)*GF1","v":0},{"$f":"IF(SUM($Q1:GG1)<=$I$32,1,0)*GG1","v":0},{"$f":"IF(SUM($Q1:GH1)<=$I$32,1,0)*GH1","v":0},{"$f":"IF(SUM($Q1:GI1)<=$I$32,1,0)*GI1","v":0},{"$f":"IF(SUM($Q1:GJ1)<=$I$32,1,0)*GJ1","v":0},{"$f":"IF(SUM($Q1:GK1)<=$I$32,1,0)*GK1","v":0},{"$f":"IF(SUM($Q1:GL1)<=$I$32,1,0)*GL1","v":0},{"$f":"IF(SUM($Q1:GM1)<=$I$32,1,0)*GM1","v":0},{"$f":"IF(SUM($Q1:GN1)<=$I$32,1,0)*GN1","v":0},{"$f":"IF(SUM($Q1:GO1)<=$I$32,1,0)*GO1","v":0},{"$f":"IF(SUM($Q1:GP1)<=$I$32,1,0)*GP1","v":0},{"$f":"IF(SUM($Q1:GQ1)<=$I$32,1,0)*GQ1","v":0},{"$f":"IF(SUM($Q1:GR1)<=$I$32,1,0)*GR1","v":0},{"$f":"IF(SUM($Q1:GS1)<=$I$32,1,0)*GS1","v":0},{"$f":"IF(SUM($Q1:GT1)<=$I$32,1,0)*GT1","v":0},{"$f":"IF(SUM($Q1:GU1)<=$I$32,1,0)*GU1","v":0},{"$f":"IF(SUM($Q1:GV1)<=$I$32,1,0)*GV1","v":0},{"$f":"IF(SUM($Q1:GW1)<=$I$32,1,0)*GW1","v":0},{"$f":"IF(SUM($Q1:GX1)<=$I$32,1,0)*GX1","v":0},{"$f":"IF(SUM($Q1:GY1)<=$I$32,1,0)*GY1","v":0},{"$f":"IF(SUM($Q1:GZ1)<=$I$32,1,0)*GZ1","v":0},{"$f":"IF(SUM($Q1:HA1)<=$I$32,1,0)*HA1","v":0},{"$f":"IF(SUM($Q1:HB1)<=$I$32,1,0)*HB1","v":0},{"$f":"IF(SUM($Q1:HC1)<=$I$32,1,0)*HC1","v":0},{"$f":"IF(SUM($Q1:HD1)<=$I$32,1,0)*HD1","v":0},{"$f":"IF(SUM($Q1:HE1)<=$I$32,1,0)*HE1","v":0},{"$f":"IF(SUM($Q1:HF1)<=$I$32,1,0)*HF1","v":0},{"$f":"IF(SUM($Q1:HG1)<=$I$32,1,0)*HG1","v":0},{"$f":"IF(SUM($Q1:HH1)<=$I$32,1,0)*HH1","v":0},{"$f":"IF(SUM($Q1:HI1)<=$I$32,1,0)*HI1","v":0},{"$f":"IF(SUM($Q1:HJ1)<=$I$32,1,0)*HJ1","v":0},{"$f":"IF(SUM($Q1:HK1)<=$I$32,1,0)*HK1","v":0},{"$f":"IF(SUM($Q1:HL1)<=$I$32,1,0)*HL1","v":0},{"$f":"IF(SUM($Q1:HM1)<=$I$32,1,0)*HM1","v":0},{"$f":"IF(SUM($Q1:HN1)<=$I$32,1,0)*HN1","v":0},{"$f":"IF(SUM($Q1:HO1)<=$I$32,1,0)*HO1","v":0},{"$f":"IF(SUM($Q1:HP1)<=$I$32,1,0)*HP1","v":0},{"$f":"IF(SUM($Q1:HQ1)<=$I$32,1,0)*HQ1","v":0},{"$f":"IF(SUM($Q1:HR1)<=$I$32,1,0)*HR1","v":0},{"$f":"IF(SUM($Q1:HS1)<=$I$32,1,0)*HS1","v":0},{"$f":"IF(SUM($Q1:HT1)<=$I$32,1,0)*HT1","v":0},{"$f":"IF(SUM($Q1:HU1)<=$I$32,1,0)*HU1","v":0},{"$f":"IF(SUM($Q1:HV1)<=$I$32,1,0)*HV1","v":0},{"$f":"IF(SUM($Q1:HW1)<=$I$32,1,0)*HW1","v":0},{"$f":"IF(SUM($Q1:HX1)<=$I$32,1,0)*HX1","v":0},{"$f":"IF(SUM($Q1:HY1)<=$I$32,1,0)*HY1","v":0},{"$f":"IF(SUM($Q1:HZ1)<=$I$32,1,0)*HZ1","v":0},{"$f":"IF(SUM($Q1:IA1)<=$I$32,1,0)*IA1","v":0},{"$f":"IF(SUM($Q1:IB1)<=$I$32,1,0)*IB1","v":0},{"$f":"IF(SUM($Q1:IC1)<=$I$32,1,0)*IC1","v":0},{"$f":"IF(SUM($Q1:ID1)<=$I$32,1,0)*ID1","v":0},{"$f":"IF(SUM($Q1:IE1)<=$I$32,1,0)*IE1","v":0},{"$f":"IF(SUM($Q1:IF1)<=$I$32,1,0)*IF1","v":0},{"$f":"IF(SUM($Q1:IG1)<=$I$32,1,0)*IG1","v":0},{"$f":"IF(SUM($Q1:IH1)<=$I$32,1,0)*IH1","v":0},{"$f":"IF(SUM($Q1:II1)<=$I$32,1,0)*II1","v":0},{"$f":"IF(SUM($Q1:IJ1)<=$I$32,1,0)*IJ1","v":0},{"$f":"IF(SUM($Q1:IK1)<=$I$32,1,0)*IK1","v":0},{"$f":"IF(SUM($Q1:IL1)<=$I$32,1,0)*IL1","v":0},{"$f":"IF(SUM($Q1:IM1)<=$I$32,1,0)*IM1","v":0},{"$f":"IF(SUM($Q1:IN1)<=$I$32,1,0)*IN1","v":0},{"$f":"IF(SUM($Q1:IO1)<=$I$32,1,0)*IO1","v":0},{"$f":"IF(SUM($Q1:IP1)<=$I$32,1,0)*IP1","v":0},{"$f":"IF(SUM($Q1:IQ1)<=$I$32,1,0)*IQ1","v":0},{"$f":"IF(SUM($Q1:IR1)<=$I$32,1,0)*IR1","v":0},{"$f":"IF(SUM($Q1:IS1)<=$I$32,1,0)*IS1","v":0},{"$f":"IF(SUM($Q1:IT1)<=$I$32,1,0)*IT1","v":0},{"$f":"IF(SUM($Q1:IU1)<=$I$32,1,0)*IU1","v":0},{"$f":"IF(SUM($Q1:IV1)<=$I$32,1,0)*IV1","v":0},{"$f":"IF(SUM($Q1:IW1)<=$I$32,1,0)*IW1","v":0},{"$f":"IF(SUM($Q1:IX1)<=$I$32,1,0)*IX1","v":0},{"$f":"IF(SUM($Q1:IY1)<=$I$32,1,0)*IY1","v":0},{"$f":"IF(SUM($Q1:IZ1)<=$I$32,1,0)*IZ1","v":0},{"$f":"IF(SUM($Q1:JA1)<=$I$32,1,0)*JA1","v":0},{"$f":"IF(SUM($Q1:JB1)<=$I$32,1,0)*JB1","v":0},{"$f":"IF(SUM($Q1:JC1)<=$I$32,1,0)*JC1","v":0},{"$f":"IF(SUM($Q1:JD1)<=$I$32,1,0)*JD1","v":0},{"$f":"IF(SUM($Q1:JE1)<=$I$32,1,0)*JE1","v":0},{"$f":"IF(SUM($Q1:JF1)<=$I$32,1,0)*JF1","v":0},{"$f":"IF(SUM($Q1:JG1)<=$I$32,1,0)*JG1","v":0},{"$f":"IF(SUM($Q1:JH1)<=$I$32,1,0)*JH1","v":0},{"$f":"IF(SUM($Q1:JI1)<=$I$32,1,0)*JI1","v":0},{"$f":"IF(SUM($Q1:JJ1)<=$I$32,1,0)*JJ1","v":0},{"$f":"IF(SUM($Q1:JK1)<=$I$32,1,0)*JK1","v":0},{"$f":"IF(SUM($Q1:JL1)<=$I$32,1,0)*JL1","v":0},{"$f":"IF(SUM($Q1:JM1)<=$I$32,1,0)*JM1","v":0},{"$f":"IF(SUM($Q1:JN1)<=$I$32,1,0)*JN1","v":0},{"$f":"IF(SUM($Q1:JO1)<=$I$32,1,0)*JO1","v":0},{"$f":"IF(SUM($Q1:JP1)<=$I$32,1,0)*JP1","v":0},{"$f":"IF(SUM($Q1:JQ1)<=$I$32,1,0)*JQ1","v":0},{"$f":"IF(SUM($Q1:JR1)<=$I$32,1,0)*JR1","v":0},{"$f":"IF(SUM($Q1:JS1)<=$I$32,1,0)*JS1","v":0},{"$f":"IF(SUM($Q1:JT1)<=$I$32,1,0)*JT1","v":0},{"$f":"IF(SUM($Q1:JU1)<=$I$32,1,0)*JU1","v":0},{"$f":"IF(SUM($Q1:JV1)<=$I$32,1,0)*JV1","v":0},{"$f":"IF(SUM($Q1:JW1)<=$I$32,1,0)*JW1","v":0},{"$f":"IF(SUM($Q1:JX1)<=$I$32,1,0)*JX1","v":0},{"$f":"IF(SUM($Q1:JY1)<=$I$32,1,0)*JY1","v":0},{"$f":"IF(SUM($Q1:JZ1)<=$I$32,1,0)*JZ1","v":0},{"$f":"IF(SUM($Q1:KA1)<=$I$32,1,0)*KA1","v":0},{"$f":"IF(SUM($Q1:KB1)<=$I$32,1,0)*KB1","v":0},{"$f":"IF(SUM($Q1:KC1)<=$I$32,1,0)*KC1","v":0},{"$f":"IF(SUM($Q1:KD1)<=$I$32,1,0)*KD1","v":0},{"$f":"IF(SUM($Q1:KE1)<=$I$32,1,0)*KE1","v":0},{"$f":"IF(SUM($Q1:KF1)<=$I$32,1,0)*KF1","v":0},{"$f":"IF(SUM($Q1:KG1)<=$I$32,1,0)*KG1","v":0},{"$f":"IF(SUM($Q1:KH1)<=$I$32,1,0)*KH1","v":0},{"$f":"IF(SUM($Q1:KI1)<=$I$32,1,0)*KI1","v":0},{"$f":"IF(SUM($Q1:KJ1)<=$I$32,1,0)*KJ1","v":0},{"$f":"IF(SUM($Q1:KK1)<=$I$32,1,0)*KK1","v":0},{"$f":"IF(SUM($Q1:KL1)<=$I$32,1,0)*KL1","v":0},{"$f":"IF(SUM($Q1:KM1)<=$I$32,1,0)*KM1","v":0},{"$f":"IF(SUM($Q1:KN1)<=$I$32,1,0)*KN1","v":0},{"$f":"IF(SUM($Q1:KO1)<=$I$32,1,0)*KO1","v":0},{"$f":"IF(SUM($Q1:KP1)<=$I$32,1,0)*KP1","v":0},{"$f":"IF(SUM($Q1:KQ1)<=$I$32,1,0)*KQ1","v":0},{"$f":"IF(SUM($Q1:KR1)<=$I$32,1,0)*KR1","v":0},{"$f":"IF(SUM($Q1:KS1)<=$I$32,1,0)*KS1","v":0},{"$f":"IF(SUM($Q1:KT1)<=$I$32,1,0)*KT1","v":0},{"$f":"IF(SUM($Q1:KU1)<=$I$32,1,0)*KU1","v":0},{"$f":"IF(SUM($Q1:KV1)<=$I$32,1,0)*KV1","v":0},{"$f":"IF(SUM($Q1:KW1)<=$I$32,1,0)*KW1","v":0},{"$f":"IF(SUM($Q1:KX1)<=$I$32,1,0)*KX1","v":0},{"$f":"IF(SUM($Q1:KY1)<=$I$32,1,0)*KY1","v":0},{"$f":"IF(SUM($Q1:KZ1)<=$I$32,1,0)*KZ1","v":0},{"$f":"IF(SUM($Q1:LA1)<=$I$32,1,0)*LA1","v":0},{"$f":"IF(SUM($Q1:LB1)<=$I$32,1,0)*LB1","v":0},{"$f":"IF(SUM($Q1:LC1)<=$I$32,1,0)*LC1","v":0},{"$f":"IF(SUM($Q1:LD1)<=$I$32,1,0)*LD1","v":0},{"$f":"IF(SUM($Q1:LE1)<=$I$32,1,0)*LE1","v":0},{"$f":"IF(SUM($Q1:LF1)<=$I$32,1,0)*LF1","v":0},{"$f":"IF(SUM($Q1:LG1)<=$I$32,1,0)*LG1","v":0},{"$f":"IF(SUM($Q1:LH1)<=$I$32,1,0)*LH1","v":0},{"$f":"IF(SUM($Q1:LI1)<=$I$32,1,0)*LI1","v":0},{"$f":"IF(SUM($Q1:LJ1)<=$I$32,1,0)*LJ1","v":0},{"$f":"IF(SUM($Q1:LK1)<=$I$32,1,0)*LK1","v":0},{"$f":"IF(SUM($Q1:LL1)<=$I$32,1,0)*LL1","v":0},{"$f":"IF(SUM($Q1:LM1)<=$I$32,1,0)*LM1","v":0},{"$f":"IF(SUM($Q1:LN1)<=$I$32,1,0)*LN1","v":0},{"$f":"IF(SUM($Q1:LO1)<=$I$32,1,0)*LO1","v":0},{"$f":"IF(SUM($Q1:LP1)<=$I$32,1,0)*LP1","v":0},{"$f":"IF(SUM($Q1:LQ1)<=$I$32,1,0)*LQ1","v":0},{"$f":"IF(SUM($Q1:LR1)<=$I$32,1,0)*LR1","v":0},{"$f":"IF(SUM($Q1:LS1)<=$I$32,1,0)*LS1","v":0},{"$f":"IF(SUM($Q1:LT1)<=$I$32,1,0)*LT1","v":0},{"$f":"IF(SUM($Q1:LU1)<=$I$32,1,0)*LU1","v":0},{"$f":"IF(SUM($Q1:LV1)<=$I$32,1,0)*LV1","v":0},{"$f":"IF(SUM($Q1:LW1)<=$I$32,1,0)*LW1","v":0},{"$f":"IF(SUM($Q1:LX1)<=$I$32,1,0)*LX1","v":0},{"$f":"IF(SUM($Q1:LY1)<=$I$32,1,0)*LY1","v":0},{"$f":"IF(SUM($Q1:LZ1)<=$I$32,1,0)*LZ1","v":0},{"$f":"IF(SUM($Q1:MA1)<=$I$32,1,0)*MA1","v":0},{"$f":"IF(SUM($Q1:MB1)<=$I$32,1,0)*MB1","v":0},{"$f":"IF(SUM($Q1:MC1)<=$I$32,1,0)*MC1","v":0},{"$f":"IF(SUM($Q1:MD1)<=$I$32,1,0)*MD1","v":0},{"$f":"IF(SUM($Q1:ME1)<=$I$32,1,0)*ME1","v":0},{"$f":"IF(SUM($Q1:MF1)<=$I$32,1,0)*MF1","v":0},{"$f":"IF(SUM($Q1:MG1)<=$I$32,1,0)*MG1","v":0},{"$f":"IF(SUM($Q1:MH1)<=$I$32,1,0)*MH1","v":0},{"$f":"IF(SUM($Q1:MI1)<=$I$32,1,0)*MI1","v":0},{"$f":"IF(SUM($Q1:MJ1)<=$I$32,1,0)*MJ1","v":0},{"$f":"IF(SUM($Q1:MK1)<=$I$32,1,0)*MK1","v":0},{"$f":"IF(SUM($Q1:ML1)<=$I$32,1,0)*ML1","v":0},{"$f":"IF(SUM($Q1:MM1)<=$I$32,1,0)*MM1","v":0},{"$f":"IF(SUM($Q1:MN1)<=$I$32,1,0)*MN1","v":0},{"$f":"IF(SUM($Q1:MO1)<=$I$32,1,0)*MO1","v":0},{"$f":"IF(SUM($Q1:MP1)<=$I$32,1,0)*MP1","v":0},{"$f":"IF(SUM($Q1:MQ1)<=$I$32,1,0)*MQ1","v":0},{"$f":"IF(SUM($Q1:MR1)<=$I$32,1,0)*MR1","v":0},{"$f":"IF(SUM($Q1:MS1)<=$I$32,1,0)*MS1","v":0},{"$f":"IF(SUM($Q1:MT1)<=$I$32,1,0)*MT1","v":0},{"$f":"IF(SUM($Q1:MU1)<=$I$32,1,0)*MU1","v":0},{"$f":"IF(SUM($Q1:MV1)<=$I$32,1,0)*MV1","v":0},{"$f":"IF(SUM($Q1:MW1)<=$I$32,1,0)*MW1","v":0},{"$f":"IF(SUM($Q1:MX1)<=$I$32,1,0)*MX1","v":0},{"$f":"IF(SUM($Q1:MY1)<=$I$32,1,0)*MY1","v":0},{"$f":"IF(SUM($Q1:MZ1)<=$I$32,1,0)*MZ1","v":0},{"$f":"IF(SUM($Q1:NA1)<=$I$32,1,0)*NA1","v":0},{"$f":"IF(SUM($Q1:NB1)<=$I$32,1,0)*NB1","v":0},{"$f":"IF(SUM($Q1:NC1)<=$I$32,1,0)*NC1","v":0},{"$f":"IF(SUM($Q1:ND1)<=$I$32,1,0)*ND1","v":0},{"$f":"IF(SUM($Q1:NE1)<=$I$32,1,0)*NE1","v":0},{"$f":"IF(SUM($Q1:NF1)<=$I$32,1,0)*NF1","v":0},{"$f":"IF(SUM($Q1:NG1)<=$I$32,1,0)*NG1","v":0},{"$f":"IF(SUM($Q1:NH1)<=$I$32,1,0)*NH1","v":0},{"$f":"IF(SUM($Q1:NI1)<=$I$32,1,0)*NI1","v":0},{"$f":"IF(SUM($Q1:NJ1)<=$I$32,1,0)*NJ1","v":0},{"$f":"IF(SUM($Q1:NK1)<=$I$32,1,0)*NK1","v":0},{"$f":"IF(SUM($Q1:NL1)<=$I$32,1,0)*NL1","v":0},{"$f":"IF(SUM($Q1:NM1)<=$I$32,1,0)*NM1","v":0},{"$f":"IF(SUM($Q1:NN1)<=$I$32,1,0)*NN1","v":0},{"$f":"IF(SUM($Q1:NO1)<=$I$32,1,0)*NO1","v":0},{"$f":"IF(SUM($Q1:NP1)<=$I$32,1,0)*NP1","v":0},{"$f":"IF(SUM($Q1:NQ1)<=$I$32,1,0)*NQ1","v":0},{"$f":"IF(SUM($Q1:NR1)<=$I$32,1,0)*NR1","v":0},{"$f":"IF(SUM($Q1:NS1)<=$I$32,1,0)*NS1","v":0},{"$f":"IF(SUM($Q1:NT1)<=$I$32,1,0)*NT1","v":0},{"$f":"IF(SUM($Q1:NU1)<=$I$32,1,0)*NU1","v":0},{"$f":"IF(SUM($Q1:NV1)<=$I$32,1,0)*NV1","v":0},{"$f":"IF(SUM($Q1:NW1)<=$I$32,1,0)*NW1","v":0},{"$f":"IF(SUM($Q1:NX1)<=$I$32,1,0)*NX1","v":0},{"$f":"IF(SUM($Q1:NY1)<=$I$32,1,0)*NY1","v":0},{"$f":"IF(SUM($Q1:NZ1)<=$I$32,1,0)*NZ1","v":0},{"$f":"IF(SUM($Q1:OA1)<=$I$32,1,0)*OA1","v":0},{"$f":"IF(SUM($Q1:OB1)<=$I$32,1,0)*OB1","v":0},{"$f":"IF(SUM($Q1:OC1)<=$I$32,1,0)*OC1","v":0},{"$f":"IF(SUM($Q1:OD1)<=$I$32,1,0)*OD1","v":0},{"$f":"IF(SUM($Q1:OE1)<=$I$32,1,0)*OE1","v":0},{"$f":"IF(SUM($Q1:OF1)<=$I$32,1,0)*OF1","v":0},{"$f":"IF(SUM($Q1:OG1)<=$I$32,1,0)*OG1","v":0},{"$f":"IF(SUM($Q1:OH1)<=$I$32,1,0)*OH1","v":0},{"$f":"IF(SUM($Q1:OI1)<=$I$32,1,0)*OI1","v":0},{"$f":"IF(SUM($Q1:OJ1)<=$I$32,1,0)*OJ1","v":0},{"$f":"IF(SUM($Q1:OK1)<=$I$32,1,0)*OK1","v":0},{"$f":"IF(SUM($Q1:OL1)<=$I$32,1,0)*OL1","v":0},{"$f":"IF(SUM($Q1:OM1)<=$I$32,1,0)*OM1","v":0},{"$f":"IF(SUM($Q1:ON1)<=$I$32,1,0)*ON1","v":0},{"$f":"IF(SUM($Q1:OO1)<=$I$32,1,0)*OO1","v":0},{"$f":"IF(SUM($Q1:OP1)<=$I$32,1,0)*OP1","v":0},{"$f":"IF(SUM($Q1:OQ1)<=$I$32,1,0)*OQ1","v":0}]
[null," ",null,null,null,null,null,null,null,null,null,null,"Salida",null,null,null,{"$f":"IF($E$60=COLUMNS($Q1:Q1),1,0)","v":0},{"$f":"IF($E$60=COLUMNS($Q1:R1),1,0)","v":0},{"$f":"IF($E$60=COLUMNS($Q1:S1),1,0)","v":0},{"$f":"IF($E$60=COLUMNS($Q1:T1),1,0)","v":0},{"$f":"IF($E$60=COLUMNS($Q1:U1),1,0)","v":0},{"$f":"IF($E$60=COLUMNS($Q1:V1),1,0)","v":0},{"$f":"IF($E$60=COLUMNS($Q1:W1),1,0)","v":0},{"$f":"IF($E$60=COLUMNS($Q1:X1),1,0)","v":0},{"$f":"IF($E$60=COLUMNS($Q1:Y1),1,0)","v":0},{"$f":"IF($E$60=COLUMNS($Q1:Z1),1,0)","v":0},{"$f":"IF($E$60=COLUMNS($Q1:AA1),1,0)","v":0},{"$f":"IF($E$60=COLUMNS($Q1:AB1),1,0)","v":0},{"$f":"IF($E$60=COLUMNS($Q1:AC1),1,0)","v":0},{"$f":"IF($E$60=COLUMNS($Q1:AD1),1,0)","v":0},{"$f":"IF($E$60=COLUMNS($Q1:AE1),1,0)","v":0},{"$f":"IF($E$60=COLUMNS($Q1:AF1),1,0)","v":0},{"$f":"IF($E$60=COLUMNS($Q1:AG1),1,0)","v":0},{"$f":"IF($E$60=COLUMNS($Q1:AH1),1,0)","v":0},{"$f":"IF($E$60=COLUMNS($Q1:AI1),1,0)","v":0},{"$f":"IF($E$60=COLUMNS($Q1:AJ1),1,0)","v":0},{"$f":"IF($E$60=COLUMNS($Q1:AK1),1,0)","v":0},{"$f":"IF($E$60=COLUMNS($Q1:AL1),1,0)","v":0},{"$f":"IF($E$60=COLUMNS($Q1:AM1),1,0)","v":0},{"$f":"IF($E$60=COLUMNS($Q1:AN1),1,0)","v":0},{"$f":"IF($E$60=COLUMNS($Q1:AO1),1,0)","v":0},{"$f":"IF($E$60=COLUMNS($Q1:AP1),1,0)","v":0},{"$f":"IF($E$60=COLUMNS($Q1:AQ1),1,0)","v":0},{"$f":"IF($E$60=COLUMNS($Q1:AR1),1,0)","v":0},{"$f":"IF($E$60=COLUMNS($Q1:AS1),1,0)","v":0},{"$f":"IF($E$60=COLUMNS($Q1:AT1),1,0)","v":0},{"$f":"IF($E$60=COLUMNS($Q1:AU1),1,0)","v":0},{"$f":"IF($E$60=COLUMNS($Q1:AV1),1,0)","v":0},{"$f":"IF($E$60=COLUMNS($Q1:AW1),1,0)","v":0},{"$f":"IF($E$60=COLUMNS($Q1:AX1),1,0)","v":0},{"$f":"IF($E$60=COLUMNS($Q1:AY1),1,0)","v":0},{"$f":"IF($E$60=COLUMNS($Q1:AZ1),1,0)","v":0},{"$f":"IF($E$60=COLUMNS($Q1:BA1),1,0)","v":0},{"$f":"IF($E$60=COLUMNS($Q1:BB1),1,0)","v":0},{"$f":"IF($E$60=COLUMNS($Q1:BC1),1,0)","v":0},{"$f":"IF($E$60=COLUMNS($Q1:BD1),1,0)","v":0},{"$f":"IF($E$60=COLUMNS($Q1:BE1),1,0)","v":0},{"$f":"IF($E$60=COLUMNS($Q1:BF1),1,0)","v":0},{"$f":"IF($E$60=COLUMNS($Q1:BG1),1,0)","v":0},{"$f":"IF($E$60=COLUMNS($Q1:BH1),1,0)","v":0},{"$f":"IF($E$60=COLUMNS($Q1:BI1),1,0)","v":0},{"$f":"IF($E$60=COLUMNS($Q1:BJ1),1,0)","v":0},{"$f":"IF($E$60=COLUMNS($Q1:BK1),1,0)","v":0},{"$f":"IF($E$60=COLUMNS($Q1:BL1),1,0)","v":0},{"$f":"IF($E$60=COLUMNS($Q1:BM1),1,0)","v":0},{"$f":"IF($E$60=COLUMNS($Q1:BN1),1,0)","v":0},{"$f":"IF($E$60=COLUMNS($Q1:BO1),1,0)","v":0},{"$f":"IF($E$60=COLUMNS($Q1:BP1),1,0)","v":0},{"$f":"IF($E$60=COLUMNS($Q1:BQ1),1,0)","v":0},{"$f":"IF($E$60=COLUMNS($Q1:BR1),1,0)","v":0},{"$f":"IF($E$60=COLUMNS($Q1:BS1),1,0)","v":0},{"$f":"IF($E$60=COLUMNS($Q1:BT1),1,0)","v":0},{"$f":"IF($E$60=COLUMNS($Q1:BU1),1,0)","v":0},{"$f":"IF($E$60=COLUMNS($Q1:BV1),1,0)","v":0},{"$f":"IF($E$60=COLUMNS($Q1:BW1),1,0)","v":0},{"$f":"IF($E$60=COLUMNS($Q1:BX1),1,0)","v":1},{"$f":"IF($E$60=COLUMNS($Q1:BY1),1,0)","v":0},{"$f":"IF($E$60=COLUMNS($Q1:BZ1),1,0)","v":0},{"$f":"IF($E$60=COLUMNS($Q1:CA1),1,0)","v":0},{"$f":"IF($E$60=COLUMNS($Q1:CB1),1,0)","v":0},{"$f":"IF($E$60=COLUMNS($Q1:CC1),1,0)","v":0},{"$f":"IF($E$60=COLUMNS($Q1:CD1),1,0)","v":0},{"$f":"IF($E$60=COLUMNS($Q1:CE1),1,0)","v":0},{"$f":"IF($E$60=COLUMNS($Q1:CF1),1,0)","v":0},{"$f":"IF($E$60=COLUMNS($Q1:CG1),1,0)","v":0},{"$f":"IF($E$60=COLUMNS($Q1:CH1),1,0)","v":0},{"$f":"IF($E$60=COLUMNS($Q1:CI1),1,0)","v":0},{"$f":"IF($E$60=COLUMNS($Q1:CJ1),1,0)","v":0},{"$f":"IF($E$60=COLUMNS($Q1:CK1),1,0)","v":0},{"$f":"IF($E$60=COLUMNS($Q1:CL1),1,0)","v":0},{"$f":"IF($E$60=COLUMNS($Q1:CM1),1,0)","v":0},{"$f":"IF($E$60=COLUMNS($Q1:CN1),1,0)","v":0},{"$f":"IF($E$60=COLUMNS($Q1:CO1),1,0)","v":0},{"$f":"IF($E$60=COLUMNS($Q1:CP1),1,0)","v":0},{"$f":"IF($E$60=COLUMNS($Q1:CQ1),1,0)","v":0},{"$f":"IF($E$60=COLUMNS($Q1:CR1),1,0)","v":0},{"$f":"IF($E$60=COLUMNS($Q1:CS1),1,0)","v":0},{"$f":"IF($E$60=COLUMNS($Q1:CT1),1,0)","v":0},{"$f":"IF($E$60=COLUMNS($Q1:CU1),1,0)","v":0},{"$f":"IF($E$60=COLUMNS($Q1:CV1),1,0)","v":0},{"$f":"IF($E$60=COLUMNS($Q1:CW1),1,0)","v":0},{"$f":"IF($E$60=COLUMNS($Q1:CX1),1,0)","v":0},{"$f":"IF($E$60=COLUMNS($Q1:CY1),1,0)","v":0},{"$f":"IF($E$60=COLUMNS($Q1:CZ1),1,0)","v":0},{"$f":"IF($E$60=COLUMNS($Q1:DA1),1,0)","v":0},{"$f":"IF($E$60=COLUMNS($Q1:DB1),1,0)","v":0},{"$f":"IF($E$60=COLUMNS($Q1:DC1),1,0)","v":0},{"$f":"IF($E$60=COLUMNS($Q1:DD1),1,0)","v":0},{"$f":"IF($E$60=COLUMNS($Q1:DE1),1,0)","v":0},{"$f":"IF($E$60=COLUMNS($Q1:DF1),1,0)","v":0},{"$f":"IF($E$60=COLUMNS($Q1:DG1),1,0)","v":0},{"$f":"IF($E$60=COLUMNS($Q1:DH1),1,0)","v":0},{"$f":"IF($E$60=COLUMNS($Q1:DI1),1,0)","v":0},{"$f":"IF($E$60=COLUMNS($Q1:DJ1),1,0)","v":0},{"$f":"IF($E$60=COLUMNS($Q1:DK1),1,0)","v":0},{"$f":"IF($E$60=COLUMNS($Q1:DL1),1,0)","v":0},{"$f":"IF($E$60=COLUMNS($Q1:DM1),1,0)","v":0},{"$f":"IF($E$60=COLUMNS($Q1:DN1),1,0)","v":0},{"$f":"IF($E$60=COLUMNS($Q1:DO1),1,0)","v":0},{"$f":"IF($E$60=COLUMNS($Q1:DP1),1,0)","v":0},{"$f":"IF($E$60=COLUMNS($Q1:DQ1),1,0)","v":0},{"$f":"IF($E$60=COLUMNS($Q1:DR1),1,0)","v":0},{"$f":"IF($E$60=COLUMNS($Q1:DS1),1,0)","v":0},{"$f":"IF($E$60=COLUMNS($Q1:DT1),1,0)","v":0},{"$f":"IF($E$60=COLUMNS($Q1:DU1),1,0)","v":0},{"$f":"IF($E$60=COLUMNS($Q1:DV1),1,0)","v":0},{"$f":"IF($E$60=COLUMNS($Q1:DW1),1,0)","v":0},{"$f":"IF($E$60=COLUMNS($Q1:DX1),1,0)","v":0},{"$f":"IF($E$60=COLUMNS($Q1:DY1),1,0)","v":0},{"$f":"IF($E$60=COLUMNS($Q1:DZ1),1,0)","v":0},{"$f":"IF($E$60=COLUMNS($Q1:EA1),1,0)","v":0},{"$f":"IF($E$60=COLUMNS($Q1:EB1),1,0)","v":0},{"$f":"IF($E$60=COLUMNS($Q1:EC1),1,0)","v":0},{"$f":"IF($E$60=COLUMNS($Q1:ED1),1,0)","v":0},{"$f":"IF($E$60=COLUMNS($Q1:EE1),1,0)","v":0},{"$f":"IF($E$60=COLUMNS($Q1:EF1),1,0)","v":0},{"$f":"IF($E$60=COLUMNS($Q1:EG1),1,0)","v":0},{"$f":"IF($E$60=COLUMNS($Q1:EH1),1,0)","v":0},{"$f":"IF($E$60=COLUMNS($Q1:EI1),1,0)","v":0},{"$f":"IF($E$60=COLUMNS($Q1:EJ1),1,0)","v":0},{"$f":"IF($E$60=COLUMNS($Q1:EK1),1,0)","v":0},{"$f":"IF($E$60=COLUMNS($Q1:EL1),1,0)","v":0},{"$f":"IF($E$60=COLUMNS($Q1:EM1),1,0)","v":0},{"$f":"IF($E$60=COLUMNS($Q1:EN1),1,0)","v":0},{"$f":"IF($E$60=COLUMNS($Q1:EO1),1,0)","v":0},{"$f":"IF($E$60=COLUMNS($Q1:EP1),1,0)","v":0},{"$f":"IF($E$60=COLUMNS($Q1:EQ1),1,0)","v":0},{"$f":"IF($E$60=COLUMNS($Q1:ER1),1,0)","v":0},{"$f":"IF($E$60=COLUMNS($Q1:ES1),1,0)","v":0},{"$f":"IF($E$60=COLUMNS($Q1:ET1),1,0)","v":0},{"$f":"IF($E$60=COLUMNS($Q1:EU1),1,0)","v":0},{"$f":"IF($E$60=COLUMNS($Q1:EV1),1,0)","v":0},{"$f":"IF($E$60=COLUMNS($Q1:EW1),1,0)","v":0},{"$f":"IF($E$60=COLUMNS($Q1:EX1),1,0)","v":0},{"$f":"IF($E$60=COLUMNS($Q1:EY1),1,0)","v":0},{"$f":"IF($E$60=COLUMNS($Q1:EZ1),1,0)","v":0},{"$f":"IF($E$60=COLUMNS($Q1:FA1),1,0)","v":0},{"$f":"IF($E$60=COLUMNS($Q1:FB1),1,0)","v":0},{"$f":"IF($E$60=COLUMNS($Q1:FC1),1,0)","v":0},{"$f":"IF($E$60=COLUMNS($Q1:FD1),1,0)","v":0},{"$f":"IF($E$60=COLUMNS($Q1:FE1),1,0)","v":0},{"$f":"IF($E$60=COLUMNS($Q1:FF1),1,0)","v":0},{"$f":"IF($E$60=COLUMNS($Q1:FG1),1,0)","v":0},{"$f":"IF($E$60=COLUMNS($Q1:FH1),1,0)","v":0},{"$f":"IF($E$60=COLUMNS($Q1:FI1),1,0)","v":0},{"$f":"IF($E$60=COLUMNS($Q1:FJ1),1,0)","v":0},{"$f":"IF($E$60=COLUMNS($Q1:FK1),1,0)","v":0},{"$f":"IF($E$60=COLUMNS($Q1:FL1),1,0)","v":0},{"$f":"IF($E$60=COLUMNS($Q1:FM1),1,0)","v":0},{"$f":"IF($E$60=COLUMNS($Q1:FN1),1,0)","v":0},{"$f":"IF($E$60=COLUMNS($Q1:FO1),1,0)","v":0},{"$f":"IF($E$60=COLUMNS($Q1:FP1),1,0)","v":0},{"$f":"IF($E$60=COLUMNS($Q1:FQ1),1,0)","v":0},{"$f":"IF($E$60=COLUMNS($Q1:FR1),1,0)","v":0},{"$f":"IF($E$60=COLUMNS($Q1:FS1),1,0)","v":0},{"$f":"IF($E$60=COLUMNS($Q1:FT1),1,0)","v":0},{"$f":"IF($E$60=COLUMNS($Q1:FU1),1,0)","v":0},{"$f":"IF($E$60=COLUMNS($Q1:FV1),1,0)","v":0},{"$f":"IF($E$60=COLUMNS($Q1:FW1),1,0)","v":0},{"$f":"IF($E$60=COLUMNS($Q1:FX1),1,0)","v":0},{"$f":"IF($E$60=COLUMNS($Q1:FY1),1,0)","v":0},{"$f":"IF($E$60=COLUMNS($Q1:FZ1),1,0)","v":0},{"$f":"IF($E$60=COLUMNS($Q1:GA1),1,0)","v":0},{"$f":"IF($E$60=COLUMNS($Q1:GB1),1,0)","v":0},{"$f":"IF($E$60=COLUMNS($Q1:GC1),1,0)","v":0},{"$f":"IF($E$60=COLUMNS($Q1:GD1),1,0)","v":0},{"$f":"IF($E$60=COLUMNS($Q1:GE1),1,0)","v":0},{"$f":"IF($E$60=COLUMNS($Q1:GF1),1,0)","v":0},{"$f":"IF($E$60=COLUMNS($Q1:GG1),1,0)","v":0},{"$f":"IF($E$60=COLUMNS($Q1:GH1),1,0)","v":0},{"$f":"IF($E$60=COLUMNS($Q1:GI1),1,0)","v":0},{"$f":"IF($E$60=COLUMNS($Q1:GJ1),1,0)","v":0},{"$f":"IF($E$60=COLUMNS($Q1:GK1),1,0)","v":0},{"$f":"IF($E$60=COLUMNS($Q1:GL1),1,0)","v":0},{"$f":"IF($E$60=COLUMNS($Q1:GM1),1,0)","v":0},{"$f":"IF($E$60=COLUMNS($Q1:GN1),1,0)","v":0},{"$f":"IF($E$60=COLUMNS($Q1:GO1),1,0)","v":0},{"$f":"IF($E$60=COLUMNS($Q1:GP1),1,0)","v":0},{"$f":"IF($E$60=COLUMNS($Q1:GQ1),1,0)","v":0},{"$f":"IF($E$60=COLUMNS($Q1:GR1),1,0)","v":0},{"$f":"IF($E$60=COLUMNS($Q1:GS1),1,0)","v":0},{"$f":"IF($E$60=COLUMNS($Q1:GT1),1,0)","v":0},{"$f":"IF($E$60=COLUMNS($Q1:GU1),1,0)","v":0},{"$f":"IF($E$60=COLUMNS($Q1:GV1),1,0)","v":0},{"$f":"IF($E$60=COLUMNS($Q1:GW1),1,0)","v":0},{"$f":"IF($E$60=COLUMNS($Q1:GX1),1,0)","v":0},{"$f":"IF($E$60=COLUMNS($Q1:GY1),1,0)","v":0},{"$f":"IF($E$60=COLUMNS($Q1:GZ1),1,0)","v":0},{"$f":"IF($E$60=COLUMNS($Q1:HA1),1,0)","v":0},{"$f":"IF($E$60=COLUMNS($Q1:HB1),1,0)","v":0},{"$f":"IF($E$60=COLUMNS($Q1:HC1),1,0)","v":0},{"$f":"IF($E$60=COLUMNS($Q1:HD1),1,0)","v":0},{"$f":"IF($E$60=COLUMNS($Q1:HE1),1,0)","v":0},{"$f":"IF($E$60=COLUMNS($Q1:HF1),1,0)","v":0},{"$f":"IF($E$60=COLUMNS($Q1:HG1),1,0)","v":0},{"$f":"IF($E$60=COLUMNS($Q1:HH1),1,0)","v":0},{"$f":"IF($E$60=COLUMNS($Q1:HI1),1,0)","v":0},{"$f":"IF($E$60=COLUMNS($Q1:HJ1),1,0)","v":0},{"$f":"IF($E$60=COLUMNS($Q1:HK1),1,0)","v":0},{"$f":"IF($E$60=COLUMNS($Q1:HL1),1,0)","v":0},{"$f":"IF($E$60=COLUMNS($Q1:HM1),1,0)","v":0},{"$f":"IF($E$60=COLUMNS($Q1:HN1),1,0)","v":0},{"$f":"IF($E$60=COLUMNS($Q1:HO1),1,0)","v":0},{"$f":"IF($E$60=COLUMNS($Q1:HP1),1,0)","v":0},{"$f":"IF($E$60=COLUMNS($Q1:HQ1),1,0)","v":0},{"$f":"IF($E$60=COLUMNS($Q1:HR1),1,0)","v":0},{"$f":"IF($E$60=COLUMNS($Q1:HS1),1,0)","v":0},{"$f":"IF($E$60=COLUMNS($Q1:HT1),1,0)","v":0},{"$f":"IF($E$60=COLUMNS($Q1:HU1),1,0)","v":0},{"$f":"IF($E$60=COLUMNS($Q1:HV1),1,0)","v":0},{"$f":"IF($E$60=COLUMNS($Q1:HW1),1,0)","v":0},{"$f":"IF($E$60=COLUMNS($Q1:HX1),1,0)","v":0},{"$f":"IF($E$60=COLUMNS($Q1:HY1),1,0)","v":0},{"$f":"IF($E$60=COLUMNS($Q1:HZ1),1,0)","v":0},{"$f":"IF($E$60=COLUMNS($Q1:IA1),1,0)","v":0},{"$f":"IF($E$60=COLUMNS($Q1:IB1),1,0)","v":0},{"$f":"IF($E$60=COLUMNS($Q1:IC1),1,0)","v":0},{"$f":"IF($E$60=COLUMNS($Q1:ID1),1,0)","v":0},{"$f":"IF($E$60=COLUMNS($Q1:IE1),1,0)","v":0},{"$f":"IF($E$60=COLUMNS($Q1:IF1),1,0)","v":0},{"$f":"IF($E$60=COLUMNS($Q1:IG1),1,0)","v":0},{"$f":"IF($E$60=COLUMNS($Q1:IH1),1,0)","v":0},{"$f":"IF($E$60=COLUMNS($Q1:II1),1,0)","v":0},{"$f":"IF($E$60=COLUMNS($Q1:IJ1),1,0)","v":0},{"$f":"IF($E$60=COLUMNS($Q1:IK1),1,0)","v":0},{"$f":"IF($E$60=COLUMNS($Q1:IL1),1,0)","v":0},{"$f":"IF($E$60=COLUMNS($Q1:IM1),1,0)","v":0},{"$f":"IF($E$60=COLUMNS($Q1:IN1),1,0)","v":0},{"$f":"IF($E$60=COLUMNS($Q1:IO1),1,0)","v":0},{"$f":"IF($E$60=COLUMNS($Q1:IP1),1,0)","v":0},{"$f":"IF($E$60=COLUMNS($Q1:IQ1),1,0)","v":0},{"$f":"IF($E$60=COLUMNS($Q1:IR1),1,0)","v":0},{"$f":"IF($E$60=COLUMNS($Q1:IS1),1,0)","v":0},{"$f":"IF($E$60=COLUMNS($Q1:IT1),1,0)","v":0},{"$f":"IF($E$60=COLUMNS($Q1:IU1),1,0)","v":0},{"$f":"IF($E$60=COLUMNS($Q1:IV1),1,0)","v":0},{"$f":"IF($E$60=COLUMNS($Q1:IW1),1,0)","v":0},{"$f":"IF($E$60=COLUMNS($Q1:IX1),1,0)","v":0},{"$f":"IF($E$60=COLUMNS($Q1:IY1),1,0)","v":0},{"$f":"IF($E$60=COLUMNS($Q1:IZ1),1,0)","v":0},{"$f":"IF($E$60=COLUMNS($Q1:JA1),1,0)","v":0},{"$f":"IF($E$60=COLUMNS($Q1:JB1),1,0)","v":0},{"$f":"IF($E$60=COLUMNS($Q1:JC1),1,0)","v":0},{"$f":"IF($E$60=COLUMNS($Q1:JD1),1,0)","v":0},{"$f":"IF($E$60=COLUMNS($Q1:JE1),1,0)","v":0},{"$f":"IF($E$60=COLUMNS($Q1:JF1),1,0)","v":0},{"$f":"IF($E$60=COLUMNS($Q1:JG1),1,0)","v":0},{"$f":"IF($E$60=COLUMNS($Q1:JH1),1,0)","v":0},{"$f":"IF($E$60=COLUMNS($Q1:JI1),1,0)","v":0},{"$f":"IF($E$60=COLUMNS($Q1:JJ1),1,0)","v":0},{"$f":"IF($E$60=COLUMNS($Q1:JK1),1,0)","v":0},{"$f":"IF($E$60=COLUMNS($Q1:JL1),1,0)","v":0},{"$f":"IF($E$60=COLUMNS($Q1:JM1),1,0)","v":0},{"$f":"IF($E$60=COLUMNS($Q1:JN1),1,0)","v":0},{"$f":"IF($E$60=COLUMNS($Q1:JO1),1,0)","v":0},{"$f":"IF($E$60=COLUMNS($Q1:JP1),1,0)","v":0},{"$f":"IF($E$60=COLUMNS($Q1:JQ1),1,0)","v":0},{"$f":"IF($E$60=COLUMNS($Q1:JR1),1,0)","v":0},{"$f":"IF($E$60=COLUMNS($Q1:JS1),1,0)","v":0},{"$f":"IF($E$60=COLUMNS($Q1:JT1),1,0)","v":0},{"$f":"IF($E$60=COLUMNS($Q1:JU1),1,0)","v":0},{"$f":"IF($E$60=COLUMNS($Q1:JV1),1,0)","v":0},{"$f":"IF($E$60=COLUMNS($Q1:JW1),1,0)","v":0},{"$f":"IF($E$60=COLUMNS($Q1:JX1),1,0)","v":0},{"$f":"IF($E$60=COLUMNS($Q1:JY1),1,0)","v":0},{"$f":"IF($E$60=COLUMNS($Q1:JZ1),1,0)","v":0},{"$f":"IF($E$60=COLUMNS($Q1:KA1),1,0)","v":0},{"$f":"IF($E$60=COLUMNS($Q1:KB1),1,0)","v":0},{"$f":"IF($E$60=COLUMNS($Q1:KC1),1,0)","v":0},{"$f":"IF($E$60=COLUMNS($Q1:KD1),1,0)","v":0},{"$f":"IF($E$60=COLUMNS($Q1:KE1),1,0)","v":0},{"$f":"IF($E$60=COLUMNS($Q1:KF1),1,0)","v":0},{"$f":"IF($E$60=COLUMNS($Q1:KG1),1,0)","v":0},{"$f":"IF($E$60=COLUMNS($Q1:KH1),1,0)","v":0},{"$f":"IF($E$60=COLUMNS($Q1:KI1),1,0)","v":0},{"$f":"IF($E$60=COLUMNS($Q1:KJ1),1,0)","v":0},{"$f":"IF($E$60=COLUMNS($Q1:KK1),1,0)","v":0},{"$f":"IF($E$60=COLUMNS($Q1:KL1),1,0)","v":0},{"$f":"IF($E$60=COLUMNS($Q1:KM1),1,0)","v":0},{"$f":"IF($E$60=COLUMNS($Q1:KN1),1,0)","v":0},{"$f":"IF($E$60=COLUMNS($Q1:KO1),1,0)","v":0},{"$f":"IF($E$60=COLUMNS($Q1:KP1),1,0)","v":0},{"$f":"IF($E$60=COLUMNS($Q1:KQ1),1,0)","v":0},{"$f":"IF($E$60=COLUMNS($Q1:KR1),1,0)","v":0},{"$f":"IF($E$60=COLUMNS($Q1:KS1),1,0)","v":0},{"$f":"IF($E$60=COLUMNS($Q1:KT1),1,0)","v":0},{"$f":"IF($E$60=COLUMNS($Q1:KU1),1,0)","v":0},{"$f":"IF($E$60=COLUMNS($Q1:KV1),1,0)","v":0},{"$f":"IF($E$60=COLUMNS($Q1:KW1),1,0)","v":0},{"$f":"IF($E$60=COLUMNS($Q1:KX1),1,0)","v":0},{"$f":"IF($E$60=COLUMNS($Q1:KY1),1,0)","v":0},{"$f":"IF($E$60=COLUMNS($Q1:KZ1),1,0)","v":0},{"$f":"IF($E$60=COLUMNS($Q1:LA1),1,0)","v":0},{"$f":"IF($E$60=COLUMNS($Q1:LB1),1,0)","v":0},{"$f":"IF($E$60=COLUMNS($Q1:LC1),1,0)","v":0},{"$f":"IF($E$60=COLUMNS($Q1:LD1),1,0)","v":0},{"$f":"IF($E$60=COLUMNS($Q1:LE1),1,0)","v":0},{"$f":"IF($E$60=COLUMNS($Q1:LF1),1,0)","v":0},{"$f":"IF($E$60=COLUMNS($Q1:LG1),1,0)","v":0},{"$f":"IF($E$60=COLUMNS($Q1:LH1),1,0)","v":0},{"$f":"IF($E$60=COLUMNS($Q1:LI1),1,0)","v":0},{"$f":"IF($E$60=COLUMNS($Q1:LJ1),1,0)","v":0},{"$f":"IF($E$60=COLUMNS($Q1:LK1),1,0)","v":0},{"$f":"IF($E$60=COLUMNS($Q1:LL1),1,0)","v":0},{"$f":"IF($E$60=COLUMNS($Q1:LM1),1,0)","v":0},{"$f":"IF($E$60=COLUMNS($Q1:LN1),1,0)","v":0},{"$f":"IF($E$60=COLUMNS($Q1:LO1),1,0)","v":0},{"$f":"IF($E$60=COLUMNS($Q1:LP1),1,0)","v":0},{"$f":"IF($E$60=COLUMNS($Q1:LQ1),1,0)","v":0},{"$f":"IF($E$60=COLUMNS($Q1:LR1),1,0)","v":0},{"$f":"IF($E$60=COLUMNS($Q1:LS1),1,0)","v":0},{"$f":"IF($E$60=COLUMNS($Q1:LT1),1,0)","v":0},{"$f":"IF($E$60=COLUMNS($Q1:LU1),1,0)","v":0},{"$f":"IF($E$60=COLUMNS($Q1:LV1),1,0)","v":0},{"$f":"IF($E$60=COLUMNS($Q1:LW1),1,0)","v":0},{"$f":"IF($E$60=COLUMNS($Q1:LX1),1,0)","v":0},{"$f":"IF($E$60=COLUMNS($Q1:LY1),1,0)","v":0},{"$f":"IF($E$60=COLUMNS($Q1:LZ1),1,0)","v":0},{"$f":"IF($E$60=COLUMNS($Q1:MA1),1,0)","v":0},{"$f":"IF($E$60=COLUMNS($Q1:MB1),1,0)","v":0},{"$f":"IF($E$60=COLUMNS($Q1:MC1),1,0)","v":0},{"$f":"IF($E$60=COLUMNS($Q1:MD1),1,0)","v":0},{"$f":"IF($E$60=COLUMNS($Q1:ME1),1,0)","v":0},{"$f":"IF($E$60=COLUMNS($Q1:MF1),1,0)","v":0},{"$f":"IF($E$60=COLUMNS($Q1:MG1),1,0)","v":0},{"$f":"IF($E$60=COLUMNS($Q1:MH1),1,0)","v":0},{"$f":"IF($E$60=COLUMNS($Q1:MI1),1,0)","v":0},{"$f":"IF($E$60=COLUMNS($Q1:MJ1),1,0)","v":0},{"$f":"IF($E$60=COLUMNS($Q1:MK1),1,0)","v":0},{"$f":"IF($E$60=COLUMNS($Q1:ML1),1,0)","v":0},{"$f":"IF($E$60=COLUMNS($Q1:MM1),1,0)","v":0},{"$f":"IF($E$60=COLUMNS($Q1:MN1),1,0)","v":0},{"$f":"IF($E$60=COLUMNS($Q1:MO1),1,0)","v":0},{"$f":"IF($E$60=COLUMNS($Q1:MP1),1,0)","v":0},{"$f":"IF($E$60=COLUMNS($Q1:MQ1),1,0)","v":0},{"$f":"IF($E$60=COLUMNS($Q1:MR1),1,0)","v":0},{"$f":"IF($E$60=COLUMNS($Q1:MS1),1,0)","v":0},{"$f":"IF($E$60=COLUMNS($Q1:MT1),1,0)","v":0},{"$f":"IF($E$60=COLUMNS($Q1:MU1),1,0)","v":0},{"$f":"IF($E$60=COLUMNS($Q1:MV1),1,0)","v":0},{"$f":"IF($E$60=COLUMNS($Q1:MW1),1,0)","v":0},{"$f":"IF($E$60=COLUMNS($Q1:MX1),1,0)","v":0},{"$f":"IF($E$60=COLUMNS($Q1:MY1),1,0)","v":0},{"$f":"IF($E$60=COLUMNS($Q1:MZ1),1,0)","v":0},{"$f":"IF($E$60=COLUMNS($Q1:NA1),1,0)","v":0},{"$f":"IF($E$60=COLUMNS($Q1:NB1),1,0)","v":0},{"$f":"IF($E$60=COLUMNS($Q1:NC1),1,0)","v":0},{"$f":"IF($E$60=COLUMNS($Q1:ND1),1,0)","v":0},{"$f":"IF($E$60=COLUMNS($Q1:NE1),1,0)","v":0},{"$f":"IF($E$60=COLUMNS($Q1:NF1),1,0)","v":0},{"$f":"IF($E$60=COLUMNS($Q1:NG1),1,0)","v":0},{"$f":"IF($E$60=COLUMNS($Q1:NH1),1,0)","v":0},{"$f":"IF($E$60=COLUMNS($Q1:NI1),1,0)","v":0},{"$f":"IF($E$60=COLUMNS($Q1:NJ1),1,0)","v":0},{"$f":"IF($E$60=COLUMNS($Q1:NK1),1,0)","v":0},{"$f":"IF($E$60=COLUMNS($Q1:NL1),1,0)","v":0},{"$f":"IF($E$60=COLUMNS($Q1:NM1),1,0)","v":0},{"$f":"IF($E$60=COLUMNS($Q1:NN1),1,0)","v":0},{"$f":"IF($E$60=COLUMNS($Q1:NO1),1,0)","v":0},{"$f":"IF($E$60=COLUMNS($Q1:NP1),1,0)","v":0},{"$f":"IF($E$60=COLUMNS($Q1:NQ1),1,0)","v":0},{"$f":"IF($E$60=COLUMNS($Q1:NR1),1,0)","v":0},{"$f":"IF($E$60=COLUMNS($Q1:NS1),1,0)","v":0},{"$f":"IF($E$60=COLUMNS($Q1:NT1),1,0)","v":0},{"$f":"IF($E$60=COLUMNS($Q1:NU1),1,0)","v":0},{"$f":"IF($E$60=COLUMNS($Q1:NV1),1,0)","v":0},{"$f":"IF($E$60=COLUMNS($Q1:NW1),1,0)","v":0},{"$f":"IF($E$60=COLUMNS($Q1:NX1),1,0)","v":0},{"$f":"IF($E$60=COLUMNS($Q1:NY1),1,0)","v":0},{"$f":"IF($E$60=COLUMNS($Q1:NZ1),1,0)","v":0},{"$f":"IF($E$60=COLUMNS($Q1:OA1),1,0)","v":0},{"$f":"IF($E$60=COLUMNS($Q1:OB1),1,0)","v":0},{"$f":"IF($E$60=COLUMNS($Q1:OC1),1,0)","v":0},{"$f":"IF($E$60=COLUMNS($Q1:OD1),1,0)","v":0},{"$f":"IF($E$60=COLUMNS($Q1:OE1),1,0)","v":0},{"$f":"IF($E$60=COLUMNS($Q1:OF1),1,0)","v":0},{"$f":"IF($E$60=COLUMNS($Q1:OG1),1,0)","v":0},{"$f":"IF($E$60=COLUMNS($Q1:OH1),1,0)","v":0},{"$f":"IF($E$60=COLUMNS($Q1:OI1),1,0)","v":0},{"$f":"IF($E$60=COLUMNS($Q1:OJ1),1,0)","v":0},{"$f":"IF($E$60=COLUMNS($Q1:OK1),1,0)","v":0},{"$f":"IF($E$60=COLUMNS($Q1:OL1),1,0)","v":0},{"$f":"IF($E$60=COLUMNS($Q1:OM1),1,0)","v":0},{"$f":"IF($E$60=COLUMNS($Q1:ON1),1,0)","v":0},{"$f":"IF($E$60=COLUMNS($Q1:OO1),1,0)","v":0},{"$f":"IF($E$60=COLUMNS($Q1:OP1),1,0)","v":0},{"$f":"IF($E$60=COLUMNS($Q1:OQ1),1,0)","v":0}]
[null,"Inquilinos",{"$f":"COUNTIF(I21:I22,\">0\")","v":2},null,"E. Vida",{"$f":"MAX(I21:I22)","v":4.9583333492279049},null,null,"E. Vida (%)","Auto"]
[null,"Joven",{"$f":"MIN(H21:H22)","v":91.172222222222217},null,"Meses",{"$f":"MAX(J21:J22)","v":60},null,null,null,null,null,"Costes Operativos",null,null,{"$f":"SUM(Q25:OQ25)","v":-4845.9547595000022},null,{"$f":"SUM(Q26:Q29)","v":-79.166666666666671},-79.166666666666671,-79.166666666666671,-79.166666666666671,-79.166666666666671,-79.166666666666671,-79.166666666666671,-79.166666666666671,-79.166666666666671,-79.166666666666671,-79.166666666666671,-79.166666666666671,-79.958333333333329,-79.958333333333329,-79.958333333333329,-79.958333333333329,-79.958333333333329,-79.958333333333329,-79.958333333333329,-79.958333333333329,-79.958333333333329,-79.958333333333329,-79.958333333333329,-79.958333333333329,-80.757916666666674,-80.757916666666674,-80.757916666666674,-80.757916666666674,-80.757916666666674,-80.757916666666674,-80.757916666666674,-80.757916666666674,-80.757916666666674,-80.757916666666674,-80.757916666666674,-80.757916666666674,-81.565495833333316,-81.565495833333316,-81.565495833333316,-81.565495833333316,-81.565495833333316,-81.565495833333316,-81.565495833333316,-81.565495833333316,-81.565495833333316,-81.565495833333316,-81.565495833333316,-81.565495833333316,-82.381150791666656,-82.381150791666656,-82.381150791666656,-82.381150791666656,-82.381150791666656,-82.381150791666656,-82.381150791666656,-82.381150791666656,-82.381150791666656,-82.381150791666656,-82.381150791666656,-82.381150791666656,0,0,0,0,{"$f":"SUM(CC26:CC29)","v":0},0,0,0,0,0,0,0,0,0,0,0,0,0,0,0,0,0,0,0,0,0,0,0,0,0,0,0,0,0,0,0,0,0,0,0,0,0,0,0,0,0,0,0,0,0,0,0,0,0,0,0,0,0,0,0,0,0,0,0,0,0,0,0,{"$f":"SUM(EO26:EO29)","v":0},0,0,0,0,0,0,0,0,0,0,0,0,0,0,0,0,0,0,0,0,0,0,0,0,0,0,0,0,0,0,0,0,0,0,0,0,0,0,0,0,0,0,0,0,0,0,0,0,0,0,0,0,0,0,0,0,0,0,0,0,0,0,0,{"$f":"SUM(HA26:HA29)","v":0},0,0,0,0,0,0,0,0,0,0,0,0,0,0,0,0,0,0,0,0,0,0,0,0,0,0,0,0,0,0,0,0,0,0,0,0,0,0,0,0,0,0,0,0,0,0,0,0,0,0,0,0,0,0,0,0,0,0,0,0,0,0,0,{"$f":"SUM(JM26:JM29)","v":0},0,0,0,0,0,0,0,0,0,0,0,0,0,0,0,0,0,0,0,0,0,0,0,0,0,0,0,0,0,0,0,0,0,0,0,0,0,0,0,0,0,0,0,0,0,0,0,0,0,0,0,0,0,0,0,0,0,0,0,0,0,0,0,{"$f":"SUM(LY26:LY29)","v":0},0,0,0,0,0,0,0,0,0,0,0,0,0,0,0,0,0,0,0,0,0,0,0,0,0,0,0,0,0,0,0,0,0,0,0,0,0,0,0,0,0,0,0,0,0,0,0,0,0,0,0,0,0,0,0,0,0,0,0,0,0,0,0,{"$f":"SUM(OK26:OK29)","v":0},0,0,0,0,0,0,null,null,{"$f":"SUMIFS($Q25:$OQ25,$Q$3:$OQ$3,OT$12)","v":-554.16666666666674},-955.54166666666686,-965.09708333333344,-974.74805416666663,-984.49553470833314,-411.90575395833326,0,0,0,0,0,0,0,0,0,0,{"$f":"SUMIFS($Q25:$OQ25,$Q$3:$OQ$3,PJ$12)","v":0},0,0,0,0,0,0,0,0,0,0,0,0,0,0,0,0,0]
[null,null,null,null,null,null,null,null,null,null,null,null,"Cuota Comunidad",null,0,null,{"$f":"+IF(COLUMNS($Q26:Q26)>$E$60,-$F$40*Q$1,-$F$40*Q$1*$E$40)*Q$30","v":0},{"$f":"+IF(COLUMNS($Q26:R26)>$E$60,-$F$40*R$1,-$F$40*R$1*$E$40)*R$30","v":0},{"$f":"+IF(COLUMNS($Q26:S26)>$E$60,-$F$40*S$1,-$F$40*S$1*$E$40)*S$30","v":0},{"$f":"+IF(COLUMNS($Q26:T26)>$E$60,-$F$40*T$1,-$F$40*T$1*$E$40)*T$30","v":0},{"$f":"+IF(COLUMNS($Q26:U26)>$E$60,-$F$40*U$1,-$F$40*U$1*$E$40)*U$30","v":0},{"$f":"+IF(COLUMNS($Q26:V26)>$E$60,-$F$40*V$1,-$F$40*V$1*$E$40)*V$30","v":0},{"$f":"+IF(COLUMNS($Q26:W26)>$E$60,-$F$40*W$1,-$F$40*W$1*$E$40)*W$30","v":0},{"$f":"+IF(COLUMNS($Q26:X26)>$E$60,-$F$40*X$1,-$F$40*X$1*$E$40)*X$30","v":0},{"$f":"+IF(COLUMNS($Q26:Y26)>$E$60,-$F$40*Y$1,-$F$40*Y$1*$E$40)*Y$30","v":0},{"$f":"+IF(COLUMNS($Q26:Z26)>$E$60,-$F$40*Z$1,-$F$40*Z$1*$E$40)*Z$30","v":0},{"$f":"+IF(COLUMNS($Q26:AA26)>$E$60,-$F$40*AA$1,-$F$40*AA$1*$E$40)*AA$30","v":0},{"$f":"+IF(COLUMNS($Q26:AB26)>$E$60,-$F$40*AB$1,-$F$40*AB$1*$E$40)*AB$30","v":0},{"$f":"+IF(COLUMNS($Q26:AC26)>$E$60,-$F$40*AC$1,-$F$40*AC$1*$E$40)*AC$30","v":0},{"$f":"+IF(COLUMNS($Q26:AD26)>$E$60,-$F$40*AD$1,-$F$40*AD$1*$E$40)*AD$30","v":0},{"$f":"+IF(COLUMNS($Q26:AE26)>$E$60,-$F$40*AE$1,-$F$40*AE$1*$E$40)*AE$30","v":0},{"$f":"+IF(COLUMNS($Q26:AF26)>$E$60,-$F$40*AF$1,-$F$40*AF$1*$E$40)*AF$30","v":0},{"$f":"+IF(COLUMNS($Q26:AG26)>$E$60,-$F$40*AG$1,-$F$40*AG$1*$E$40)*AG$30","v":0},{"$f":"+IF(COLUMNS($Q26:AH26)>$E$60,-$F$40*AH$1,-$F$40*AH$1*$E$40)*AH$30","v":0},{"$f":"+IF(COLUMNS($Q26:AI26)>$E$60,-$F$40*AI$1,-$F$40*AI$1*$E$40)*AI$30","v":0},{"$f":"+IF(COLUMNS($Q26:AJ26)>$E$60,-$F$40*AJ$1,-$F$40*AJ$1*$E$40)*AJ$30","v":0},{"$f":"+IF(COLUMNS($Q26:AK26)>$E$60,-$F$40*AK$1,-$F$40*AK$1*$E$40)*AK$30","v":0},{"$f":"+IF(COLUMNS($Q26:AL26)>$E$60,-$F$40*AL$1,-$F$40*AL$1*$E$40)*AL$30","v":0},{"$f":"+IF(COLUMNS($Q26:AM26)>$E$60,-$F$40*AM$1,-$F$40*AM$1*$E$40)*AM$30","v":0},{"$f":"+IF(COLUMNS($Q26:AN26)>$E$60,-$F$40*AN$1,-$F$40*AN$1*$E$40)*AN$30","v":0},{"$f":"+IF(COLUMNS($Q26:AO26)>$E$60,-$F$40*AO$1,-$F$40*AO$1*$E$40)*AO$30","v":0},{"$f":"+IF(COLUMNS($Q26:AP26)>$E$60,-$F$40*AP$1,-$F$40*AP$1*$E$40)*AP$30","v":0},{"$f":"+IF(COLUMNS($Q26:AQ26)>$E$60,-$F$40*AQ$1,-$F$40*AQ$1*$E$40)*AQ$30","v":0},{"$f":"+IF(COLUMNS($Q26:AR26)>$E$60,-$F$40*AR$1,-$F$40*AR$1*$E$40)*AR$30","v":0},{"$f":"+IF(COLUMNS($Q26:AS26)>$E$60,-$F$40*AS$1,-$F$40*AS$1*$E$40)*AS$30","v":0},{"$f":"+IF(COLUMNS($Q26:AT26)>$E$60,-$F$40*AT$1,-$F$40*AT$1*$E$40)*AT$30","v":0},{"$f":"+IF(COLUMNS($Q26:AU26)>$E$60,-$F$40*AU$1,-$F$40*AU$1*$E$40)*AU$30","v":0},{"$f":"+IF(COLUMNS($Q26:AV26)>$E$60,-$F$40*AV$1,-$F$40*AV$1*$E$40)*AV$30","v":0},{"$f":"+IF(COLUMNS($Q26:AW26)>$E$60,-$F$40*AW$1,-$F$40*AW$1*$E$40)*AW$30","v":0},{"$f":"+IF(COLUMNS($Q26:AX26)>$E$60,-$F$40*AX$1,-$F$40*AX$1*$E$40)*AX$30","v":0},{"$f":"+IF(COLUMNS($Q26:AY26)>$E$60,-$F$40*AY$1,-$F$40*AY$1*$E$40)*AY$30","v":0},{"$f":"+IF(COLUMNS($Q26:AZ26)>$E$60,-$F$40*AZ$1,-$F$40*AZ$1*$E$40)*AZ$30","v":0},{"$f":"+IF(COLUMNS($Q26:BA26)>$E$60,-$F$40*BA$1,-$F$40*BA$1*$E$40)*BA$30","v":0},{"$f":"+IF(COLUMNS($Q26:BB26)>$E$60,-$F$40*BB$1,-$F$40*BB$1*$E$40)*BB$30","v":0},{"$f":"+IF(COLUMNS($Q26:BC26)>$E$60,-$F$40*BC$1,-$F$40*BC$1*$E$40)*BC$30","v":0},{"$f":"+IF(COLUMNS($Q26:BD26)>$E$60,-$F$40*BD$1,-$F$40*BD$1*$E$40)*BD$30","v":0},{"$f":"+IF(COLUMNS($Q26:BE26)>$E$60,-$F$40*BE$1,-$F$40*BE$1*$E$40)*BE$30","v":0},{"$f":"+IF(COLUMNS($Q26:BF26)>$E$60,-$F$40*BF$1,-$F$40*BF$1*$E$40)*BF$30","v":0},{"$f":"+IF(COLUMNS($Q26:BG26)>$E$60,-$F$40*BG$1,-$F$40*BG$1*$E$40)*BG$30","v":0},{"$f":"+IF(COLUMNS($Q26:BH26)>$E$60,-$F$40*BH$1,-$F$40*BH$1*$E$40)*BH$30","v":0},{"$f":"+IF(COLUMNS($Q26:BI26)>$E$60,-$F$40*BI$1,-$F$40*BI$1*$E$40)*BI$30","v":0},{"$f":"+IF(COLUMNS($Q26:BJ26)>$E$60,-$F$40*BJ$1,-$F$40*BJ$1*$E$40)*BJ$30","v":0},{"$f":"+IF(COLUMNS($Q26:BK26)>$E$60,-$F$40*BK$1,-$F$40*BK$1*$E$40)*BK$30","v":0},{"$f":"+IF(COLUMNS($Q26:BL26)>$E$60,-$F$40*BL$1,-$F$40*BL$1*$E$40)*BL$30","v":0},{"$f":"+IF(COLUMNS($Q26:BM26)>$E$60,-$F$40*BM$1,-$F$40*BM$1*$E$40)*BM$30","v":0},{"$f":"+IF(COLUMNS($Q26:BN26)>$E$60,-$F$40*BN$1,-$F$40*BN$1*$E$40)*BN$30","v":0},{"$f":"+IF(COLUMNS($Q26:BO26)>$E$60,-$F$40*BO$1,-$F$40*BO$1*$E$40)*BO$30","v":0},{"$f":"+IF(COLUMNS($Q26:BP26)>$E$60,-$F$40*BP$1,-$F$40*BP$1*$E$40)*BP$30","v":0},{"$f":"+IF(COLUMNS($Q26:BQ26)>$E$60,-$F$40*BQ$1,-$F$40*BQ$1*$E$40)*BQ$30","v":0},{"$f":"+IF(COLUMNS($Q26:BR26)>$E$60,-$F$40*BR$1,-$F$40*BR$1*$E$40)*BR$30","v":0},{"$f":"+IF(COLUMNS($Q26:BS26)>$E$60,-$F$40*BS$1,-$F$40*BS$1*$E$40)*BS$30","v":0},{"$f":"+IF(COLUMNS($Q26:BT26)>$E$60,-$F$40*BT$1,-$F$40*BT$1*$E$40)*BT$30","v":0},{"$f":"+IF(COLUMNS($Q26:BU26)>$E$60,-$F$40*BU$1,-$F$40*BU$1*$E$40)*BU$30","v":0},{"$f":"+IF(COLUMNS($Q26:BV26)>$E$60,-$F$40*BV$1,-$F$40*BV$1*$E$40)*BV$30","v":0},{"$f":"+IF(COLUMNS($Q26:BW26)>$E$60,-$F$40*BW$1,-$F$40*BW$1*$E$40)*BW$30","v":0},{"$f":"+IF(COLUMNS($Q26:BX26)>$E$60,-$F$40*BX$1,-$F$40*BX$1*$E$40)*BX$30","v":0},{"$f":"+IF(COLUMNS($Q26:BY26)>$E$60,-$F$40*BY$1,-$F$40*BY$1*$E$40)*BY$30","v":0},{"$f":"+IF(COLUMNS($Q26:BZ26)>$E$60,-$F$40*BZ$1,-$F$40*BZ$1*$E$40)*BZ$30","v":0},{"$f":"+IF(COLUMNS($Q26:CA26)>$E$60,-$F$40*CA$1,-$F$40*CA$1*$E$40)*CA$30","v":0},{"$f":"+IF(COLUMNS($Q26:CB26)>$E$60,-$F$40*CB$1,-$F$40*CB$1*$E$40)*CB$30","v":0},{"$f":"+IF(COLUMNS($Q26:CC26)>$E$60,-$F$40*CC$1,-$F$40*CC$1*$E$40)*CC$30","v":0},{"$f":"+IF(COLUMNS($Q26:CD26)>$E$60,-$F$40*CD$1,-$F$40*CD$1*$E$40)*CD$30","v":0},{"$f":"+IF(COLUMNS($Q26:CE26)>$E$60,-$F$40*CE$1,-$F$40*CE$1*$E$40)*CE$30","v":0},{"$f":"+IF(COLUMNS($Q26:CF26)>$E$60,-$F$40*CF$1,-$F$40*CF$1*$E$40)*CF$30","v":0},{"$f":"+IF(COLUMNS($Q26:CG26)>$E$60,-$F$40*CG$1,-$F$40*CG$1*$E$40)*CG$30","v":0},{"$f":"+IF(COLUMNS($Q26:CH26)>$E$60,-$F$40*CH$1,-$F$40*CH$1*$E$40)*CH$30","v":0},{"$f":"+IF(COLUMNS($Q26:CI26)>$E$60,-$F$40*CI$1,-$F$40*CI$1*$E$40)*CI$30","v":0},{"$f":"+IF(COLUMNS($Q26:CJ26)>$E$60,-$F$40*CJ$1,-$F$40*CJ$1*$E$40)*CJ$30","v":0},{"$f":"+IF(COLUMNS($Q26:CK26)>$E$60,-$F$40*CK$1,-$F$40*CK$1*$E$40)*CK$30","v":0},{"$f":"+IF(COLUMNS($Q26:CL26)>$E$60,-$F$40*CL$1,-$F$40*CL$1*$E$40)*CL$30","v":0},{"$f":"+IF(COLUMNS($Q26:CM26)>$E$60,-$F$40*CM$1,-$F$40*CM$1*$E$40)*CM$30","v":0},{"$f":"+IF(COLUMNS($Q26:CN26)>$E$60,-$F$40*CN$1,-$F$40*CN$1*$E$40)*CN$30","v":0},{"$f":"+IF(COLUMNS($Q26:CO26)>$E$60,-$F$40*CO$1,-$F$40*CO$1*$E$40)*CO$30","v":0},{"$f":"+IF(COLUMNS($Q26:CP26)>$E$60,-$F$40*CP$1,-$F$40*CP$1*$E$40)*CP$30","v":0},{"$f":"+IF(COLUMNS($Q26:CQ26)>$E$60,-$F$40*CQ$1,-$F$40*CQ$1*$E$40)*CQ$30","v":0},{"$f":"+IF(COLUMNS($Q26:CR26)>$E$60,-$F$40*CR$1,-$F$40*CR$1*$E$40)*CR$30","v":0},{"$f":"+IF(COLUMNS($Q26:CS26)>$E$60,-$F$40*CS$1,-$F$40*CS$1*$E$40)*CS$30","v":0},{"$f":"+IF(COLUMNS($Q26:CT26)>$E$60,-$F$40*CT$1,-$F$40*CT$1*$E$40)*CT$30","v":0},{"$f":"+IF(COLUMNS($Q26:CU26)>$E$60,-$F$40*CU$1,-$F$40*CU$1*$E$40)*CU$30","v":0},{"$f":"+IF(COLUMNS($Q26:CV26)>$E$60,-$F$40*CV$1,-$F$40*CV$1*$E$40)*CV$30","v":0},{"$f":"+IF(COLUMNS($Q26:CW26)>$E$60,-$F$40*CW$1,-$F$40*CW$1*$E$40)*CW$30","v":0},{"$f":"+IF(COLUMNS($Q26:CX26)>$E$60,-$F$40*CX$1,-$F$40*CX$1*$E$40)*CX$30","v":0},{"$f":"+IF(COLUMNS($Q26:CY26)>$E$60,-$F$40*CY$1,-$F$40*CY$1*$E$40)*CY$30","v":0},{"$f":"+IF(COLUMNS($Q26:CZ26)>$E$60,-$F$40*CZ$1,-$F$40*CZ$1*$E$40)*CZ$30","v":0},{"$f":"+IF(COLUMNS($Q26:DA26)>$E$60,-$F$40*DA$1,-$F$40*DA$1*$E$40)*DA$30","v":0},{"$f":"+IF(COLUMNS($Q26:DB26)>$E$60,-$F$40*DB$1,-$F$40*DB$1*$E$40)*DB$30","v":0},{"$f":"+IF(COLUMNS($Q26:DC26)>$E$60,-$F$40*DC$1,-$F$40*DC$1*$E$40)*DC$30","v":0},{"$f":"+IF(COLUMNS($Q26:DD26)>$E$60,-$F$40*DD$1,-$F$40*DD$1*$E$40)*DD$30","v":0},{"$f":"+IF(COLUMNS($Q26:DE26)>$E$60,-$F$40*DE$1,-$F$40*DE$1*$E$40)*DE$30","v":0},{"$f":"+IF(COLUMNS($Q26:DF26)>$E$60,-$F$40*DF$1,-$F$40*DF$1*$E$40)*DF$30","v":0},{"$f":"+IF(COLUMNS($Q26:DG26)>$E$60,-$F$40*DG$1,-$F$40*DG$1*$E$40)*DG$30","v":0},{"$f":"+IF(COLUMNS($Q26:DH26)>$E$60,-$F$40*DH$1,-$F$40*DH$1*$E$40)*DH$30","v":0},{"$f":"+IF(COLUMNS($Q26:DI26)>$E$60,-$F$40*DI$1,-$F$40*DI$1*$E$40)*DI$30","v":0},{"$f":"+IF(COLUMNS($Q26:DJ26)>$E$60,-$F$40*DJ$1,-$F$40*DJ$1*$E$40)*DJ$30","v":0},{"$f":"+IF(COLUMNS($Q26:DK26)>$E$60,-$F$40*DK$1,-$F$40*DK$1*$E$40)*DK$30","v":0},{"$f":"+IF(COLUMNS($Q26:DL26)>$E$60,-$F$40*DL$1,-$F$40*DL$1*$E$40)*DL$30","v":0},{"$f":"+IF(COLUMNS($Q26:DM26)>$E$60,-$F$40*DM$1,-$F$40*DM$1*$E$40)*DM$30","v":0},{"$f":"+IF(COLUMNS($Q26:DN26)>$E$60,-$F$40*DN$1,-$F$40*DN$1*$E$40)*DN$30","v":0},{"$f":"+IF(COLUMNS($Q26:DO26)>$E$60,-$F$40*DO$1,-$F$40*DO$1*$E$40)*DO$30","v":0},{"$f":"+IF(COLUMNS($Q26:DP26)>$E$60,-$F$40*DP$1,-$F$40*DP$1*$E$40)*DP$30","v":0},{"$f":"+IF(COLUMNS($Q26:DQ26)>$E$60,-$F$40*DQ$1,-$F$40*DQ$1*$E$40)*DQ$30","v":0},{"$f":"+IF(COLUMNS($Q26:DR26)>$E$60,-$F$40*DR$1,-$F$40*DR$1*$E$40)*DR$30","v":0},{"$f":"+IF(COLUMNS($Q26:DS26)>$E$60,-$F$40*DS$1,-$F$40*DS$1*$E$40)*DS$30","v":0},{"$f":"+IF(COLUMNS($Q26:DT26)>$E$60,-$F$40*DT$1,-$F$40*DT$1*$E$40)*DT$30","v":0},{"$f":"+IF(COLUMNS($Q26:DU26)>$E$60,-$F$40*DU$1,-$F$40*DU$1*$E$40)*DU$30","v":0},{"$f":"+IF(COLUMNS($Q26:DV26)>$E$60,-$F$40*DV$1,-$F$40*DV$1*$E$40)*DV$30","v":0},{"$f":"+IF(COLUMNS($Q26:DW26)>$E$60,-$F$40*DW$1,-$F$40*DW$1*$E$40)*DW$30","v":0},{"$f":"+IF(COLUMNS($Q26:DX26)>$E$60,-$F$40*DX$1,-$F$40*DX$1*$E$40)*DX$30","v":0},{"$f":"+IF(COLUMNS($Q26:DY26)>$E$60,-$F$40*DY$1,-$F$40*DY$1*$E$40)*DY$30","v":0},{"$f":"+IF(COLUMNS($Q26:DZ26)>$E$60,-$F$40*DZ$1,-$F$40*DZ$1*$E$40)*DZ$30","v":0},{"$f":"+IF(COLUMNS($Q26:EA26)>$E$60,-$F$40*EA$1,-$F$40*EA$1*$E$40)*EA$30","v":0},{"$f":"+IF(COLUMNS($Q26:EB26)>$E$60,-$F$40*EB$1,-$F$40*EB$1*$E$40)*EB$30","v":0},{"$f":"+IF(COLUMNS($Q26:EC26)>$E$60,-$F$40*EC$1,-$F$40*EC$1*$E$40)*EC$30","v":0},{"$f":"+IF(COLUMNS($Q26:ED26)>$E$60,-$F$40*ED$1,-$F$40*ED$1*$E$40)*ED$30","v":0},{"$f":"+IF(COLUMNS($Q26:EE26)>$E$60,-$F$40*EE$1,-$F$40*EE$1*$E$40)*EE$30","v":0},{"$f":"+IF(COLUMNS($Q26:EF26)>$E$60,-$F$40*EF$1,-$F$40*EF$1*$E$40)*EF$30","v":0},{"$f":"+IF(COLUMNS($Q26:EG26)>$E$60,-$F$40*EG$1,-$F$40*EG$1*$E$40)*EG$30","v":0},{"$f":"+IF(COLUMNS($Q26:EH26)>$E$60,-$F$40*EH$1,-$F$40*EH$1*$E$40)*EH$30","v":0},{"$f":"+IF(COLUMNS($Q26:EI26)>$E$60,-$F$40*EI$1,-$F$40*EI$1*$E$40)*EI$30","v":0},{"$f":"+IF(COLUMNS($Q26:EJ26)>$E$60,-$F$40*EJ$1,-$F$40*EJ$1*$E$40)*EJ$30","v":0},{"$f":"+IF(COLUMNS($Q26:EK26)>$E$60,-$F$40*EK$1,-$F$40*EK$1*$E$40)*EK$30","v":0},{"$f":"+IF(COLUMNS($Q26:EL26)>$E$60,-$F$40*EL$1,-$F$40*EL$1*$E$40)*EL$30","v":0},{"$f":"+IF(COLUMNS($Q26:EM26)>$E$60,-$F$40*EM$1,-$F$40*EM$1*$E$40)*EM$30","v":0},{"$f":"+IF(COLUMNS($Q26:EN26)>$E$60,-$F$40*EN$1,-$F$40*EN$1*$E$40)*EN$30","v":0},{"$f":"+IF(COLUMNS($Q26:EO26)>$E$60,-$F$40*EO$1,-$F$40*EO$1*$E$40)*EO$30","v":0},{"$f":"+IF(COLUMNS($Q26:EP26)>$E$60,-$F$40*EP$1,-$F$40*EP$1*$E$40)*EP$30","v":0},{"$f":"+IF(COLUMNS($Q26:EQ26)>$E$60,-$F$40*EQ$1,-$F$40*EQ$1*$E$40)*EQ$30","v":0},{"$f":"+IF(COLUMNS($Q26:ER26)>$E$60,-$F$40*ER$1,-$F$40*ER$1*$E$40)*ER$30","v":0},{"$f":"+IF(COLUMNS($Q26:ES26)>$E$60,-$F$40*ES$1,-$F$40*ES$1*$E$40)*ES$30","v":0},{"$f":"+IF(COLUMNS($Q26:ET26)>$E$60,-$F$40*ET$1,-$F$40*ET$1*$E$40)*ET$30","v":0},{"$f":"+IF(COLUMNS($Q26:EU26)>$E$60,-$F$40*EU$1,-$F$40*EU$1*$E$40)*EU$30","v":0},{"$f":"+IF(COLUMNS($Q26:EV26)>$E$60,-$F$40*EV$1,-$F$40*EV$1*$E$40)*EV$30","v":0},{"$f":"+IF(COLUMNS($Q26:EW26)>$E$60,-$F$40*EW$1,-$F$40*EW$1*$E$40)*EW$30","v":0},{"$f":"+IF(COLUMNS($Q26:EX26)>$E$60,-$F$40*EX$1,-$F$40*EX$1*$E$40)*EX$30","v":0},{"$f":"+IF(COLUMNS($Q26:EY26)>$E$60,-$F$40*EY$1,-$F$40*EY$1*$E$40)*EY$30","v":0},{"$f":"+IF(COLUMNS($Q26:EZ26)>$E$60,-$F$40*EZ$1,-$F$40*EZ$1*$E$40)*EZ$30","v":0},{"$f":"+IF(COLUMNS($Q26:FA26)>$E$60,-$F$40*FA$1,-$F$40*FA$1*$E$40)*FA$30","v":0},{"$f":"+IF(COLUMNS($Q26:FB26)>$E$60,-$F$40*FB$1,-$F$40*FB$1*$E$40)*FB$30","v":0},{"$f":"+IF(COLUMNS($Q26:FC26)>$E$60,-$F$40*FC$1,-$F$40*FC$1*$E$40)*FC$30","v":0},{"$f":"+IF(COLUMNS($Q26:FD26)>$E$60,-$F$40*FD$1,-$F$40*FD$1*$E$40)*FD$30","v":0},{"$f":"+IF(COLUMNS($Q26:FE26)>$E$60,-$F$40*FE$1,-$F$40*FE$1*$E$40)*FE$30","v":0},{"$f":"+IF(COLUMNS($Q26:FF26)>$E$60,-$F$40*FF$1,-$F$40*FF$1*$E$40)*FF$30","v":0},{"$f":"+IF(COLUMNS($Q26:FG26)>$E$60,-$F$40*FG$1,-$F$40*FG$1*$E$40)*FG$30","v":0},{"$f":"+IF(COLUMNS($Q26:FH26)>$E$60,-$F$40*FH$1,-$F$40*FH$1*$E$40)*FH$30","v":0},{"$f":"+IF(COLUMNS($Q26:FI26)>$E$60,-$F$40*FI$1,-$F$40*FI$1*$E$40)*FI$30","v":0},{"$f":"+IF(COLUMNS($Q26:FJ26)>$E$60,-$F$40*FJ$1,-$F$40*FJ$1*$E$40)*FJ$30","v":0},{"$f":"+IF(COLUMNS($Q26:FK26)>$E$60,-$F$40*FK$1,-$F$40*FK$1*$E$40)*FK$30","v":0},{"$f":"+IF(COLUMNS($Q26:FL26)>$E$60,-$F$40*FL$1,-$F$40*FL$1*$E$40)*FL$30","v":0},{"$f":"+IF(COLUMNS($Q26:FM26)>$E$60,-$F$40*FM$1,-$F$40*FM$1*$E$40)*FM$30","v":0},{"$f":"+IF(COLUMNS($Q26:FN26)>$E$60,-$F$40*FN$1,-$F$40*FN$1*$E$40)*FN$30","v":0},{"$f":"+IF(COLUMNS($Q26:FO26)>$E$60,-$F$40*FO$1,-$F$40*FO$1*$E$40)*FO$30","v":0},{"$f":"+IF(COLUMNS($Q26:FP26)>$E$60,-$F$40*FP$1,-$F$40*FP$1*$E$40)*FP$30","v":0},{"$f":"+IF(COLUMNS($Q26:FQ26)>$E$60,-$F$40*FQ$1,-$F$40*FQ$1*$E$40)*FQ$30","v":0},{"$f":"+IF(COLUMNS($Q26:FR26)>$E$60,-$F$40*FR$1,-$F$40*FR$1*$E$40)*FR$30","v":0},{"$f":"+IF(COLUMNS($Q26:FS26)>$E$60,-$F$40*FS$1,-$F$40*FS$1*$E$40)*FS$30","v":0},{"$f":"+IF(COLUMNS($Q26:FT26)>$E$60,-$F$40*FT$1,-$F$40*FT$1*$E$40)*FT$30","v":0},{"$f":"+IF(COLUMNS($Q26:FU26)>$E$60,-$F$40*FU$1,-$F$40*FU$1*$E$40)*FU$30","v":0},{"$f":"+IF(COLUMNS($Q26:FV26)>$E$60,-$F$40*FV$1,-$F$40*FV$1*$E$40)*FV$30","v":0},{"$f":"+IF(COLUMNS($Q26:FW26)>$E$60,-$F$40*FW$1,-$F$40*FW$1*$E$40)*FW$30","v":0},{"$f":"+IF(COLUMNS($Q26:FX26)>$E$60,-$F$40*FX$1,-$F$40*FX$1*$E$40)*FX$30","v":0},{"$f":"+IF(COLUMNS($Q26:FY26)>$E$60,-$F$40*FY$1,-$F$40*FY$1*$E$40)*FY$30","v":0},{"$f":"+IF(COLUMNS($Q26:FZ26)>$E$60,-$F$40*FZ$1,-$F$40*FZ$1*$E$40)*FZ$30","v":0},{"$f":"+IF(COLUMNS($Q26:GA26)>$E$60,-$F$40*GA$1,-$F$40*GA$1*$E$40)*GA$30","v":0},{"$f":"+IF(COLUMNS($Q26:GB26)>$E$60,-$F$40*GB$1,-$F$40*GB$1*$E$40)*GB$30","v":0},{"$f":"+IF(COLUMNS($Q26:GC26)>$E$60,-$F$40*GC$1,-$F$40*GC$1*$E$40)*GC$30","v":0},{"$f":"+IF(COLUMNS($Q26:GD26)>$E$60,-$F$40*GD$1,-$F$40*GD$1*$E$40)*GD$30","v":0},{"$f":"+IF(COLUMNS($Q26:GE26)>$E$60,-$F$40*GE$1,-$F$40*GE$1*$E$40)*GE$30","v":0},{"$f":"+IF(COLUMNS($Q26:GF26)>$E$60,-$F$40*GF$1,-$F$40*GF$1*$E$40)*GF$30","v":0},{"$f":"+IF(COLUMNS($Q26:GG26)>$E$60,-$F$40*GG$1,-$F$40*GG$1*$E$40)*GG$30","v":0},{"$f":"+IF(COLUMNS($Q26:GH26)>$E$60,-$F$40*GH$1,-$F$40*GH$1*$E$40)*GH$30","v":0},{"$f":"+IF(COLUMNS($Q26:GI26)>$E$60,-$F$40*GI$1,-$F$40*GI$1*$E$40)*GI$30","v":0},{"$f":"+IF(COLUMNS($Q26:GJ26)>$E$60,-$F$40*GJ$1,-$F$40*GJ$1*$E$40)*GJ$30","v":0},{"$f":"+IF(COLUMNS($Q26:GK26)>$E$60,-$F$40*GK$1,-$F$40*GK$1*$E$40)*GK$30","v":0},{"$f":"+IF(COLUMNS($Q26:GL26)>$E$60,-$F$40*GL$1,-$F$40*GL$1*$E$40)*GL$30","v":0},{"$f":"+IF(COLUMNS($Q26:GM26)>$E$60,-$F$40*GM$1,-$F$40*GM$1*$E$40)*GM$30","v":0},{"$f":"+IF(COLUMNS($Q26:GN26)>$E$60,-$F$40*GN$1,-$F$40*GN$1*$E$40)*GN$30","v":0},{"$f":"+IF(COLUMNS($Q26:GO26)>$E$60,-$F$40*GO$1,-$F$40*GO$1*$E$40)*GO$30","v":0},{"$f":"+IF(COLUMNS($Q26:GP26)>$E$60,-$F$40*GP$1,-$F$40*GP$1*$E$40)*GP$30","v":0},{"$f":"+IF(COLUMNS($Q26:GQ26)>$E$60,-$F$40*GQ$1,-$F$40*GQ$1*$E$40)*GQ$30","v":0},{"$f":"+IF(COLUMNS($Q26:GR26)>$E$60,-$F$40*GR$1,-$F$40*GR$1*$E$40)*GR$30","v":0},{"$f":"+IF(COLUMNS($Q26:GS26)>$E$60,-$F$40*GS$1,-$F$40*GS$1*$E$40)*GS$30","v":0},{"$f":"+IF(COLUMNS($Q26:GT26)>$E$60,-$F$40*GT$1,-$F$40*GT$1*$E$40)*GT$30","v":0},{"$f":"+IF(COLUMNS($Q26:GU26)>$E$60,-$F$40*GU$1,-$F$40*GU$1*$E$40)*GU$30","v":0},{"$f":"+IF(COLUMNS($Q26:GV26)>$E$60,-$F$40*GV$1,-$F$40*GV$1*$E$40)*GV$30","v":0},{"$f":"+IF(COLUMNS($Q26:GW26)>$E$60,-$F$40*GW$1,-$F$40*GW$1*$E$40)*GW$30","v":0},{"$f":"+IF(COLUMNS($Q26:GX26)>$E$60,-$F$40*GX$1,-$F$40*GX$1*$E$40)*GX$30","v":0},{"$f":"+IF(COLUMNS($Q26:GY26)>$E$60,-$F$40*GY$1,-$F$40*GY$1*$E$40)*GY$30","v":0},{"$f":"+IF(COLUMNS($Q26:GZ26)>$E$60,-$F$40*GZ$1,-$F$40*GZ$1*$E$40)*GZ$30","v":0},{"$f":"+IF(COLUMNS($Q26:HA26)>$E$60,-$F$40*HA$1,-$F$40*HA$1*$E$40)*HA$30","v":0},{"$f":"+IF(COLUMNS($Q26:HB26)>$E$60,-$F$40*HB$1,-$F$40*HB$1*$E$40)*HB$30","v":0},{"$f":"+IF(COLUMNS($Q26:HC26)>$E$60,-$F$40*HC$1,-$F$40*HC$1*$E$40)*HC$30","v":0},{"$f":"+IF(COLUMNS($Q26:HD26)>$E$60,-$F$40*HD$1,-$F$40*HD$1*$E$40)*HD$30","v":0},{"$f":"+IF(COLUMNS($Q26:HE26)>$E$60,-$F$40*HE$1,-$F$40*HE$1*$E$40)*HE$30","v":0},{"$f":"+IF(COLUMNS($Q26:HF26)>$E$60,-$F$40*HF$1,-$F$40*HF$1*$E$40)*HF$30","v":0},{"$f":"+IF(COLUMNS($Q26:HG26)>$E$60,-$F$40*HG$1,-$F$40*HG$1*$E$40)*HG$30","v":0},{"$f":"+IF(COLUMNS($Q26:HH26)>$E$60,-$F$40*HH$1,-$F$40*HH$1*$E$40)*HH$30","v":0},{"$f":"+IF(COLUMNS($Q26:HI26)>$E$60,-$F$40*HI$1,-$F$40*HI$1*$E$40)*HI$30","v":0},{"$f":"+IF(COLUMNS($Q26:HJ26)>$E$60,-$F$40*HJ$1,-$F$40*HJ$1*$E$40)*HJ$30","v":0},{"$f":"+IF(COLUMNS($Q26:HK26)>$E$60,-$F$40*HK$1,-$F$40*HK$1*$E$40)*HK$30","v":0},{"$f":"+IF(COLUMNS($Q26:HL26)>$E$60,-$F$40*HL$1,-$F$40*HL$1*$E$40)*HL$30","v":0},{"$f":"+IF(COLUMNS($Q26:HM26)>$E$60,-$F$40*HM$1,-$F$40*HM$1*$E$40)*HM$30","v":0},{"$f":"+IF(COLUMNS($Q26:HN26)>$E$60,-$F$40*HN$1,-$F$40*HN$1*$E$40)*HN$30","v":0},{"$f":"+IF(COLUMNS($Q26:HO26)>$E$60,-$F$40*HO$1,-$F$40*HO$1*$E$40)*HO$30","v":0},{"$f":"+IF(COLUMNS($Q26:HP26)>$E$60,-$F$40*HP$1,-$F$40*HP$1*$E$40)*HP$30","v":0},{"$f":"+IF(COLUMNS($Q26:HQ26)>$E$60,-$F$40*HQ$1,-$F$40*HQ$1*$E$40)*HQ$30","v":0},{"$f":"+IF(COLUMNS($Q26:HR26)>$E$60,-$F$40*HR$1,-$F$40*HR$1*$E$40)*HR$30","v":0},{"$f":"+IF(COLUMNS($Q26:HS26)>$E$60,-$F$40*HS$1,-$F$40*HS$1*$E$40)*HS$30","v":0},{"$f":"+IF(COLUMNS($Q26:HT26)>$E$60,-$F$40*HT$1,-$F$40*HT$1*$E$40)*HT$30","v":0},{"$f":"+IF(COLUMNS($Q26:HU26)>$E$60,-$F$40*HU$1,-$F$40*HU$1*$E$40)*HU$30","v":0},{"$f":"+IF(COLUMNS($Q26:HV26)>$E$60,-$F$40*HV$1,-$F$40*HV$1*$E$40)*HV$30","v":0},{"$f":"+IF(COLUMNS($Q26:HW26)>$E$60,-$F$40*HW$1,-$F$40*HW$1*$E$40)*HW$30","v":0},{"$f":"+IF(COLUMNS($Q26:HX26)>$E$60,-$F$40*HX$1,-$F$40*HX$1*$E$40)*HX$30","v":0},{"$f":"+IF(COLUMNS($Q26:HY26)>$E$60,-$F$40*HY$1,-$F$40*HY$1*$E$40)*HY$30","v":0},{"$f":"+IF(COLUMNS($Q26:HZ26)>$E$60,-$F$40*HZ$1,-$F$40*HZ$1*$E$40)*HZ$30","v":0},{"$f":"+IF(COLUMNS($Q26:IA26)>$E$60,-$F$40*IA$1,-$F$40*IA$1*$E$40)*IA$30","v":0},{"$f":"+IF(COLUMNS($Q26:IB26)>$E$60,-$F$40*IB$1,-$F$40*IB$1*$E$40)*IB$30","v":0},{"$f":"+IF(COLUMNS($Q26:IC26)>$E$60,-$F$40*IC$1,-$F$40*IC$1*$E$40)*IC$30","v":0},{"$f":"+IF(COLUMNS($Q26:ID26)>$E$60,-$F$40*ID$1,-$F$40*ID$1*$E$40)*ID$30","v":0},{"$f":"+IF(COLUMNS($Q26:IE26)>$E$60,-$F$40*IE$1,-$F$40*IE$1*$E$40)*IE$30","v":0},{"$f":"+IF(COLUMNS($Q26:IF26)>$E$60,-$F$40*IF$1,-$F$40*IF$1*$E$40)*IF$30","v":0},{"$f":"+IF(COLUMNS($Q26:IG26)>$E$60,-$F$40*IG$1,-$F$40*IG$1*$E$40)*IG$30","v":0},{"$f":"+IF(COLUMNS($Q26:IH26)>$E$60,-$F$40*IH$1,-$F$40*IH$1*$E$40)*IH$30","v":0},{"$f":"+IF(COLUMNS($Q26:II26)>$E$60,-$F$40*II$1,-$F$40*II$1*$E$40)*II$30","v":0},{"$f":"+IF(COLUMNS($Q26:IJ26)>$E$60,-$F$40*IJ$1,-$F$40*IJ$1*$E$40)*IJ$30","v":0},{"$f":"+IF(COLUMNS($Q26:IK26)>$E$60,-$F$40*IK$1,-$F$40*IK$1*$E$40)*IK$30","v":0},{"$f":"+IF(COLUMNS($Q26:IL26)>$E$60,-$F$40*IL$1,-$F$40*IL$1*$E$40)*IL$30","v":0},{"$f":"+IF(COLUMNS($Q26:IM26)>$E$60,-$F$40*IM$1,-$F$40*IM$1*$E$40)*IM$30","v":0},{"$f":"+IF(COLUMNS($Q26:IN26)>$E$60,-$F$40*IN$1,-$F$40*IN$1*$E$40)*IN$30","v":0},{"$f":"+IF(COLUMNS($Q26:IO26)>$E$60,-$F$40*IO$1,-$F$40*IO$1*$E$40)*IO$30","v":0},{"$f":"+IF(COLUMNS($Q26:IP26)>$E$60,-$F$40*IP$1,-$F$40*IP$1*$E$40)*IP$30","v":0},{"$f":"+IF(COLUMNS($Q26:IQ26)>$E$60,-$F$40*IQ$1,-$F$40*IQ$1*$E$40)*IQ$30","v":0},{"$f":"+IF(COLUMNS($Q26:IR26)>$E$60,-$F$40*IR$1,-$F$40*IR$1*$E$40)*IR$30","v":0},{"$f":"+IF(COLUMNS($Q26:IS26)>$E$60,-$F$40*IS$1,-$F$40*IS$1*$E$40)*IS$30","v":0},{"$f":"+IF(COLUMNS($Q26:IT26)>$E$60,-$F$40*IT$1,-$F$40*IT$1*$E$40)*IT$30","v":0},{"$f":"+IF(COLUMNS($Q26:IU26)>$E$60,-$F$40*IU$1,-$F$40*IU$1*$E$40)*IU$30","v":0},{"$f":"+IF(COLUMNS($Q26:IV26)>$E$60,-$F$40*IV$1,-$F$40*IV$1*$E$40)*IV$30","v":0},{"$f":"+IF(COLUMNS($Q26:IW26)>$E$60,-$F$40*IW$1,-$F$40*IW$1*$E$40)*IW$30","v":0},{"$f":"+IF(COLUMNS($Q26:IX26)>$E$60,-$F$40*IX$1,-$F$40*IX$1*$E$40)*IX$30","v":0},{"$f":"+IF(COLUMNS($Q26:IY26)>$E$60,-$F$40*IY$1,-$F$40*IY$1*$E$40)*IY$30","v":0},{"$f":"+IF(COLUMNS($Q26:IZ26)>$E$60,-$F$40*IZ$1,-$F$40*IZ$1*$E$40)*IZ$30","v":0},{"$f":"+IF(COLUMNS($Q26:JA26)>$E$60,-$F$40*JA$1,-$F$40*JA$1*$E$40)*JA$30","v":0},{"$f":"+IF(COLUMNS($Q26:JB26)>$E$60,-$F$40*JB$1,-$F$40*JB$1*$E$40)*JB$30","v":0},{"$f":"+IF(COLUMNS($Q26:JC26)>$E$60,-$F$40*JC$1,-$F$40*JC$1*$E$40)*JC$30","v":0},{"$f":"+IF(COLUMNS($Q26:JD26)>$E$60,-$F$40*JD$1,-$F$40*JD$1*$E$40)*JD$30","v":0},{"$f":"+IF(COLUMNS($Q26:JE26)>$E$60,-$F$40*JE$1,-$F$40*JE$1*$E$40)*JE$30","v":0},{"$f":"+IF(COLUMNS($Q26:JF26)>$E$60,-$F$40*JF$1,-$F$40*JF$1*$E$40)*JF$30","v":0},{"$f":"+IF(COLUMNS($Q26:JG26)>$E$60,-$F$40*JG$1,-$F$40*JG$1*$E$40)*JG$30","v":0},{"$f":"+IF(COLUMNS($Q26:JH26)>$E$60,-$F$40*JH$1,-$F$40*JH$1*$E$40)*JH$30","v":0},{"$f":"+IF(COLUMNS($Q26:JI26)>$E$60,-$F$40*JI$1,-$F$40*JI$1*$E$40)*JI$30","v":0},{"$f":"+IF(COLUMNS($Q26:JJ26)>$E$60,-$F$40*JJ$1,-$F$40*JJ$1*$E$40)*JJ$30","v":0},{"$f":"+IF(COLUMNS($Q26:JK26)>$E$60,-$F$40*JK$1,-$F$40*JK$1*$E$40)*JK$30","v":0},{"$f":"+IF(COLUMNS($Q26:JL26)>$E$60,-$F$40*JL$1,-$F$40*JL$1*$E$40)*JL$30","v":0},{"$f":"+IF(COLUMNS($Q26:JM26)>$E$60,-$F$40*JM$1,-$F$40*JM$1*$E$40)*JM$30","v":0},{"$f":"+IF(COLUMNS($Q26:JN26)>$E$60,-$F$40*JN$1,-$F$40*JN$1*$E$40)*JN$30","v":0},{"$f":"+IF(COLUMNS($Q26:JO26)>$E$60,-$F$40*JO$1,-$F$40*JO$1*$E$40)*JO$30","v":0},{"$f":"+IF(COLUMNS($Q26:JP26)>$E$60,-$F$40*JP$1,-$F$40*JP$1*$E$40)*JP$30","v":0},{"$f":"+IF(COLUMNS($Q26:JQ26)>$E$60,-$F$40*JQ$1,-$F$40*JQ$1*$E$40)*JQ$30","v":0},{"$f":"+IF(COLUMNS($Q26:JR26)>$E$60,-$F$40*JR$1,-$F$40*JR$1*$E$40)*JR$30","v":0},{"$f":"+IF(COLUMNS($Q26:JS26)>$E$60,-$F$40*JS$1,-$F$40*JS$1*$E$40)*JS$30","v":0},{"$f":"+IF(COLUMNS($Q26:JT26)>$E$60,-$F$40*JT$1,-$F$40*JT$1*$E$40)*JT$30","v":0},{"$f":"+IF(COLUMNS($Q26:JU26)>$E$60,-$F$40*JU$1,-$F$40*JU$1*$E$40)*JU$30","v":0},{"$f":"+IF(COLUMNS($Q26:JV26)>$E$60,-$F$40*JV$1,-$F$40*JV$1*$E$40)*JV$30","v":0},{"$f":"+IF(COLUMNS($Q26:JW26)>$E$60,-$F$40*JW$1,-$F$40*JW$1*$E$40)*JW$30","v":0},{"$f":"+IF(COLUMNS($Q26:JX26)>$E$60,-$F$40*JX$1,-$F$40*JX$1*$E$40)*JX$30","v":0},{"$f":"+IF(COLUMNS($Q26:JY26)>$E$60,-$F$40*JY$1,-$F$40*JY$1*$E$40)*JY$30","v":0},{"$f":"+IF(COLUMNS($Q26:JZ26)>$E$60,-$F$40*JZ$1,-$F$40*JZ$1*$E$40)*JZ$30","v":0},{"$f":"+IF(COLUMNS($Q26:KA26)>$E$60,-$F$40*KA$1,-$F$40*KA$1*$E$40)*KA$30","v":0},{"$f":"+IF(COLUMNS($Q26:KB26)>$E$60,-$F$40*KB$1,-$F$40*KB$1*$E$40)*KB$30","v":0},{"$f":"+IF(COLUMNS($Q26:KC26)>$E$60,-$F$40*KC$1,-$F$40*KC$1*$E$40)*KC$30","v":0},{"$f":"+IF(COLUMNS($Q26:KD26)>$E$60,-$F$40*KD$1,-$F$40*KD$1*$E$40)*KD$30","v":0},{"$f":"+IF(COLUMNS($Q26:KE26)>$E$60,-$F$40*KE$1,-$F$40*KE$1*$E$40)*KE$30","v":0},{"$f":"+IF(COLUMNS($Q26:KF26)>$E$60,-$F$40*KF$1,-$F$40*KF$1*$E$40)*KF$30","v":0},{"$f":"+IF(COLUMNS($Q26:KG26)>$E$60,-$F$40*KG$1,-$F$40*KG$1*$E$40)*KG$30","v":0},{"$f":"+IF(COLUMNS($Q26:KH26)>$E$60,-$F$40*KH$1,-$F$40*KH$1*$E$40)*KH$30","v":0},{"$f":"+IF(COLUMNS($Q26:KI26)>$E$60,-$F$40*KI$1,-$F$40*KI$1*$E$40)*KI$30","v":0},{"$f":"+IF(COLUMNS($Q26:KJ26)>$E$60,-$F$40*KJ$1,-$F$40*KJ$1*$E$40)*KJ$30","v":0},{"$f":"+IF(COLUMNS($Q26:KK26)>$E$60,-$F$40*KK$1,-$F$40*KK$1*$E$40)*KK$30","v":0},{"$f":"+IF(COLUMNS($Q26:KL26)>$E$60,-$F$40*KL$1,-$F$40*KL$1*$E$40)*KL$30","v":0},{"$f":"+IF(COLUMNS($Q26:KM26)>$E$60,-$F$40*KM$1,-$F$40*KM$1*$E$40)*KM$30","v":0},{"$f":"+IF(COLUMNS($Q26:KN26)>$E$60,-$F$40*KN$1,-$F$40*KN$1*$E$40)*KN$30","v":0},{"$f":"+IF(COLUMNS($Q26:KO26)>$E$60,-$F$40*KO$1,-$F$40*KO$1*$E$40)*KO$30","v":0},{"$f":"+IF(COLUMNS($Q26:KP26)>$E$60,-$F$40*KP$1,-$F$40*KP$1*$E$40)*KP$30","v":0},{"$f":"+IF(COLUMNS($Q26:KQ26)>$E$60,-$F$40*KQ$1,-$F$40*KQ$1*$E$40)*KQ$30","v":0},{"$f":"+IF(COLUMNS($Q26:KR26)>$E$60,-$F$40*KR$1,-$F$40*KR$1*$E$40)*KR$30","v":0},{"$f":"+IF(COLUMNS($Q26:KS26)>$E$60,-$F$40*KS$1,-$F$40*KS$1*$E$40)*KS$30","v":0},{"$f":"+IF(COLUMNS($Q26:KT26)>$E$60,-$F$40*KT$1,-$F$40*KT$1*$E$40)*KT$30","v":0},{"$f":"+IF(COLUMNS($Q26:KU26)>$E$60,-$F$40*KU$1,-$F$40*KU$1*$E$40)*KU$30","v":0},{"$f":"+IF(COLUMNS($Q26:KV26)>$E$60,-$F$40*KV$1,-$F$40*KV$1*$E$40)*KV$30","v":0},{"$f":"+IF(COLUMNS($Q26:KW26)>$E$60,-$F$40*KW$1,-$F$40*KW$1*$E$40)*KW$30","v":0},{"$f":"+IF(COLUMNS($Q26:KX26)>$E$60,-$F$40*KX$1,-$F$40*KX$1*$E$40)*KX$30","v":0},{"$f":"+IF(COLUMNS($Q26:KY26)>$E$60,-$F$40*KY$1,-$F$40*KY$1*$E$40)*KY$30","v":0},{"$f":"+IF(COLUMNS($Q26:KZ26)>$E$60,-$F$40*KZ$1,-$F$40*KZ$1*$E$40)*KZ$30","v":0},{"$f":"+IF(COLUMNS($Q26:LA26)>$E$60,-$F$40*LA$1,-$F$40*LA$1*$E$40)*LA$30","v":0},{"$f":"+IF(COLUMNS($Q26:LB26)>$E$60,-$F$40*LB$1,-$F$40*LB$1*$E$40)*LB$30","v":0},{"$f":"+IF(COLUMNS($Q26:LC26)>$E$60,-$F$40*LC$1,-$F$40*LC$1*$E$40)*LC$30","v":0},{"$f":"+IF(COLUMNS($Q26:LD26)>$E$60,-$F$40*LD$1,-$F$40*LD$1*$E$40)*LD$30","v":0},{"$f":"+IF(COLUMNS($Q26:LE26)>$E$60,-$F$40*LE$1,-$F$40*LE$1*$E$40)*LE$30","v":0},{"$f":"+IF(COLUMNS($Q26:LF26)>$E$60,-$F$40*LF$1,-$F$40*LF$1*$E$40)*LF$30","v":0},{"$f":"+IF(COLUMNS($Q26:LG26)>$E$60,-$F$40*LG$1,-$F$40*LG$1*$E$40)*LG$30","v":0},{"$f":"+IF(COLUMNS($Q26:LH26)>$E$60,-$F$40*LH$1,-$F$40*LH$1*$E$40)*LH$30","v":0},{"$f":"+IF(COLUMNS($Q26:LI26)>$E$60,-$F$40*LI$1,-$F$40*LI$1*$E$40)*LI$30","v":0},{"$f":"+IF(COLUMNS($Q26:LJ26)>$E$60,-$F$40*LJ$1,-$F$40*LJ$1*$E$40)*LJ$30","v":0},{"$f":"+IF(COLUMNS($Q26:LK26)>$E$60,-$F$40*LK$1,-$F$40*LK$1*$E$40)*LK$30","v":0},{"$f":"+IF(COLUMNS($Q26:LL26)>$E$60,-$F$40*LL$1,-$F$40*LL$1*$E$40)*LL$30","v":0},{"$f":"+IF(COLUMNS($Q26:LM26)>$E$60,-$F$40*LM$1,-$F$40*LM$1*$E$40)*LM$30","v":0},{"$f":"+IF(COLUMNS($Q26:LN26)>$E$60,-$F$40*LN$1,-$F$40*LN$1*$E$40)*LN$30","v":0},{"$f":"+IF(COLUMNS($Q26:LO26)>$E$60,-$F$40*LO$1,-$F$40*LO$1*$E$40)*LO$30","v":0},{"$f":"+IF(COLUMNS($Q26:LP26)>$E$60,-$F$40*LP$1,-$F$40*LP$1*$E$40)*LP$30","v":0},{"$f":"+IF(COLUMNS($Q26:LQ26)>$E$60,-$F$40*LQ$1,-$F$40*LQ$1*$E$40)*LQ$30","v":0},{"$f":"+IF(COLUMNS($Q26:LR26)>$E$60,-$F$40*LR$1,-$F$40*LR$1*$E$40)*LR$30","v":0},{"$f":"+IF(COLUMNS($Q26:LS26)>$E$60,-$F$40*LS$1,-$F$40*LS$1*$E$40)*LS$30","v":0},{"$f":"+IF(COLUMNS($Q26:LT26)>$E$60,-$F$40*LT$1,-$F$40*LT$1*$E$40)*LT$30","v":0},{"$f":"+IF(COLUMNS($Q26:LU26)>$E$60,-$F$40*LU$1,-$F$40*LU$1*$E$40)*LU$30","v":0},{"$f":"+IF(COLUMNS($Q26:LV26)>$E$60,-$F$40*LV$1,-$F$40*LV$1*$E$40)*LV$30","v":0},{"$f":"+IF(COLUMNS($Q26:LW26)>$E$60,-$F$40*LW$1,-$F$40*LW$1*$E$40)*LW$30","v":0},{"$f":"+IF(COLUMNS($Q26:LX26)>$E$60,-$F$40*LX$1,-$F$40*LX$1*$E$40)*LX$30","v":0},{"$f":"+IF(COLUMNS($Q26:LY26)>$E$60,-$F$40*LY$1,-$F$40*LY$1*$E$40)*LY$30","v":0},{"$f":"+IF(COLUMNS($Q26:LZ26)>$E$60,-$F$40*LZ$1,-$F$40*LZ$1*$E$40)*LZ$30","v":0},{"$f":"+IF(COLUMNS($Q26:MA26)>$E$60,-$F$40*MA$1,-$F$40*MA$1*$E$40)*MA$30","v":0},{"$f":"+IF(COLUMNS($Q26:MB26)>$E$60,-$F$40*MB$1,-$F$40*MB$1*$E$40)*MB$30","v":0},{"$f":"+IF(COLUMNS($Q26:MC26)>$E$60,-$F$40*MC$1,-$F$40*MC$1*$E$40)*MC$30","v":0},{"$f":"+IF(COLUMNS($Q26:MD26)>$E$60,-$F$40*MD$1,-$F$40*MD$1*$E$40)*MD$30","v":0},{"$f":"+IF(COLUMNS($Q26:ME26)>$E$60,-$F$40*ME$1,-$F$40*ME$1*$E$40)*ME$30","v":0},{"$f":"+IF(COLUMNS($Q26:MF26)>$E$60,-$F$40*MF$1,-$F$40*MF$1*$E$40)*MF$30","v":0},{"$f":"+IF(COLUMNS($Q26:MG26)>$E$60,-$F$40*MG$1,-$F$40*MG$1*$E$40)*MG$30","v":0},{"$f":"+IF(COLUMNS($Q26:MH26)>$E$60,-$F$40*MH$1,-$F$40*MH$1*$E$40)*MH$30","v":0},{"$f":"+IF(COLUMNS($Q26:MI26)>$E$60,-$F$40*MI$1,-$F$40*MI$1*$E$40)*MI$30","v":0},{"$f":"+IF(COLUMNS($Q26:MJ26)>$E$60,-$F$40*MJ$1,-$F$40*MJ$1*$E$40)*MJ$30","v":0},{"$f":"+IF(COLUMNS($Q26:MK26)>$E$60,-$F$40*MK$1,-$F$40*MK$1*$E$40)*MK$30","v":0},{"$f":"+IF(COLUMNS($Q26:ML26)>$E$60,-$F$40*ML$1,-$F$40*ML$1*$E$40)*ML$30","v":0},{"$f":"+IF(COLUMNS($Q26:MM26)>$E$60,-$F$40*MM$1,-$F$40*MM$1*$E$40)*MM$30","v":0},{"$f":"+IF(COLUMNS($Q26:MN26)>$E$60,-$F$40*MN$1,-$F$40*MN$1*$E$40)*MN$30","v":0},{"$f":"+IF(COLUMNS($Q26:MO26)>$E$60,-$F$40*MO$1,-$F$40*MO$1*$E$40)*MO$30","v":0},{"$f":"+IF(COLUMNS($Q26:MP26)>$E$60,-$F$40*MP$1,-$F$40*MP$1*$E$40)*MP$30","v":0},{"$f":"+IF(COLUMNS($Q26:MQ26)>$E$60,-$F$40*MQ$1,-$F$40*MQ$1*$E$40)*MQ$30","v":0},{"$f":"+IF(COLUMNS($Q26:MR26)>$E$60,-$F$40*MR$1,-$F$40*MR$1*$E$40)*MR$30","v":0},{"$f":"+IF(COLUMNS($Q26:MS26)>$E$60,-$F$40*MS$1,-$F$40*MS$1*$E$40)*MS$30","v":0},{"$f":"+IF(COLUMNS($Q26:MT26)>$E$60,-$F$40*MT$1,-$F$40*MT$1*$E$40)*MT$30","v":0},{"$f":"+IF(COLUMNS($Q26:MU26)>$E$60,-$F$40*MU$1,-$F$40*MU$1*$E$40)*MU$30","v":0},{"$f":"+IF(COLUMNS($Q26:MV26)>$E$60,-$F$40*MV$1,-$F$40*MV$1*$E$40)*MV$30","v":0},{"$f":"+IF(COLUMNS($Q26:MW26)>$E$60,-$F$40*MW$1,-$F$40*MW$1*$E$40)*MW$30","v":0},{"$f":"+IF(COLUMNS($Q26:MX26)>$E$60,-$F$40*MX$1,-$F$40*MX$1*$E$40)*MX$30","v":0},{"$f":"+IF(COLUMNS($Q26:MY26)>$E$60,-$F$40*MY$1,-$F$40*MY$1*$E$40)*MY$30","v":0},{"$f":"+IF(COLUMNS($Q26:MZ26)>$E$60,-$F$40*MZ$1,-$F$40*MZ$1*$E$40)*MZ$30","v":0},{"$f":"+IF(COLUMNS($Q26:NA26)>$E$60,-$F$40*NA$1,-$F$40*NA$1*$E$40)*NA$30","v":0},{"$f":"+IF(COLUMNS($Q26:NB26)>$E$60,-$F$40*NB$1,-$F$40*NB$1*$E$40)*NB$30","v":0},{"$f":"+IF(COLUMNS($Q26:NC26)>$E$60,-$F$40*NC$1,-$F$40*NC$1*$E$40)*NC$30","v":0},{"$f":"+IF(COLUMNS($Q26:ND26)>$E$60,-$F$40*ND$1,-$F$40*ND$1*$E$40)*ND$30","v":0},{"$f":"+IF(COLUMNS($Q26:NE26)>$E$60,-$F$40*NE$1,-$F$40*NE$1*$E$40)*NE$30","v":0},{"$f":"+IF(COLUMNS($Q26:NF26)>$E$60,-$F$40*NF$1,-$F$40*NF$1*$E$40)*NF$30","v":0},{"$f":"+IF(COLUMNS($Q26:NG26)>$E$60,-$F$40*NG$1,-$F$40*NG$1*$E$40)*NG$30","v":0},{"$f":"+IF(COLUMNS($Q26:NH26)>$E$60,-$F$40*NH$1,-$F$40*NH$1*$E$40)*NH$30","v":0},{"$f":"+IF(COLUMNS($Q26:NI26)>$E$60,-$F$40*NI$1,-$F$40*NI$1*$E$40)*NI$30","v":0},{"$f":"+IF(COLUMNS($Q26:NJ26)>$E$60,-$F$40*NJ$1,-$F$40*NJ$1*$E$40)*NJ$30","v":0},{"$f":"+IF(COLUMNS($Q26:NK26)>$E$60,-$F$40*NK$1,-$F$40*NK$1*$E$40)*NK$30","v":0},{"$f":"+IF(COLUMNS($Q26:NL26)>$E$60,-$F$40*NL$1,-$F$40*NL$1*$E$40)*NL$30","v":0},{"$f":"+IF(COLUMNS($Q26:NM26)>$E$60,-$F$40*NM$1,-$F$40*NM$1*$E$40)*NM$30","v":0},{"$f":"+IF(COLUMNS($Q26:NN26)>$E$60,-$F$40*NN$1,-$F$40*NN$1*$E$40)*NN$30","v":0},{"$f":"+IF(COLUMNS($Q26:NO26)>$E$60,-$F$40*NO$1,-$F$40*NO$1*$E$40)*NO$30","v":0},{"$f":"+IF(COLUMNS($Q26:NP26)>$E$60,-$F$40*NP$1,-$F$40*NP$1*$E$40)*NP$30","v":0},{"$f":"+IF(COLUMNS($Q26:NQ26)>$E$60,-$F$40*NQ$1,-$F$40*NQ$1*$E$40)*NQ$30","v":0},{"$f":"+IF(COLUMNS($Q26:NR26)>$E$60,-$F$40*NR$1,-$F$40*NR$1*$E$40)*NR$30","v":0},{"$f":"+IF(COLUMNS($Q26:NS26)>$E$60,-$F$40*NS$1,-$F$40*NS$1*$E$40)*NS$30","v":0},{"$f":"+IF(COLUMNS($Q26:NT26)>$E$60,-$F$40*NT$1,-$F$40*NT$1*$E$40)*NT$30","v":0},{"$f":"+IF(COLUMNS($Q26:NU26)>$E$60,-$F$40*NU$1,-$F$40*NU$1*$E$40)*NU$30","v":0},{"$f":"+IF(COLUMNS($Q26:NV26)>$E$60,-$F$40*NV$1,-$F$40*NV$1*$E$40)*NV$30","v":0},{"$f":"+IF(COLUMNS($Q26:NW26)>$E$60,-$F$40*NW$1,-$F$40*NW$1*$E$40)*NW$30","v":0},{"$f":"+IF(COLUMNS($Q26:NX26)>$E$60,-$F$40*NX$1,-$F$40*NX$1*$E$40)*NX$30","v":0},{"$f":"+IF(COLUMNS($Q26:NY26)>$E$60,-$F$40*NY$1,-$F$40*NY$1*$E$40)*NY$30","v":0},{"$f":"+IF(COLUMNS($Q26:NZ26)>$E$60,-$F$40*NZ$1,-$F$40*NZ$1*$E$40)*NZ$30","v":0},{"$f":"+IF(COLUMNS($Q26:OA26)>$E$60,-$F$40*OA$1,-$F$40*OA$1*$E$40)*OA$30","v":0},{"$f":"+IF(COLUMNS($Q26:OB26)>$E$60,-$F$40*OB$1,-$F$40*OB$1*$E$40)*OB$30","v":0},{"$f":"+IF(COLUMNS($Q26:OC26)>$E$60,-$F$40*OC$1,-$F$40*OC$1*$E$40)*OC$30","v":0},{"$f":"+IF(COLUMNS($Q26:OD26)>$E$60,-$F$40*OD$1,-$F$40*OD$1*$E$40)*OD$30","v":0},{"$f":"+IF(COLUMNS($Q26:OE26)>$E$60,-$F$40*OE$1,-$F$40*OE$1*$E$40)*OE$30","v":0},{"$f":"+IF(COLUMNS($Q26:OF26)>$E$60,-$F$40*OF$1,-$F$40*OF$1*$E$40)*OF$30","v":0},{"$f":"+IF(COLUMNS($Q26:OG26)>$E$60,-$F$40*OG$1,-$F$40*OG$1*$E$40)*OG$30","v":0},{"$f":"+IF(COLUMNS($Q26:OH26)>$E$60,-$F$40*OH$1,-$F$40*OH$1*$E$40)*OH$30","v":0},{"$f":"+IF(COLUMNS($Q26:OI26)>$E$60,-$F$40*OI$1,-$F$40*OI$1*$E$40)*OI$30","v":0},{"$f":"+IF(COLUMNS($Q26:OJ26)>$E$60,-$F$40*OJ$1,-$F$40*OJ$1*$E$40)*OJ$30","v":0},{"$f":"+IF(COLUMNS($Q26:OK26)>$E$60,-$F$40*OK$1,-$F$40*OK$1*$E$40)*OK$30","v":0},{"$f":"+IF(COLUMNS($Q26:OL26)>$E$60,-$F$40*OL$1,-$F$40*OL$1*$E$40)*OL$30","v":0},{"$f":"+IF(COLUMNS($Q26:OM26)>$E$60,-$F$40*OM$1,-$F$40*OM$1*$E$40)*OM$30","v":0},{"$f":"+IF(COLUMNS($Q26:ON26)>$E$60,-$F$40*ON$1,-$F$40*ON$1*$E$40)*ON$30","v":0},{"$f":"+IF(COLUMNS($Q26:OO26)>$E$60,-$F$40*OO$1,-$F$40*OO$1*$E$40)*OO$30","v":0},{"$f":"+IF(COLUMNS($Q26:OP26)>$E$60,-$F$40*OP$1,-$F$40*OP$1*$E$40)*OP$30","v":0},{"$f":"+IF(COLUMNS($Q26:OQ26)>$E$60,-$F$40*OQ$1,-$F$40*OQ$1*$E$40)*OQ$30","v":0},null,null,0,0,0,0,0,0,0,0,0,0,0,0,0,0,0,0,0,0,0,0,0,0,0,0,0,0,0,0,0,0,0,0,0,0]
[null,"Compra Vivienda",null,null,null,null,null,null,null,null,null,null,"Derramas",null,0,null,{"$f":"IF(COLUMNS($Q26:Q26)>$E$60,-$I$41*$E$41*Q$30/12,-$I$41*Q$1*$E$41*Q$30/12)","v":0},{"$f":"-$I$41*R$1*$E$41*R$30/12","v":0},0,0,0,0,0,0,0,0,0,0,0,0,0,0,0,0,0,0,0,0,0,0,0,0,0,0,0,0,0,0,0,0,0,0,0,0,0,0,0,0,0,0,0,0,0,0,0,0,0,0,0,0,0,0,0,0,0,0,0,0,0,0,0,{"$f":"-$I$41*CD$1*$E$41*CD$30/12","v":0},0,0,0,0,0,0,0,0,0,0,0,0,0,0,0,0,0,0,0,0,0,0,0,0,0,0,0,0,0,0,0,0,0,0,0,0,0,0,0,0,0,0,0,0,0,0,0,0,0,0,0,0,0,0,0,0,0,0,0,0,0,0,0,{"$f":"-$I$41*EP$1*$E$41*EP$30/12","v":0},0,0,0,0,0,0,0,0,0,0,0,0,0,0,0,0,0,0,0,0,0,0,0,0,0,0,0,0,0,0,0,0,0,0,0,0,0,0,0,0,0,0,0,0,0,0,0,0,0,0,0,0,0,0,0,0,0,0,0,0,0,0,0,{"$f":"-$I$41*HB$1*$E$41*HB$30/12","v":0},0,0,0,0,0,0,0,0,0,0,0,0,0,0,0,0,0,0,0,0,0,0,0,0,0,0,0,0,0,0,0,0,0,0,0,0,0,0,0,0,0,0,0,0,0,0,0,0,0,0,0,0,0,0,0,0,0,0,0,0,0,0,0,{"$f":"-$I$41*JN$1*$E$41*JN$30/12","v":0},0,0,0,0,0,0,0,0,0,0,0,0,0,0,0,0,0,0,0,0,0,0,0,0,0,0,0,0,0,0,0,0,0,0,0,0,0,0,0,0,0,0,0,0,0,0,0,0,0,0,0,0,0,0,0,0,0,0,0,0,0,0,0,{"$f":"-$I$41*LZ$1*$E$41*LZ$30/12","v":0},0,0,0,0,0,0,0,0,0,0,0,0,0,0,0,0,0,0,0,0,0,0,0,0,0,0,0,0,0,0,0,0,0,0,0,0,0,0,0,0,0,0,0,0,0,0,0,0,0,0,0,0,0,0,0,0,0,0,0,0,0,0,0,{"$f":"-$I$41*OL$1*$E$41*OL$30/12","v":0},0,0,0,0,0,null,null,0,0,0,0,0,0,0,0,0,0,0,0,0,0,0,0,0,0,0,0,0,0,0,0,0,0,0,0,0,0,0,0,0,0]
[null,null,null,null,null,null,null,null,null,null,null,null,"Cuota IBI",null,-4080.8040080000023,null,{"$f":"IF(COLUMNS($Q26:Q26)>$E$60,-$F$42*Q$1*Q$30/12,-$F$42*Q$1*$E$42*Q$30/12)","v":-66.666666666666671},{"$f":"IF(COLUMNS($Q26:R26)>$E$60,-$F$42*R$1*R$30/12,-$F$42*R$1*$E$42*R$30/12)","v":-66.666666666666671},{"$f":"IF(COLUMNS($Q26:S26)>$E$60,-$F$42*S$1*S$30/12,-$F$42*S$1*$E$42*S$30/12)","v":-66.666666666666671},{"$f":"IF(COLUMNS($Q26:T26)>$E$60,-$F$42*T$1*T$30/12,-$F$42*T$1*$E$42*T$30/12)","v":-66.666666666666671},{"$f":"IF(COLUMNS($Q26:U26)>$E$60,-$F$42*U$1*U$30/12,-$F$42*U$1*$E$42*U$30/12)","v":-66.666666666666671},{"$f":"IF(COLUMNS($Q26:V26)>$E$60,-$F$42*V$1*V$30/12,-$F$42*V$1*$E$42*V$30/12)","v":-66.666666666666671},{"$f":"IF(COLUMNS($Q26:W26)>$E$60,-$F$42*W$1*W$30/12,-$F$42*W$1*$E$42*W$30/12)","v":-66.666666666666671},{"$f":"IF(COLUMNS($Q26:X26)>$E$60,-$F$42*X$1*X$30/12,-$F$42*X$1*$E$42*X$30/12)","v":-66.666666666666671},{"$f":"IF(COLUMNS($Q26:Y26)>$E$60,-$F$42*Y$1*Y$30/12,-$F$42*Y$1*$E$42*Y$30/12)","v":-66.666666666666671},{"$f":"IF(COLUMNS($Q26:Z26)>$E$60,-$F$42*Z$1*Z$30/12,-$F$42*Z$1*$E$42*Z$30/12)","v":-66.666666666666671},{"$f":"IF(COLUMNS($Q26:AA26)>$E$60,-$F$42*AA$1*AA$30/12,-$F$42*AA$1*$E$42*AA$30/12)","v":-66.666666666666671},{"$f":"IF(COLUMNS($Q26:AB26)>$E$60,-$F$42*AB$1*AB$30/12,-$F$42*AB$1*$E$42*AB$30/12)","v":-66.666666666666671},{"$f":"IF(COLUMNS($Q26:AC26)>$E$60,-$F$42*AC$1*AC$30/12,-$F$42*AC$1*$E$42*AC$30/12)","v":-67.333333333333329},{"$f":"IF(COLUMNS($Q26:AD26)>$E$60,-$F$42*AD$1*AD$30/12,-$F$42*AD$1*$E$42*AD$30/12)","v":-67.333333333333329},{"$f":"IF(COLUMNS($Q26:AE26)>$E$60,-$F$42*AE$1*AE$30/12,-$F$42*AE$1*$E$42*AE$30/12)","v":-67.333333333333329},{"$f":"IF(COLUMNS($Q26:AF26)>$E$60,-$F$42*AF$1*AF$30/12,-$F$42*AF$1*$E$42*AF$30/12)","v":-67.333333333333329},{"$f":"IF(COLUMNS($Q26:AG26)>$E$60,-$F$42*AG$1*AG$30/12,-$F$42*AG$1*$E$42*AG$30/12)","v":-67.333333333333329},{"$f":"IF(COLUMNS($Q26:AH26)>$E$60,-$F$42*AH$1*AH$30/12,-$F$42*AH$1*$E$42*AH$30/12)","v":-67.333333333333329},{"$f":"IF(COLUMNS($Q26:AI26)>$E$60,-$F$42*AI$1*AI$30/12,-$F$42*AI$1*$E$42*AI$30/12)","v":-67.333333333333329},{"$f":"IF(COLUMNS($Q26:AJ26)>$E$60,-$F$42*AJ$1*AJ$30/12,-$F$42*AJ$1*$E$42*AJ$30/12)","v":-67.333333333333329},{"$f":"IF(COLUMNS($Q26:AK26)>$E$60,-$F$42*AK$1*AK$30/12,-$F$42*AK$1*$E$42*AK$30/12)","v":-67.333333333333329},{"$f":"IF(COLUMNS($Q26:AL26)>$E$60,-$F$42*AL$1*AL$30/12,-$F$42*AL$1*$E$42*AL$30/12)","v":-67.333333333333329},{"$f":"IF(COLUMNS($Q26:AM26)>$E$60,-$F$42*AM$1*AM$30/12,-$F$42*AM$1*$E$42*AM$30/12)","v":-67.333333333333329},{"$f":"IF(COLUMNS($Q26:AN26)>$E$60,-$F$42*AN$1*AN$30/12,-$F$42*AN$1*$E$42*AN$30/12)","v":-67.333333333333329},{"$f":"IF(COLUMNS($Q26:AO26)>$E$60,-$F$42*AO$1*AO$30/12,-$F$42*AO$1*$E$42*AO$30/12)","v":-68.006666666666675},{"$f":"IF(COLUMNS($Q26:AP26)>$E$60,-$F$42*AP$1*AP$30/12,-$F$42*AP$1*$E$42*AP$30/12)","v":-68.006666666666675},{"$f":"IF(COLUMNS($Q26:AQ26)>$E$60,-$F$42*AQ$1*AQ$30/12,-$F$42*AQ$1*$E$42*AQ$30/12)","v":-68.006666666666675},{"$f":"IF(COLUMNS($Q26:AR26)>$E$60,-$F$42*AR$1*AR$30/12,-$F$42*AR$1*$E$42*AR$30/12)","v":-68.006666666666675},{"$f":"IF(COLUMNS($Q26:AS26)>$E$60,-$F$42*AS$1*AS$30/12,-$F$42*AS$1*$E$42*AS$30/12)","v":-68.006666666666675},{"$f":"IF(COLUMNS($Q26:AT26)>$E$60,-$F$42*AT$1*AT$30/12,-$F$42*AT$1*$E$42*AT$30/12)","v":-68.006666666666675},{"$f":"IF(COLUMNS($Q26:AU26)>$E$60,-$F$42*AU$1*AU$30/12,-$F$42*AU$1*$E$42*AU$30/12)","v":-68.006666666666675},{"$f":"IF(COLUMNS($Q26:AV26)>$E$60,-$F$42*AV$1*AV$30/12,-$F$42*AV$1*$E$42*AV$30/12)","v":-68.006666666666675},{"$f":"IF(COLUMNS($Q26:AW26)>$E$60,-$F$42*AW$1*AW$30/12,-$F$42*AW$1*$E$42*AW$30/12)","v":-68.006666666666675},{"$f":"IF(COLUMNS($Q26:AX26)>$E$60,-$F$42*AX$1*AX$30/12,-$F$42*AX$1*$E$42*AX$30/12)","v":-68.006666666666675},{"$f":"IF(COLUMNS($Q26:AY26)>$E$60,-$F$42*AY$1*AY$30/12,-$F$42*AY$1*$E$42*AY$30/12)","v":-68.006666666666675},{"$f":"IF(COLUMNS($Q26:AZ26)>$E$60,-$F$42*AZ$1*AZ$30/12,-$F$42*AZ$1*$E$42*AZ$30/12)","v":-68.006666666666675},{"$f":"IF(COLUMNS($Q26:BA26)>$E$60,-$F$42*BA$1*BA$30/12,-$F$42*BA$1*$E$42*BA$30/12)","v":-68.686733333333322},{"$f":"IF(COLUMNS($Q26:BB26)>$E$60,-$F$42*BB$1*BB$30/12,-$F$42*BB$1*$E$42*BB$30/12)","v":-68.686733333333322},{"$f":"IF(COLUMNS($Q26:BC26)>$E$60,-$F$42*BC$1*BC$30/12,-$F$42*BC$1*$E$42*BC$30/12)","v":-68.686733333333322},{"$f":"IF(COLUMNS($Q26:BD26)>$E$60,-$F$42*BD$1*BD$30/12,-$F$42*BD$1*$E$42*BD$30/12)","v":-68.686733333333322},{"$f":"IF(COLUMNS($Q26:BE26)>$E$60,-$F$42*BE$1*BE$30/12,-$F$42*BE$1*$E$42*BE$30/12)","v":-68.686733333333322},{"$f":"IF(COLUMNS($Q26:BF26)>$E$60,-$F$42*BF$1*BF$30/12,-$F$42*BF$1*$E$42*BF$30/12)","v":-68.686733333333322},{"$f":"IF(COLUMNS($Q26:BG26)>$E$60,-$F$42*BG$1*BG$30/12,-$F$42*BG$1*$E$42*BG$30/12)","v":-68.686733333333322},{"$f":"IF(COLUMNS($Q26:BH26)>$E$60,-$F$42*BH$1*BH$30/12,-$F$42*BH$1*$E$42*BH$30/12)","v":-68.686733333333322},{"$f":"IF(COLUMNS($Q26:BI26)>$E$60,-$F$42*BI$1*BI$30/12,-$F$42*BI$1*$E$42*BI$30/12)","v":-68.686733333333322},{"$f":"IF(COLUMNS($Q26:BJ26)>$E$60,-$F$42*BJ$1*BJ$30/12,-$F$42*BJ$1*$E$42*BJ$30/12)","v":-68.686733333333322},{"$f":"IF(COLUMNS($Q26:BK26)>$E$60,-$F$42*BK$1*BK$30/12,-$F$42*BK$1*$E$42*BK$30/12)","v":-68.686733333333322},{"$f":"IF(COLUMNS($Q26:BL26)>$E$60,-$F$42*BL$1*BL$30/12,-$F$42*BL$1*$E$42*BL$30/12)","v":-68.686733333333322},{"$f":"IF(COLUMNS($Q26:BM26)>$E$60,-$F$42*BM$1*BM$30/12,-$F$42*BM$1*$E$42*BM$30/12)","v":-69.373600666666661},{"$f":"IF(COLUMNS($Q26:BN26)>$E$60,-$F$42*BN$1*BN$30/12,-$F$42*BN$1*$E$42*BN$30/12)","v":-69.373600666666661},{"$f":"IF(COLUMNS($Q26:BO26)>$E$60,-$F$42*BO$1*BO$30/12,-$F$42*BO$1*$E$42*BO$30/12)","v":-69.373600666666661},{"$f":"IF(COLUMNS($Q26:BP26)>$E$60,-$F$42*BP$1*BP$30/12,-$F$42*BP$1*$E$42*BP$30/12)","v":-69.373600666666661},{"$f":"IF(COLUMNS($Q26:BQ26)>$E$60,-$F$42*BQ$1*BQ$30/12,-$F$42*BQ$1*$E$42*BQ$30/12)","v":-69.373600666666661},{"$f":"IF(COLUMNS($Q26:BR26)>$E$60,-$F$42*BR$1*BR$30/12,-$F$42*BR$1*$E$42*BR$30/12)","v":-69.373600666666661},{"$f":"IF(COLUMNS($Q26:BS26)>$E$60,-$F$42*BS$1*BS$30/12,-$F$42*BS$1*$E$42*BS$30/12)","v":-69.373600666666661},{"$f":"IF(COLUMNS($Q26:BT26)>$E$60,-$F$42*BT$1*BT$30/12,-$F$42*BT$1*$E$42*BT$30/12)","v":-69.373600666666661},{"$f":"IF(COLUMNS($Q26:BU26)>$E$60,-$F$42*BU$1*BU$30/12,-$F$42*BU$1*$E$42*BU$30/12)","v":-69.373600666666661},{"$f":"IF(COLUMNS($Q26:BV26)>$E$60,-$F$42*BV$1*BV$30/12,-$F$42*BV$1*$E$42*BV$30/12)","v":-69.373600666666661},{"$f":"IF(COLUMNS($Q26:BW26)>$E$60,-$F$42*BW$1*BW$30/12,-$F$42*BW$1*$E$42*BW$30/12)","v":-69.373600666666661},{"$f":"IF(COLUMNS($Q26:BX26)>$E$60,-$F$42*BX$1*BX$30/12,-$F$42*BX$1*$E$42*BX$30/12)","v":-69.373600666666661},{"$f":"IF(COLUMNS($Q26:BY26)>$E$60,-$F$42*BY$1*BY$30/12,-$F$42*BY$1*$E$42*BY$30/12)","v":0},{"$f":"IF(COLUMNS($Q26:BZ26)>$E$60,-$F$42*BZ$1*BZ$30/12,-$F$42*BZ$1*$E$42*BZ$30/12)","v":0},{"$f":"IF(COLUMNS($Q26:CA26)>$E$60,-$F$42*CA$1*CA$30/12,-$F$42*CA$1*$E$42*CA$30/12)","v":0},{"$f":"IF(COLUMNS($Q26:CB26)>$E$60,-$F$42*CB$1*CB$30/12,-$F$42*CB$1*$E$42*CB$30/12)","v":0},{"$f":"IF(COLUMNS($Q26:CC26)>$E$60,-$F$42*CC$1*CC$30/12,-$F$42*CC$1*$E$42*CC$30/12)","v":0},{"$f":"IF(COLUMNS($Q26:CD26)>$E$60,-$F$42*CD$1*CD$30/12,-$F$42*CD$1*$E$42*CD$30/12)","v":0},{"$f":"IF(COLUMNS($Q26:CE26)>$E$60,-$F$42*CE$1*CE$30/12,-$F$42*CE$1*$E$42*CE$30/12)","v":0},{"$f":"IF(COLUMNS($Q26:CF26)>$E$60,-$F$42*CF$1*CF$30/12,-$F$42*CF$1*$E$42*CF$30/12)","v":0},{"$f":"IF(COLUMNS($Q26:CG26)>$E$60,-$F$42*CG$1*CG$30/12,-$F$42*CG$1*$E$42*CG$30/12)","v":0},{"$f":"IF(COLUMNS($Q26:CH26)>$E$60,-$F$42*CH$1*CH$30/12,-$F$42*CH$1*$E$42*CH$30/12)","v":0},{"$f":"IF(COLUMNS($Q26:CI26)>$E$60,-$F$42*CI$1*CI$30/12,-$F$42*CI$1*$E$42*CI$30/12)","v":0},{"$f":"IF(COLUMNS($Q26:CJ26)>$E$60,-$F$42*CJ$1*CJ$30/12,-$F$42*CJ$1*$E$42*CJ$30/12)","v":0},{"$f":"IF(COLUMNS($Q26:CK26)>$E$60,-$F$42*CK$1*CK$30/12,-$F$42*CK$1*$E$42*CK$30/12)","v":0},{"$f":"IF(COLUMNS($Q26:CL26)>$E$60,-$F$42*CL$1*CL$30/12,-$F$42*CL$1*$E$42*CL$30/12)","v":0},{"$f":"IF(COLUMNS($Q26:CM26)>$E$60,-$F$42*CM$1*CM$30/12,-$F$42*CM$1*$E$42*CM$30/12)","v":0},{"$f":"IF(COLUMNS($Q26:CN26)>$E$60,-$F$42*CN$1*CN$30/12,-$F$42*CN$1*$E$42*CN$30/12)","v":0},{"$f":"IF(COLUMNS($Q26:CO26)>$E$60,-$F$42*CO$1*CO$30/12,-$F$42*CO$1*$E$42*CO$30/12)","v":0},{"$f":"IF(COLUMNS($Q26:CP26)>$E$60,-$F$42*CP$1*CP$30/12,-$F$42*CP$1*$E$42*CP$30/12)","v":0},{"$f":"IF(COLUMNS($Q26:CQ26)>$E$60,-$F$42*CQ$1*CQ$30/12,-$F$42*CQ$1*$E$42*CQ$30/12)","v":0},{"$f":"IF(COLUMNS($Q26:CR26)>$E$60,-$F$42*CR$1*CR$30/12,-$F$42*CR$1*$E$42*CR$30/12)","v":0},{"$f":"IF(COLUMNS($Q26:CS26)>$E$60,-$F$42*CS$1*CS$30/12,-$F$42*CS$1*$E$42*CS$30/12)","v":0},{"$f":"IF(COLUMNS($Q26:CT26)>$E$60,-$F$42*CT$1*CT$30/12,-$F$42*CT$1*$E$42*CT$30/12)","v":0},{"$f":"IF(COLUMNS($Q26:CU26)>$E$60,-$F$42*CU$1*CU$30/12,-$F$42*CU$1*$E$42*CU$30/12)","v":0},{"$f":"IF(COLUMNS($Q26:CV26)>$E$60,-$F$42*CV$1*CV$30/12,-$F$42*CV$1*$E$42*CV$30/12)","v":0},{"$f":"IF(COLUMNS($Q26:CW26)>$E$60,-$F$42*CW$1*CW$30/12,-$F$42*CW$1*$E$42*CW$30/12)","v":0},{"$f":"IF(COLUMNS($Q26:CX26)>$E$60,-$F$42*CX$1*CX$30/12,-$F$42*CX$1*$E$42*CX$30/12)","v":0},{"$f":"IF(COLUMNS($Q26:CY26)>$E$60,-$F$42*CY$1*CY$30/12,-$F$42*CY$1*$E$42*CY$30/12)","v":0},{"$f":"IF(COLUMNS($Q26:CZ26)>$E$60,-$F$42*CZ$1*CZ$30/12,-$F$42*CZ$1*$E$42*CZ$30/12)","v":0},{"$f":"IF(COLUMNS($Q26:DA26)>$E$60,-$F$42*DA$1*DA$30/12,-$F$42*DA$1*$E$42*DA$30/12)","v":0},{"$f":"IF(COLUMNS($Q26:DB26)>$E$60,-$F$42*DB$1*DB$30/12,-$F$42*DB$1*$E$42*DB$30/12)","v":0},{"$f":"IF(COLUMNS($Q26:DC26)>$E$60,-$F$42*DC$1*DC$30/12,-$F$42*DC$1*$E$42*DC$30/12)","v":0},{"$f":"IF(COLUMNS($Q26:DD26)>$E$60,-$F$42*DD$1*DD$30/12,-$F$42*DD$1*$E$42*DD$30/12)","v":0},{"$f":"IF(COLUMNS($Q26:DE26)>$E$60,-$F$42*DE$1*DE$30/12,-$F$42*DE$1*$E$42*DE$30/12)","v":0},{"$f":"IF(COLUMNS($Q26:DF26)>$E$60,-$F$42*DF$1*DF$30/12,-$F$42*DF$1*$E$42*DF$30/12)","v":0},{"$f":"IF(COLUMNS($Q26:DG26)>$E$60,-$F$42*DG$1*DG$30/12,-$F$42*DG$1*$E$42*DG$30/12)","v":0},{"$f":"IF(COLUMNS($Q26:DH26)>$E$60,-$F$42*DH$1*DH$30/12,-$F$42*DH$1*$E$42*DH$30/12)","v":0},{"$f":"IF(COLUMNS($Q26:DI26)>$E$60,-$F$42*DI$1*DI$30/12,-$F$42*DI$1*$E$42*DI$30/12)","v":0},{"$f":"IF(COLUMNS($Q26:DJ26)>$E$60,-$F$42*DJ$1*DJ$30/12,-$F$42*DJ$1*$E$42*DJ$30/12)","v":0},{"$f":"IF(COLUMNS($Q26:DK26)>$E$60,-$F$42*DK$1*DK$30/12,-$F$42*DK$1*$E$42*DK$30/12)","v":0},{"$f":"IF(COLUMNS($Q26:DL26)>$E$60,-$F$42*DL$1*DL$30/12,-$F$42*DL$1*$E$42*DL$30/12)","v":0},{"$f":"IF(COLUMNS($Q26:DM26)>$E$60,-$F$42*DM$1*DM$30/12,-$F$42*DM$1*$E$42*DM$30/12)","v":0},{"$f":"IF(COLUMNS($Q26:DN26)>$E$60,-$F$42*DN$1*DN$30/12,-$F$42*DN$1*$E$42*DN$30/12)","v":0},{"$f":"IF(COLUMNS($Q26:DO26)>$E$60,-$F$42*DO$1*DO$30/12,-$F$42*DO$1*$E$42*DO$30/12)","v":0},{"$f":"IF(COLUMNS($Q26:DP26)>$E$60,-$F$42*DP$1*DP$30/12,-$F$42*DP$1*$E$42*DP$30/12)","v":0},{"$f":"IF(COLUMNS($Q26:DQ26)>$E$60,-$F$42*DQ$1*DQ$30/12,-$F$42*DQ$1*$E$42*DQ$30/12)","v":0},{"$f":"IF(COLUMNS($Q26:DR26)>$E$60,-$F$42*DR$1*DR$30/12,-$F$42*DR$1*$E$42*DR$30/12)","v":0},{"$f":"IF(COLUMNS($Q26:DS26)>$E$60,-$F$42*DS$1*DS$30/12,-$F$42*DS$1*$E$42*DS$30/12)","v":0},{"$f":"IF(COLUMNS($Q26:DT26)>$E$60,-$F$42*DT$1*DT$30/12,-$F$42*DT$1*$E$42*DT$30/12)","v":0},{"$f":"IF(COLUMNS($Q26:DU26)>$E$60,-$F$42*DU$1*DU$30/12,-$F$42*DU$1*$E$42*DU$30/12)","v":0},{"$f":"IF(COLUMNS($Q26:DV26)>$E$60,-$F$42*DV$1*DV$30/12,-$F$42*DV$1*$E$42*DV$30/12)","v":0},{"$f":"IF(COLUMNS($Q26:DW26)>$E$60,-$F$42*DW$1*DW$30/12,-$F$42*DW$1*$E$42*DW$30/12)","v":0},{"$f":"IF(COLUMNS($Q26:DX26)>$E$60,-$F$42*DX$1*DX$30/12,-$F$42*DX$1*$E$42*DX$30/12)","v":0},{"$f":"IF(COLUMNS($Q26:DY26)>$E$60,-$F$42*DY$1*DY$30/12,-$F$42*DY$1*$E$42*DY$30/12)","v":0},{"$f":"IF(COLUMNS($Q26:DZ26)>$E$60,-$F$42*DZ$1*DZ$30/12,-$F$42*DZ$1*$E$42*DZ$30/12)","v":0},{"$f":"IF(COLUMNS($Q26:EA26)>$E$60,-$F$42*EA$1*EA$30/12,-$F$42*EA$1*$E$42*EA$30/12)","v":0},{"$f":"IF(COLUMNS($Q26:EB26)>$E$60,-$F$42*EB$1*EB$30/12,-$F$42*EB$1*$E$42*EB$30/12)","v":0},{"$f":"IF(COLUMNS($Q26:EC26)>$E$60,-$F$42*EC$1*EC$30/12,-$F$42*EC$1*$E$42*EC$30/12)","v":0},{"$f":"IF(COLUMNS($Q26:ED26)>$E$60,-$F$42*ED$1*ED$30/12,-$F$42*ED$1*$E$42*ED$30/12)","v":0},{"$f":"IF(COLUMNS($Q26:EE26)>$E$60,-$F$42*EE$1*EE$30/12,-$F$42*EE$1*$E$42*EE$30/12)","v":0},{"$f":"IF(COLUMNS($Q26:EF26)>$E$60,-$F$42*EF$1*EF$30/12,-$F$42*EF$1*$E$42*EF$30/12)","v":0},{"$f":"IF(COLUMNS($Q26:EG26)>$E$60,-$F$42*EG$1*EG$30/12,-$F$42*EG$1*$E$42*EG$30/12)","v":0},{"$f":"IF(COLUMNS($Q26:EH26)>$E$60,-$F$42*EH$1*EH$30/12,-$F$42*EH$1*$E$42*EH$30/12)","v":0},{"$f":"IF(COLUMNS($Q26:EI26)>$E$60,-$F$42*EI$1*EI$30/12,-$F$42*EI$1*$E$42*EI$30/12)","v":0},{"$f":"IF(COLUMNS($Q26:EJ26)>$E$60,-$F$42*EJ$1*EJ$30/12,-$F$42*EJ$1*$E$42*EJ$30/12)","v":0},{"$f":"IF(COLUMNS($Q26:EK26)>$E$60,-$F$42*EK$1*EK$30/12,-$F$42*EK$1*$E$42*EK$30/12)","v":0},{"$f":"IF(COLUMNS($Q26:EL26)>$E$60,-$F$42*EL$1*EL$30/12,-$F$42*EL$1*$E$42*EL$30/12)","v":0},{"$f":"IF(COLUMNS($Q26:EM26)>$E$60,-$F$42*EM$1*EM$30/12,-$F$42*EM$1*$E$42*EM$30/12)","v":0},{"$f":"IF(COLUMNS($Q26:EN26)>$E$60,-$F$42*EN$1*EN$30/12,-$F$42*EN$1*$E$42*EN$30/12)","v":0},{"$f":"IF(COLUMNS($Q26:EO26)>$E$60,-$F$42*EO$1*EO$30/12,-$F$42*EO$1*$E$42*EO$30/12)","v":0},{"$f":"IF(COLUMNS($Q26:EP26)>$E$60,-$F$42*EP$1*EP$30/12,-$F$42*EP$1*$E$42*EP$30/12)","v":0},{"$f":"IF(COLUMNS($Q26:EQ26)>$E$60,-$F$42*EQ$1*EQ$30/12,-$F$42*EQ$1*$E$42*EQ$30/12)","v":0},{"$f":"IF(COLUMNS($Q26:ER26)>$E$60,-$F$42*ER$1*ER$30/12,-$F$42*ER$1*$E$42*ER$30/12)","v":0},{"$f":"IF(COLUMNS($Q26:ES26)>$E$60,-$F$42*ES$1*ES$30/12,-$F$42*ES$1*$E$42*ES$30/12)","v":0},{"$f":"IF(COLUMNS($Q26:ET26)>$E$60,-$F$42*ET$1*ET$30/12,-$F$42*ET$1*$E$42*ET$30/12)","v":0},{"$f":"IF(COLUMNS($Q26:EU26)>$E$60,-$F$42*EU$1*EU$30/12,-$F$42*EU$1*$E$42*EU$30/12)","v":0},{"$f":"IF(COLUMNS($Q26:EV26)>$E$60,-$F$42*EV$1*EV$30/12,-$F$42*EV$1*$E$42*EV$30/12)","v":0},{"$f":"IF(COLUMNS($Q26:EW26)>$E$60,-$F$42*EW$1*EW$30/12,-$F$42*EW$1*$E$42*EW$30/12)","v":0},{"$f":"IF(COLUMNS($Q26:EX26)>$E$60,-$F$42*EX$1*EX$30/12,-$F$42*EX$1*$E$42*EX$30/12)","v":0},{"$f":"IF(COLUMNS($Q26:EY26)>$E$60,-$F$42*EY$1*EY$30/12,-$F$42*EY$1*$E$42*EY$30/12)","v":0},{"$f":"IF(COLUMNS($Q26:EZ26)>$E$60,-$F$42*EZ$1*EZ$30/12,-$F$42*EZ$1*$E$42*EZ$30/12)","v":0},{"$f":"IF(COLUMNS($Q26:FA26)>$E$60,-$F$42*FA$1*FA$30/12,-$F$42*FA$1*$E$42*FA$30/12)","v":0},{"$f":"IF(COLUMNS($Q26:FB26)>$E$60,-$F$42*FB$1*FB$30/12,-$F$42*FB$1*$E$42*FB$30/12)","v":0},{"$f":"IF(COLUMNS($Q26:FC26)>$E$60,-$F$42*FC$1*FC$30/12,-$F$42*FC$1*$E$42*FC$30/12)","v":0},{"$f":"IF(COLUMNS($Q26:FD26)>$E$60,-$F$42*FD$1*FD$30/12,-$F$42*FD$1*$E$42*FD$30/12)","v":0},{"$f":"IF(COLUMNS($Q26:FE26)>$E$60,-$F$42*FE$1*FE$30/12,-$F$42*FE$1*$E$42*FE$30/12)","v":0},{"$f":"IF(COLUMNS($Q26:FF26)>$E$60,-$F$42*FF$1*FF$30/12,-$F$42*FF$1*$E$42*FF$30/12)","v":0},{"$f":"IF(COLUMNS($Q26:FG26)>$E$60,-$F$42*FG$1*FG$30/12,-$F$42*FG$1*$E$42*FG$30/12)","v":0},{"$f":"IF(COLUMNS($Q26:FH26)>$E$60,-$F$42*FH$1*FH$30/12,-$F$42*FH$1*$E$42*FH$30/12)","v":0},{"$f":"IF(COLUMNS($Q26:FI26)>$E$60,-$F$42*FI$1*FI$30/12,-$F$42*FI$1*$E$42*FI$30/12)","v":0},{"$f":"IF(COLUMNS($Q26:FJ26)>$E$60,-$F$42*FJ$1*FJ$30/12,-$F$42*FJ$1*$E$42*FJ$30/12)","v":0},{"$f":"IF(COLUMNS($Q26:FK26)>$E$60,-$F$42*FK$1*FK$30/12,-$F$42*FK$1*$E$42*FK$30/12)","v":0},{"$f":"IF(COLUMNS($Q26:FL26)>$E$60,-$F$42*FL$1*FL$30/12,-$F$42*FL$1*$E$42*FL$30/12)","v":0},{"$f":"IF(COLUMNS($Q26:FM26)>$E$60,-$F$42*FM$1*FM$30/12,-$F$42*FM$1*$E$42*FM$30/12)","v":0},{"$f":"IF(COLUMNS($Q26:FN26)>$E$60,-$F$42*FN$1*FN$30/12,-$F$42*FN$1*$E$42*FN$30/12)","v":0},{"$f":"IF(COLUMNS($Q26:FO26)>$E$60,-$F$42*FO$1*FO$30/12,-$F$42*FO$1*$E$42*FO$30/12)","v":0},{"$f":"IF(COLUMNS($Q26:FP26)>$E$60,-$F$42*FP$1*FP$30/12,-$F$42*FP$1*$E$42*FP$30/12)","v":0},{"$f":"IF(COLUMNS($Q26:FQ26)>$E$60,-$F$42*FQ$1*FQ$30/12,-$F$42*FQ$1*$E$42*FQ$30/12)","v":0},{"$f":"IF(COLUMNS($Q26:FR26)>$E$60,-$F$42*FR$1*FR$30/12,-$F$42*FR$1*$E$42*FR$30/12)","v":0},{"$f":"IF(COLUMNS($Q26:FS26)>$E$60,-$F$42*FS$1*FS$30/12,-$F$42*FS$1*$E$42*FS$30/12)","v":0},{"$f":"IF(COLUMNS($Q26:FT26)>$E$60,-$F$42*FT$1*FT$30/12,-$F$42*FT$1*$E$42*FT$30/12)","v":0},{"$f":"IF(COLUMNS($Q26:FU26)>$E$60,-$F$42*FU$1*FU$30/12,-$F$42*FU$1*$E$42*FU$30/12)","v":0},{"$f":"IF(COLUMNS($Q26:FV26)>$E$60,-$F$42*FV$1*FV$30/12,-$F$42*FV$1*$E$42*FV$30/12)","v":0},{"$f":"IF(COLUMNS($Q26:FW26)>$E$60,-$F$42*FW$1*FW$30/12,-$F$42*FW$1*$E$42*FW$30/12)","v":0},{"$f":"IF(COLUMNS($Q26:FX26)>$E$60,-$F$42*FX$1*FX$30/12,-$F$42*FX$1*$E$42*FX$30/12)","v":0},{"$f":"IF(COLUMNS($Q26:FY26)>$E$60,-$F$42*FY$1*FY$30/12,-$F$42*FY$1*$E$42*FY$30/12)","v":0},{"$f":"IF(COLUMNS($Q26:FZ26)>$E$60,-$F$42*FZ$1*FZ$30/12,-$F$42*FZ$1*$E$42*FZ$30/12)","v":0},{"$f":"IF(COLUMNS($Q26:GA26)>$E$60,-$F$42*GA$1*GA$30/12,-$F$42*GA$1*$E$42*GA$30/12)","v":0},{"$f":"IF(COLUMNS($Q26:GB26)>$E$60,-$F$42*GB$1*GB$30/12,-$F$42*GB$1*$E$42*GB$30/12)","v":0},{"$f":"IF(COLUMNS($Q26:GC26)>$E$60,-$F$42*GC$1*GC$30/12,-$F$42*GC$1*$E$42*GC$30/12)","v":0},{"$f":"IF(COLUMNS($Q26:GD26)>$E$60,-$F$42*GD$1*GD$30/12,-$F$42*GD$1*$E$42*GD$30/12)","v":0},{"$f":"IF(COLUMNS($Q26:GE26)>$E$60,-$F$42*GE$1*GE$30/12,-$F$42*GE$1*$E$42*GE$30/12)","v":0},{"$f":"IF(COLUMNS($Q26:GF26)>$E$60,-$F$42*GF$1*GF$30/12,-$F$42*GF$1*$E$42*GF$30/12)","v":0},{"$f":"IF(COLUMNS($Q26:GG26)>$E$60,-$F$42*GG$1*GG$30/12,-$F$42*GG$1*$E$42*GG$30/12)","v":0},{"$f":"IF(COLUMNS($Q26:GH26)>$E$60,-$F$42*GH$1*GH$30/12,-$F$42*GH$1*$E$42*GH$30/12)","v":0},{"$f":"IF(COLUMNS($Q26:GI26)>$E$60,-$F$42*GI$1*GI$30/12,-$F$42*GI$1*$E$42*GI$30/12)","v":0},{"$f":"IF(COLUMNS($Q26:GJ26)>$E$60,-$F$42*GJ$1*GJ$30/12,-$F$42*GJ$1*$E$42*GJ$30/12)","v":0},{"$f":"IF(COLUMNS($Q26:GK26)>$E$60,-$F$42*GK$1*GK$30/12,-$F$42*GK$1*$E$42*GK$30/12)","v":0},{"$f":"IF(COLUMNS($Q26:GL26)>$E$60,-$F$42*GL$1*GL$30/12,-$F$42*GL$1*$E$42*GL$30/12)","v":0},{"$f":"IF(COLUMNS($Q26:GM26)>$E$60,-$F$42*GM$1*GM$30/12,-$F$42*GM$1*$E$42*GM$30/12)","v":0},{"$f":"IF(COLUMNS($Q26:GN26)>$E$60,-$F$42*GN$1*GN$30/12,-$F$42*GN$1*$E$42*GN$30/12)","v":0},{"$f":"IF(COLUMNS($Q26:GO26)>$E$60,-$F$42*GO$1*GO$30/12,-$F$42*GO$1*$E$42*GO$30/12)","v":0},{"$f":"IF(COLUMNS($Q26:GP26)>$E$60,-$F$42*GP$1*GP$30/12,-$F$42*GP$1*$E$42*GP$30/12)","v":0},{"$f":"IF(COLUMNS($Q26:GQ26)>$E$60,-$F$42*GQ$1*GQ$30/12,-$F$42*GQ$1*$E$42*GQ$30/12)","v":0},{"$f":"IF(COLUMNS($Q26:GR26)>$E$60,-$F$42*GR$1*GR$30/12,-$F$42*GR$1*$E$42*GR$30/12)","v":0},{"$f":"IF(COLUMNS($Q26:GS26)>$E$60,-$F$42*GS$1*GS$30/12,-$F$42*GS$1*$E$42*GS$30/12)","v":0},{"$f":"IF(COLUMNS($Q26:GT26)>$E$60,-$F$42*GT$1*GT$30/12,-$F$42*GT$1*$E$42*GT$30/12)","v":0},{"$f":"IF(COLUMNS($Q26:GU26)>$E$60,-$F$42*GU$1*GU$30/12,-$F$42*GU$1*$E$42*GU$30/12)","v":0},{"$f":"IF(COLUMNS($Q26:GV26)>$E$60,-$F$42*GV$1*GV$30/12,-$F$42*GV$1*$E$42*GV$30/12)","v":0},{"$f":"IF(COLUMNS($Q26:GW26)>$E$60,-$F$42*GW$1*GW$30/12,-$F$42*GW$1*$E$42*GW$30/12)","v":0},{"$f":"IF(COLUMNS($Q26:GX26)>$E$60,-$F$42*GX$1*GX$30/12,-$F$42*GX$1*$E$42*GX$30/12)","v":0},{"$f":"IF(COLUMNS($Q26:GY26)>$E$60,-$F$42*GY$1*GY$30/12,-$F$42*GY$1*$E$42*GY$30/12)","v":0},{"$f":"IF(COLUMNS($Q26:GZ26)>$E$60,-$F$42*GZ$1*GZ$30/12,-$F$42*GZ$1*$E$42*GZ$30/12)","v":0},{"$f":"IF(COLUMNS($Q26:HA26)>$E$60,-$F$42*HA$1*HA$30/12,-$F$42*HA$1*$E$42*HA$30/12)","v":0},{"$f":"IF(COLUMNS($Q26:HB26)>$E$60,-$F$42*HB$1*HB$30/12,-$F$42*HB$1*$E$42*HB$30/12)","v":0},{"$f":"IF(COLUMNS($Q26:HC26)>$E$60,-$F$42*HC$1*HC$30/12,-$F$42*HC$1*$E$42*HC$30/12)","v":0},{"$f":"IF(COLUMNS($Q26:HD26)>$E$60,-$F$42*HD$1*HD$30/12,-$F$42*HD$1*$E$42*HD$30/12)","v":0},{"$f":"IF(COLUMNS($Q26:HE26)>$E$60,-$F$42*HE$1*HE$30/12,-$F$42*HE$1*$E$42*HE$30/12)","v":0},{"$f":"IF(COLUMNS($Q26:HF26)>$E$60,-$F$42*HF$1*HF$30/12,-$F$42*HF$1*$E$42*HF$30/12)","v":0},{"$f":"IF(COLUMNS($Q26:HG26)>$E$60,-$F$42*HG$1*HG$30/12,-$F$42*HG$1*$E$42*HG$30/12)","v":0},{"$f":"IF(COLUMNS($Q26:HH26)>$E$60,-$F$42*HH$1*HH$30/12,-$F$42*HH$1*$E$42*HH$30/12)","v":0},{"$f":"IF(COLUMNS($Q26:HI26)>$E$60,-$F$42*HI$1*HI$30/12,-$F$42*HI$1*$E$42*HI$30/12)","v":0},{"$f":"IF(COLUMNS($Q26:HJ26)>$E$60,-$F$42*HJ$1*HJ$30/12,-$F$42*HJ$1*$E$42*HJ$30/12)","v":0},{"$f":"IF(COLUMNS($Q26:HK26)>$E$60,-$F$42*HK$1*HK$30/12,-$F$42*HK$1*$E$42*HK$30/12)","v":0},{"$f":"IF(COLUMNS($Q26:HL26)>$E$60,-$F$42*HL$1*HL$30/12,-$F$42*HL$1*$E$42*HL$30/12)","v":0},{"$f":"IF(COLUMNS($Q26:HM26)>$E$60,-$F$42*HM$1*HM$30/12,-$F$42*HM$1*$E$42*HM$30/12)","v":0},{"$f":"IF(COLUMNS($Q26:HN26)>$E$60,-$F$42*HN$1*HN$30/12,-$F$42*HN$1*$E$42*HN$30/12)","v":0},{"$f":"IF(COLUMNS($Q26:HO26)>$E$60,-$F$42*HO$1*HO$30/12,-$F$42*HO$1*$E$42*HO$30/12)","v":0},{"$f":"IF(COLUMNS($Q26:HP26)>$E$60,-$F$42*HP$1*HP$30/12,-$F$42*HP$1*$E$42*HP$30/12)","v":0},{"$f":"IF(COLUMNS($Q26:HQ26)>$E$60,-$F$42*HQ$1*HQ$30/12,-$F$42*HQ$1*$E$42*HQ$30/12)","v":0},{"$f":"IF(COLUMNS($Q26:HR26)>$E$60,-$F$42*HR$1*HR$30/12,-$F$42*HR$1*$E$42*HR$30/12)","v":0},{"$f":"IF(COLUMNS($Q26:HS26)>$E$60,-$F$42*HS$1*HS$30/12,-$F$42*HS$1*$E$42*HS$30/12)","v":0},{"$f":"IF(COLUMNS($Q26:HT26)>$E$60,-$F$42*HT$1*HT$30/12,-$F$42*HT$1*$E$42*HT$30/12)","v":0},{"$f":"IF(COLUMNS($Q26:HU26)>$E$60,-$F$42*HU$1*HU$30/12,-$F$42*HU$1*$E$42*HU$30/12)","v":0},{"$f":"IF(COLUMNS($Q26:HV26)>$E$60,-$F$42*HV$1*HV$30/12,-$F$42*HV$1*$E$42*HV$30/12)","v":0},{"$f":"IF(COLUMNS($Q26:HW26)>$E$60,-$F$42*HW$1*HW$30/12,-$F$42*HW$1*$E$42*HW$30/12)","v":0},{"$f":"IF(COLUMNS($Q26:HX26)>$E$60,-$F$42*HX$1*HX$30/12,-$F$42*HX$1*$E$42*HX$30/12)","v":0},{"$f":"IF(COLUMNS($Q26:HY26)>$E$60,-$F$42*HY$1*HY$30/12,-$F$42*HY$1*$E$42*HY$30/12)","v":0},{"$f":"IF(COLUMNS($Q26:HZ26)>$E$60,-$F$42*HZ$1*HZ$30/12,-$F$42*HZ$1*$E$42*HZ$30/12)","v":0},{"$f":"IF(COLUMNS($Q26:IA26)>$E$60,-$F$42*IA$1*IA$30/12,-$F$42*IA$1*$E$42*IA$30/12)","v":0},{"$f":"IF(COLUMNS($Q26:IB26)>$E$60,-$F$42*IB$1*IB$30/12,-$F$42*IB$1*$E$42*IB$30/12)","v":0},{"$f":"IF(COLUMNS($Q26:IC26)>$E$60,-$F$42*IC$1*IC$30/12,-$F$42*IC$1*$E$42*IC$30/12)","v":0},{"$f":"IF(COLUMNS($Q26:ID26)>$E$60,-$F$42*ID$1*ID$30/12,-$F$42*ID$1*$E$42*ID$30/12)","v":0},{"$f":"IF(COLUMNS($Q26:IE26)>$E$60,-$F$42*IE$1*IE$30/12,-$F$42*IE$1*$E$42*IE$30/12)","v":0},{"$f":"IF(COLUMNS($Q26:IF26)>$E$60,-$F$42*IF$1*IF$30/12,-$F$42*IF$1*$E$42*IF$30/12)","v":0},{"$f":"IF(COLUMNS($Q26:IG26)>$E$60,-$F$42*IG$1*IG$30/12,-$F$42*IG$1*$E$42*IG$30/12)","v":0},{"$f":"IF(COLUMNS($Q26:IH26)>$E$60,-$F$42*IH$1*IH$30/12,-$F$42*IH$1*$E$42*IH$30/12)","v":0},{"$f":"IF(COLUMNS($Q26:II26)>$E$60,-$F$42*II$1*II$30/12,-$F$42*II$1*$E$42*II$30/12)","v":0},{"$f":"IF(COLUMNS($Q26:IJ26)>$E$60,-$F$42*IJ$1*IJ$30/12,-$F$42*IJ$1*$E$42*IJ$30/12)","v":0},{"$f":"IF(COLUMNS($Q26:IK26)>$E$60,-$F$42*IK$1*IK$30/12,-$F$42*IK$1*$E$42*IK$30/12)","v":0},{"$f":"IF(COLUMNS($Q26:IL26)>$E$60,-$F$42*IL$1*IL$30/12,-$F$42*IL$1*$E$42*IL$30/12)","v":0},{"$f":"IF(COLUMNS($Q26:IM26)>$E$60,-$F$42*IM$1*IM$30/12,-$F$42*IM$1*$E$42*IM$30/12)","v":0},{"$f":"IF(COLUMNS($Q26:IN26)>$E$60,-$F$42*IN$1*IN$30/12,-$F$42*IN$1*$E$42*IN$30/12)","v":0},{"$f":"IF(COLUMNS($Q26:IO26)>$E$60,-$F$42*IO$1*IO$30/12,-$F$42*IO$1*$E$42*IO$30/12)","v":0},{"$f":"IF(COLUMNS($Q26:IP26)>$E$60,-$F$42*IP$1*IP$30/12,-$F$42*IP$1*$E$42*IP$30/12)","v":0},{"$f":"IF(COLUMNS($Q26:IQ26)>$E$60,-$F$42*IQ$1*IQ$30/12,-$F$42*IQ$1*$E$42*IQ$30/12)","v":0},{"$f":"IF(COLUMNS($Q26:IR26)>$E$60,-$F$42*IR$1*IR$30/12,-$F$42*IR$1*$E$42*IR$30/12)","v":0},{"$f":"IF(COLUMNS($Q26:IS26)>$E$60,-$F$42*IS$1*IS$30/12,-$F$42*IS$1*$E$42*IS$30/12)","v":0},{"$f":"IF(COLUMNS($Q26:IT26)>$E$60,-$F$42*IT$1*IT$30/12,-$F$42*IT$1*$E$42*IT$30/12)","v":0},{"$f":"IF(COLUMNS($Q26:IU26)>$E$60,-$F$42*IU$1*IU$30/12,-$F$42*IU$1*$E$42*IU$30/12)","v":0},{"$f":"IF(COLUMNS($Q26:IV26)>$E$60,-$F$42*IV$1*IV$30/12,-$F$42*IV$1*$E$42*IV$30/12)","v":0},{"$f":"IF(COLUMNS($Q26:IW26)>$E$60,-$F$42*IW$1*IW$30/12,-$F$42*IW$1*$E$42*IW$30/12)","v":0},{"$f":"IF(COLUMNS($Q26:IX26)>$E$60,-$F$42*IX$1*IX$30/12,-$F$42*IX$1*$E$42*IX$30/12)","v":0},{"$f":"IF(COLUMNS($Q26:IY26)>$E$60,-$F$42*IY$1*IY$30/12,-$F$42*IY$1*$E$42*IY$30/12)","v":0},{"$f":"IF(COLUMNS($Q26:IZ26)>$E$60,-$F$42*IZ$1*IZ$30/12,-$F$42*IZ$1*$E$42*IZ$30/12)","v":0},{"$f":"IF(COLUMNS($Q26:JA26)>$E$60,-$F$42*JA$1*JA$30/12,-$F$42*JA$1*$E$42*JA$30/12)","v":0},{"$f":"IF(COLUMNS($Q26:JB26)>$E$60,-$F$42*JB$1*JB$30/12,-$F$42*JB$1*$E$42*JB$30/12)","v":0},{"$f":"IF(COLUMNS($Q26:JC26)>$E$60,-$F$42*JC$1*JC$30/12,-$F$42*JC$1*$E$42*JC$30/12)","v":0},{"$f":"IF(COLUMNS($Q26:JD26)>$E$60,-$F$42*JD$1*JD$30/12,-$F$42*JD$1*$E$42*JD$30/12)","v":0},{"$f":"IF(COLUMNS($Q26:JE26)>$E$60,-$F$42*JE$1*JE$30/12,-$F$42*JE$1*$E$42*JE$30/12)","v":0},{"$f":"IF(COLUMNS($Q26:JF26)>$E$60,-$F$42*JF$1*JF$30/12,-$F$42*JF$1*$E$42*JF$30/12)","v":0},{"$f":"IF(COLUMNS($Q26:JG26)>$E$60,-$F$42*JG$1*JG$30/12,-$F$42*JG$1*$E$42*JG$30/12)","v":0},{"$f":"IF(COLUMNS($Q26:JH26)>$E$60,-$F$42*JH$1*JH$30/12,-$F$42*JH$1*$E$42*JH$30/12)","v":0},{"$f":"IF(COLUMNS($Q26:JI26)>$E$60,-$F$42*JI$1*JI$30/12,-$F$42*JI$1*$E$42*JI$30/12)","v":0},{"$f":"IF(COLUMNS($Q26:JJ26)>$E$60,-$F$42*JJ$1*JJ$30/12,-$F$42*JJ$1*$E$42*JJ$30/12)","v":0},{"$f":"IF(COLUMNS($Q26:JK26)>$E$60,-$F$42*JK$1*JK$30/12,-$F$42*JK$1*$E$42*JK$30/12)","v":0},{"$f":"IF(COLUMNS($Q26:JL26)>$E$60,-$F$42*JL$1*JL$30/12,-$F$42*JL$1*$E$42*JL$30/12)","v":0},{"$f":"IF(COLUMNS($Q26:JM26)>$E$60,-$F$42*JM$1*JM$30/12,-$F$42*JM$1*$E$42*JM$30/12)","v":0},{"$f":"IF(COLUMNS($Q26:JN26)>$E$60,-$F$42*JN$1*JN$30/12,-$F$42*JN$1*$E$42*JN$30/12)","v":0},{"$f":"IF(COLUMNS($Q26:JO26)>$E$60,-$F$42*JO$1*JO$30/12,-$F$42*JO$1*$E$42*JO$30/12)","v":0},{"$f":"IF(COLUMNS($Q26:JP26)>$E$60,-$F$42*JP$1*JP$30/12,-$F$42*JP$1*$E$42*JP$30/12)","v":0},{"$f":"IF(COLUMNS($Q26:JQ26)>$E$60,-$F$42*JQ$1*JQ$30/12,-$F$42*JQ$1*$E$42*JQ$30/12)","v":0},{"$f":"IF(COLUMNS($Q26:JR26)>$E$60,-$F$42*JR$1*JR$30/12,-$F$42*JR$1*$E$42*JR$30/12)","v":0},{"$f":"IF(COLUMNS($Q26:JS26)>$E$60,-$F$42*JS$1*JS$30/12,-$F$42*JS$1*$E$42*JS$30/12)","v":0},{"$f":"IF(COLUMNS($Q26:JT26)>$E$60,-$F$42*JT$1*JT$30/12,-$F$42*JT$1*$E$42*JT$30/12)","v":0},{"$f":"IF(COLUMNS($Q26:JU26)>$E$60,-$F$42*JU$1*JU$30/12,-$F$42*JU$1*$E$42*JU$30/12)","v":0},{"$f":"IF(COLUMNS($Q26:JV26)>$E$60,-$F$42*JV$1*JV$30/12,-$F$42*JV$1*$E$42*JV$30/12)","v":0},{"$f":"IF(COLUMNS($Q26:JW26)>$E$60,-$F$42*JW$1*JW$30/12,-$F$42*JW$1*$E$42*JW$30/12)","v":0},{"$f":"IF(COLUMNS($Q26:JX26)>$E$60,-$F$42*JX$1*JX$30/12,-$F$42*JX$1*$E$42*JX$30/12)","v":0},{"$f":"IF(COLUMNS($Q26:JY26)>$E$60,-$F$42*JY$1*JY$30/12,-$F$42*JY$1*$E$42*JY$30/12)","v":0},{"$f":"IF(COLUMNS($Q26:JZ26)>$E$60,-$F$42*JZ$1*JZ$30/12,-$F$42*JZ$1*$E$42*JZ$30/12)","v":0},{"$f":"IF(COLUMNS($Q26:KA26)>$E$60,-$F$42*KA$1*KA$30/12,-$F$42*KA$1*$E$42*KA$30/12)","v":0},{"$f":"IF(COLUMNS($Q26:KB26)>$E$60,-$F$42*KB$1*KB$30/12,-$F$42*KB$1*$E$42*KB$30/12)","v":0},{"$f":"IF(COLUMNS($Q26:KC26)>$E$60,-$F$42*KC$1*KC$30/12,-$F$42*KC$1*$E$42*KC$30/12)","v":0},{"$f":"IF(COLUMNS($Q26:KD26)>$E$60,-$F$42*KD$1*KD$30/12,-$F$42*KD$1*$E$42*KD$30/12)","v":0},{"$f":"IF(COLUMNS($Q26:KE26)>$E$60,-$F$42*KE$1*KE$30/12,-$F$42*KE$1*$E$42*KE$30/12)","v":0},{"$f":"IF(COLUMNS($Q26:KF26)>$E$60,-$F$42*KF$1*KF$30/12,-$F$42*KF$1*$E$42*KF$30/12)","v":0},{"$f":"IF(COLUMNS($Q26:KG26)>$E$60,-$F$42*KG$1*KG$30/12,-$F$42*KG$1*$E$42*KG$30/12)","v":0},{"$f":"IF(COLUMNS($Q26:KH26)>$E$60,-$F$42*KH$1*KH$30/12,-$F$42*KH$1*$E$42*KH$30/12)","v":0},{"$f":"IF(COLUMNS($Q26:KI26)>$E$60,-$F$42*KI$1*KI$30/12,-$F$42*KI$1*$E$42*KI$30/12)","v":0},{"$f":"IF(COLUMNS($Q26:KJ26)>$E$60,-$F$42*KJ$1*KJ$30/12,-$F$42*KJ$1*$E$42*KJ$30/12)","v":0},{"$f":"IF(COLUMNS($Q26:KK26)>$E$60,-$F$42*KK$1*KK$30/12,-$F$42*KK$1*$E$42*KK$30/12)","v":0},{"$f":"IF(COLUMNS($Q26:KL26)>$E$60,-$F$42*KL$1*KL$30/12,-$F$42*KL$1*$E$42*KL$30/12)","v":0},{"$f":"IF(COLUMNS($Q26:KM26)>$E$60,-$F$42*KM$1*KM$30/12,-$F$42*KM$1*$E$42*KM$30/12)","v":0},{"$f":"IF(COLUMNS($Q26:KN26)>$E$60,-$F$42*KN$1*KN$30/12,-$F$42*KN$1*$E$42*KN$30/12)","v":0},{"$f":"IF(COLUMNS($Q26:KO26)>$E$60,-$F$42*KO$1*KO$30/12,-$F$42*KO$1*$E$42*KO$30/12)","v":0},{"$f":"IF(COLUMNS($Q26:KP26)>$E$60,-$F$42*KP$1*KP$30/12,-$F$42*KP$1*$E$42*KP$30/12)","v":0},{"$f":"IF(COLUMNS($Q26:KQ26)>$E$60,-$F$42*KQ$1*KQ$30/12,-$F$42*KQ$1*$E$42*KQ$30/12)","v":0},{"$f":"IF(COLUMNS($Q26:KR26)>$E$60,-$F$42*KR$1*KR$30/12,-$F$42*KR$1*$E$42*KR$30/12)","v":0},{"$f":"IF(COLUMNS($Q26:KS26)>$E$60,-$F$42*KS$1*KS$30/12,-$F$42*KS$1*$E$42*KS$30/12)","v":0},{"$f":"IF(COLUMNS($Q26:KT26)>$E$60,-$F$42*KT$1*KT$30/12,-$F$42*KT$1*$E$42*KT$30/12)","v":0},{"$f":"IF(COLUMNS($Q26:KU26)>$E$60,-$F$42*KU$1*KU$30/12,-$F$42*KU$1*$E$42*KU$30/12)","v":0},{"$f":"IF(COLUMNS($Q26:KV26)>$E$60,-$F$42*KV$1*KV$30/12,-$F$42*KV$1*$E$42*KV$30/12)","v":0},{"$f":"IF(COLUMNS($Q26:KW26)>$E$60,-$F$42*KW$1*KW$30/12,-$F$42*KW$1*$E$42*KW$30/12)","v":0},{"$f":"IF(COLUMNS($Q26:KX26)>$E$60,-$F$42*KX$1*KX$30/12,-$F$42*KX$1*$E$42*KX$30/12)","v":0},{"$f":"IF(COLUMNS($Q26:KY26)>$E$60,-$F$42*KY$1*KY$30/12,-$F$42*KY$1*$E$42*KY$30/12)","v":0},{"$f":"IF(COLUMNS($Q26:KZ26)>$E$60,-$F$42*KZ$1*KZ$30/12,-$F$42*KZ$1*$E$42*KZ$30/12)","v":0},{"$f":"IF(COLUMNS($Q26:LA26)>$E$60,-$F$42*LA$1*LA$30/12,-$F$42*LA$1*$E$42*LA$30/12)","v":0},{"$f":"IF(COLUMNS($Q26:LB26)>$E$60,-$F$42*LB$1*LB$30/12,-$F$42*LB$1*$E$42*LB$30/12)","v":0},{"$f":"IF(COLUMNS($Q26:LC26)>$E$60,-$F$42*LC$1*LC$30/12,-$F$42*LC$1*$E$42*LC$30/12)","v":0},{"$f":"IF(COLUMNS($Q26:LD26)>$E$60,-$F$42*LD$1*LD$30/12,-$F$42*LD$1*$E$42*LD$30/12)","v":0},{"$f":"IF(COLUMNS($Q26:LE26)>$E$60,-$F$42*LE$1*LE$30/12,-$F$42*LE$1*$E$42*LE$30/12)","v":0},{"$f":"IF(COLUMNS($Q26:LF26)>$E$60,-$F$42*LF$1*LF$30/12,-$F$42*LF$1*$E$42*LF$30/12)","v":0},{"$f":"IF(COLUMNS($Q26:LG26)>$E$60,-$F$42*LG$1*LG$30/12,-$F$42*LG$1*$E$42*LG$30/12)","v":0},{"$f":"IF(COLUMNS($Q26:LH26)>$E$60,-$F$42*LH$1*LH$30/12,-$F$42*LH$1*$E$42*LH$30/12)","v":0},{"$f":"IF(COLUMNS($Q26:LI26)>$E$60,-$F$42*LI$1*LI$30/12,-$F$42*LI$1*$E$42*LI$30/12)","v":0},{"$f":"IF(COLUMNS($Q26:LJ26)>$E$60,-$F$42*LJ$1*LJ$30/12,-$F$42*LJ$1*$E$42*LJ$30/12)","v":0},{"$f":"IF(COLUMNS($Q26:LK26)>$E$60,-$F$42*LK$1*LK$30/12,-$F$42*LK$1*$E$42*LK$30/12)","v":0},{"$f":"IF(COLUMNS($Q26:LL26)>$E$60,-$F$42*LL$1*LL$30/12,-$F$42*LL$1*$E$42*LL$30/12)","v":0},{"$f":"IF(COLUMNS($Q26:LM26)>$E$60,-$F$42*LM$1*LM$30/12,-$F$42*LM$1*$E$42*LM$30/12)","v":0},{"$f":"IF(COLUMNS($Q26:LN26)>$E$60,-$F$42*LN$1*LN$30/12,-$F$42*LN$1*$E$42*LN$30/12)","v":0},{"$f":"IF(COLUMNS($Q26:LO26)>$E$60,-$F$42*LO$1*LO$30/12,-$F$42*LO$1*$E$42*LO$30/12)","v":0},{"$f":"IF(COLUMNS($Q26:LP26)>$E$60,-$F$42*LP$1*LP$30/12,-$F$42*LP$1*$E$42*LP$30/12)","v":0},{"$f":"IF(COLUMNS($Q26:LQ26)>$E$60,-$F$42*LQ$1*LQ$30/12,-$F$42*LQ$1*$E$42*LQ$30/12)","v":0},{"$f":"IF(COLUMNS($Q26:LR26)>$E$60,-$F$42*LR$1*LR$30/12,-$F$42*LR$1*$E$42*LR$30/12)","v":0},{"$f":"IF(COLUMNS($Q26:LS26)>$E$60,-$F$42*LS$1*LS$30/12,-$F$42*LS$1*$E$42*LS$30/12)","v":0},{"$f":"IF(COLUMNS($Q26:LT26)>$E$60,-$F$42*LT$1*LT$30/12,-$F$42*LT$1*$E$42*LT$30/12)","v":0},{"$f":"IF(COLUMNS($Q26:LU26)>$E$60,-$F$42*LU$1*LU$30/12,-$F$42*LU$1*$E$42*LU$30/12)","v":0},{"$f":"IF(COLUMNS($Q26:LV26)>$E$60,-$F$42*LV$1*LV$30/12,-$F$42*LV$1*$E$42*LV$30/12)","v":0},{"$f":"IF(COLUMNS($Q26:LW26)>$E$60,-$F$42*LW$1*LW$30/12,-$F$42*LW$1*$E$42*LW$30/12)","v":0},{"$f":"IF(COLUMNS($Q26:LX26)>$E$60,-$F$42*LX$1*LX$30/12,-$F$42*LX$1*$E$42*LX$30/12)","v":0},{"$f":"IF(COLUMNS($Q26:LY26)>$E$60,-$F$42*LY$1*LY$30/12,-$F$42*LY$1*$E$42*LY$30/12)","v":0},{"$f":"IF(COLUMNS($Q26:LZ26)>$E$60,-$F$42*LZ$1*LZ$30/12,-$F$42*LZ$1*$E$42*LZ$30/12)","v":0},{"$f":"IF(COLUMNS($Q26:MA26)>$E$60,-$F$42*MA$1*MA$30/12,-$F$42*MA$1*$E$42*MA$30/12)","v":0},{"$f":"IF(COLUMNS($Q26:MB26)>$E$60,-$F$42*MB$1*MB$30/12,-$F$42*MB$1*$E$42*MB$30/12)","v":0},{"$f":"IF(COLUMNS($Q26:MC26)>$E$60,-$F$42*MC$1*MC$30/12,-$F$42*MC$1*$E$42*MC$30/12)","v":0},{"$f":"IF(COLUMNS($Q26:MD26)>$E$60,-$F$42*MD$1*MD$30/12,-$F$42*MD$1*$E$42*MD$30/12)","v":0},{"$f":"IF(COLUMNS($Q26:ME26)>$E$60,-$F$42*ME$1*ME$30/12,-$F$42*ME$1*$E$42*ME$30/12)","v":0},{"$f":"IF(COLUMNS($Q26:MF26)>$E$60,-$F$42*MF$1*MF$30/12,-$F$42*MF$1*$E$42*MF$30/12)","v":0},{"$f":"IF(COLUMNS($Q26:MG26)>$E$60,-$F$42*MG$1*MG$30/12,-$F$42*MG$1*$E$42*MG$30/12)","v":0},{"$f":"IF(COLUMNS($Q26:MH26)>$E$60,-$F$42*MH$1*MH$30/12,-$F$42*MH$1*$E$42*MH$30/12)","v":0},{"$f":"IF(COLUMNS($Q26:MI26)>$E$60,-$F$42*MI$1*MI$30/12,-$F$42*MI$1*$E$42*MI$30/12)","v":0},{"$f":"IF(COLUMNS($Q26:MJ26)>$E$60,-$F$42*MJ$1*MJ$30/12,-$F$42*MJ$1*$E$42*MJ$30/12)","v":0},{"$f":"IF(COLUMNS($Q26:MK26)>$E$60,-$F$42*MK$1*MK$30/12,-$F$42*MK$1*$E$42*MK$30/12)","v":0},{"$f":"IF(COLUMNS($Q26:ML26)>$E$60,-$F$42*ML$1*ML$30/12,-$F$42*ML$1*$E$42*ML$30/12)","v":0},{"$f":"IF(COLUMNS($Q26:MM26)>$E$60,-$F$42*MM$1*MM$30/12,-$F$42*MM$1*$E$42*MM$30/12)","v":0},{"$f":"IF(COLUMNS($Q26:MN26)>$E$60,-$F$42*MN$1*MN$30/12,-$F$42*MN$1*$E$42*MN$30/12)","v":0},{"$f":"IF(COLUMNS($Q26:MO26)>$E$60,-$F$42*MO$1*MO$30/12,-$F$42*MO$1*$E$42*MO$30/12)","v":0},{"$f":"IF(COLUMNS($Q26:MP26)>$E$60,-$F$42*MP$1*MP$30/12,-$F$42*MP$1*$E$42*MP$30/12)","v":0},{"$f":"IF(COLUMNS($Q26:MQ26)>$E$60,-$F$42*MQ$1*MQ$30/12,-$F$42*MQ$1*$E$42*MQ$30/12)","v":0},{"$f":"IF(COLUMNS($Q26:MR26)>$E$60,-$F$42*MR$1*MR$30/12,-$F$42*MR$1*$E$42*MR$30/12)","v":0},{"$f":"IF(COLUMNS($Q26:MS26)>$E$60,-$F$42*MS$1*MS$30/12,-$F$42*MS$1*$E$42*MS$30/12)","v":0},{"$f":"IF(COLUMNS($Q26:MT26)>$E$60,-$F$42*MT$1*MT$30/12,-$F$42*MT$1*$E$42*MT$30/12)","v":0},{"$f":"IF(COLUMNS($Q26:MU26)>$E$60,-$F$42*MU$1*MU$30/12,-$F$42*MU$1*$E$42*MU$30/12)","v":0},{"$f":"IF(COLUMNS($Q26:MV26)>$E$60,-$F$42*MV$1*MV$30/12,-$F$42*MV$1*$E$42*MV$30/12)","v":0},{"$f":"IF(COLUMNS($Q26:MW26)>$E$60,-$F$42*MW$1*MW$30/12,-$F$42*MW$1*$E$42*MW$30/12)","v":0},{"$f":"IF(COLUMNS($Q26:MX26)>$E$60,-$F$42*MX$1*MX$30/12,-$F$42*MX$1*$E$42*MX$30/12)","v":0},{"$f":"IF(COLUMNS($Q26:MY26)>$E$60,-$F$42*MY$1*MY$30/12,-$F$42*MY$1*$E$42*MY$30/12)","v":0},{"$f":"IF(COLUMNS($Q26:MZ26)>$E$60,-$F$42*MZ$1*MZ$30/12,-$F$42*MZ$1*$E$42*MZ$30/12)","v":0},{"$f":"IF(COLUMNS($Q26:NA26)>$E$60,-$F$42*NA$1*NA$30/12,-$F$42*NA$1*$E$42*NA$30/12)","v":0},{"$f":"IF(COLUMNS($Q26:NB26)>$E$60,-$F$42*NB$1*NB$30/12,-$F$42*NB$1*$E$42*NB$30/12)","v":0},{"$f":"IF(COLUMNS($Q26:NC26)>$E$60,-$F$42*NC$1*NC$30/12,-$F$42*NC$1*$E$42*NC$30/12)","v":0},{"$f":"IF(COLUMNS($Q26:ND26)>$E$60,-$F$42*ND$1*ND$30/12,-$F$42*ND$1*$E$42*ND$30/12)","v":0},{"$f":"IF(COLUMNS($Q26:NE26)>$E$60,-$F$42*NE$1*NE$30/12,-$F$42*NE$1*$E$42*NE$30/12)","v":0},{"$f":"IF(COLUMNS($Q26:NF26)>$E$60,-$F$42*NF$1*NF$30/12,-$F$42*NF$1*$E$42*NF$30/12)","v":0},{"$f":"IF(COLUMNS($Q26:NG26)>$E$60,-$F$42*NG$1*NG$30/12,-$F$42*NG$1*$E$42*NG$30/12)","v":0},{"$f":"IF(COLUMNS($Q26:NH26)>$E$60,-$F$42*NH$1*NH$30/12,-$F$42*NH$1*$E$42*NH$30/12)","v":0},{"$f":"IF(COLUMNS($Q26:NI26)>$E$60,-$F$42*NI$1*NI$30/12,-$F$42*NI$1*$E$42*NI$30/12)","v":0},{"$f":"IF(COLUMNS($Q26:NJ26)>$E$60,-$F$42*NJ$1*NJ$30/12,-$F$42*NJ$1*$E$42*NJ$30/12)","v":0},{"$f":"IF(COLUMNS($Q26:NK26)>$E$60,-$F$42*NK$1*NK$30/12,-$F$42*NK$1*$E$42*NK$30/12)","v":0},{"$f":"IF(COLUMNS($Q26:NL26)>$E$60,-$F$42*NL$1*NL$30/12,-$F$42*NL$1*$E$42*NL$30/12)","v":0},{"$f":"IF(COLUMNS($Q26:NM26)>$E$60,-$F$42*NM$1*NM$30/12,-$F$42*NM$1*$E$42*NM$30/12)","v":0},{"$f":"IF(COLUMNS($Q26:NN26)>$E$60,-$F$42*NN$1*NN$30/12,-$F$42*NN$1*$E$42*NN$30/12)","v":0},{"$f":"IF(COLUMNS($Q26:NO26)>$E$60,-$F$42*NO$1*NO$30/12,-$F$42*NO$1*$E$42*NO$30/12)","v":0},{"$f":"IF(COLUMNS($Q26:NP26)>$E$60,-$F$42*NP$1*NP$30/12,-$F$42*NP$1*$E$42*NP$30/12)","v":0},{"$f":"IF(COLUMNS($Q26:NQ26)>$E$60,-$F$42*NQ$1*NQ$30/12,-$F$42*NQ$1*$E$42*NQ$30/12)","v":0},{"$f":"IF(COLUMNS($Q26:NR26)>$E$60,-$F$42*NR$1*NR$30/12,-$F$42*NR$1*$E$42*NR$30/12)","v":0},{"$f":"IF(COLUMNS($Q26:NS26)>$E$60,-$F$42*NS$1*NS$30/12,-$F$42*NS$1*$E$42*NS$30/12)","v":0},{"$f":"IF(COLUMNS($Q26:NT26)>$E$60,-$F$42*NT$1*NT$30/12,-$F$42*NT$1*$E$42*NT$30/12)","v":0},{"$f":"IF(COLUMNS($Q26:NU26)>$E$60,-$F$42*NU$1*NU$30/12,-$F$42*NU$1*$E$42*NU$30/12)","v":0},{"$f":"IF(COLUMNS($Q26:NV26)>$E$60,-$F$42*NV$1*NV$30/12,-$F$42*NV$1*$E$42*NV$30/12)","v":0},{"$f":"IF(COLUMNS($Q26:NW26)>$E$60,-$F$42*NW$1*NW$30/12,-$F$42*NW$1*$E$42*NW$30/12)","v":0},{"$f":"IF(COLUMNS($Q26:NX26)>$E$60,-$F$42*NX$1*NX$30/12,-$F$42*NX$1*$E$42*NX$30/12)","v":0},{"$f":"IF(COLUMNS($Q26:NY26)>$E$60,-$F$42*NY$1*NY$30/12,-$F$42*NY$1*$E$42*NY$30/12)","v":0},{"$f":"IF(COLUMNS($Q26:NZ26)>$E$60,-$F$42*NZ$1*NZ$30/12,-$F$42*NZ$1*$E$42*NZ$30/12)","v":0},{"$f":"IF(COLUMNS($Q26:OA26)>$E$60,-$F$42*OA$1*OA$30/12,-$F$42*OA$1*$E$42*OA$30/12)","v":0},{"$f":"IF(COLUMNS($Q26:OB26)>$E$60,-$F$42*OB$1*OB$30/12,-$F$42*OB$1*$E$42*OB$30/12)","v":0},{"$f":"IF(COLUMNS($Q26:OC26)>$E$60,-$F$42*OC$1*OC$30/12,-$F$42*OC$1*$E$42*OC$30/12)","v":0},{"$f":"IF(COLUMNS($Q26:OD26)>$E$60,-$F$42*OD$1*OD$30/12,-$F$42*OD$1*$E$42*OD$30/12)","v":0},{"$f":"IF(COLUMNS($Q26:OE26)>$E$60,-$F$42*OE$1*OE$30/12,-$F$42*OE$1*$E$42*OE$30/12)","v":0},{"$f":"IF(COLUMNS($Q26:OF26)>$E$60,-$F$42*OF$1*OF$30/12,-$F$42*OF$1*$E$42*OF$30/12)","v":0},{"$f":"IF(COLUMNS($Q26:OG26)>$E$60,-$F$42*OG$1*OG$30/12,-$F$42*OG$1*$E$42*OG$30/12)","v":0},{"$f":"IF(COLUMNS($Q26:OH26)>$E$60,-$F$42*OH$1*OH$30/12,-$F$42*OH$1*$E$42*OH$30/12)","v":0},{"$f":"IF(COLUMNS($Q26:OI26)>$E$60,-$F$42*OI$1*OI$30/12,-$F$42*OI$1*$E$42*OI$30/12)","v":0},{"$f":"IF(COLUMNS($Q26:OJ26)>$E$60,-$F$42*OJ$1*OJ$30/12,-$F$42*OJ$1*$E$42*OJ$30/12)","v":0},{"$f":"IF(COLUMNS($Q26:OK26)>$E$60,-$F$42*OK$1*OK$30/12,-$F$42*OK$1*$E$42*OK$30/12)","v":0},{"$f":"IF(COLUMNS($Q26:OL26)>$E$60,-$F$42*OL$1*OL$30/12,-$F$42*OL$1*$E$42*OL$30/12)","v":0},{"$f":"IF(COLUMNS($Q26:OM26)>$E$60,-$F$42*OM$1*OM$30/12,-$F$42*OM$1*$E$42*OM$30/12)","v":0},{"$f":"IF(COLUMNS($Q26:ON26)>$E$60,-$F$42*ON$1*ON$30/12,-$F$42*ON$1*$E$42*ON$30/12)","v":0},{"$f":"IF(COLUMNS($Q26:OO26)>$E$60,-$F$42*OO$1*OO$30/12,-$F$42*OO$1*$E$42*OO$30/12)","v":0},{"$f":"IF(COLUMNS($Q26:OP26)>$E$60,-$F$42*OP$1*OP$30/12,-$F$42*OP$1*$E$42*OP$30/12)","v":0},{"$f":"IF(COLUMNS($Q26:OQ26)>$E$60,-$F$42*OQ$1*OQ$30/12,-$F$42*OQ$1*$E$42*OQ$30/12)","v":0},null,null,-466.66666666666674,-804.66666666666686,-812.71333333333325,-820.84046666666666,-829.0488713333333,-346.86800333333332,0,0,0,0,0,0,0,0,0,0,0,0,0,0,0,0,0,0,0,0,0,0,0,0,0,0,0,0]
[null,"Operación","Vivienda Inversa",null,null,null,null,null,null,null,null,null,"Seguro",null,-765.15075149999984,null,{"$f":"IF(COLUMNS($Q26:Q26)>$E$60,-$I$43*Q$1*Q$30/12,-$I$43*Q$1*$E$43*Q$30/12)","v":-12.5},{"$f":"IF(COLUMNS($Q26:R26)>$E$60,-$I$43*R$1*R$30/12,-$I$43*R$1*$E$43*R$30/12)","v":-12.5},{"$f":"IF(COLUMNS($Q26:S26)>$E$60,-$I$43*S$1*S$30/12,-$I$43*S$1*$E$43*S$30/12)","v":-12.5},{"$f":"IF(COLUMNS($Q26:T26)>$E$60,-$I$43*T$1*T$30/12,-$I$43*T$1*$E$43*T$30/12)","v":-12.5},{"$f":"IF(COLUMNS($Q26:U26)>$E$60,-$I$43*U$1*U$30/12,-$I$43*U$1*$E$43*U$30/12)","v":-12.5},{"$f":"IF(COLUMNS($Q26:V26)>$E$60,-$I$43*V$1*V$30/12,-$I$43*V$1*$E$43*V$30/12)","v":-12.5},{"$f":"IF(COLUMNS($Q26:W26)>$E$60,-$I$43*W$1*W$30/12,-$I$43*W$1*$E$43*W$30/12)","v":-12.5},{"$f":"IF(COLUMNS($Q26:X26)>$E$60,-$I$43*X$1*X$30/12,-$I$43*X$1*$E$43*X$30/12)","v":-12.5},{"$f":"IF(COLUMNS($Q26:Y26)>$E$60,-$I$43*Y$1*Y$30/12,-$I$43*Y$1*$E$43*Y$30/12)","v":-12.5},{"$f":"IF(COLUMNS($Q26:Z26)>$E$60,-$I$43*Z$1*Z$30/12,-$I$43*Z$1*$E$43*Z$30/12)","v":-12.5},{"$f":"IF(COLUMNS($Q26:AA26)>$E$60,-$I$43*AA$1*AA$30/12,-$I$43*AA$1*$E$43*AA$30/12)","v":-12.5},{"$f":"IF(COLUMNS($Q26:AB26)>$E$60,-$I$43*AB$1*AB$30/12,-$I$43*AB$1*$E$43*AB$30/12)","v":-12.5},{"$f":"IF(COLUMNS($Q26:AC26)>$E$60,-$I$43*AC$1*AC$30/12,-$I$43*AC$1*$E$43*AC$30/12)","v":-12.625},{"$f":"IF(COLUMNS($Q26:AD26)>$E$60,-$I$43*AD$1*AD$30/12,-$I$43*AD$1*$E$43*AD$30/12)","v":-12.625},{"$f":"IF(COLUMNS($Q26:AE26)>$E$60,-$I$43*AE$1*AE$30/12,-$I$43*AE$1*$E$43*AE$30/12)","v":-12.625},{"$f":"IF(COLUMNS($Q26:AF26)>$E$60,-$I$43*AF$1*AF$30/12,-$I$43*AF$1*$E$43*AF$30/12)","v":-12.625},{"$f":"IF(COLUMNS($Q26:AG26)>$E$60,-$I$43*AG$1*AG$30/12,-$I$43*AG$1*$E$43*AG$30/12)","v":-12.625},{"$f":"IF(COLUMNS($Q26:AH26)>$E$60,-$I$43*AH$1*AH$30/12,-$I$43*AH$1*$E$43*AH$30/12)","v":-12.625},{"$f":"IF(COLUMNS($Q26:AI26)>$E$60,-$I$43*AI$1*AI$30/12,-$I$43*AI$1*$E$43*AI$30/12)","v":-12.625},{"$f":"IF(COLUMNS($Q26:AJ26)>$E$60,-$I$43*AJ$1*AJ$30/12,-$I$43*AJ$1*$E$43*AJ$30/12)","v":-12.625},{"$f":"IF(COLUMNS($Q26:AK26)>$E$60,-$I$43*AK$1*AK$30/12,-$I$43*AK$1*$E$43*AK$30/12)","v":-12.625},{"$f":"IF(COLUMNS($Q26:AL26)>$E$60,-$I$43*AL$1*AL$30/12,-$I$43*AL$1*$E$43*AL$30/12)","v":-12.625},{"$f":"IF(COLUMNS($Q26:AM26)>$E$60,-$I$43*AM$1*AM$30/12,-$I$43*AM$1*$E$43*AM$30/12)","v":-12.625},{"$f":"IF(COLUMNS($Q26:AN26)>$E$60,-$I$43*AN$1*AN$30/12,-$I$43*AN$1*$E$43*AN$30/12)","v":-12.625},{"$f":"IF(COLUMNS($Q26:AO26)>$E$60,-$I$43*AO$1*AO$30/12,-$I$43*AO$1*$E$43*AO$30/12)","v":-12.751250000000001},{"$f":"IF(COLUMNS($Q26:AP26)>$E$60,-$I$43*AP$1*AP$30/12,-$I$43*AP$1*$E$43*AP$30/12)","v":-12.751250000000001},{"$f":"IF(COLUMNS($Q26:AQ26)>$E$60,-$I$43*AQ$1*AQ$30/12,-$I$43*AQ$1*$E$43*AQ$30/12)","v":-12.751250000000001},{"$f":"IF(COLUMNS($Q26:AR26)>$E$60,-$I$43*AR$1*AR$30/12,-$I$43*AR$1*$E$43*AR$30/12)","v":-12.751250000000001},{"$f":"IF(COLUMNS($Q26:AS26)>$E$60,-$I$43*AS$1*AS$30/12,-$I$43*AS$1*$E$43*AS$30/12)","v":-12.751250000000001},{"$f":"IF(COLUMNS($Q26:AT26)>$E$60,-$I$43*AT$1*AT$30/12,-$I$43*AT$1*$E$43*AT$30/12)","v":-12.751250000000001},{"$f":"IF(COLUMNS($Q26:AU26)>$E$60,-$I$43*AU$1*AU$30/12,-$I$43*AU$1*$E$43*AU$30/12)","v":-12.751250000000001},{"$f":"IF(COLUMNS($Q26:AV26)>$E$60,-$I$43*AV$1*AV$30/12,-$I$43*AV$1*$E$43*AV$30/12)","v":-12.751250000000001},{"$f":"IF(COLUMNS($Q26:AW26)>$E$60,-$I$43*AW$1*AW$30/12,-$I$43*AW$1*$E$43*AW$30/12)","v":-12.751250000000001},{"$f":"IF(COLUMNS($Q26:AX26)>$E$60,-$I$43*AX$1*AX$30/12,-$I$43*AX$1*$E$43*AX$30/12)","v":-12.751250000000001},{"$f":"IF(COLUMNS($Q26:AY26)>$E$60,-$I$43*AY$1*AY$30/12,-$I$43*AY$1*$E$43*AY$30/12)","v":-12.751250000000001},{"$f":"IF(COLUMNS($Q26:AZ26)>$E$60,-$I$43*AZ$1*AZ$30/12,-$I$43*AZ$1*$E$43*AZ$30/12)","v":-12.751250000000001},{"$f":"IF(COLUMNS($Q26:BA26)>$E$60,-$I$43*BA$1*BA$30/12,-$I$43*BA$1*$E$43*BA$30/12)","v":-12.878762499999999},{"$f":"IF(COLUMNS($Q26:BB26)>$E$60,-$I$43*BB$1*BB$30/12,-$I$43*BB$1*$E$43*BB$30/12)","v":-12.878762499999999},{"$f":"IF(COLUMNS($Q26:BC26)>$E$60,-$I$43*BC$1*BC$30/12,-$I$43*BC$1*$E$43*BC$30/12)","v":-12.878762499999999},{"$f":"IF(COLUMNS($Q26:BD26)>$E$60,-$I$43*BD$1*BD$30/12,-$I$43*BD$1*$E$43*BD$30/12)","v":-12.878762499999999},{"$f":"IF(COLUMNS($Q26:BE26)>$E$60,-$I$43*BE$1*BE$30/12,-$I$43*BE$1*$E$43*BE$30/12)","v":-12.878762499999999},{"$f":"IF(COLUMNS($Q26:BF26)>$E$60,-$I$43*BF$1*BF$30/12,-$I$43*BF$1*$E$43*BF$30/12)","v":-12.878762499999999},{"$f":"IF(COLUMNS($Q26:BG26)>$E$60,-$I$43*BG$1*BG$30/12,-$I$43*BG$1*$E$43*BG$30/12)","v":-12.878762499999999},{"$f":"IF(COLUMNS($Q26:BH26)>$E$60,-$I$43*BH$1*BH$30/12,-$I$43*BH$1*$E$43*BH$30/12)","v":-12.878762499999999},{"$f":"IF(COLUMNS($Q26:BI26)>$E$60,-$I$43*BI$1*BI$30/12,-$I$43*BI$1*$E$43*BI$30/12)","v":-12.878762499999999},{"$f":"IF(COLUMNS($Q26:BJ26)>$E$60,-$I$43*BJ$1*BJ$30/12,-$I$43*BJ$1*$E$43*BJ$30/12)","v":-12.878762499999999},{"$f":"IF(COLUMNS($Q26:BK26)>$E$60,-$I$43*BK$1*BK$30/12,-$I$43*BK$1*$E$43*BK$30/12)","v":-12.878762499999999},{"$f":"IF(COLUMNS($Q26:BL26)>$E$60,-$I$43*BL$1*BL$30/12,-$I$43*BL$1*$E$43*BL$30/12)","v":-12.878762499999999},{"$f":"IF(COLUMNS($Q26:BM26)>$E$60,-$I$43*BM$1*BM$30/12,-$I$43*BM$1*$E$43*BM$30/12)","v":-13.007550125},{"$f":"IF(COLUMNS($Q26:BN26)>$E$60,-$I$43*BN$1*BN$30/12,-$I$43*BN$1*$E$43*BN$30/12)","v":-13.007550125},{"$f":"IF(COLUMNS($Q26:BO26)>$E$60,-$I$43*BO$1*BO$30/12,-$I$43*BO$1*$E$43*BO$30/12)","v":-13.007550125},{"$f":"IF(COLUMNS($Q26:BP26)>$E$60,-$I$43*BP$1*BP$30/12,-$I$43*BP$1*$E$43*BP$30/12)","v":-13.007550125},{"$f":"IF(COLUMNS($Q26:BQ26)>$E$60,-$I$43*BQ$1*BQ$30/12,-$I$43*BQ$1*$E$43*BQ$30/12)","v":-13.007550125},{"$f":"IF(COLUMNS($Q26:BR26)>$E$60,-$I$43*BR$1*BR$30/12,-$I$43*BR$1*$E$43*BR$30/12)","v":-13.007550125},{"$f":"IF(COLUMNS($Q26:BS26)>$E$60,-$I$43*BS$1*BS$30/12,-$I$43*BS$1*$E$43*BS$30/12)","v":-13.007550125},{"$f":"IF(COLUMNS($Q26:BT26)>$E$60,-$I$43*BT$1*BT$30/12,-$I$43*BT$1*$E$43*BT$30/12)","v":-13.007550125},{"$f":"IF(COLUMNS($Q26:BU26)>$E$60,-$I$43*BU$1*BU$30/12,-$I$43*BU$1*$E$43*BU$30/12)","v":-13.007550125},{"$f":"IF(COLUMNS($Q26:BV26)>$E$60,-$I$43*BV$1*BV$30/12,-$I$43*BV$1*$E$43*BV$30/12)","v":-13.007550125},{"$f":"IF(COLUMNS($Q26:BW26)>$E$60,-$I$43*BW$1*BW$30/12,-$I$43*BW$1*$E$43*BW$30/12)","v":-13.007550125},{"$f":"IF(COLUMNS($Q26:BX26)>$E$60,-$I$43*BX$1*BX$30/12,-$I$43*BX$1*$E$43*BX$30/12)","v":-13.007550125},{"$f":"IF(COLUMNS($Q26:BY26)>$E$60,-$I$43*BY$1*BY$30/12,-$I$43*BY$1*$E$43*BY$30/12)","v":0},{"$f":"IF(COLUMNS($Q26:BZ26)>$E$60,-$I$43*BZ$1*BZ$30/12,-$I$43*BZ$1*$E$43*BZ$30/12)","v":0},{"$f":"IF(COLUMNS($Q26:CA26)>$E$60,-$I$43*CA$1*CA$30/12,-$I$43*CA$1*$E$43*CA$30/12)","v":0},{"$f":"IF(COLUMNS($Q26:CB26)>$E$60,-$I$43*CB$1*CB$30/12,-$I$43*CB$1*$E$43*CB$30/12)","v":0},{"$f":"IF(COLUMNS($Q26:CC26)>$E$60,-$I$43*CC$1*CC$30/12,-$I$43*CC$1*$E$43*CC$30/12)","v":0},{"$f":"IF(COLUMNS($Q26:CD26)>$E$60,-$I$43*CD$1*CD$30/12,-$I$43*CD$1*$E$43*CD$30/12)","v":0},{"$f":"IF(COLUMNS($Q26:CE26)>$E$60,-$I$43*CE$1*CE$30/12,-$I$43*CE$1*$E$43*CE$30/12)","v":0},{"$f":"IF(COLUMNS($Q26:CF26)>$E$60,-$I$43*CF$1*CF$30/12,-$I$43*CF$1*$E$43*CF$30/12)","v":0},{"$f":"IF(COLUMNS($Q26:CG26)>$E$60,-$I$43*CG$1*CG$30/12,-$I$43*CG$1*$E$43*CG$30/12)","v":0},{"$f":"IF(COLUMNS($Q26:CH26)>$E$60,-$I$43*CH$1*CH$30/12,-$I$43*CH$1*$E$43*CH$30/12)","v":0},{"$f":"IF(COLUMNS($Q26:CI26)>$E$60,-$I$43*CI$1*CI$30/12,-$I$43*CI$1*$E$43*CI$30/12)","v":0},{"$f":"IF(COLUMNS($Q26:CJ26)>$E$60,-$I$43*CJ$1*CJ$30/12,-$I$43*CJ$1*$E$43*CJ$30/12)","v":0},{"$f":"IF(COLUMNS($Q26:CK26)>$E$60,-$I$43*CK$1*CK$30/12,-$I$43*CK$1*$E$43*CK$30/12)","v":0},{"$f":"IF(COLUMNS($Q26:CL26)>$E$60,-$I$43*CL$1*CL$30/12,-$I$43*CL$1*$E$43*CL$30/12)","v":0},{"$f":"IF(COLUMNS($Q26:CM26)>$E$60,-$I$43*CM$1*CM$30/12,-$I$43*CM$1*$E$43*CM$30/12)","v":0},{"$f":"IF(COLUMNS($Q26:CN26)>$E$60,-$I$43*CN$1*CN$30/12,-$I$43*CN$1*$E$43*CN$30/12)","v":0},{"$f":"IF(COLUMNS($Q26:CO26)>$E$60,-$I$43*CO$1*CO$30/12,-$I$43*CO$1*$E$43*CO$30/12)","v":0},{"$f":"IF(COLUMNS($Q26:CP26)>$E$60,-$I$43*CP$1*CP$30/12,-$I$43*CP$1*$E$43*CP$30/12)","v":0},{"$f":"IF(COLUMNS($Q26:CQ26)>$E$60,-$I$43*CQ$1*CQ$30/12,-$I$43*CQ$1*$E$43*CQ$30/12)","v":0},{"$f":"IF(COLUMNS($Q26:CR26)>$E$60,-$I$43*CR$1*CR$30/12,-$I$43*CR$1*$E$43*CR$30/12)","v":0},{"$f":"IF(COLUMNS($Q26:CS26)>$E$60,-$I$43*CS$1*CS$30/12,-$I$43*CS$1*$E$43*CS$30/12)","v":0},{"$f":"IF(COLUMNS($Q26:CT26)>$E$60,-$I$43*CT$1*CT$30/12,-$I$43*CT$1*$E$43*CT$30/12)","v":0},{"$f":"IF(COLUMNS($Q26:CU26)>$E$60,-$I$43*CU$1*CU$30/12,-$I$43*CU$1*$E$43*CU$30/12)","v":0},{"$f":"IF(COLUMNS($Q26:CV26)>$E$60,-$I$43*CV$1*CV$30/12,-$I$43*CV$1*$E$43*CV$30/12)","v":0},{"$f":"IF(COLUMNS($Q26:CW26)>$E$60,-$I$43*CW$1*CW$30/12,-$I$43*CW$1*$E$43*CW$30/12)","v":0},{"$f":"IF(COLUMNS($Q26:CX26)>$E$60,-$I$43*CX$1*CX$30/12,-$I$43*CX$1*$E$43*CX$30/12)","v":0},{"$f":"IF(COLUMNS($Q26:CY26)>$E$60,-$I$43*CY$1*CY$30/12,-$I$43*CY$1*$E$43*CY$30/12)","v":0},{"$f":"IF(COLUMNS($Q26:CZ26)>$E$60,-$I$43*CZ$1*CZ$30/12,-$I$43*CZ$1*$E$43*CZ$30/12)","v":0},{"$f":"IF(COLUMNS($Q26:DA26)>$E$60,-$I$43*DA$1*DA$30/12,-$I$43*DA$1*$E$43*DA$30/12)","v":0},{"$f":"IF(COLUMNS($Q26:DB26)>$E$60,-$I$43*DB$1*DB$30/12,-$I$43*DB$1*$E$43*DB$30/12)","v":0},{"$f":"IF(COLUMNS($Q26:DC26)>$E$60,-$I$43*DC$1*DC$30/12,-$I$43*DC$1*$E$43*DC$30/12)","v":0},{"$f":"IF(COLUMNS($Q26:DD26)>$E$60,-$I$43*DD$1*DD$30/12,-$I$43*DD$1*$E$43*DD$30/12)","v":0},{"$f":"IF(COLUMNS($Q26:DE26)>$E$60,-$I$43*DE$1*DE$30/12,-$I$43*DE$1*$E$43*DE$30/12)","v":0},{"$f":"IF(COLUMNS($Q26:DF26)>$E$60,-$I$43*DF$1*DF$30/12,-$I$43*DF$1*$E$43*DF$30/12)","v":0},{"$f":"IF(COLUMNS($Q26:DG26)>$E$60,-$I$43*DG$1*DG$30/12,-$I$43*DG$1*$E$43*DG$30/12)","v":0},{"$f":"IF(COLUMNS($Q26:DH26)>$E$60,-$I$43*DH$1*DH$30/12,-$I$43*DH$1*$E$43*DH$30/12)","v":0},{"$f":"IF(COLUMNS($Q26:DI26)>$E$60,-$I$43*DI$1*DI$30/12,-$I$43*DI$1*$E$43*DI$30/12)","v":0},{"$f":"IF(COLUMNS($Q26:DJ26)>$E$60,-$I$43*DJ$1*DJ$30/12,-$I$43*DJ$1*$E$43*DJ$30/12)","v":0},{"$f":"IF(COLUMNS($Q26:DK26)>$E$60,-$I$43*DK$1*DK$30/12,-$I$43*DK$1*$E$43*DK$30/12)","v":0},{"$f":"IF(COLUMNS($Q26:DL26)>$E$60,-$I$43*DL$1*DL$30/12,-$I$43*DL$1*$E$43*DL$30/12)","v":0},{"$f":"IF(COLUMNS($Q26:DM26)>$E$60,-$I$43*DM$1*DM$30/12,-$I$43*DM$1*$E$43*DM$30/12)","v":0},{"$f":"IF(COLUMNS($Q26:DN26)>$E$60,-$I$43*DN$1*DN$30/12,-$I$43*DN$1*$E$43*DN$30/12)","v":0},{"$f":"IF(COLUMNS($Q26:DO26)>$E$60,-$I$43*DO$1*DO$30/12,-$I$43*DO$1*$E$43*DO$30/12)","v":0},{"$f":"IF(COLUMNS($Q26:DP26)>$E$60,-$I$43*DP$1*DP$30/12,-$I$43*DP$1*$E$43*DP$30/12)","v":0},{"$f":"IF(COLUMNS($Q26:DQ26)>$E$60,-$I$43*DQ$1*DQ$30/12,-$I$43*DQ$1*$E$43*DQ$30/12)","v":0},{"$f":"IF(COLUMNS($Q26:DR26)>$E$60,-$I$43*DR$1*DR$30/12,-$I$43*DR$1*$E$43*DR$30/12)","v":0},{"$f":"IF(COLUMNS($Q26:DS26)>$E$60,-$I$43*DS$1*DS$30/12,-$I$43*DS$1*$E$43*DS$30/12)","v":0},{"$f":"IF(COLUMNS($Q26:DT26)>$E$60,-$I$43*DT$1*DT$30/12,-$I$43*DT$1*$E$43*DT$30/12)","v":0},{"$f":"IF(COLUMNS($Q26:DU26)>$E$60,-$I$43*DU$1*DU$30/12,-$I$43*DU$1*$E$43*DU$30/12)","v":0},{"$f":"IF(COLUMNS($Q26:DV26)>$E$60,-$I$43*DV$1*DV$30/12,-$I$43*DV$1*$E$43*DV$30/12)","v":0},{"$f":"IF(COLUMNS($Q26:DW26)>$E$60,-$I$43*DW$1*DW$30/12,-$I$43*DW$1*$E$43*DW$30/12)","v":0},{"$f":"IF(COLUMNS($Q26:DX26)>$E$60,-$I$43*DX$1*DX$30/12,-$I$43*DX$1*$E$43*DX$30/12)","v":0},{"$f":"IF(COLUMNS($Q26:DY26)>$E$60,-$I$43*DY$1*DY$30/12,-$I$43*DY$1*$E$43*DY$30/12)","v":0},{"$f":"IF(COLUMNS($Q26:DZ26)>$E$60,-$I$43*DZ$1*DZ$30/12,-$I$43*DZ$1*$E$43*DZ$30/12)","v":0},{"$f":"IF(COLUMNS($Q26:EA26)>$E$60,-$I$43*EA$1*EA$30/12,-$I$43*EA$1*$E$43*EA$30/12)","v":0},{"$f":"IF(COLUMNS($Q26:EB26)>$E$60,-$I$43*EB$1*EB$30/12,-$I$43*EB$1*$E$43*EB$30/12)","v":0},{"$f":"IF(COLUMNS($Q26:EC26)>$E$60,-$I$43*EC$1*EC$30/12,-$I$43*EC$1*$E$43*EC$30/12)","v":0},{"$f":"IF(COLUMNS($Q26:ED26)>$E$60,-$I$43*ED$1*ED$30/12,-$I$43*ED$1*$E$43*ED$30/12)","v":0},{"$f":"IF(COLUMNS($Q26:EE26)>$E$60,-$I$43*EE$1*EE$30/12,-$I$43*EE$1*$E$43*EE$30/12)","v":0},{"$f":"IF(COLUMNS($Q26:EF26)>$E$60,-$I$43*EF$1*EF$30/12,-$I$43*EF$1*$E$43*EF$30/12)","v":0},{"$f":"IF(COLUMNS($Q26:EG26)>$E$60,-$I$43*EG$1*EG$30/12,-$I$43*EG$1*$E$43*EG$30/12)","v":0},{"$f":"IF(COLUMNS($Q26:EH26)>$E$60,-$I$43*EH$1*EH$30/12,-$I$43*EH$1*$E$43*EH$30/12)","v":0},{"$f":"IF(COLUMNS($Q26:EI26)>$E$60,-$I$43*EI$1*EI$30/12,-$I$43*EI$1*$E$43*EI$30/12)","v":0},{"$f":"IF(COLUMNS($Q26:EJ26)>$E$60,-$I$43*EJ$1*EJ$30/12,-$I$43*EJ$1*$E$43*EJ$30/12)","v":0},{"$f":"IF(COLUMNS($Q26:EK26)>$E$60,-$I$43*EK$1*EK$30/12,-$I$43*EK$1*$E$43*EK$30/12)","v":0},{"$f":"IF(COLUMNS($Q26:EL26)>$E$60,-$I$43*EL$1*EL$30/12,-$I$43*EL$1*$E$43*EL$30/12)","v":0},{"$f":"IF(COLUMNS($Q26:EM26)>$E$60,-$I$43*EM$1*EM$30/12,-$I$43*EM$1*$E$43*EM$30/12)","v":0},{"$f":"IF(COLUMNS($Q26:EN26)>$E$60,-$I$43*EN$1*EN$30/12,-$I$43*EN$1*$E$43*EN$30/12)","v":0},{"$f":"IF(COLUMNS($Q26:EO26)>$E$60,-$I$43*EO$1*EO$30/12,-$I$43*EO$1*$E$43*EO$30/12)","v":0},{"$f":"IF(COLUMNS($Q26:EP26)>$E$60,-$I$43*EP$1*EP$30/12,-$I$43*EP$1*$E$43*EP$30/12)","v":0},{"$f":"IF(COLUMNS($Q26:EQ26)>$E$60,-$I$43*EQ$1*EQ$30/12,-$I$43*EQ$1*$E$43*EQ$30/12)","v":0},{"$f":"IF(COLUMNS($Q26:ER26)>$E$60,-$I$43*ER$1*ER$30/12,-$I$43*ER$1*$E$43*ER$30/12)","v":0},{"$f":"IF(COLUMNS($Q26:ES26)>$E$60,-$I$43*ES$1*ES$30/12,-$I$43*ES$1*$E$43*ES$30/12)","v":0},{"$f":"IF(COLUMNS($Q26:ET26)>$E$60,-$I$43*ET$1*ET$30/12,-$I$43*ET$1*$E$43*ET$30/12)","v":0},{"$f":"IF(COLUMNS($Q26:EU26)>$E$60,-$I$43*EU$1*EU$30/12,-$I$43*EU$1*$E$43*EU$30/12)","v":0},{"$f":"IF(COLUMNS($Q26:EV26)>$E$60,-$I$43*EV$1*EV$30/12,-$I$43*EV$1*$E$43*EV$30/12)","v":0},{"$f":"IF(COLUMNS($Q26:EW26)>$E$60,-$I$43*EW$1*EW$30/12,-$I$43*EW$1*$E$43*EW$30/12)","v":0},{"$f":"IF(COLUMNS($Q26:EX26)>$E$60,-$I$43*EX$1*EX$30/12,-$I$43*EX$1*$E$43*EX$30/12)","v":0},{"$f":"IF(COLUMNS($Q26:EY26)>$E$60,-$I$43*EY$1*EY$30/12,-$I$43*EY$1*$E$43*EY$30/12)","v":0},{"$f":"IF(COLUMNS($Q26:EZ26)>$E$60,-$I$43*EZ$1*EZ$30/12,-$I$43*EZ$1*$E$43*EZ$30/12)","v":0},{"$f":"IF(COLUMNS($Q26:FA26)>$E$60,-$I$43*FA$1*FA$30/12,-$I$43*FA$1*$E$43*FA$30/12)","v":0},{"$f":"IF(COLUMNS($Q26:FB26)>$E$60,-$I$43*FB$1*FB$30/12,-$I$43*FB$1*$E$43*FB$30/12)","v":0},{"$f":"IF(COLUMNS($Q26:FC26)>$E$60,-$I$43*FC$1*FC$30/12,-$I$43*FC$1*$E$43*FC$30/12)","v":0},{"$f":"IF(COLUMNS($Q26:FD26)>$E$60,-$I$43*FD$1*FD$30/12,-$I$43*FD$1*$E$43*FD$30/12)","v":0},{"$f":"IF(COLUMNS($Q26:FE26)>$E$60,-$I$43*FE$1*FE$30/12,-$I$43*FE$1*$E$43*FE$30/12)","v":0},{"$f":"IF(COLUMNS($Q26:FF26)>$E$60,-$I$43*FF$1*FF$30/12,-$I$43*FF$1*$E$43*FF$30/12)","v":0},{"$f":"IF(COLUMNS($Q26:FG26)>$E$60,-$I$43*FG$1*FG$30/12,-$I$43*FG$1*$E$43*FG$30/12)","v":0},{"$f":"IF(COLUMNS($Q26:FH26)>$E$60,-$I$43*FH$1*FH$30/12,-$I$43*FH$1*$E$43*FH$30/12)","v":0},{"$f":"IF(COLUMNS($Q26:FI26)>$E$60,-$I$43*FI$1*FI$30/12,-$I$43*FI$1*$E$43*FI$30/12)","v":0},{"$f":"IF(COLUMNS($Q26:FJ26)>$E$60,-$I$43*FJ$1*FJ$30/12,-$I$43*FJ$1*$E$43*FJ$30/12)","v":0},{"$f":"IF(COLUMNS($Q26:FK26)>$E$60,-$I$43*FK$1*FK$30/12,-$I$43*FK$1*$E$43*FK$30/12)","v":0},{"$f":"IF(COLUMNS($Q26:FL26)>$E$60,-$I$43*FL$1*FL$30/12,-$I$43*FL$1*$E$43*FL$30/12)","v":0},{"$f":"IF(COLUMNS($Q26:FM26)>$E$60,-$I$43*FM$1*FM$30/12,-$I$43*FM$1*$E$43*FM$30/12)","v":0},{"$f":"IF(COLUMNS($Q26:FN26)>$E$60,-$I$43*FN$1*FN$30/12,-$I$43*FN$1*$E$43*FN$30/12)","v":0},{"$f":"IF(COLUMNS($Q26:FO26)>$E$60,-$I$43*FO$1*FO$30/12,-$I$43*FO$1*$E$43*FO$30/12)","v":0},{"$f":"IF(COLUMNS($Q26:FP26)>$E$60,-$I$43*FP$1*FP$30/12,-$I$43*FP$1*$E$43*FP$30/12)","v":0},{"$f":"IF(COLUMNS($Q26:FQ26)>$E$60,-$I$43*FQ$1*FQ$30/12,-$I$43*FQ$1*$E$43*FQ$30/12)","v":0},{"$f":"IF(COLUMNS($Q26:FR26)>$E$60,-$I$43*FR$1*FR$30/12,-$I$43*FR$1*$E$43*FR$30/12)","v":0},{"$f":"IF(COLUMNS($Q26:FS26)>$E$60,-$I$43*FS$1*FS$30/12,-$I$43*FS$1*$E$43*FS$30/12)","v":0},{"$f":"IF(COLUMNS($Q26:FT26)>$E$60,-$I$43*FT$1*FT$30/12,-$I$43*FT$1*$E$43*FT$30/12)","v":0},{"$f":"IF(COLUMNS($Q26:FU26)>$E$60,-$I$43*FU$1*FU$30/12,-$I$43*FU$1*$E$43*FU$30/12)","v":0},{"$f":"IF(COLUMNS($Q26:FV26)>$E$60,-$I$43*FV$1*FV$30/12,-$I$43*FV$1*$E$43*FV$30/12)","v":0},{"$f":"IF(COLUMNS($Q26:FW26)>$E$60,-$I$43*FW$1*FW$30/12,-$I$43*FW$1*$E$43*FW$30/12)","v":0},{"$f":"IF(COLUMNS($Q26:FX26)>$E$60,-$I$43*FX$1*FX$30/12,-$I$43*FX$1*$E$43*FX$30/12)","v":0},{"$f":"IF(COLUMNS($Q26:FY26)>$E$60,-$I$43*FY$1*FY$30/12,-$I$43*FY$1*$E$43*FY$30/12)","v":0},{"$f":"IF(COLUMNS($Q26:FZ26)>$E$60,-$I$43*FZ$1*FZ$30/12,-$I$43*FZ$1*$E$43*FZ$30/12)","v":0},{"$f":"IF(COLUMNS($Q26:GA26)>$E$60,-$I$43*GA$1*GA$30/12,-$I$43*GA$1*$E$43*GA$30/12)","v":0},{"$f":"IF(COLUMNS($Q26:GB26)>$E$60,-$I$43*GB$1*GB$30/12,-$I$43*GB$1*$E$43*GB$30/12)","v":0},{"$f":"IF(COLUMNS($Q26:GC26)>$E$60,-$I$43*GC$1*GC$30/12,-$I$43*GC$1*$E$43*GC$30/12)","v":0},{"$f":"IF(COLUMNS($Q26:GD26)>$E$60,-$I$43*GD$1*GD$30/12,-$I$43*GD$1*$E$43*GD$30/12)","v":0},{"$f":"IF(COLUMNS($Q26:GE26)>$E$60,-$I$43*GE$1*GE$30/12,-$I$43*GE$1*$E$43*GE$30/12)","v":0},{"$f":"IF(COLUMNS($Q26:GF26)>$E$60,-$I$43*GF$1*GF$30/12,-$I$43*GF$1*$E$43*GF$30/12)","v":0},{"$f":"IF(COLUMNS($Q26:GG26)>$E$60,-$I$43*GG$1*GG$30/12,-$I$43*GG$1*$E$43*GG$30/12)","v":0},{"$f":"IF(COLUMNS($Q26:GH26)>$E$60,-$I$43*GH$1*GH$30/12,-$I$43*GH$1*$E$43*GH$30/12)","v":0},{"$f":"IF(COLUMNS($Q26:GI26)>$E$60,-$I$43*GI$1*GI$30/12,-$I$43*GI$1*$E$43*GI$30/12)","v":0},{"$f":"IF(COLUMNS($Q26:GJ26)>$E$60,-$I$43*GJ$1*GJ$30/12,-$I$43*GJ$1*$E$43*GJ$30/12)","v":0},{"$f":"IF(COLUMNS($Q26:GK26)>$E$60,-$I$43*GK$1*GK$30/12,-$I$43*GK$1*$E$43*GK$30/12)","v":0},{"$f":"IF(COLUMNS($Q26:GL26)>$E$60,-$I$43*GL$1*GL$30/12,-$I$43*GL$1*$E$43*GL$30/12)","v":0},{"$f":"IF(COLUMNS($Q26:GM26)>$E$60,-$I$43*GM$1*GM$30/12,-$I$43*GM$1*$E$43*GM$30/12)","v":0},{"$f":"IF(COLUMNS($Q26:GN26)>$E$60,-$I$43*GN$1*GN$30/12,-$I$43*GN$1*$E$43*GN$30/12)","v":0},{"$f":"IF(COLUMNS($Q26:GO26)>$E$60,-$I$43*GO$1*GO$30/12,-$I$43*GO$1*$E$43*GO$30/12)","v":0},{"$f":"IF(COLUMNS($Q26:GP26)>$E$60,-$I$43*GP$1*GP$30/12,-$I$43*GP$1*$E$43*GP$30/12)","v":0},{"$f":"IF(COLUMNS($Q26:GQ26)>$E$60,-$I$43*GQ$1*GQ$30/12,-$I$43*GQ$1*$E$43*GQ$30/12)","v":0},{"$f":"IF(COLUMNS($Q26:GR26)>$E$60,-$I$43*GR$1*GR$30/12,-$I$43*GR$1*$E$43*GR$30/12)","v":0},{"$f":"IF(COLUMNS($Q26:GS26)>$E$60,-$I$43*GS$1*GS$30/12,-$I$43*GS$1*$E$43*GS$30/12)","v":0},{"$f":"IF(COLUMNS($Q26:GT26)>$E$60,-$I$43*GT$1*GT$30/12,-$I$43*GT$1*$E$43*GT$30/12)","v":0},{"$f":"IF(COLUMNS($Q26:GU26)>$E$60,-$I$43*GU$1*GU$30/12,-$I$43*GU$1*$E$43*GU$30/12)","v":0},{"$f":"IF(COLUMNS($Q26:GV26)>$E$60,-$I$43*GV$1*GV$30/12,-$I$43*GV$1*$E$43*GV$30/12)","v":0},{"$f":"IF(COLUMNS($Q26:GW26)>$E$60,-$I$43*GW$1*GW$30/12,-$I$43*GW$1*$E$43*GW$30/12)","v":0},{"$f":"IF(COLUMNS($Q26:GX26)>$E$60,-$I$43*GX$1*GX$30/12,-$I$43*GX$1*$E$43*GX$30/12)","v":0},{"$f":"IF(COLUMNS($Q26:GY26)>$E$60,-$I$43*GY$1*GY$30/12,-$I$43*GY$1*$E$43*GY$30/12)","v":0},{"$f":"IF(COLUMNS($Q26:GZ26)>$E$60,-$I$43*GZ$1*GZ$30/12,-$I$43*GZ$1*$E$43*GZ$30/12)","v":0},{"$f":"IF(COLUMNS($Q26:HA26)>$E$60,-$I$43*HA$1*HA$30/12,-$I$43*HA$1*$E$43*HA$30/12)","v":0},{"$f":"IF(COLUMNS($Q26:HB26)>$E$60,-$I$43*HB$1*HB$30/12,-$I$43*HB$1*$E$43*HB$30/12)","v":0},{"$f":"IF(COLUMNS($Q26:HC26)>$E$60,-$I$43*HC$1*HC$30/12,-$I$43*HC$1*$E$43*HC$30/12)","v":0},{"$f":"IF(COLUMNS($Q26:HD26)>$E$60,-$I$43*HD$1*HD$30/12,-$I$43*HD$1*$E$43*HD$30/12)","v":0},{"$f":"IF(COLUMNS($Q26:HE26)>$E$60,-$I$43*HE$1*HE$30/12,-$I$43*HE$1*$E$43*HE$30/12)","v":0},{"$f":"IF(COLUMNS($Q26:HF26)>$E$60,-$I$43*HF$1*HF$30/12,-$I$43*HF$1*$E$43*HF$30/12)","v":0},{"$f":"IF(COLUMNS($Q26:HG26)>$E$60,-$I$43*HG$1*HG$30/12,-$I$43*HG$1*$E$43*HG$30/12)","v":0},{"$f":"IF(COLUMNS($Q26:HH26)>$E$60,-$I$43*HH$1*HH$30/12,-$I$43*HH$1*$E$43*HH$30/12)","v":0},{"$f":"IF(COLUMNS($Q26:HI26)>$E$60,-$I$43*HI$1*HI$30/12,-$I$43*HI$1*$E$43*HI$30/12)","v":0},{"$f":"IF(COLUMNS($Q26:HJ26)>$E$60,-$I$43*HJ$1*HJ$30/12,-$I$43*HJ$1*$E$43*HJ$30/12)","v":0},{"$f":"IF(COLUMNS($Q26:HK26)>$E$60,-$I$43*HK$1*HK$30/12,-$I$43*HK$1*$E$43*HK$30/12)","v":0},{"$f":"IF(COLUMNS($Q26:HL26)>$E$60,-$I$43*HL$1*HL$30/12,-$I$43*HL$1*$E$43*HL$30/12)","v":0},{"$f":"IF(COLUMNS($Q26:HM26)>$E$60,-$I$43*HM$1*HM$30/12,-$I$43*HM$1*$E$43*HM$30/12)","v":0},{"$f":"IF(COLUMNS($Q26:HN26)>$E$60,-$I$43*HN$1*HN$30/12,-$I$43*HN$1*$E$43*HN$30/12)","v":0},{"$f":"IF(COLUMNS($Q26:HO26)>$E$60,-$I$43*HO$1*HO$30/12,-$I$43*HO$1*$E$43*HO$30/12)","v":0},{"$f":"IF(COLUMNS($Q26:HP26)>$E$60,-$I$43*HP$1*HP$30/12,-$I$43*HP$1*$E$43*HP$30/12)","v":0},{"$f":"IF(COLUMNS($Q26:HQ26)>$E$60,-$I$43*HQ$1*HQ$30/12,-$I$43*HQ$1*$E$43*HQ$30/12)","v":0},{"$f":"IF(COLUMNS($Q26:HR26)>$E$60,-$I$43*HR$1*HR$30/12,-$I$43*HR$1*$E$43*HR$30/12)","v":0},{"$f":"IF(COLUMNS($Q26:HS26)>$E$60,-$I$43*HS$1*HS$30/12,-$I$43*HS$1*$E$43*HS$30/12)","v":0},{"$f":"IF(COLUMNS($Q26:HT26)>$E$60,-$I$43*HT$1*HT$30/12,-$I$43*HT$1*$E$43*HT$30/12)","v":0},{"$f":"IF(COLUMNS($Q26:HU26)>$E$60,-$I$43*HU$1*HU$30/12,-$I$43*HU$1*$E$43*HU$30/12)","v":0},{"$f":"IF(COLUMNS($Q26:HV26)>$E$60,-$I$43*HV$1*HV$30/12,-$I$43*HV$1*$E$43*HV$30/12)","v":0},{"$f":"IF(COLUMNS($Q26:HW26)>$E$60,-$I$43*HW$1*HW$30/12,-$I$43*HW$1*$E$43*HW$30/12)","v":0},{"$f":"IF(COLUMNS($Q26:HX26)>$E$60,-$I$43*HX$1*HX$30/12,-$I$43*HX$1*$E$43*HX$30/12)","v":0},{"$f":"IF(COLUMNS($Q26:HY26)>$E$60,-$I$43*HY$1*HY$30/12,-$I$43*HY$1*$E$43*HY$30/12)","v":0},{"$f":"IF(COLUMNS($Q26:HZ26)>$E$60,-$I$43*HZ$1*HZ$30/12,-$I$43*HZ$1*$E$43*HZ$30/12)","v":0},{"$f":"IF(COLUMNS($Q26:IA26)>$E$60,-$I$43*IA$1*IA$30/12,-$I$43*IA$1*$E$43*IA$30/12)","v":0},{"$f":"IF(COLUMNS($Q26:IB26)>$E$60,-$I$43*IB$1*IB$30/12,-$I$43*IB$1*$E$43*IB$30/12)","v":0},{"$f":"IF(COLUMNS($Q26:IC26)>$E$60,-$I$43*IC$1*IC$30/12,-$I$43*IC$1*$E$43*IC$30/12)","v":0},{"$f":"IF(COLUMNS($Q26:ID26)>$E$60,-$I$43*ID$1*ID$30/12,-$I$43*ID$1*$E$43*ID$30/12)","v":0},{"$f":"IF(COLUMNS($Q26:IE26)>$E$60,-$I$43*IE$1*IE$30/12,-$I$43*IE$1*$E$43*IE$30/12)","v":0},{"$f":"IF(COLUMNS($Q26:IF26)>$E$60,-$I$43*IF$1*IF$30/12,-$I$43*IF$1*$E$43*IF$30/12)","v":0},{"$f":"IF(COLUMNS($Q26:IG26)>$E$60,-$I$43*IG$1*IG$30/12,-$I$43*IG$1*$E$43*IG$30/12)","v":0},{"$f":"IF(COLUMNS($Q26:IH26)>$E$60,-$I$43*IH$1*IH$30/12,-$I$43*IH$1*$E$43*IH$30/12)","v":0},{"$f":"IF(COLUMNS($Q26:II26)>$E$60,-$I$43*II$1*II$30/12,-$I$43*II$1*$E$43*II$30/12)","v":0},{"$f":"IF(COLUMNS($Q26:IJ26)>$E$60,-$I$43*IJ$1*IJ$30/12,-$I$43*IJ$1*$E$43*IJ$30/12)","v":0},{"$f":"IF(COLUMNS($Q26:IK26)>$E$60,-$I$43*IK$1*IK$30/12,-$I$43*IK$1*$E$43*IK$30/12)","v":0},{"$f":"IF(COLUMNS($Q26:IL26)>$E$60,-$I$43*IL$1*IL$30/12,-$I$43*IL$1*$E$43*IL$30/12)","v":0},{"$f":"IF(COLUMNS($Q26:IM26)>$E$60,-$I$43*IM$1*IM$30/12,-$I$43*IM$1*$E$43*IM$30/12)","v":0},{"$f":"IF(COLUMNS($Q26:IN26)>$E$60,-$I$43*IN$1*IN$30/12,-$I$43*IN$1*$E$43*IN$30/12)","v":0},{"$f":"IF(COLUMNS($Q26:IO26)>$E$60,-$I$43*IO$1*IO$30/12,-$I$43*IO$1*$E$43*IO$30/12)","v":0},{"$f":"IF(COLUMNS($Q26:IP26)>$E$60,-$I$43*IP$1*IP$30/12,-$I$43*IP$1*$E$43*IP$30/12)","v":0},{"$f":"IF(COLUMNS($Q26:IQ26)>$E$60,-$I$43*IQ$1*IQ$30/12,-$I$43*IQ$1*$E$43*IQ$30/12)","v":0},{"$f":"IF(COLUMNS($Q26:IR26)>$E$60,-$I$43*IR$1*IR$30/12,-$I$43*IR$1*$E$43*IR$30/12)","v":0},{"$f":"IF(COLUMNS($Q26:IS26)>$E$60,-$I$43*IS$1*IS$30/12,-$I$43*IS$1*$E$43*IS$30/12)","v":0},{"$f":"IF(COLUMNS($Q26:IT26)>$E$60,-$I$43*IT$1*IT$30/12,-$I$43*IT$1*$E$43*IT$30/12)","v":0},{"$f":"IF(COLUMNS($Q26:IU26)>$E$60,-$I$43*IU$1*IU$30/12,-$I$43*IU$1*$E$43*IU$30/12)","v":0},{"$f":"IF(COLUMNS($Q26:IV26)>$E$60,-$I$43*IV$1*IV$30/12,-$I$43*IV$1*$E$43*IV$30/12)","v":0},{"$f":"IF(COLUMNS($Q26:IW26)>$E$60,-$I$43*IW$1*IW$30/12,-$I$43*IW$1*$E$43*IW$30/12)","v":0},{"$f":"IF(COLUMNS($Q26:IX26)>$E$60,-$I$43*IX$1*IX$30/12,-$I$43*IX$1*$E$43*IX$30/12)","v":0},{"$f":"IF(COLUMNS($Q26:IY26)>$E$60,-$I$43*IY$1*IY$30/12,-$I$43*IY$1*$E$43*IY$30/12)","v":0},{"$f":"IF(COLUMNS($Q26:IZ26)>$E$60,-$I$43*IZ$1*IZ$30/12,-$I$43*IZ$1*$E$43*IZ$30/12)","v":0},{"$f":"IF(COLUMNS($Q26:JA26)>$E$60,-$I$43*JA$1*JA$30/12,-$I$43*JA$1*$E$43*JA$30/12)","v":0},{"$f":"IF(COLUMNS($Q26:JB26)>$E$60,-$I$43*JB$1*JB$30/12,-$I$43*JB$1*$E$43*JB$30/12)","v":0},{"$f":"IF(COLUMNS($Q26:JC26)>$E$60,-$I$43*JC$1*JC$30/12,-$I$43*JC$1*$E$43*JC$30/12)","v":0},{"$f":"IF(COLUMNS($Q26:JD26)>$E$60,-$I$43*JD$1*JD$30/12,-$I$43*JD$1*$E$43*JD$30/12)","v":0},{"$f":"IF(COLUMNS($Q26:JE26)>$E$60,-$I$43*JE$1*JE$30/12,-$I$43*JE$1*$E$43*JE$30/12)","v":0},{"$f":"IF(COLUMNS($Q26:JF26)>$E$60,-$I$43*JF$1*JF$30/12,-$I$43*JF$1*$E$43*JF$30/12)","v":0},{"$f":"IF(COLUMNS($Q26:JG26)>$E$60,-$I$43*JG$1*JG$30/12,-$I$43*JG$1*$E$43*JG$30/12)","v":0},{"$f":"IF(COLUMNS($Q26:JH26)>$E$60,-$I$43*JH$1*JH$30/12,-$I$43*JH$1*$E$43*JH$30/12)","v":0},{"$f":"IF(COLUMNS($Q26:JI26)>$E$60,-$I$43*JI$1*JI$30/12,-$I$43*JI$1*$E$43*JI$30/12)","v":0},{"$f":"IF(COLUMNS($Q26:JJ26)>$E$60,-$I$43*JJ$1*JJ$30/12,-$I$43*JJ$1*$E$43*JJ$30/12)","v":0},{"$f":"IF(COLUMNS($Q26:JK26)>$E$60,-$I$43*JK$1*JK$30/12,-$I$43*JK$1*$E$43*JK$30/12)","v":0},{"$f":"IF(COLUMNS($Q26:JL26)>$E$60,-$I$43*JL$1*JL$30/12,-$I$43*JL$1*$E$43*JL$30/12)","v":0},{"$f":"IF(COLUMNS($Q26:JM26)>$E$60,-$I$43*JM$1*JM$30/12,-$I$43*JM$1*$E$43*JM$30/12)","v":0},{"$f":"IF(COLUMNS($Q26:JN26)>$E$60,-$I$43*JN$1*JN$30/12,-$I$43*JN$1*$E$43*JN$30/12)","v":0},{"$f":"IF(COLUMNS($Q26:JO26)>$E$60,-$I$43*JO$1*JO$30/12,-$I$43*JO$1*$E$43*JO$30/12)","v":0},{"$f":"IF(COLUMNS($Q26:JP26)>$E$60,-$I$43*JP$1*JP$30/12,-$I$43*JP$1*$E$43*JP$30/12)","v":0},{"$f":"IF(COLUMNS($Q26:JQ26)>$E$60,-$I$43*JQ$1*JQ$30/12,-$I$43*JQ$1*$E$43*JQ$30/12)","v":0},{"$f":"IF(COLUMNS($Q26:JR26)>$E$60,-$I$43*JR$1*JR$30/12,-$I$43*JR$1*$E$43*JR$30/12)","v":0},{"$f":"IF(COLUMNS($Q26:JS26)>$E$60,-$I$43*JS$1*JS$30/12,-$I$43*JS$1*$E$43*JS$30/12)","v":0},{"$f":"IF(COLUMNS($Q26:JT26)>$E$60,-$I$43*JT$1*JT$30/12,-$I$43*JT$1*$E$43*JT$30/12)","v":0},{"$f":"IF(COLUMNS($Q26:JU26)>$E$60,-$I$43*JU$1*JU$30/12,-$I$43*JU$1*$E$43*JU$30/12)","v":0},{"$f":"IF(COLUMNS($Q26:JV26)>$E$60,-$I$43*JV$1*JV$30/12,-$I$43*JV$1*$E$43*JV$30/12)","v":0},{"$f":"IF(COLUMNS($Q26:JW26)>$E$60,-$I$43*JW$1*JW$30/12,-$I$43*JW$1*$E$43*JW$30/12)","v":0},{"$f":"IF(COLUMNS($Q26:JX26)>$E$60,-$I$43*JX$1*JX$30/12,-$I$43*JX$1*$E$43*JX$30/12)","v":0},{"$f":"IF(COLUMNS($Q26:JY26)>$E$60,-$I$43*JY$1*JY$30/12,-$I$43*JY$1*$E$43*JY$30/12)","v":0},{"$f":"IF(COLUMNS($Q26:JZ26)>$E$60,-$I$43*JZ$1*JZ$30/12,-$I$43*JZ$1*$E$43*JZ$30/12)","v":0},{"$f":"IF(COLUMNS($Q26:KA26)>$E$60,-$I$43*KA$1*KA$30/12,-$I$43*KA$1*$E$43*KA$30/12)","v":0},{"$f":"IF(COLUMNS($Q26:KB26)>$E$60,-$I$43*KB$1*KB$30/12,-$I$43*KB$1*$E$43*KB$30/12)","v":0},{"$f":"IF(COLUMNS($Q26:KC26)>$E$60,-$I$43*KC$1*KC$30/12,-$I$43*KC$1*$E$43*KC$30/12)","v":0},{"$f":"IF(COLUMNS($Q26:KD26)>$E$60,-$I$43*KD$1*KD$30/12,-$I$43*KD$1*$E$43*KD$30/12)","v":0},{"$f":"IF(COLUMNS($Q26:KE26)>$E$60,-$I$43*KE$1*KE$30/12,-$I$43*KE$1*$E$43*KE$30/12)","v":0},{"$f":"IF(COLUMNS($Q26:KF26)>$E$60,-$I$43*KF$1*KF$30/12,-$I$43*KF$1*$E$43*KF$30/12)","v":0},{"$f":"IF(COLUMNS($Q26:KG26)>$E$60,-$I$43*KG$1*KG$30/12,-$I$43*KG$1*$E$43*KG$30/12)","v":0},{"$f":"IF(COLUMNS($Q26:KH26)>$E$60,-$I$43*KH$1*KH$30/12,-$I$43*KH$1*$E$43*KH$30/12)","v":0},{"$f":"IF(COLUMNS($Q26:KI26)>$E$60,-$I$43*KI$1*KI$30/12,-$I$43*KI$1*$E$43*KI$30/12)","v":0},{"$f":"IF(COLUMNS($Q26:KJ26)>$E$60,-$I$43*KJ$1*KJ$30/12,-$I$43*KJ$1*$E$43*KJ$30/12)","v":0},{"$f":"IF(COLUMNS($Q26:KK26)>$E$60,-$I$43*KK$1*KK$30/12,-$I$43*KK$1*$E$43*KK$30/12)","v":0},{"$f":"IF(COLUMNS($Q26:KL26)>$E$60,-$I$43*KL$1*KL$30/12,-$I$43*KL$1*$E$43*KL$30/12)","v":0},{"$f":"IF(COLUMNS($Q26:KM26)>$E$60,-$I$43*KM$1*KM$30/12,-$I$43*KM$1*$E$43*KM$30/12)","v":0},{"$f":"IF(COLUMNS($Q26:KN26)>$E$60,-$I$43*KN$1*KN$30/12,-$I$43*KN$1*$E$43*KN$30/12)","v":0},{"$f":"IF(COLUMNS($Q26:KO26)>$E$60,-$I$43*KO$1*KO$30/12,-$I$43*KO$1*$E$43*KO$30/12)","v":0},{"$f":"IF(COLUMNS($Q26:KP26)>$E$60,-$I$43*KP$1*KP$30/12,-$I$43*KP$1*$E$43*KP$30/12)","v":0},{"$f":"IF(COLUMNS($Q26:KQ26)>$E$60,-$I$43*KQ$1*KQ$30/12,-$I$43*KQ$1*$E$43*KQ$30/12)","v":0},{"$f":"IF(COLUMNS($Q26:KR26)>$E$60,-$I$43*KR$1*KR$30/12,-$I$43*KR$1*$E$43*KR$30/12)","v":0},{"$f":"IF(COLUMNS($Q26:KS26)>$E$60,-$I$43*KS$1*KS$30/12,-$I$43*KS$1*$E$43*KS$30/12)","v":0},{"$f":"IF(COLUMNS($Q26:KT26)>$E$60,-$I$43*KT$1*KT$30/12,-$I$43*KT$1*$E$43*KT$30/12)","v":0},{"$f":"IF(COLUMNS($Q26:KU26)>$E$60,-$I$43*KU$1*KU$30/12,-$I$43*KU$1*$E$43*KU$30/12)","v":0},{"$f":"IF(COLUMNS($Q26:KV26)>$E$60,-$I$43*KV$1*KV$30/12,-$I$43*KV$1*$E$43*KV$30/12)","v":0},{"$f":"IF(COLUMNS($Q26:KW26)>$E$60,-$I$43*KW$1*KW$30/12,-$I$43*KW$1*$E$43*KW$30/12)","v":0},{"$f":"IF(COLUMNS($Q26:KX26)>$E$60,-$I$43*KX$1*KX$30/12,-$I$43*KX$1*$E$43*KX$30/12)","v":0},{"$f":"IF(COLUMNS($Q26:KY26)>$E$60,-$I$43*KY$1*KY$30/12,-$I$43*KY$1*$E$43*KY$30/12)","v":0},{"$f":"IF(COLUMNS($Q26:KZ26)>$E$60,-$I$43*KZ$1*KZ$30/12,-$I$43*KZ$1*$E$43*KZ$30/12)","v":0},{"$f":"IF(COLUMNS($Q26:LA26)>$E$60,-$I$43*LA$1*LA$30/12,-$I$43*LA$1*$E$43*LA$30/12)","v":0},{"$f":"IF(COLUMNS($Q26:LB26)>$E$60,-$I$43*LB$1*LB$30/12,-$I$43*LB$1*$E$43*LB$30/12)","v":0},{"$f":"IF(COLUMNS($Q26:LC26)>$E$60,-$I$43*LC$1*LC$30/12,-$I$43*LC$1*$E$43*LC$30/12)","v":0},{"$f":"IF(COLUMNS($Q26:LD26)>$E$60,-$I$43*LD$1*LD$30/12,-$I$43*LD$1*$E$43*LD$30/12)","v":0},{"$f":"IF(COLUMNS($Q26:LE26)>$E$60,-$I$43*LE$1*LE$30/12,-$I$43*LE$1*$E$43*LE$30/12)","v":0},{"$f":"IF(COLUMNS($Q26:LF26)>$E$60,-$I$43*LF$1*LF$30/12,-$I$43*LF$1*$E$43*LF$30/12)","v":0},{"$f":"IF(COLUMNS($Q26:LG26)>$E$60,-$I$43*LG$1*LG$30/12,-$I$43*LG$1*$E$43*LG$30/12)","v":0},{"$f":"IF(COLUMNS($Q26:LH26)>$E$60,-$I$43*LH$1*LH$30/12,-$I$43*LH$1*$E$43*LH$30/12)","v":0},{"$f":"IF(COLUMNS($Q26:LI26)>$E$60,-$I$43*LI$1*LI$30/12,-$I$43*LI$1*$E$43*LI$30/12)","v":0},{"$f":"IF(COLUMNS($Q26:LJ26)>$E$60,-$I$43*LJ$1*LJ$30/12,-$I$43*LJ$1*$E$43*LJ$30/12)","v":0},{"$f":"IF(COLUMNS($Q26:LK26)>$E$60,-$I$43*LK$1*LK$30/12,-$I$43*LK$1*$E$43*LK$30/12)","v":0},{"$f":"IF(COLUMNS($Q26:LL26)>$E$60,-$I$43*LL$1*LL$30/12,-$I$43*LL$1*$E$43*LL$30/12)","v":0},{"$f":"IF(COLUMNS($Q26:LM26)>$E$60,-$I$43*LM$1*LM$30/12,-$I$43*LM$1*$E$43*LM$30/12)","v":0},{"$f":"IF(COLUMNS($Q26:LN26)>$E$60,-$I$43*LN$1*LN$30/12,-$I$43*LN$1*$E$43*LN$30/12)","v":0},{"$f":"IF(COLUMNS($Q26:LO26)>$E$60,-$I$43*LO$1*LO$30/12,-$I$43*LO$1*$E$43*LO$30/12)","v":0},{"$f":"IF(COLUMNS($Q26:LP26)>$E$60,-$I$43*LP$1*LP$30/12,-$I$43*LP$1*$E$43*LP$30/12)","v":0},{"$f":"IF(COLUMNS($Q26:LQ26)>$E$60,-$I$43*LQ$1*LQ$30/12,-$I$43*LQ$1*$E$43*LQ$30/12)","v":0},{"$f":"IF(COLUMNS($Q26:LR26)>$E$60,-$I$43*LR$1*LR$30/12,-$I$43*LR$1*$E$43*LR$30/12)","v":0},{"$f":"IF(COLUMNS($Q26:LS26)>$E$60,-$I$43*LS$1*LS$30/12,-$I$43*LS$1*$E$43*LS$30/12)","v":0},{"$f":"IF(COLUMNS($Q26:LT26)>$E$60,-$I$43*LT$1*LT$30/12,-$I$43*LT$1*$E$43*LT$30/12)","v":0},{"$f":"IF(COLUMNS($Q26:LU26)>$E$60,-$I$43*LU$1*LU$30/12,-$I$43*LU$1*$E$43*LU$30/12)","v":0},{"$f":"IF(COLUMNS($Q26:LV26)>$E$60,-$I$43*LV$1*LV$30/12,-$I$43*LV$1*$E$43*LV$30/12)","v":0},{"$f":"IF(COLUMNS($Q26:LW26)>$E$60,-$I$43*LW$1*LW$30/12,-$I$43*LW$1*$E$43*LW$30/12)","v":0},{"$f":"IF(COLUMNS($Q26:LX26)>$E$60,-$I$43*LX$1*LX$30/12,-$I$43*LX$1*$E$43*LX$30/12)","v":0},{"$f":"IF(COLUMNS($Q26:LY26)>$E$60,-$I$43*LY$1*LY$30/12,-$I$43*LY$1*$E$43*LY$30/12)","v":0},{"$f":"IF(COLUMNS($Q26:LZ26)>$E$60,-$I$43*LZ$1*LZ$30/12,-$I$43*LZ$1*$E$43*LZ$30/12)","v":0},{"$f":"IF(COLUMNS($Q26:MA26)>$E$60,-$I$43*MA$1*MA$30/12,-$I$43*MA$1*$E$43*MA$30/12)","v":0},{"$f":"IF(COLUMNS($Q26:MB26)>$E$60,-$I$43*MB$1*MB$30/12,-$I$43*MB$1*$E$43*MB$30/12)","v":0},{"$f":"IF(COLUMNS($Q26:MC26)>$E$60,-$I$43*MC$1*MC$30/12,-$I$43*MC$1*$E$43*MC$30/12)","v":0},{"$f":"IF(COLUMNS($Q26:MD26)>$E$60,-$I$43*MD$1*MD$30/12,-$I$43*MD$1*$E$43*MD$30/12)","v":0},{"$f":"IF(COLUMNS($Q26:ME26)>$E$60,-$I$43*ME$1*ME$30/12,-$I$43*ME$1*$E$43*ME$30/12)","v":0},{"$f":"IF(COLUMNS($Q26:MF26)>$E$60,-$I$43*MF$1*MF$30/12,-$I$43*MF$1*$E$43*MF$30/12)","v":0},{"$f":"IF(COLUMNS($Q26:MG26)>$E$60,-$I$43*MG$1*MG$30/12,-$I$43*MG$1*$E$43*MG$30/12)","v":0},{"$f":"IF(COLUMNS($Q26:MH26)>$E$60,-$I$43*MH$1*MH$30/12,-$I$43*MH$1*$E$43*MH$30/12)","v":0},{"$f":"IF(COLUMNS($Q26:MI26)>$E$60,-$I$43*MI$1*MI$30/12,-$I$43*MI$1*$E$43*MI$30/12)","v":0},{"$f":"IF(COLUMNS($Q26:MJ26)>$E$60,-$I$43*MJ$1*MJ$30/12,-$I$43*MJ$1*$E$43*MJ$30/12)","v":0},{"$f":"IF(COLUMNS($Q26:MK26)>$E$60,-$I$43*MK$1*MK$30/12,-$I$43*MK$1*$E$43*MK$30/12)","v":0},{"$f":"IF(COLUMNS($Q26:ML26)>$E$60,-$I$43*ML$1*ML$30/12,-$I$43*ML$1*$E$43*ML$30/12)","v":0},{"$f":"IF(COLUMNS($Q26:MM26)>$E$60,-$I$43*MM$1*MM$30/12,-$I$43*MM$1*$E$43*MM$30/12)","v":0},{"$f":"IF(COLUMNS($Q26:MN26)>$E$60,-$I$43*MN$1*MN$30/12,-$I$43*MN$1*$E$43*MN$30/12)","v":0},{"$f":"IF(COLUMNS($Q26:MO26)>$E$60,-$I$43*MO$1*MO$30/12,-$I$43*MO$1*$E$43*MO$30/12)","v":0},{"$f":"IF(COLUMNS($Q26:MP26)>$E$60,-$I$43*MP$1*MP$30/12,-$I$43*MP$1*$E$43*MP$30/12)","v":0},{"$f":"IF(COLUMNS($Q26:MQ26)>$E$60,-$I$43*MQ$1*MQ$30/12,-$I$43*MQ$1*$E$43*MQ$30/12)","v":0},{"$f":"IF(COLUMNS($Q26:MR26)>$E$60,-$I$43*MR$1*MR$30/12,-$I$43*MR$1*$E$43*MR$30/12)","v":0},{"$f":"IF(COLUMNS($Q26:MS26)>$E$60,-$I$43*MS$1*MS$30/12,-$I$43*MS$1*$E$43*MS$30/12)","v":0},{"$f":"IF(COLUMNS($Q26:MT26)>$E$60,-$I$43*MT$1*MT$30/12,-$I$43*MT$1*$E$43*MT$30/12)","v":0},{"$f":"IF(COLUMNS($Q26:MU26)>$E$60,-$I$43*MU$1*MU$30/12,-$I$43*MU$1*$E$43*MU$30/12)","v":0},{"$f":"IF(COLUMNS($Q26:MV26)>$E$60,-$I$43*MV$1*MV$30/12,-$I$43*MV$1*$E$43*MV$30/12)","v":0},{"$f":"IF(COLUMNS($Q26:MW26)>$E$60,-$I$43*MW$1*MW$30/12,-$I$43*MW$1*$E$43*MW$30/12)","v":0},{"$f":"IF(COLUMNS($Q26:MX26)>$E$60,-$I$43*MX$1*MX$30/12,-$I$43*MX$1*$E$43*MX$30/12)","v":0},{"$f":"IF(COLUMNS($Q26:MY26)>$E$60,-$I$43*MY$1*MY$30/12,-$I$43*MY$1*$E$43*MY$30/12)","v":0},{"$f":"IF(COLUMNS($Q26:MZ26)>$E$60,-$I$43*MZ$1*MZ$30/12,-$I$43*MZ$1*$E$43*MZ$30/12)","v":0},{"$f":"IF(COLUMNS($Q26:NA26)>$E$60,-$I$43*NA$1*NA$30/12,-$I$43*NA$1*$E$43*NA$30/12)","v":0},{"$f":"IF(COLUMNS($Q26:NB26)>$E$60,-$I$43*NB$1*NB$30/12,-$I$43*NB$1*$E$43*NB$30/12)","v":0},{"$f":"IF(COLUMNS($Q26:NC26)>$E$60,-$I$43*NC$1*NC$30/12,-$I$43*NC$1*$E$43*NC$30/12)","v":0},{"$f":"IF(COLUMNS($Q26:ND26)>$E$60,-$I$43*ND$1*ND$30/12,-$I$43*ND$1*$E$43*ND$30/12)","v":0},{"$f":"IF(COLUMNS($Q26:NE26)>$E$60,-$I$43*NE$1*NE$30/12,-$I$43*NE$1*$E$43*NE$30/12)","v":0},{"$f":"IF(COLUMNS($Q26:NF26)>$E$60,-$I$43*NF$1*NF$30/12,-$I$43*NF$1*$E$43*NF$30/12)","v":0},{"$f":"IF(COLUMNS($Q26:NG26)>$E$60,-$I$43*NG$1*NG$30/12,-$I$43*NG$1*$E$43*NG$30/12)","v":0},{"$f":"IF(COLUMNS($Q26:NH26)>$E$60,-$I$43*NH$1*NH$30/12,-$I$43*NH$1*$E$43*NH$30/12)","v":0},{"$f":"IF(COLUMNS($Q26:NI26)>$E$60,-$I$43*NI$1*NI$30/12,-$I$43*NI$1*$E$43*NI$30/12)","v":0},{"$f":"IF(COLUMNS($Q26:NJ26)>$E$60,-$I$43*NJ$1*NJ$30/12,-$I$43*NJ$1*$E$43*NJ$30/12)","v":0},{"$f":"IF(COLUMNS($Q26:NK26)>$E$60,-$I$43*NK$1*NK$30/12,-$I$43*NK$1*$E$43*NK$30/12)","v":0},{"$f":"IF(COLUMNS($Q26:NL26)>$E$60,-$I$43*NL$1*NL$30/12,-$I$43*NL$1*$E$43*NL$30/12)","v":0},{"$f":"IF(COLUMNS($Q26:NM26)>$E$60,-$I$43*NM$1*NM$30/12,-$I$43*NM$1*$E$43*NM$30/12)","v":0},{"$f":"IF(COLUMNS($Q26:NN26)>$E$60,-$I$43*NN$1*NN$30/12,-$I$43*NN$1*$E$43*NN$30/12)","v":0},{"$f":"IF(COLUMNS($Q26:NO26)>$E$60,-$I$43*NO$1*NO$30/12,-$I$43*NO$1*$E$43*NO$30/12)","v":0},{"$f":"IF(COLUMNS($Q26:NP26)>$E$60,-$I$43*NP$1*NP$30/12,-$I$43*NP$1*$E$43*NP$30/12)","v":0},{"$f":"IF(COLUMNS($Q26:NQ26)>$E$60,-$I$43*NQ$1*NQ$30/12,-$I$43*NQ$1*$E$43*NQ$30/12)","v":0},{"$f":"IF(COLUMNS($Q26:NR26)>$E$60,-$I$43*NR$1*NR$30/12,-$I$43*NR$1*$E$43*NR$30/12)","v":0},{"$f":"IF(COLUMNS($Q26:NS26)>$E$60,-$I$43*NS$1*NS$30/12,-$I$43*NS$1*$E$43*NS$30/12)","v":0},{"$f":"IF(COLUMNS($Q26:NT26)>$E$60,-$I$43*NT$1*NT$30/12,-$I$43*NT$1*$E$43*NT$30/12)","v":0},{"$f":"IF(COLUMNS($Q26:NU26)>$E$60,-$I$43*NU$1*NU$30/12,-$I$43*NU$1*$E$43*NU$30/12)","v":0},{"$f":"IF(COLUMNS($Q26:NV26)>$E$60,-$I$43*NV$1*NV$30/12,-$I$43*NV$1*$E$43*NV$30/12)","v":0},{"$f":"IF(COLUMNS($Q26:NW26)>$E$60,-$I$43*NW$1*NW$30/12,-$I$43*NW$1*$E$43*NW$30/12)","v":0},{"$f":"IF(COLUMNS($Q26:NX26)>$E$60,-$I$43*NX$1*NX$30/12,-$I$43*NX$1*$E$43*NX$30/12)","v":0},{"$f":"IF(COLUMNS($Q26:NY26)>$E$60,-$I$43*NY$1*NY$30/12,-$I$43*NY$1*$E$43*NY$30/12)","v":0},{"$f":"IF(COLUMNS($Q26:NZ26)>$E$60,-$I$43*NZ$1*NZ$30/12,-$I$43*NZ$1*$E$43*NZ$30/12)","v":0},{"$f":"IF(COLUMNS($Q26:OA26)>$E$60,-$I$43*OA$1*OA$30/12,-$I$43*OA$1*$E$43*OA$30/12)","v":0},{"$f":"IF(COLUMNS($Q26:OB26)>$E$60,-$I$43*OB$1*OB$30/12,-$I$43*OB$1*$E$43*OB$30/12)","v":0},{"$f":"IF(COLUMNS($Q26:OC26)>$E$60,-$I$43*OC$1*OC$30/12,-$I$43*OC$1*$E$43*OC$30/12)","v":0},{"$f":"IF(COLUMNS($Q26:OD26)>$E$60,-$I$43*OD$1*OD$30/12,-$I$43*OD$1*$E$43*OD$30/12)","v":0},{"$f":"IF(COLUMNS($Q26:OE26)>$E$60,-$I$43*OE$1*OE$30/12,-$I$43*OE$1*$E$43*OE$30/12)","v":0},{"$f":"IF(COLUMNS($Q26:OF26)>$E$60,-$I$43*OF$1*OF$30/12,-$I$43*OF$1*$E$43*OF$30/12)","v":0},{"$f":"IF(COLUMNS($Q26:OG26)>$E$60,-$I$43*OG$1*OG$30/12,-$I$43*OG$1*$E$43*OG$30/12)","v":0},{"$f":"IF(COLUMNS($Q26:OH26)>$E$60,-$I$43*OH$1*OH$30/12,-$I$43*OH$1*$E$43*OH$30/12)","v":0},{"$f":"IF(COLUMNS($Q26:OI26)>$E$60,-$I$43*OI$1*OI$30/12,-$I$43*OI$1*$E$43*OI$30/12)","v":0},{"$f":"IF(COLUMNS($Q26:OJ26)>$E$60,-$I$43*OJ$1*OJ$30/12,-$I$43*OJ$1*$E$43*OJ$30/12)","v":0},{"$f":"IF(COLUMNS($Q26:OK26)>$E$60,-$I$43*OK$1*OK$30/12,-$I$43*OK$1*$E$43*OK$30/12)","v":0},{"$f":"IF(COLUMNS($Q26:OL26)>$E$60,-$I$43*OL$1*OL$30/12,-$I$43*OL$1*$E$43*OL$30/12)","v":0},{"$f":"IF(COLUMNS($Q26:OM26)>$E$60,-$I$43*OM$1*OM$30/12,-$I$43*OM$1*$E$43*OM$30/12)","v":0},{"$f":"IF(COLUMNS($Q26:ON26)>$E$60,-$I$43*ON$1*ON$30/12,-$I$43*ON$1*$E$43*ON$30/12)","v":0},{"$f":"IF(COLUMNS($Q26:OO26)>$E$60,-$I$43*OO$1*OO$30/12,-$I$43*OO$1*$E$43*OO$30/12)","v":0},{"$f":"IF(COLUMNS($Q26:OP26)>$E$60,-$I$43*OP$1*OP$30/12,-$I$43*OP$1*$E$43*OP$30/12)","v":0},{"$f":"IF(COLUMNS($Q26:OQ26)>$E$60,-$I$43*OQ$1*OQ$30/12,-$I$43*OQ$1*$E$43*OQ$30/12)","v":0},null,null,-87.5,-150.875,-152.38374999999999,-153.90758749999998,-155.44666337499996,-65.037750625000001,0,0,0,0,0,0,0,0,0,0,0,0,0,0,0,0,0,0,0,0,0,0,0,0,0,0,0,0]
[null,"Valoración",1000000,null,null,null,null,"Desembolso",{"$f":"+J37","v":724805.99765680358},null,null,null,"%Crecimiento",null,459.55339898703431,null,{"$f":"(1+$E44)^Q4","v":1},1,1,1,1,1,1,1,1,1,1,1,1.01,1.01,1.01,1.01,1.01,1.01,1.01,1.01,1.01,1.01,1.01,1.01,1.0201,1.0201,1.0201,1.0201,1.0201,1.0201,1.0201,1.0201,1.0201,1.0201,1.0201,1.0201,1.0303009999999999,1.0303009999999999,1.0303009999999999,1.0303009999999999,1.0303009999999999,1.0303009999999999,1.0303009999999999,1.0303009999999999,1.0303009999999999,1.0303009999999999,1.0303009999999999,1.0303009999999999,1.04060401,1.04060401,1.04060401,1.04060401,1.04060401,1.04060401,1.04060401,1.04060401,1.04060401,1.04060401,1.04060401,1.04060401,1.0510100500999999,1.0510100500999999,1.0510100500999999,1.0510100500999999,{"$f":"(1+$E44)^CC4","v":1.0510100500999999},1.0510100500999999,1.0510100500999999,1.0510100500999999,1.0510100500999999,1.0510100500999999,1.0510100500999999,1.0510100500999999,1.0615201506010001,1.0615201506010001,1.0615201506010001,1.0615201506010001,1.0615201506010001,1.0615201506010001,1.0615201506010001,1.0615201506010001,1.0615201506010001,1.0615201506010001,1.0615201506010001,1.0615201506010001,1.0721353521070098,1.0721353521070098,1.0721353521070098,1.0721353521070098,1.0721353521070098,1.0721353521070098,1.0721353521070098,1.0721353521070098,1.0721353521070098,1.0721353521070098,1.0721353521070098,1.0721353521070098,1.0828567056280802,1.0828567056280802,1.0828567056280802,1.0828567056280802,1.0828567056280802,1.0828567056280802,1.0828567056280802,1.0828567056280802,1.0828567056280802,1.0828567056280802,1.0828567056280802,1.0828567056280802,1.0936852726843611,1.0936852726843611,1.0936852726843611,1.0936852726843611,1.0936852726843611,1.0936852726843611,1.0936852726843611,1.0936852726843611,1.0936852726843611,1.0936852726843611,1.0936852726843611,1.0936852726843611,1.1046221254112047,1.1046221254112047,1.1046221254112047,1.1046221254112047,1.1046221254112047,1.1046221254112047,1.1046221254112047,1.1046221254112047,{"$f":"(1+$E44)^EO4","v":1.1046221254112047},1.1046221254112047,1.1046221254112047,1.1046221254112047,1.1156683466653166,1.1156683466653166,1.1156683466653166,1.1156683466653166,1.1156683466653166,1.1156683466653166,1.1156683466653166,1.1156683466653166,1.1156683466653166,1.1156683466653166,1.1156683466653166,1.1156683466653166,1.1268250301319698,1.1268250301319698,1.1268250301319698,1.1268250301319698,1.1268250301319698,1.1268250301319698,1.1268250301319698,1.1268250301319698,1.1268250301319698,1.1268250301319698,1.1268250301319698,1.1268250301319698,1.1380932804332895,1.1380932804332895,1.1380932804332895,1.1380932804332895,1.1380932804332895,1.1380932804332895,1.1380932804332895,1.1380932804332895,1.1380932804332895,1.1380932804332895,1.1380932804332895,1.1380932804332895,1.1494742132376226,1.1494742132376226,1.1494742132376226,1.1494742132376226,1.1494742132376226,1.1494742132376226,1.1494742132376226,1.1494742132376226,1.1494742132376226,1.1494742132376226,1.1494742132376226,1.1494742132376226,1.1609689553699984,1.1609689553699984,1.1609689553699984,1.1609689553699984,1.1609689553699984,1.1609689553699984,1.1609689553699984,1.1609689553699984,1.1609689553699984,1.1609689553699984,1.1609689553699984,1.1609689553699984,{"$f":"(1+$E44)^HA4","v":1.1725786449236988},1.1725786449236988,1.1725786449236988,1.1725786449236988,1.1725786449236988,1.1725786449236988,1.1725786449236988,1.1725786449236988,1.1725786449236988,1.1725786449236988,1.1725786449236988,1.1725786449236988,1.1843044313729358,1.1843044313729358,1.1843044313729358,1.1843044313729358,1.1843044313729358,1.1843044313729358,1.1843044313729358,1.1843044313729358,1.1843044313729358,1.1843044313729358,1.1843044313729358,1.1843044313729358,1.1961474756866652,1.1961474756866652,1.1961474756866652,1.1961474756866652,1.1961474756866652,1.1961474756866652,1.1961474756866652,1.1961474756866652,1.1961474756866652,1.1961474756866652,1.1961474756866652,1.1961474756866652,1.2081089504435316,1.2081089504435316,1.2081089504435316,1.2081089504435316,1.2081089504435316,1.2081089504435316,1.2081089504435316,1.2081089504435316,1.2081089504435316,1.2081089504435316,1.2081089504435316,1.2081089504435316,1.220190039947967,1.220190039947967,1.220190039947967,1.220190039947967,1.220190039947967,1.220190039947967,1.220190039947967,1.220190039947967,1.220190039947967,1.220190039947967,1.220190039947967,1.220190039947967,1.2323919403474466,1.2323919403474466,1.2323919403474466,1.2323919403474466,{"$f":"(1+$E44)^JM4","v":1.2323919403474466},1.2323919403474466,1.2323919403474466,1.2323919403474466,1.2323919403474466,1.2323919403474466,1.2323919403474466,1.2323919403474466,1.2447158597509214,1.2447158597509214,1.2447158597509214,1.2447158597509214,1.2447158597509214,1.2447158597509214,1.2447158597509214,1.2447158597509214,1.2447158597509214,1.2447158597509214,1.2447158597509214,1.2447158597509214,1.2571630183484304,1.2571630183484304,1.2571630183484304,1.2571630183484304,1.2571630183484304,1.2571630183484304,1.2571630183484304,1.2571630183484304,1.2571630183484304,1.2571630183484304,1.2571630183484304,1.2571630183484304,1.269734648531915,1.269734648531915,1.269734648531915,1.269734648531915,1.269734648531915,1.269734648531915,1.269734648531915,1.269734648531915,1.269734648531915,1.269734648531915,1.269734648531915,1.269734648531915,1.2824319950172343,1.2824319950172343,1.2824319950172343,1.2824319950172343,1.2824319950172343,1.2824319950172343,1.2824319950172343,1.2824319950172343,1.2824319950172343,1.2824319950172343,1.2824319950172343,1.2824319950172343,1.2952563149674066,1.2952563149674066,1.2952563149674066,1.2952563149674066,1.2952563149674066,1.2952563149674066,1.2952563149674066,1.2952563149674066,{"$f":"(1+$E44)^LY4","v":1.2952563149674066},1.2952563149674066,1.2952563149674066,1.2952563149674066,1.3082088781170802,1.3082088781170802,1.3082088781170802,1.3082088781170802,1.3082088781170802,1.3082088781170802,1.3082088781170802,1.3082088781170802,1.3082088781170802,1.3082088781170802,1.3082088781170802,1.3082088781170802,1.3212909668982511,1.3212909668982511,1.3212909668982511,1.3212909668982511,1.3212909668982511,1.3212909668982511,1.3212909668982511,1.3212909668982511,1.3212909668982511,1.3212909668982511,1.3212909668982511,1.3212909668982511,1.3345038765672337,1.3345038765672337,1.3345038765672337,1.3345038765672337,1.3345038765672337,1.3345038765672337,1.3345038765672337,1.3345038765672337,1.3345038765672337,1.3345038765672337,1.3345038765672337,1.3345038765672337,1.3478489153329063,1.3478489153329063,1.3478489153329063,1.3478489153329063,1.3478489153329063,1.3478489153329063,1.3478489153329063,1.3478489153329063,1.3478489153329063,1.3478489153329063,1.3478489153329063,1.3478489153329063,1.3613274044862349,1.3613274044862349,1.3613274044862349,1.3613274044862349,1.3613274044862349,1.3613274044862349,1.3613274044862349,1.3613274044862349,1.3613274044862349,1.3613274044862349,1.3613274044862349,1.3613274044862349,{"$f":"(1+$E44)^OK4","v":1.3749406785310976},1.3749406785310976,1.3749406785310976,1.3749406785310976,1.3749406785310976,1.3749406785310976,1.3749406785310976]
[null,"Descuento",{"$f":"MIN(MAX(VLOOKUP($C$25,_Esperanzas!H5:N505,2,1)*VLOOKUP(H17,B89:E95,2,0),VLOOKUP(H17,B89:E95,3,0)),VLOOKUP(H17,B89:E95,4,0))","v":0.15},null,null,null,null,"Diferido",{"$f":"+C32-I30","v":125194.00234319642}]
[null,"Compra",{"$f":"C30*(1-C31)","v":850000},null,null,null,null,"Meses",{"$f":"ROUND(F25*0.8,0)","v":48},{"$f":"I32/12","v":4},null,"Costes de Transacción",null,null,{"$f":"SUM(O33:O34)","v":-4700.0000000000018},null,{"$f":"SUM(Q33:Q34)","v":-4700.0000000000018},0,0,0,0,0,0,0,0,0,0,0,0,0,0,0,0,0,0,0,0,0,0,0,0,0,0,0,0,0,0,0,0,0,0,0,0,0,0,0,0,0,0,0,0,0,0,0,0,0,0,0,0,0,0,0,0,0,0,0,0,0,0,0,{"$f":"SUM(CC33:CC34)","v":0},0,0,0,0,0,0,0,0,0,0,0,0,0,0,0,0,0,0,0,0,0,0,0,0,0,0,0,0,0,0,0,0,0,0,0,0,0,0,0,0,0,0,0,0,0,0,0,0,0,0,0,0,0,0,0,0,0,0,0,0,0,0,0,{"$f":"SUM(EO33:EO34)","v":0},0,0,0,0,0,0,0,0,0,0,0,0,0,0,0,0,0,0,0,0,0,0,0,0,0,0,0,0,0,0,0,0,0,0,0,0,0,0,0,0,0,0,0,0,0,0,0,0,0,0,0,0,0,0,0,0,0,0,0,0,0,0,0,{"$f":"SUM(HA33:HA34)","v":0},0,0,0,0,0,0,0,0,0,0,0,0,0,0,0,0,0,0,0,0,0,0,0,0,0,0,0,0,0,0,0,0,0,0,0,0,0,0,0,0,0,0,0,0,0,0,0,0,0,0,0,0,0,0,0,0,0,0,0,0,0,0,0,{"$f":"SUM(JM33:JM34)","v":0},0,0,0,0,0,0,0,0,0,0,0,0,0,0,0,0,0,0,0,0,0,0,0,0,0,0,0,0,0,0,0,0,0,0,0,0,0,0,0,0,0,0,0,0,0,0,0,0,0,0,0,0,0,0,0,0,0,0,0,0,0,0,0,{"$f":"SUM(LY33:LY34)","v":0},0,0,0,0,0,0,0,0,0,0,0,0,0,0,0,0,0,0,0,0,0,0,0,0,0,0,0,0,0,0,0,0,0,0,0,0,0,0,0,0,0,0,0,0,0,0,0,0,0,0,0,0,0,0,0,0,0,0,0,0,0,0,0,{"$f":"SUM(OK33:OK34)","v":0},0,0,0,0,0,0,null,null,{"$f":"SUMIFS($Q32:$OQ32,$Q$3:$OQ$3,OT$12)","v":-4700.0000000000018},0,0,0,0,0,0,0,0,0,0,0,0,0,0,0,{"$f":"SUMIFS($Q32:$OQ32,$Q$3:$OQ$3,PJ$12)","v":0},0,0,0,0,0,0,0,0,0,0,0,0,0,0,0,0,0]
[null,null,null,null,null,null,null,"Consumo",{"$f":"IFERROR(I31/I32,0)","v":2608.2083821499255},null,null,null,"Gastos de Formalización",null,{"$f":"SUM(Q33:OQ33)","v":-4700.0000000000018},null,{"$f":"-E48","v":-4700.0000000000018},0,0,0,0,0,0,0,0,0,0,0,0,0,0,0,0,0,0,0,0,0,0,0,0,0,0,0,0,0,0,0,0,0,0,0,0,0,0,0,0,0,0,0,0,0,0,0,0,0,0,0,0,0,0,0,0,0,0,0,0,0,0,0,0,0,0,0,0,0,0,0,0,0,0,0,0,0,0,0,0,0,0,0,0,0,0,0,0,0,0,0,0,0,0,0,0,0,0,0,0,0,0,0,0,0,0,0,0,0,0,0,0,0,0,0,0,0,0,0,0,0,0,0,0,0,0,0,0,0,0,0,0,0,0,0,0,0,0,0,0,0,0,0,0,0,0,0,0,0,0,0,0,0,0,0,0,0,0,0,0,0,0,0,0,0,0,0,0,0,0,0,0,0,0,0,0,0,0,0,0,0,0,0,0,0,0,0,0,0,0,0,0,0,0,0,0,0,0,0,0,0,0,0,0,0,0,0,0,0,0,0,0,0,0,0,0,0,0,0,0,0,0,0,0,0,0,0,0,0,0,0,0,0,0,0,0,0,0,0,0,0,0,0,0,0,0,0,0,0,0,0,0,0,0,0,0,0,0,0,0,0,0,0,0,0,0,0,0,0,0,0,0,0,0,0,0,0,0,0,0,0,0,0,0,0,0,0,0,0,0,0,0,0,0,0,0,0,0,0,0,0,0,0,0,0,0,0,0,0,0,0,0,0,0,0,0,0,0,0,0,0,0,0,0,0,0,0,0,0,0,0,0,0,0,0,0,0,0,0,0,0,0,0,0,0,0,0,0,0,0,0,0,0,0,0,0,0,0,0,0,0,0,0,0,0,0,0,0,0,0,0,0,0,0,0,0,0,0,0,0,0,0,0,0,0,0,0,0,0,0,null,null,-4700.0000000000018,0,0,0,0,0,0,0,0,0,0,0,0,0,0,0,0,0,0,0,0,0,0,0,0,0,0,0,0,0,0,0,0,0]
[null,null,null,null,null,null,null,null,null,null,null,null,"Comisión Intermediación",null,{"$f":"SUM(Q34:OQ34)","v":0},null,{"$f":"-IF(F55=\"Tasación\",C30,C32)*E54*(1+H55)","v":0},{"$f":"-$E$56*(1+$H$55)*$C$65*Q1","v":0},0,0,0,0,0,0,0,0,0,0,0,0,0,0,0,0,0,0,0,0,0,0,0,0,0,0,0,0,0,0,0,0,0,0,0,0,0,0,0,0,0,0,0,0,0,0,0,0,0,0,0,0,0,0,0,0,0,0,0,0,0,0,0,{"$f":"-$E$56*(1+$H$55)*$C$65*CC1","v":0},0,0,0,0,0,0,0,0,0,0,0,0,0,0,0,0,0,0,0,0,0,0,0,0,0,0,0,0,0,0,0,0,0,0,0,0,0,0,0,0,0,0,0,0,0,0,0,0,0,0,0,0,0,0,0,0,0,0,0,0,0,0,0,{"$f":"-$E$56*(1+$H$55)*$C$65*EO1","v":0},0,0,0,0,0,0,0,0,0,0,0,0,0,0,0,0,0,0,0,0,0,0,0,0,0,0,0,0,0,0,0,0,0,0,0,0,0,0,0,0,0,0,0,0,0,0,0,0,0,0,0,0,0,0,0,0,0,0,0,0,0,0,0,{"$f":"-$E$56*(1+$H$55)*$C$65*HA1","v":0},0,0,0,0,0,0,0,0,0,0,0,0,0,0,0,0,0,0,0,0,0,0,0,0,0,0,0,0,0,0,0,0,0,0,0,0,0,0,0,0,0,0,0,0,0,0,0,0,0,0,0,0,0,0,0,0,0,0,0,0,0,0,0,{"$f":"-$E$56*(1+$H$55)*$C$65*JM1","v":0},0,0,0,0,0,0,0,0,0,0,0,0,0,0,0,0,0,0,0,0,0,0,0,0,0,0,0,0,0,0,0,0,0,0,0,0,0,0,0,0,0,0,0,0,0,0,0,0,0,0,0,0,0,0,0,0,0,0,0,0,0,0,0,{"$f":"-$E$56*(1+$H$55)*$C$65*LY1","v":0},0,0,0,0,0,0,0,0,0,0,0,0,0,0,0,0,0,0,0,0,0,0,0,0,0,0,0,0,0,0,0,0,0,0,0,0,0,0,0,0,0,0,0,0,0,0,0,0,0,0,0,0,0,0,0,0,0,0,0,0,0,0,0,{"$f":"-$E$56*(1+$H$55)*$C$65*OK1","v":0},0,0,0,0,0,null,null,0,0,0,0,0,0,0,0,0,0,0,0,0,0,0,0,0,0,0,0,0,0,0,0,0,0,0,0,0,0,0,0,0,0]
[null,null,null,null,null,null,null,null,"Objetivo Rentabilidad"]
[null,null,null,null,null,null,null,null,"Objetivo",{"$f":"VLOOKUP(H17,B69:C75,2,0)","v":6.5000000000000002E-2},null,"Venta"]
[null,null,null,null,null,null,null,null,"Desembolso",{"$f":"+XNPV(J36,Q41:OQ41,Q12:OQ12)","v":724805.99765680358},null,null,"Venta Pre IPC",null,{"$f":"SUM(Q37:OQ37)","v":1000000},null,{"$f":"+IF($C$66=\"No\",$C$65,$C$66)*Q2","v":0},0,0,0,0,0,0,0,0,0,0,0,0,0,0,0,0,0,0,0,0,0,0,0,0,0,0,0,0,0,0,0,0,0,0,0,0,0,0,0,0,0,0,0,0,0,0,0,0,0,0,0,0,0,0,0,0,0,0,1000000,0,0,0,0,{"$f":"+IF($C$66=\"No\",$C$65,$C$66)*CC2","v":0},0,0,0,0,0,0,0,0,0,0,0,0,0,0,0,0,0,0,0,0,0,0,0,0,0,0,0,0,0,0,0,0,0,0,0,0,0,0,0,0,0,0,0,0,0,0,0,0,0,0,0,0,0,0,0,0,0,0,0,0,0,0,0,{"$f":"+IF($C$66=\"No\",$C$65,$C$66)*EO2","v":0},0,0,0,0,0,0,0,0,0,0,0,0,0,0,0,0,0,0,0,0,0,0,0,0,0,0,0,0,0,0,0,0,0,0,0,0,0,0,0,0,0,0,0,0,0,0,0,0,0,0,0,0,0,0,0,0,0,0,0,0,0,0,0,{"$f":"+IF($C$66=\"No\",$C$65,$C$66)*HA2","v":0},0,0,0,0,0,0,0,0,0,0,0,0,0,0,0,0,0,0,0,0,0,0,0,0,0,0,0,0,0,0,0,0,0,0,0,0,0,0,0,0,0,0,0,0,0,0,0,0,0,0,0,0,0,0,0,0,0,0,0,0,0,0,0,{"$f":"+IF($C$66=\"No\",$C$65,$C$66)*JM2","v":0},0,0,0,0,0,0,0,0,0,0,0,0,0,0,0,0,0,0,0,0,0,0,0,0,0,0,0,0,0,0,0,0,0,0,0,0,0,0,0,0,0,0,0,0,0,0,0,0,0,0,0,0,0,0,0,0,0,0,0,0,0,0,0,{"$f":"+IF($C$66=\"No\",$C$65,$C$66)*LY2","v":0},0,0,0,0,0,0,0,0,0,0,0,0,0,0,0,0,0,0,0,0,0,0,0,0,0,0,0,0,0,0,0,0,0,0,0,0,0,0,0,0,0,0,0,0,0,0,0,0,0,0,0,0,0,0,0,0,0,0,0,0,0,0,0,{"$f":"+IF($C$66=\"No\",$C$65,$C$66)*OK2","v":0},0,0,0,0,0,0,null,null,{"$f":"SUMIFS($Q37:$OQ37,$Q$3:$OQ$3,OT$12)","v":0},0,0,0,0,1000000,0,0,0,0,0,0,0,0,0,0,{"$f":"SUMIFS($Q37:$OQ37,$Q$3:$OQ$3,PJ$12)","v":0},0,0,0,0,0,0,0,0,0,0,0,0,0,0,0,0,0]
[null,"Costes Operativos - Recurrentes"]
[null,null,null,null,null,null,null,null,null,null,null,"Flujos de Caja"]
[null,"Cuota Comunidad",null,null,0,50,null,"Anual -->",{"$f":"F40*12","v":600},"Estimado",null,null,"CF Unlev",null,{"$f":"SUM(Q40:OQ40)","v":265648.0475836969},null,{"$f":"Q14+Q25+Q32+Q37","v":-729585.16432347021},-79.166666666666671,-79.166666666666671,-79.166666666666671,-79.166666666666671,-79.166666666666671,-79.166666666666671,-79.166666666666671,-79.166666666666671,-79.166666666666671,-79.166666666666671,-79.166666666666671,-79.958333333333329,-79.958333333333329,-79.958333333333329,-79.958333333333329,-79.958333333333329,-79.958333333333329,-79.958333333333329,-79.958333333333329,-79.958333333333329,-79.958333333333329,-79.958333333333329,-79.958333333333329,-80.757916666666674,-80.757916666666674,-80.757916666666674,-80.757916666666674,-80.757916666666674,-80.757916666666674,-80.757916666666674,-80.757916666666674,-80.757916666666674,-80.757916666666674,-80.757916666666674,-80.757916666666674,-81.565495833333316,-81.565495833333316,-81.565495833333316,-81.565495833333316,-81.565495833333316,-81.565495833333316,-81.565495833333316,-81.565495833333316,-81.565495833333316,-81.565495833333316,-81.565495833333316,-81.565495833333316,-82.381150791666656,-82.381150791666656,-82.381150791666656,-82.381150791666656,-82.381150791666656,-82.381150791666656,-82.381150791666656,-82.381150791666656,-82.381150791666656,-82.381150791666656,-82.381150791666656,999917.61884920835,0,0,0,0,{"$f":"CC14+CC25+CC32+CC37","v":0},0,0,0,0,0,0,0,0,0,0,0,0,0,0,0,0,0,0,0,0,0,0,0,0,0,0,0,0,0,0,0,0,0,0,0,0,0,0,0,0,0,0,0,0,0,0,0,0,0,0,0,0,0,0,0,0,0,0,0,0,0,0,0,{"$f":"EO14+EO25+EO32+EO37","v":0},0,0,0,0,0,0,0,0,0,0,0,0,0,0,0,0,0,0,0,0,0,0,0,0,0,0,0,0,0,0,0,0,0,0,0,0,0,0,0,0,0,0,0,0,0,0,0,0,0,0,0,0,0,0,0,0,0,0,0,0,0,0,0,{"$f":"HA14+HA25+HA32+HA37","v":0},0,0,0,0,0,0,0,0,0,0,0,0,0,0,0,0,0,0,0,0,0,0,0,0,0,0,0,0,0,0,0,0,0,0,0,0,0,0,0,0,0,0,0,0,0,0,0,0,0,0,0,0,0,0,0,0,0,0,0,0,0,0,0,{"$f":"JM14+JM25+JM32+JM37","v":0},0,0,0,0,0,0,0,0,0,0,0,0,0,0,0,0,0,0,0,0,0,0,0,0,0,0,0,0,0,0,0,0,0,0,0,0,0,0,0,0,0,0,0,0,0,0,0,0,0,0,0,0,0,0,0,0,0,0,0,0,0,0,0,{"$f":"LY14+LY25+LY32+LY37","v":0},0,0,0,0,0,0,0,0,0,0,0,0,0,0,0,0,0,0,0,0,0,0,0,0,0,0,0,0,0,0,0,0,0,0,0,0,0,0,0,0,0,0,0,0,0,0,0,0,0,0,0,0,0,0,0,0,0,0,0,0,0,0,0,{"$f":"OK14+OK25+OK32+OK37","v":0},0,0,0,0,0,0,null,null,{"$f":"SUMIFS($Q40:$OQ40,$Q$3:$OQ$3,OT$12)","v":-730060.16432346997},{"$f":"SUMIFS($Q40:$OQ40,$Q$3:$OQ$3,OU$12)","v":-955.54166666666686},-965.09708333333344,-974.74805416666663,-984.49553470833314,999588.09424604173,0,0,0,0,0,0,0,0,0,0,0,0,0,0,0,0,0,0,0,0,0,0,0,0,0,0,0,0]
[null,"Derramas",null,null,0,0.6,null,"Anual -->",{"$f":"+F41*100","v":60},null,null,null,"Target IRR",null,990454.04524050001,null,{"$f":"+Q25+Q32+++Q37","v":-4779.1666666666688},{"$f":"R25+R32+R37","v":-79.166666666666671},{"$f":"S25+S32+S37","v":-79.166666666666671},-79.166666666666671,-79.166666666666671,-79.166666666666671,-79.166666666666671,-79.166666666666671,-79.166666666666671,-79.166666666666671,-79.166666666666671,-79.166666666666671,-79.958333333333329,-79.958333333333329,-79.958333333333329,-79.958333333333329,-79.958333333333329,-79.958333333333329,-79.958333333333329,-79.958333333333329,-79.958333333333329,-79.958333333333329,-79.958333333333329,-79.958333333333329,-80.757916666666674,-80.757916666666674,-80.757916666666674,-80.757916666666674,-80.757916666666674,-80.757916666666674,-80.757916666666674,-80.757916666666674,-80.757916666666674,-80.757916666666674,-80.757916666666674,-80.757916666666674,-81.565495833333316,-81.565495833333316,-81.565495833333316,-81.565495833333316,-81.565495833333316,-81.565495833333316,-81.565495833333316,-81.565495833333316,-81.565495833333316,-81.565495833333316,-81.565495833333316,-81.565495833333316,-82.381150791666656,-82.381150791666656,-82.381150791666656,-82.381150791666656,-82.381150791666656,-82.381150791666656,-82.381150791666656,-82.381150791666656,-82.381150791666656,-82.381150791666656,-82.381150791666656,999917.61884920835,0,0,0,0,0,0,{"$f":"CE25+CE32+CE37","v":0},0,0,0,0,0,0,0,0,0,0,0,0,0,0,0,0,0,0,0,0,0,0,0,0,0,0,0,0,0,0,0,0,0,0,0,0,0,0,0,0,0,0,0,0,0,0,0,0,0,0,0,0,0,0,0,0,0,0,0,0,0,0,0,{"$f":"EQ25+EQ32+EQ37","v":0},0,0,0,0,0,0,0,0,0,0,0,0,0,0,0,0,0,0,0,0,0,0,0,0,0,0,0,0,0,0,0,0,0,0,0,0,0,0,0,0,0,0,0,0,0,0,0,0,0,0,0,0,0,0,0,0,0,0,0,0,0,0,0,{"$f":"HC25+HC32+HC37","v":0},0,0,0,0,0,0,0,0,0,0,0,0,0,0,0,0,0,0,0,0,0,0,0,0,0,0,0,0,0,0,0,0,0,0,0,0,0,0,0,0,0,0,0,0,0,0,0,0,0,0,0,0,0,0,0,0,0,0,0,0,0,0,0,{"$f":"JO25+JO32+JO37","v":0},0,0,0,0,0,0,0,0,0,0,0,0,0,0,0,0,0,0,0,0,0,0,0,0,0,0,0,0,0,0,0,0,0,0,0,0,0,0,0,0,0,0,0,0,0,0,0,0,0,0,0,0,0,0,0,0,0,0,0,0,0,0,0,{"$f":"MA25+MA32+MA37","v":0},0,0,0,0,0,0,0,0,0,0,0,0,0,0,0,0,0,0,0,0,0,0,0,0,0,0,0,0,0,0,0,0,0,0,0,0,0,0,0,0,0,0,0,0,0,0,0,0,0,0,0,0,0,0,0,0,0,0,0,0,0,0,0,{"$f":"OM25+OM32+OM37","v":0},0,0,0,0,null,null,-5254.1666666666706,-955.54166666666686,-965.09708333333344,-974.74805416666663,-984.49553470833314,999588.09424604173,0,0,0,0,0,0,0,0,0,0,0,0,0,0,0,0,0,0,0,{"$f":"SUMIFS($Q41:$OQ41,$Q$3:$OQ$3,PS$12)","v":0},0,0,0,0,0,0,0,0]
[null,"Cuota IBI",null,null,1,800,null,null,"Target -> 8 €/m²","Estimado"]
[null,"Seguro - Valor sobre tasación",null,null,1,1.5,null,"Anual -->",{"$f":"+F43*100","v":150}]
[null,"Crecimiento Anual Costes",null,null,0.01]
[]
[null,"Costes Transacción - OneOff"]
[]
[null,"Gastos de Formalización",null,null,{"$f":"SUM(E49:E52)","v":4700.0000000000018},"% S/V. Adq"]
[null,"Notaría",null,null,{"$f":"IFERROR(HLOOKUP($C$32,B80:G82,2,TRUE),0)+IFERROR(IF(#REF!>=200,500,0),0)","v":1000}]
[null,"Registro",null,null,{"$f":"IFERROR(HLOOKUP($C$32,B80:G82,3,TRUE),0)","v":1000},null,null,"ITP Tipo","Dto ITP"]
[null,"ITP",null,null,{"$f":"C30*0.9*H51*(1-I51)","v":2700.0000000000023},null,null,{"$f":"+C85","v":0.06},{"$f":"+IF(C29=\"Nuda Propiedad\",0%,95%)","v":0.95}]
[null,"Otros",null,null,0]
[null,"Gastos de Intermediación"]
[null,"Comisión Intermediación",null,null,0,null,null,"IVA"]
[null,"Intermediario",null,null,"-","Compra",null,0.21,"Comisión neta",{"$f":"-Q34/1.21","v":0}]
[]
[null,"Fecha prevista de Venta"]
[null,null,null,"Gap","Meses","Años",null,"Edad ","Fecha fin"]
[null,"Fecha prevista de terminación",null,null,{"$f":"+F25","v":60},{"$f":"E59/12","v":5},null,{"$f":"$C$25+F59","v":96.172222222222217},{"$f":"EDATE($H$15,E59-1)","v":"2029-05-01"}]
[null,"Fallecimiento/Fin contrato",null,0,{"$f":"+E59","v":60},{"$f":"E60/12","v":5},null,{"$f":"$C$25+F60","v":96.172222222222217},{"$f":"EDATE($H$15,E60-1)","v":"2029-05-01"}]
[null,"Venta",null,0,{"$f":"IF(SUM(E60:E60,D61:D61)<36,36,SUM(E60:E60,D61:D61))","v":60},{"$f":"E61/12","v":5},null,{"$f":"$C$25+F61","v":96.172222222222217},{"$f":"+EDATE(H15,E61-1)","v":"2029-05-01"}]
[]
[null,"Valor de Salida"]
[null,"Pre IPC",null,"€/m²"]
[null,"Salida sin IPC",{"$f":"C30","v":1000000},{"$f":"IFERROR(C65/#REF!,\"\")","v":""}]
[null,"Manual","No",{"$f":"IFERROR(C66/#REF!,0)","v":0}]
[]
[null,"CRITERIOS INVERSIÓN ZONA PRIME"]
[null,"A+",0.06]
[null,"A",6.5000000000000002E-2]
[null,"B+",7.2499999999999995E-2]
[null,"B",7.7499999999999999E-2]
[null,"C",0.09]
[null,"D",0.105]
[null,"E",{"$error":"#N/A"}]
[]
[]
[null,"TIR\nsin apreciación",null,{"$f":"XIRR(Q40:OQ40,$Q$12:$OQ$12)","v":6.5000000596046478E-2},{"$f":"-SUMIF(Q40:OQ40,\">0\",Q40:OQ40)/SUMIF(Q40:OQ40,\"<0\",Q40:OQ40)","v":1.3617854504386628}]
[]
[null,"Hasta",0,500000,1000000,2000000,10000000]
[null,"Notaria",800,1000,1200,1500,5000]
[null,"Registro",800,1000,1200,1500,5000]
[]
[null,"ITP",0,1000000]
[null,"Madrid",0.06,0.06]
[null,"Barcelona",0.1,0.11]
[]
[null,null,"Dto Anual","Dto Mínimo","Dto Máximo"]
[null,"A+",1.7500000000000002E-2,0.125,0.2]
[null,"A",0.02,0.15,0.25]
[null,"B+",2.2499999999999999E-2,0.2,0.3]
[null,"B",2.5000000000000001E-2,0.22500000000000001,0.35]
[null,"C",2.75E-2,0.25,0.4]
[null,"D",0.03,0.3,0.45]
[null,"E",3.2500000000000001E-2,0.35,1]